{"text_format":"1","workbook":"xlsx","n_sheets":6,"sheets":["Resultados Gerais","Total de Saída de Cada Dezena","10 Últimos Sorteios","20 Últimos Sorteios","50 Últimos Sorteios","100 Últimos Sorteios"],"not_rendered":{"charts":1,"images":3,"macros":1,"external_links":0,"defined_names":6,"comments":0,"pivot_tables":0},"unopened":[],"bounds":{"document_bytes":16777216,"sheet_cells":100000,"rows_first":2000,"rows_last":500,"rows_between":2000,"halvings":0,"cell_chars":16384,"cell_head_chars":4096},"cells_cut":0,"cells_raw":0,"read":"whole","date_system":"1900"}

{"sheet":"Resultados Gerais","index":0,"n_rows":1088,"n_cols":31,"rows_kept":1088,"cut":false,"hidden":false,"merged":[[1,1,1,15],[2,1,2,15],[3,1,3,15],[5,1,5,16]]}
[]
[null,"Atenção!"]
[null,"Esta planilha é de uso pessoal, é restritamente proibida a distribuição da mesma a terceiros, sujeito a punições de acordo com as leis de direitos autorais"]
[null,"Todos os direitos reservados ao site www.ApostaEsperta.com "]
[]
[null,"Planilha de Análise Estatística Lotofacil"]
[null,"Concurso","Data Sorteio","Bola1","Bola2","Bola3","Bola4","Bola5","Bola6","Bola7","Bola8","Bola9","Bola10","Bola11","Bola12","Bola13","Bola14","Bola15","Arrecadacao_Total","Ganhadores_15_Números","Ganhadores_14_Números","Ganhadores_13_Números","Ganhadores_12_Números","Ganhadores_11_Números","Valor_Rateio_15_Números","Valor_Rateio_14_Números","Valor_Rateio_13_Números","Valor_Rateio_12_Números","Valor_Rateio_11_Números","Acumulado_15_Números","Estimativa_Preimo"]
[null,1,"2003-09-29",18,20,25,23,10,11,24,14,6,2,13,9,5,16,3,0,5,154,4645,48807,257593,49765.82,689.84,10,4,2,0,0]
[null,2,"2003-10-06",23,15,5,4,12,16,20,6,11,19,24,1,9,13,7,0,1,184,6232,81252,478188,596323.69999999995,1388.95,10,4,2,0,0]
[null,3,"2003-10-13",20,23,12,8,6,1,7,11,14,4,16,10,9,17,24,0,2,158,6897,96244,608211,400623.7,2173.36,10,4,2,0,0]
[null,4,"2003-10-20",16,5,25,24,23,8,12,2,17,18,1,10,4,19,13,0,1,258,9569,123912,706657,902226.02,1498.72,10,4,2,0,0]
[null,5,"2003-10-27",15,13,20,2,11,24,9,16,4,23,25,12,8,19,1,0,2,472,14736,195636,860992,380017.55,687.49,10,4,2,0,0]
[null,6,"2003-11-03",23,19,1,5,7,21,16,10,15,25,6,2,12,4,17,0,2,393,14242,162320,888301,489140.06,1066.83,10,4,2,0,0]
[null,7,"2003-11-10",22,4,15,8,16,14,21,23,12,1,25,19,7,10,18,0,9,1333,25878,206828,967358,104625.29,301.58999999999997,10,4,2,0,0]
[null,8,"2003-11-17",19,16,18,9,13,8,5,25,17,10,6,15,1,22,20,0,1,256,11414,149037,926910,1201958.08,2012.21,10,4,2,0,0]
[null,9,"2003-11-24",21,4,17,5,3,13,16,9,20,24,25,19,11,15,10,0,3,407,14973,213511,1104328,336053.65,1061.5999999999999,10,4,2,0,0]
[null,10,"2003-12-01",24,19,8,23,6,2,20,11,9,3,4,10,5,12,14,0,0,380,15767,207355,1186563,0,1157.08,10,4,2,1025945,0]
[null,11,"2003-12-08",24,9,8,19,20,22,6,10,11,16,7,25,23,2,12,0,0,306,14249,216679,1343171,0,1855.82,10,4,2,2351000.9300000002,0]
[null,12,"2003-12-15",11,5,25,1,9,8,16,4,7,24,17,2,12,14,10,0,1,631,24400,322557,1607584,3490966.18,771.32,10,4,2,0,0]
[null,13,"2003-12-22",13,6,10,5,8,14,3,11,16,15,9,17,19,7,23,0,3,714,27399,320961,1501354,269157.25,482.84,10,4,2,0,0]
[null,14,"2003-12-29",14,21,13,19,20,6,9,5,7,23,18,1,15,2,25,0,3,444,15413,214582,1149506,411362.89,1191.21,10,4,2,0,0]
[null,15,"2004-01-05",23,6,21,4,10,24,16,1,15,2,8,19,12,18,25,0,22,2059,38038,379994,1198158,27525.68,125.58,10,4,2,0,0]
[null,16,"2004-01-12",24,17,5,8,7,12,13,2,15,10,19,25,23,21,6,0,9,1086,29005,329409,1471908,83935.77,296.98,10,4,2,0,0]
[null,17,"2004-01-19",13,20,17,1,6,7,2,14,5,9,16,19,3,21,18,0,1,320,14425,232740,1083387,1427169.94,1911.39,10,4,2,0,0]
[null,18,"2004-01-26",2,23,10,7,11,14,17,22,15,6,24,8,19,20,18,0,3,309,12373,174339,1079894,487887.61,2030.05,10,4,2,0,0]
[null,19,"2004-02-02",15,17,10,23,11,24,13,14,6,2,8,5,20,16,7,0,10,818,23594,326913,1333412,82040.05,428.2,10,4,2,0,0]
[null,20,"2004-02-09",4,9,8,24,16,20,3,17,18,19,7,6,23,14,10,0,9,931,19580,266087,1462294,122882.04,507.17,10,4,2,0,0]
[null,21,"2004-02-16",5,2,1,22,19,8,24,4,25,23,18,20,14,11,16,0,3,316,13077,203475,1211951,530990.23,2160.4499999999998,10,4,2,0,0]
[null,22,"2004-02-25",13,15,5,9,7,10,1,3,22,2,25,14,6,4,12,0,1,484,55372,152738,868693,1081149.8899999999,957.34,10,4,2,0,0]
[null,23,"2004-03-01",10,11,5,19,18,14,6,4,20,1,8,3,12,16,17,0,1,541,16248,215670,1187602,1178452.05,933.55,10,4,2,0,0]
[null,24,"2004-03-08",1,19,21,14,2,23,25,5,20,11,7,10,24,17,3,0,2,585,22453,258724,1286374,662295.89,970.4,10,4,2,0,0]
[null,25,"2004-03-15",4,23,20,2,5,13,7,9,24,3,1,6,14,22,16,0,0,417,16108,213231,1288117,0,1437.73,10,4,2,1398910.67,0]
[null,26,"2004-03-22",19,11,7,16,8,21,5,10,20,13,23,9,17,14,22,0,3,602,22397,317722,1659205,970676.17,1077.21,10,4,2,0,0]
[null,27,"2004-03-29",25,6,22,21,11,24,3,14,12,13,20,8,10,15,18,0,2,466,15650,216827,1192912,811005.39,1491.73,10,4,2,0,0]
[null,28,"2004-04-05",18,21,11,7,9,3,20,16,14,12,13,17,1,19,10,0,2,556,22300,307113,1363336,536916.65,827.73,10,4,2,0,0]
[null,29,"2004-04-12",13,14,6,1,24,4,8,5,17,22,21,19,20,9,16,0,5,456,14375,181147,1203109,317538.81,1492.19,10,4,2,0,0]
[null,30,"2004-04-19",22,2,1,17,8,4,19,20,11,14,6,21,7,23,3,0,2,345,13480,184916,1136035,813271.34,2020.55,10,4,2,0,0]
[null,31,"2004-04-26",1,3,22,14,21,17,24,15,20,13,2,19,4,25,9,0,3,250,13005,189635,1161305,503451.7,2589.1799999999998,10,4,2,0,0]
[null,32,"2004-05-03",10,14,9,16,15,7,22,6,4,2,1,17,23,11,20,0,2,384,14060,199525,1175480,706634.89,1577.31,10,4,2,0,0]
[null,33,"2004-05-10",8,20,12,16,10,21,5,2,23,19,11,24,1,14,7,0,9,1358,35450,328729,1417927,109171.84,308.91000000000003,10,4,2,0,0]
[null,34,"2004-05-17",7,19,16,10,23,4,18,11,8,9,20,21,1,2,15,0,0,407,16589,216210,1359006,0,1381.2,10,4,2,1311675.01,0]
[null,35,"2004-05-24",12,1,13,23,19,21,17,11,22,6,25,16,14,5,4,0,1,291,12750,191524,1338198,3155820.04,2715.98,10,4,2,0,0]
[null,36,"2004-05-31",7,23,10,20,1,21,4,8,11,19,17,22,24,14,5,0,6,1573,40526,453277,1414816,92828.37,151.18,10,4,2,0,0]
[null,37,"2004-06-07",24,20,5,15,10,22,21,3,1,23,11,4,13,8,9,0,1,283,11976,182815,1220504,1371528.32,2077.02,10,4,2,0,0]
[null,38,"2004-06-14",14,13,8,16,1,10,3,7,15,25,9,2,24,6,22,0,0,298,12361,181763,1122407,0,2240.91,10,4,2,1558182.5,0]
[null,39,"2004-06-21",14,15,7,19,8,9,22,17,23,18,2,11,24,13,21,0,3,915,31607,352332,1626512,888003.6,516,10,4,2,0,0]
[null,40,"2004-06-28",10,17,16,12,14,24,8,7,5,20,21,1,13,2,22,0,9,650,20792,266561,1331593,129462.67,765.33,10,4,2,0,0]
[null,41,"2004-07-05",25,4,23,18,17,19,15,13,9,3,12,20,21,16,2,0,5,431,16555,218669,1304019,285091.61,1417.43,10,4,2,0,0]
[null,42,"2004-07-12",1,24,12,25,4,3,21,8,11,6,15,22,14,17,5,0,1,351,14288,205537,1065540,1731431.15,2114.08,10,4,2,0,0]
[null,43,"2004-07-19",23,22,3,17,1,24,14,19,8,6,9,18,20,7,10,0,2,448,31225,257520,1394077,550553.79,1053.3599999999999,10,4,2,0,0]
[null,44,"2004-07-26",23,21,12,19,5,4,6,13,14,10,3,18,24,11,25,0,0,334,12675,172526,1140441,0,2056.9299999999998,10,4,2,1603036.94,0]
[null,45,"2004-08-02",1,23,14,16,2,19,18,7,21,9,24,25,17,5,3,0,4,602,23232,353114,1591989,731525.88,941.91,10,4,2,0,0]
[null,46,"2004-08-09",6,14,8,11,24,18,19,23,2,5,4,21,10,1,25,0,4,825,24898,340899,1460500,308549.13,638.71,10,4,2,0,0]
[null,47,"2004-08-16",6,8,25,18,20,5,11,10,15,13,4,22,3,2,1,0,16,933,25668,259783,1267303,94685.43,693.26,10,4,2,0,0]
[null,48,"2004-08-23",15,6,21,20,2,17,5,23,11,7,13,16,18,19,22,0,2,331,13606,193466,1299636,777343.31,2012.97,10,4,2,0,0]
[null,49,"2004-08-30",11,2,24,8,20,16,4,13,19,6,15,22,5,23,21,0,0,673,22438,282506,1269761,0,806,10,4,2,1265682.6499999999,0]
[null,50,"2004-09-06",2,3,7,25,21,23,10,1,13,11,20,6,12,19,9,0,1,659,21583,298054,1545777,2776089.01,982.27,10,4,2,0,0]
[null,51,"2004-09-13",8,1,13,14,5,22,21,7,6,23,3,17,20,11,16,0,2,765,22722,302341,1520867,545229.30000000005,608.58000000000004,10,4,2,0,0]
[null,52,"2004-09-20",25,4,16,2,15,21,12,9,11,8,24,23,1,13,22,0,3,420,24265,205595,1156747,532065.25,1628.77,10,4,2,0,0]
[null,53,"2004-09-27",23,3,7,17,20,14,12,2,18,24,6,1,11,9,19,0,4,564,19767,262234,1425498,269887.95,820.33,10,4,2,0,0]
[null,54,"2004-10-04",22,8,12,9,21,5,20,4,24,2,7,6,14,16,18,0,27,2269,40058,272073,1157000,46149.84,234.47,10,4,2,0,0]
[null,55,"2004-10-11",4,6,12,15,2,3,13,16,8,9,7,25,5,18,19,0,6,682,24083,253488,1334310,213174.74,803.76,10,4,2,0,0]
[null,56,"2004-10-18",19,1,5,14,16,15,17,2,13,22,20,12,23,9,24,0,0,401,17323,225472,1396834,0,1427.28,10,4,2,1335461.47,0]
[null,57,"2004-10-25",25,17,8,11,3,6,19,22,21,7,20,1,4,12,2,0,1,571,33796,229355,1390034,3278857.27,1458.64,10,4,2,0,0]
[null,58,"2004-11-01",20,14,11,13,19,18,15,16,5,3,6,12,17,22,4,0,6,559,17361,165098,1095964,294482.82,1354.64,10,4,2,0,0]
[null,59,"2004-11-08",6,8,14,1,23,20,3,15,25,11,5,7,13,10,19,0,2,662,27187,351810,1707263,439884.44,567.39,10,4,2,0,0]
[null,60,"2004-11-16",17,22,16,5,3,2,18,8,25,11,1,19,4,23,24,0,3,362,30873,165747,1022631,485556.53,1724.55,10,4,2,0,0]
[null,61,"2004-11-22",4,15,1,23,9,14,12,11,13,19,25,16,22,5,20,0,2,300,14553,253317,1311870,698017.29,1994.34,10,4,2,0,0]
[null,62,"2004-11-29",9,7,1,13,20,11,3,17,25,8,14,16,15,18,24,0,5,432,19513,234116,1336449,282087.65999999997,1399.25,10,4,2,0,0]
[null,63,"2004-12-06",13,19,22,17,10,4,25,9,24,8,16,11,21,12,20,0,2,379,15221,209528,1301392,870856.42,1969.52,10,4,2,0,0]
[null,64,"2004-12-13",13,1,10,6,25,23,14,9,7,2,18,8,20,3,17,0,4,525,20308,280806,1586899,323455.34999999998,1056.18,10,4,2,0,0]
[null,65,"2004-12-20",23,19,10,7,1,17,4,2,22,16,21,15,20,18,25,0,0,300,13067,218281,1147456,0,2735.19,10,4,2,1914633.24,0]
[null,66,"2004-12-27",8,10,23,17,11,20,2,14,21,22,15,16,24,4,1,0,8,834,25470,309390,1631513,434105.49,800.73,10,4,2,0,0]
[null,67,"2005-01-03",7,24,13,20,16,5,21,12,11,8,15,22,23,10,9,0,4,294,12324,205063,1212285,394429.73,2299.88,10,4,2,0,0]
[null,68,"2005-01-10",9,1,25,16,6,3,5,22,7,12,8,10,2,17,23,0,2,368,14579,211030,1291340,853689.74,1988.41,10,4,2,0,0]
[null,69,"2005-01-17",23,7,11,15,4,17,20,8,9,24,1,18,21,10,19,0,4,619,34720,283047,1543014,296233.15999999997,820.4,10,4,2,0,0]
[null,70,"2005-01-24",14,5,9,24,6,15,12,19,20,1,2,25,16,10,3,0,6,611,19413,230116,1265554,264323.93,1112.42,10,4,2,0,0]
[null,71,"2005-01-31",13,3,22,5,1,21,23,6,8,11,15,18,14,16,9,0,4,744,21490,276234,1289869,349187.58,804.58,10,4,2,0,0]
[null,72,"2005-02-09",2,16,5,25,23,11,18,13,24,15,1,7,8,12,17,0,2,485,16561,198957,1178585,571665.39,1010.31,10,4,2,0,0]
[null,73,"2005-02-14",25,17,18,2,16,19,15,13,14,5,21,11,7,1,10,0,3,401,16615,240646,1388168,404461.66,1296.82,10,4,2,0,0]
[null,74,"2005-02-21",8,25,3,1,2,22,16,4,5,15,6,18,13,23,11,0,7,861,36320,325482,1342101,165704.35,575.17999999999995,10,4,2,0,0]
[null,75,"2005-02-28",10,8,3,16,7,25,20,4,13,6,11,15,17,5,1,0,2,564,22764,330303,1538522,531264.65,807.39,10,4,2,0,0]
[null,76,"2005-03-07",15,5,12,10,19,16,21,17,25,9,13,1,23,8,3,0,13,2705,63452,463129,1672037,49566.81,101.71,10,4,2,0,0]
[null,77,"2005-03-14",6,20,4,9,11,17,3,8,2,21,24,14,22,25,18,0,4,742,21609,228257,1213259,434837.87,1004.63,10,4,2,0,0]
[null,78,"2005-03-21",15,5,17,23,1,8,7,20,16,6,12,18,3,2,13,0,1,643,23291,317982,1617133,1007644.94,669.06,10,4,2,0,0]
[null,79,"2005-03-28",15,14,17,2,22,24,5,23,20,9,12,18,25,1,3,0,1,443,17526,230930,1249856,1429789.18,1383.22,10,4,2,0,0]
[null,80,"2005-04-04",17,22,25,7,20,3,18,10,4,1,14,9,2,5,15,0,1,502,19706,292151,1294632,1387219.92,1184.31,10,4,2,0,0]
[null,81,"2005-04-11",13,2,7,19,17,15,1,4,6,21,3,11,5,16,10,0,6,866,29787,387171,1619963,160734.67000000001,475.46,10,4,2,0,0]
[null,82,"2005-04-18",4,8,19,12,23,17,13,20,1,18,6,15,5,22,9,0,4,636,20746,250768,1418972,378128.77,1019.22,10,4,2,0,0]
[null,83,"2005-04-25",23,10,25,20,14,3,1,6,2,11,8,13,12,24,5,0,3,505,19766,290953,1615749,370701.93,943.79,10,4,2,0,0]
[null,84,"2005-05-02",15,22,8,25,6,4,16,1,2,24,19,20,17,23,12,0,2,525,21813,263703,1419482,729194.11,1190.52,10,4,2,0,0]
[null,85,"2005-05-09",1,2,11,21,16,8,23,7,18,22,14,15,5,13,9,0,13,988,41716,303054,1673514,86488.6,485.87,10,4,2,0,0]
[null,86,"2005-05-16",13,19,12,18,5,6,9,24,23,4,17,8,25,2,14,0,14,1437,33924,344925,1583126,81060.95,337.18,10,4,2,0,0]
[null,87,"2005-05-23",11,3,18,25,5,24,13,8,15,10,9,22,1,2,20,0,14,1308,46044,353024,1711252,62917.54,287.52,10,4,2,0,0]
[null,88,"2005-05-30",8,10,18,24,11,1,17,2,25,9,14,19,12,4,5,0,5,853,30153,318718,1383793,257018.77,643.22,10,4,2,0,0]
[null,89,"2005-06-06",23,16,1,12,21,25,17,19,13,20,24,15,6,11,22,0,2,528,59274,230638,1266634,858145.42,1393.1,10,4,2,0,0]
[null,90,"2005-06-13",22,10,11,8,17,20,23,3,21,1,15,25,2,12,24,0,4,525,17979,236987,1539050,400382.66,1307.3699999999999,10,4,2,0,0]
[null,91,"2005-06-20",16,23,1,25,22,14,9,13,11,10,12,15,4,20,17,0,2,428,23937,203510,1341264,880833.62,1764.02,10,4,2,0,0]
[null,92,"2005-06-27",17,6,4,1,8,15,2,19,14,13,12,18,21,24,22,0,5,714,22604,257642,1433995,290246.68,871.09,10,4,2,0,0]
[null,93,"2005-07-04",4,24,7,17,9,13,18,20,5,6,10,21,2,19,23,0,6,480,18433,230658,1352474,271483.43,1454.37,10,4,2,0,0]
[null,94,"2005-07-11",21,9,13,12,11,15,4,22,24,16,8,18,23,2,17,0,2,573,29882,267884,1577059,694861.3,1039.43,10,4,2,0,0]
[null,95,"2005-07-18",10,4,18,22,1,3,20,19,17,2,15,5,11,12,14,0,2,401,20787,231813,1294859,883199.51,1887.85,10,4,2,0,0]
[null,96,"2005-07-25",9,17,24,6,16,10,23,18,14,19,4,3,12,21,22,0,1,454,16790,220370,1209732,1793190.45,1692.75,10,4,2,0,0]
[null,97,"2005-08-02",4,10,13,22,17,3,23,24,12,14,15,25,19,20,6,0,4,539,19062,237912,1490877,379485.48,1206.95,10,4,2,0,0]
[null,98,"2005-08-08",24,17,15,25,8,18,22,6,1,11,23,20,5,2,10,0,5,1089,31800,376336,1625070,238130.55,466.8,10,4,2,0,0]
[null,99,"2005-08-15",4,7,24,25,20,14,1,2,10,16,17,11,21,13,3,0,4,695,19351,227907,1278734,424895.89,1048.05,10,4,2,0,0]
[null,100,"2005-08-22",11,22,14,25,10,8,23,13,4,16,17,9,3,12,1,0,6,547,39008,241845,1371980,251438.56,1182,10,4,2,0,0]
[null,101,"2005-08-29",7,6,14,19,13,3,21,23,1,24,16,17,9,20,10,0,9,917,26691,287551,1473207,144911.71,607.23,10,4,2,0,0]
[null,102,"2005-09-05",19,4,22,1,7,23,10,25,21,11,18,2,3,9,12,0,5,622,20635,267607,1361023,323383.57,1114.0899999999999,10,4,2,0,0]
[null,103,"2005-09-12",23,18,1,7,5,22,2,3,25,10,4,17,8,16,11,0,5,467,26477,269789,1577960,276012.69,1266.5,10,4,2,0,0]
[null,104,"2005-09-19",6,5,22,24,19,16,11,14,21,13,15,25,7,18,10,0,2,354,13835,196494,1186254,982532.88,2379.02,10,4,2,0,0]
[null,105,"2005-09-26",8,7,10,12,25,9,15,22,19,6,11,13,4,17,21,0,2,425,15988,225268,1278152,855532.63,1725.44,10,4,2,0,0]
[null,106,"2005-10-03",5,15,3,1,4,13,22,2,25,6,10,17,14,23,12,0,3,471,22766,286573,1570457,442710,1208.49,10,4,2,0,0]
[null,107,"2005-10-10",24,4,7,17,21,12,15,3,25,11,1,18,6,8,9,0,1,494,16680,215950,1314644,1801807.58,1563.17,10,4,2,0,0]
[null,108,"2005-10-17",9,15,25,14,16,2,8,11,12,7,1,22,4,23,18,0,8,1094,26164,281728,1425759,159562.29999999999,498.16,10,4,2,0,0]
[null,109,"2005-10-24",9,7,23,1,11,25,18,13,20,3,21,5,24,16,12,0,14,2257,44187,335886,1552174,76346.11,202.19,10,4,2,0,0]
[null,110,"2005-10-31",23,20,3,6,5,1,4,25,12,13,21,17,22,14,19,0,2,442,23523,280697,1423182,706957.82,1370.96,10,4,2,0,0]
[null,111,"2005-11-07",10,1,19,21,25,17,12,5,11,15,13,24,6,18,22,0,1,415,17785,266234,1440550,1503858.33,1553.04,10,4,2,0,0]
[null,112,"2005-11-14",20,10,2,6,19,21,18,3,17,11,1,14,4,15,23,0,1,341,13885,218980,1274318,1749331.36,2198.5700000000002,10,4,2,0,0]
[null,113,"2005-11-21",6,14,24,2,19,5,12,8,20,21,4,11,1,13,25,0,3,437,16637,236170,1390432,514867.34,1514.81,10,4,2,0,0]
[null,114,"2005-11-28",20,3,22,9,6,2,14,1,10,25,24,11,21,8,7,0,0,320,11371,182608,1159190,0,2542.69,10,4,2,1898540,0]
[null,115,"2005-12-05",4,17,5,16,6,11,20,9,12,21,25,7,13,1,18,0,1,674,22580,326888,1754217,4081776.78,1388.24,10,4,2,0,0]
[null,116,"2005-12-12",11,13,18,10,25,23,16,1,14,2,19,21,12,9,20,0,2,484,20047,292261,1619598,848830.45,1503.24,10,4,2,0,0]
[null,117,"2005-12-19",14,20,5,11,9,23,18,17,6,13,25,15,7,12,10,0,3,498,18606,280170,1592727,569686.18000000005,1470.79,10,4,2,0,0]
[null,118,"2005-12-27",24,15,21,22,18,4,14,13,19,6,12,2,23,8,5,0,4,660,35222,301415,1520411,357319,928.1,10,4,2,0,0]
[null,119,"2006-01-02",15,1,21,22,9,4,18,6,24,20,23,11,8,10,17,0,1,370,20989,223234,1259823,1663143.71,1926.43,10,4,2,0,0]
[null,120,"2006-01-09",3,8,19,7,20,16,15,13,12,11,1,24,18,21,5,0,2,758,25198,303361,1549722,746715.01,844.38,10,4,2,0,0]
[null,121,"2006-01-16",17,24,25,23,7,2,4,5,11,10,9,1,18,16,12,0,3,830,27637,298499,1491043,492515.31,760.04,10,4,2,0,0]
[null,122,"2006-01-23",5,22,2,10,13,15,9,20,4,25,1,18,23,17,8,0,8,1291,32778,368045,1643408,136137.23000000001,360.18,10,4,2,0,0]
[null,123,"2006-01-30",20,13,21,6,18,5,4,7,17,24,19,12,23,11,22,0,4,670,18123,225258,1346974,422565.92,1081.2,10,4,2,0,0]
[null,124,"2006-02-06",19,9,2,6,24,7,20,16,15,3,25,14,4,18,21,0,2,396,15090,194421,1186925,1036561.02,2243.64,10,4,2,0,0]
[null,125,"2006-02-13",10,22,7,6,12,16,11,21,4,9,24,3,2,25,15,0,2,395,13621,188288,1269512,1047965.76,2274.0700000000002,10,4,2,0,0]
[null,126,"2006-02-20",7,22,18,8,13,25,16,1,21,4,24,14,3,2,6,0,0,493,18073,245449,1428758,0,1516.7,10,4,2,1744710.64,0]
[null,127,"2006-03-01",5,25,4,1,13,2,12,18,22,19,23,7,3,10,11,0,5,633,26537,226287,1209770,519339.5,574.65,10,4,2,0,0]
[null,128,"2006-03-06",17,2,14,21,3,23,6,15,13,11,4,16,19,25,20,0,2,422,18165,257399,1512543,830452.68,1686.77,10,4,2,0,0]
[null,129,"2006-03-13",5,11,9,22,6,21,7,19,2,20,15,23,18,25,13,0,3,907,38023,333579,1684780,448986.01,634.04999999999995,10,4,2,0,0]
[null,130,"2006-03-20",15,19,6,4,24,2,17,25,13,23,10,12,5,3,9,0,3,952,29720,362203,1689512,417614.17,561.87,10,4,2,0,0]
[null,131,"2006-03-27",2,25,20,12,5,7,6,11,13,19,8,4,15,22,23,0,1,660,23967,320580,1600418,1341544.3700000001,871.13,10,4,2,0,0]
[null,132,"2006-04-03",9,25,14,11,7,15,1,22,16,4,5,17,3,10,23,0,10,792,26452,340872,1584197,135976.17000000001,733.01,10,4,2,0,0]
[null,133,"2006-04-10",18,22,9,3,15,20,8,21,4,19,13,1,11,23,5,0,5,895,32294,385069,1862691,217132.17,517.9,10,4,2,0,0]
[null,134,"2006-04-17",12,16,5,7,11,19,8,25,22,17,14,1,3,10,13,0,4,1345,32243,321650,1628816,325378.90999999997,413.15,10,4,2,0,0]
[null,135,"2006-04-24",7,22,13,2,21,14,19,8,1,25,20,10,15,18,5,0,7,775,20815,253415,1441124,234154.46,906.41,10,4,2,0,0]
[null,136,"2006-05-02",1,2,23,12,17,21,5,22,9,15,24,14,13,6,3,0,2,329,14555,238514,1255488,671843.75,1750.35,10,4,2,0,0]
[null,137,"2006-05-08",18,6,19,25,11,8,17,20,16,10,2,21,12,9,13,0,2,313,12648,221694,1259615,937816.37,2568.19,10,4,2,0,0]
[null,138,"2006-05-15",15,7,16,17,8,24,22,2,3,13,11,5,21,25,4,0,3,464,18695,250239,1503282,476718.72,1320.96,10,4,2,0,0]
[null,139,"2006-05-22",22,24,23,12,1,15,7,14,21,16,17,2,9,18,19,0,1,443,18564,247145,1370404,1596786.85,1544.78,10,4,2,0,0]
[null,140,"2006-05-29",12,10,19,1,25,22,15,6,2,24,13,20,9,18,3,0,7,787,22971,268181,1413296,210217.72,801.34,10,4,2,0,0]
[null,141,"2006-06-05",18,12,19,3,8,17,13,1,25,20,10,16,9,24,7,0,2,471,17588,247734,1532701,793662.96,1444.34,10,4,2,0,0]
[null,142,"2006-06-12",1,18,19,5,23,7,6,16,17,24,15,9,22,4,2,0,1,373,15636,246926,1364705,1692224.96,1944.35,10,4,2,0,0]
[null,143,"2006-06-19",21,11,22,9,24,8,17,15,25,1,16,23,13,19,2,0,5,677,29324,326923,1643883,201113.36,634.16,10,4,2,0,0]
[null,144,"2006-06-26",12,17,1,2,21,4,14,22,9,24,20,7,19,11,25,0,36,3305,39042,295178,1379832,35936.800000000003,167.14,10,4,2,0,0]
[null,145,"2006-07-03",14,15,20,22,13,10,25,11,18,9,24,2,3,1,17,0,3,815,30436,317461,1442001,395268.82,621.20000000000005,10,4,2,0,0]
[null,146,"2006-07-10",17,22,12,2,11,5,24,10,14,13,25,16,1,23,8,0,6,557,21375,302776,1519562,219758.4,1014.53,10,4,2,0,0]
[null,147,"2006-07-17",2,5,12,13,21,23,22,11,1,10,6,25,4,19,16,0,3,624,25125,278315,1546507,472583.65,973.73,10,4,2,0,0]
[null,148,"2006-07-24",5,22,24,2,1,12,8,21,16,25,20,9,13,4,17,0,17,1024,23278,276551,1552055,84381.14,598.09,10,4,2,0,0]
[null,149,"2006-08-01",24,19,2,17,16,9,25,5,20,18,13,10,15,23,7,0,5,616,22974,303309,1711630,235870.42,820.52,10,4,2,0,0]
[null,150,"2006-08-07",21,7,11,5,8,19,1,25,6,22,24,14,23,9,3,0,1,333,15291,253716,1446824,1641679.38,2112.84,10,4,2,0,0]
[null,151,"2006-08-14",18,10,13,11,3,9,12,4,23,7,24,16,14,5,20,0,5,626,23014,277803,1417099,333476.47999999998,1141.52,10,4,2,0,0]
[null,152,"2006-08-21",23,3,25,6,19,22,24,15,7,17,8,13,20,4,5,0,3,749,23507,300483,1517767,435453.14,744.65,10,4,2,0,0]
[null,153,"2006-08-28",13,21,5,25,8,20,23,12,11,4,1,18,2,24,17,0,8,958,30251,365810,1713398,130468.18,465.16,10,4,2,0,0]
[null,154,"2006-09-04",18,9,16,5,15,24,23,10,1,11,14,6,13,3,2,0,1,604,27326,262834,1558936,1415829.77,1004.61,10,4,2,0,0]
[null,155,"2006-09-11",15,10,16,14,8,11,19,2,21,20,18,4,5,22,24,0,0,559,22378,250331,1242889,0,1352.92,10,4,2,1764652.94,0]
[null,156,"2006-09-18",3,8,9,15,13,10,12,4,23,20,22,1,19,11,14,0,7,606,23142,344899,1779082,544973.93999999994,1449.91,10,4,2,0,0]
[null,157,"2006-09-25",10,14,2,18,25,9,21,7,24,1,16,6,4,12,19,0,9,1164,27968,294624,1457786,184264.18,608.27,10,4,2,0,0]
[null,158,"2006-10-02",11,15,22,17,12,23,2,7,16,18,19,9,20,10,8,0,2,379,14044,227436,1333606,903537.47,2043.43,10,4,2,0,0]
[null,159,"2006-10-09",11,2,1,3,17,15,25,10,24,14,4,6,8,5,20,0,2,699,23036,296027,1584286,703307.5,862.43,10,4,2,0,0]
[null,160,"2006-10-16",15,14,3,12,16,24,19,21,20,17,10,4,9,1,11,0,3,343,15261,208539,1221736,597551.18000000005,2239.89,10,4,2,0,0]
[null,161,"2006-10-19",21,24,1,8,20,17,25,18,11,5,15,23,22,16,13,0,0,611,15775,239227,918806,0,331.96,10,4,2,475058.19,1800000]
[null,162,"2006-10-23",3,1,12,6,20,11,5,16,24,2,8,23,13,4,18,0,5,473,17329,259119,1359430,326388.90000000002,1048.22,10,4,2,0,0]
[null,163,"2006-10-26",21,3,14,6,2,1,25,9,15,13,20,24,23,7,5,0,3,301,14090,182825,1000015,264578.33,1130.1400000000001,10,4,2,0,0]
[null,164,"2006-10-30",1,11,14,5,15,10,2,6,21,18,3,24,8,23,22,0,1,350,14833,215986,1200787,1166134.45,1427.92,10,4,2,0,0]
[null,165,"2006-11-03",9,1,19,13,14,4,12,15,25,2,22,8,18,17,6,0,2,474,15818,152856,784846,370695.33,667.8,10,4,2,0,0]
[null,166,"2006-11-06",18,3,9,21,19,22,8,15,10,23,14,2,20,4,13,0,39,1363,18402,206939,965304,30597.68,373.8,10,4,2,0,0]
[null,167,"2006-11-09",18,10,1,13,19,9,16,14,24,2,6,3,22,8,23,0,3,531,16831,202659,1017291,302468.28000000003,729.59,10,4,2,0,0]
[null,168,"2006-11-13",1,7,20,4,19,12,24,3,15,17,16,2,10,23,22,0,1,386,15449,205259,1185853,1467158.17,1628.97,10,4,2,0,0]
[null,169,"2006-11-16",4,16,24,6,8,11,15,10,1,21,5,12,9,7,20,0,0,239,8661,119123,733474,0,1973.03,10,4,2,1100295.03,0]
[null,170,"2006-11-21",7,22,25,4,13,23,6,5,1,20,3,10,18,8,16,0,1,614,25288,329486,1467483,2382496.8199999998,894.98,10,4,2,0,0]
[null,171,"2006-11-23",24,3,25,10,17,13,16,22,15,4,1,23,12,11,21,0,4,268,9173,148445,853294,214073.05,1369.34,10,4,2,0,0]
[null,172,"2006-11-27",2,18,9,11,7,13,6,1,4,25,12,20,21,22,10,0,1,491,15871,198340,1108489,1294736.8700000001,1130.1199999999999,10,4,2,0,0]
[null,173,"2006-11-30",2,5,11,23,22,15,8,24,20,21,19,3,7,4,25,0,0,245,10219,148861,869873,0,1729.59,10,4,2,988749.6,0]
[null,174,"2006-12-04",4,7,13,23,10,20,2,9,1,15,24,17,12,25,11,0,11,1312,35908,358227,1677488,164220.21,266.08999999999997,10,4,2,0,0]
[null,175,"2006-12-07",7,11,2,14,18,5,21,19,16,3,15,12,24,13,6,0,2,267,11214,149794,846444,640155.35,2055.0700000000002,10,4,2,0,0]
[null,176,"2006-12-11",12,25,15,21,10,4,24,16,11,13,18,2,22,17,23,0,1,807,33717,236870,1292800,1219699.48,645.28,10,4,2,0,0]
[null,177,"2006-12-14",24,16,11,13,6,19,2,17,7,8,15,20,10,23,21,0,2,513,17607,189127,1003314,561611.07999999996,938.37,10,4,2,0,0]
[null,178,"2006-12-18",6,3,21,25,10,20,19,23,9,4,8,2,24,16,14,0,1,283,13048,190022,1115303,1521659.37,2304.38,10,4,2,0,0]
[null,179,"2006-12-21",2,15,17,3,22,19,14,7,23,25,5,4,24,9,13,0,6,1085,31036,321695,1307885,82980.100000000006,195.92,10,4,2,0,0]
[null,180,"2006-12-26",2,4,11,20,17,25,24,7,1,5,3,10,15,6,8,0,13,7687,18027,183658,1062910,68697.009999999995,49.61,10,4,2,0,0]
[null,181,"2006-12-28",1,16,22,5,20,7,23,8,15,4,6,14,17,19,21,0,2,360,9926,121305,708743,648701.31999999995,1544.53,10,4,2,0,0]
[null,182,"2007-01-02",11,22,8,19,17,3,2,14,25,9,7,21,13,23,4,0,7,928,23347,253900,1053677,83505.820000000007,268.93,10,4,2,0,0]
[null,183,"2007-01-04",8,7,6,13,23,11,19,21,16,25,14,20,24,2,4,0,4,424,13906,182663,839141,218236.04,882.35,10,4,2,0,0]
[null,184,"2007-01-08",3,17,7,23,11,15,8,1,19,21,25,16,18,9,10,0,3,423,43275,270561,1208438,282071.90000000002,857.36,10,4,2,0,0]
[null,185,"2007-01-11",20,19,25,6,1,15,23,8,12,9,11,4,7,2,17,0,3,489,16699,211910,1027602,298398.38,781.59,10,4,2,0,0]
[null,186,"2007-01-15",16,25,23,22,13,5,6,19,24,17,2,18,4,11,12,0,2,338,13786,217999,1189905,628034.82999999996,1592.65,10,4,2,0,0]
[null,187,"2007-01-18",21,25,12,1,16,3,13,24,11,17,19,15,23,22,18,0,2,636,53783,192863,1064100,374968.4,503.43,10,4,2,0,0]
[null,188,"2007-01-22",16,19,20,10,25,24,22,8,13,5,11,23,21,2,3,0,6,515,19440,252304,1384753,167432,836,10,4,2,0,0]
[null,189,"2007-01-25",9,13,5,18,23,19,16,22,1,2,7,4,20,6,24,0,2,324,16766,159294,930299,497279.18,1315.56,10,4,2,0,0]
[null,190,"2007-01-29",16,11,13,15,23,24,8,1,5,18,4,19,3,7,14,0,3,583,19039,240715,1257119,350459.97,769.96,10,4,2,0,0]
[null,191,"2007-02-01",23,9,18,5,19,20,8,2,22,10,13,21,15,17,12,0,1,412,15024,213016,997044,964343.13,1003.13,10,4,2,0,0]
[null,192,"2007-02-05",24,11,1,13,3,6,16,4,15,22,2,23,14,5,21,0,3,754,34386,197879,1082451,435921.62,740.51,10,4,2,0,0]
[null,193,"2007-02-08",14,16,21,2,9,19,20,3,4,10,25,1,15,5,8,0,2,316,11974,141482,846030,670419.18999999994,1818.5,10,4,2,0,0]
[null,194,"2007-02-12",23,14,22,25,12,18,8,9,13,15,2,21,17,7,10,0,1,354,14957,233715,1231332,1197208.94,1449.4,10,4,2,0,0]
[null,195,"2007-02-15",4,3,14,22,19,17,9,12,18,7,23,8,11,2,6,0,10,1073,38496,230650,1015550,86522.69,344.28,10,4,2,0,0]
[null,196,"2007-02-22",22,24,10,15,16,25,20,14,17,5,2,4,23,19,3,0,1,323,13239,208826,1170750,1278818.47,1696.8,10,4,2,0,0]
[null,197,"2007-02-26",9,13,23,20,3,6,10,5,22,4,8,12,7,18,21,0,4,451,16365,189310,1075584,327278.19,1244.01,10,4,2,0,0]
[null,198,"2007-03-01",25,1,6,2,13,7,18,21,14,4,15,20,5,17,16,0,3,283,10301,141305,840903,409715.3,1861.4,10,4,2,0,0]
[null,199,"2007-03-05",23,2,6,11,22,20,4,3,15,5,1,9,21,12,19,0,1,381,13664,178579,1124850,1321388.8899999999,1486.38,10,4,2,0,0]
[null,200,"2007-03-08",16,8,9,5,23,11,13,12,4,14,15,2,1,21,24,0,2,280,12673,191340,1015452,519190.74,1589.36,10,4,2,0,0]
[null,201,"2007-03-12",10,15,8,19,2,11,12,5,20,1,22,4,13,9,14,0,4,614,22333,262852,1261685,262310,729.59,10,4,2,0,0]
[null,202,"2007-03-15",5,14,23,19,24,10,17,11,1,21,22,13,16,3,18,0,0,269,12150,175505,1105371,0,1703.36,10,4,2,1069138,0]
[null,203,"2007-03-19",24,2,4,5,12,13,1,3,23,18,6,7,25,14,17,0,15,1447,32382,318444,1557370,151893.07999999999,356.8,10,4,2,0,0]
[null,204,"2007-03-22",8,25,16,17,23,22,5,15,4,7,24,2,14,3,11,0,4,566,20023,239733,1095166,233188.57,703.6,10,4,2,0,0]
[null,205,"2007-03-26",21,4,18,12,22,10,2,16,17,11,3,15,25,14,9,0,1,322,11225,159125,963861,1651759.41,2198.44,10,4,2,0,0]
[null,206,"2007-03-29",22,9,5,16,15,3,13,8,21,2,12,17,11,20,14,0,2,270,10506,142271,908597,590228.22,1873.74,10,4,2,0,0]
[null,207,"2007-04-02",4,12,6,1,15,10,19,3,14,9,17,2,13,22,20,0,1,364,14813,231395,1202103,1211903.7,1426.89,10,4,2,0,0]
[null,208,"2007-04-05",24,19,16,7,3,12,23,6,9,10,4,1,14,11,15,0,2,381,12101,149390,870271,534367.26,1202.18,10,4,2,0,0]
[null,209,"2007-04-09",24,1,19,22,25,3,10,15,14,6,5,18,21,7,9,0,3,267,11913,161154,926604,425084.14,2046.96,10,4,2,0,0]
[null,210,"2007-04-12",15,16,7,14,18,22,10,13,23,11,3,24,9,21,5,0,2,533,18516,224602,1065835,467257.17,748.57,10,4,2,0,0]
[null,211,"2007-04-16",17,1,10,12,2,6,8,4,24,18,14,22,11,16,25,0,12,2051,36077,258629,1136150,92363.73,230.72,10,4,2,0,0]
[null,212,"2007-04-19",16,6,19,22,3,1,20,11,10,14,8,23,4,9,12,0,3,497,18605,187834,953316,356439.49,922.09,10,4,2,0,0]
[null,213,"2007-04-23",16,1,10,21,5,4,9,23,8,3,24,25,11,18,19,0,0,331,13114,188730,1138481,0,1367.72,10,4,2,1056335.44,0]
[null,214,"2007-04-26",2,14,4,18,9,24,11,1,13,19,3,22,25,20,15,0,2,386,21187,225619,1305857,1099865.3899999999,1269.5,10,4,2,0,0]
[null,215,"2007-04-30",17,15,3,12,25,9,19,23,11,4,7,14,5,18,1,0,4,1009,35510,302969,1254385,160486.32999999999,271.64,10,4,2,0,0]
[null,216,"2007-05-03",11,9,17,13,21,6,4,25,24,5,3,7,19,2,10,0,3,479,17238,215394,1040245,292829.11,783.02,10,4,2,0,0]
[null,217,"2007-05-07",6,16,4,5,12,19,11,25,10,21,7,2,9,17,3,0,2,548,39451,196007,1096546,641708.91,1003.71,10,4,2,0,0]
[null,218,"2007-05-10",21,25,15,17,11,22,2,16,8,13,14,12,5,20,7,0,1,349,20284,151533,942198,1295114.22,1590.4,10,4,2,0,0]
[null,219,"2007-05-14",19,24,3,22,2,17,11,18,25,16,23,8,9,14,6,0,1,334,14810,202799,1139236,1321125.73,1695.2,10,4,2,0,0]
[null,220,"2007-05-17",21,16,5,25,13,23,24,10,20,18,14,9,15,12,17,0,0,275,12225,180556,912407,0,1847.51,10,4,2,1185483.6299999999,2500000]
[null,221,"2007-05-21",6,1,17,7,21,12,3,23,16,20,2,8,19,10,25,0,2,382,16379,218172,1280912,1431076.01,1881.08,10,4,2,0,1000000]
[null,222,"2007-05-24",5,15,21,4,23,12,7,8,24,22,6,18,1,3,9,0,1,232,9982,160368,915510,1137537.2,2101.36,10,4,2,0,1000000]
[null,223,"2007-05-28",9,23,14,22,2,24,11,7,10,13,16,21,4,12,20,0,0,371,15354,198520,1110738,0,1478.5,10,4,2,1279890.48,2500000]
[null,224,"2007-05-31",24,9,8,4,19,11,21,13,18,20,15,23,10,6,12,0,4,364,14879,202689,1195711,674947.7,1671.79,10,4,2,0,1400000]
[null,225,"2007-06-04",15,25,8,1,23,3,5,13,2,19,14,20,22,7,18,0,3,912,29008,279442,1416966,314688.25,441.96,10,4,2,0,1000000]
[null,226,"2007-06-08",20,5,19,14,13,10,8,15,17,21,18,4,16,11,25,0,1,238,9088,135676,887477,1033333.31,1860.74,10,4,2,0,1000000]
[null,227,"2007-06-11",10,18,20,21,5,17,14,12,19,7,22,15,9,1,8,0,3,313,12127,168590,958513,426727.9,1752.87,10,4,2,0,1000000]
[null,228,"2007-06-14",14,15,19,17,11,4,20,16,13,25,12,24,18,2,10,0,7,510,12306,199913,991171,162006.70000000001,952.98,10,4,2,0,1000000]
[null,229,"2007-06-18",9,6,25,15,20,12,16,14,11,10,17,23,8,13,2,0,3,322,12883,210219,1189925,451708.06,1803.62,10,4,2,0,1000000]
[null,230,"2007-06-21",6,1,4,24,17,22,8,11,2,5,15,13,14,3,10,0,1,656,21649,267144,1107051,912992.46,594.21,10,4,2,0,1100000]
[null,231,"2007-06-25",24,17,19,12,21,1,5,18,10,2,7,15,25,6,16,0,1,366,14413,170116,1009785,1574316.19,1843.46,10,4,2,0,1100000]
[null,232,"2007-06-28",11,24,21,23,14,25,16,13,12,4,5,17,6,9,18,0,1,252,10957,164814,946981,1197922.1100000001,2037.28,10,4,2,0,1100000]
[null,233,"2007-07-02",1,14,7,3,13,2,6,8,12,5,21,17,9,19,4,0,8,820,24183,291569,1234674,122409.35,509.88,10,4,2,0,1000000]
[null,234,"2007-07-05",11,14,1,5,2,12,3,4,13,17,24,9,15,21,22,0,1,676,39252,226627,1231982,889594.53,561.85,10,4,2,0,1000000]
[null,235,"2007-07-09",21,13,24,14,18,17,8,16,12,23,19,15,1,25,10,0,4,475,16531,263639,1103205,248234.57,895.89,10,4,2,0,1000000]
[null,236,"2007-07-12",1,13,3,22,25,23,5,16,4,9,12,15,8,7,21,0,0,359,16808,225582,1248389,0,1298.3699999999999,10,4,2,1087600.01,2500000]
[null,237,"2007-07-16",13,12,7,6,5,19,23,16,4,20,22,9,18,15,21,0,5,759,22024,267999,1388224,545832.17000000004,926.91,10,4,2,0,1000000]
[null,238,"2007-07-19",11,17,19,24,20,13,6,21,4,12,1,14,23,15,3,0,1,319,12604,177262,1112538,1158825.53,1556.87,10,4,2,0,1000000]
[null,239,"2007-07-23",7,13,9,14,25,15,10,22,1,23,16,3,6,19,5,0,4,736,22562,264149,1294387,268193.91999999998,622.30999999999995,10,4,2,0,1000000]
[null,240,"2007-07-26",2,10,9,23,19,15,1,13,22,4,11,18,14,16,21,0,1,395,14664,181955,1027526,1076749.8,1168.26,10,4,2,0,1000000]
[null,241,"2007-07-30",14,5,23,24,13,15,21,8,12,9,25,4,17,20,3,0,6,550,18840,248779,1368593,162955.29,758.98,10,4,2,0,1000000]
[null,242,"2007-08-02",13,2,21,19,8,15,17,6,22,14,9,16,18,23,5,0,2,500,16629,210405,1126014,553900.01,949.54,10,4,2,0,1000000]
[null,243,"2007-08-06",5,3,13,25,7,23,16,21,18,1,20,4,2,12,17,0,0,395,15691,239166,1305797,0,1431.01,10,4,2,1318918.79,2800000]
[null,244,"2007-08-09",6,12,10,24,11,7,18,15,3,22,5,14,20,21,9,0,4,654,22161,252057,1277102,761115.43,1130.76,10,4,2,0,1200000]
[null,245,"2007-08-13",11,24,10,19,18,12,14,25,1,9,2,15,6,7,16,0,1,397,17309,203970,1148741,1602862.09,1730.33,10,4,2,0,1000000]
[null,246,"2007-08-16",8,7,25,24,1,5,9,21,18,15,17,12,10,4,13,0,2,646,17875,209948,1210961,514572.62,680.17,10,4,2,0,1000000]
[null,247,"2007-08-20",1,22,7,8,14,4,2,25,3,17,15,16,23,19,9,0,1,746,22515,262704,1367044,1100400.3999999999,629.77,10,4,2,0,1000000]
[null,248,"2007-08-23",25,10,12,8,5,2,11,20,21,1,16,19,9,13,15,0,5,568,18679,213407,1182527,205597.54,772.71,10,4,2,0,1200000]
[null,249,"2007-08-27",23,5,21,14,18,12,7,15,8,4,25,9,22,17,10,0,4,456,20710,240312,1246804,300690.74,1130.42,10,4,2,0,1000000]
[null,250,"2007-08-30",19,13,2,5,23,9,3,10,15,17,16,18,21,12,1,0,1,456,20409,248997,1315442,729124.59,682.67,10,4,2,0,1200000]
[null,251,"2007-09-03",21,13,19,15,23,18,22,9,4,25,16,10,3,5,6,0,3,546,18852,250206,1373895,388791.25,915.52,10,4,2,0,1200000]
[null,252,"2007-09-06",2,6,18,25,15,11,24,23,3,22,17,4,19,14,8,0,1,578,23054,215463,1143748,1145268.6399999999,849.19,10,4,2,0,1000000]
[null,253,"2007-09-10",22,4,19,5,21,23,6,1,18,11,12,15,8,13,7,0,3,467,15696,205230,1103731,384999.07,1059.96,10,4,2,0,1000000]
[null,254,"2007-09-13",20,2,23,6,5,14,15,9,8,3,7,11,16,13,4,0,4,344,14579,247017,1172541,309239.02,1541.06,10,4,2,0,1200000]
[null,255,"2007-09-17",17,3,4,1,2,14,15,10,9,16,22,24,6,21,23,0,3,426,13725,186470,1138744,574134.62,1732.8,10,4,2,0,1200000]
[null,256,"2007-09-20",1,12,10,9,16,8,18,20,7,2,6,22,13,15,24,0,6,458,17563,205198,1057444,219836.27,1234.27,10,4,2,0,1200000]
[null,257,"2007-09-24",22,10,12,9,7,18,13,6,1,16,3,24,14,17,19,0,2,600,20544,242288,1285535,656028.71,937.19,10,4,2,0,1200000]
[null,258,"2007-09-27",13,20,12,4,2,25,22,24,19,21,9,6,14,5,17,0,6,877,21971,214688,1070083,198893.58,580.96,10,4,2,0,1200000]
[null,259,"2007-10-01",10,25,18,15,6,21,22,20,7,3,8,9,24,19,5,0,0,293,15192,173008,1099965,0,2477.16,10,4,2,1693556.25,3000000]
[null,260,"2007-10-04",24,11,5,19,7,20,9,18,14,3,13,8,1,6,4,0,1,422,19243,268373,1601008,3407439.83,1740.58,10,4,2,0,1200000]
[null,261,"2007-10-08",4,2,16,15,25,6,11,21,5,17,19,20,7,13,1,0,2,599,27065,281319,1393103,650009.12,930.14,10,4,2,0,1200000]
[null,262,"2007-10-11",8,21,12,20,3,14,13,7,9,24,15,23,4,17,6,0,1,461,23646,215284,1197030,1189723.1200000001,1106.03,10,4,2,0,1100000]
[null,263,"2007-10-15",23,19,8,15,16,11,7,21,24,9,10,1,18,4,14,0,0,550,17780,199155,1014306,0,963.09,10,4,2,1235966.8899999999,3000000]
[null,264,"2007-10-18",8,3,25,6,22,9,13,23,20,4,16,19,1,12,21,0,6,748,21472,254846,1382097,468787.91,903.42,10,4,2,0,1200000]
[null,265,"2007-10-22",7,12,22,5,19,11,18,8,13,16,17,24,1,20,15,0,0,366,15895,206626,1269650,0,1649.5,10,4,2,1408672.99,3000000]
[null,266,"2007-10-25",18,21,3,19,4,14,24,22,5,6,7,9,11,1,15,0,5,819,28035,294716,1476164,574831.69999999995,763.96,10,4,2,0,1200000]
[null,267,"2007-10-29",15,11,23,9,12,6,14,13,17,24,21,2,5,4,3,0,2,580,25552,296938,1419919,512949.16,755.18,10,4,2,0,1300000]
[null,268,"2007-11-01",25,23,8,15,9,16,20,12,7,18,6,19,5,10,14,0,1,458,15704,216481,1132430,1270248.98,1188.6300000000001,10,4,2,0,1200000]
[null,269,"2007-11-05",22,2,1,4,13,15,18,19,24,23,10,16,17,6,14,0,1,357,13740,208513,1166041,1330336.28,1597.04,10,4,2,0,1300000]
[null,270,"2007-11-08",16,1,14,5,9,18,8,3,6,25,7,19,23,4,24,0,0,456,18099,265177,1328618,0,1086.78,10,4,2,1156332.26,3000000]
[null,271,"2007-11-12",19,11,5,16,24,20,25,6,4,12,8,1,21,2,18,0,6,449,19649,247576,1409801,513005.15,1834.26,10,4,2,0,1200000]
[null,272,"2007-11-16",25,15,12,1,4,9,13,24,8,17,5,20,11,23,2,0,6,872,27833,240292,1166264,131266.51999999999,385.62,10,4,2,0,1200000]
[null,273,"2007-11-19",16,5,21,7,12,20,1,15,24,18,25,10,19,17,6,0,2,4551,12563,161163,1034372,724498.58,135.94999999999999,10,4,2,0,1300000]
[null,274,"2007-11-22",15,25,5,23,10,2,7,12,17,14,11,21,6,20,4,0,4,645,18874,202897,1037963,312825.36,831.43,10,4,2,0,1200000]
[null,275,"2007-11-26",6,9,12,22,1,10,15,5,14,17,20,3,18,11,8,0,2,657,19774,226330,1222935,658502.59,859.11,10,4,2,0,1000000]
[null,276,"2007-11-29",2,7,17,5,18,12,22,3,25,13,20,4,11,19,10,0,3,312,14987,188284,1058898,411743.68,1696.75,10,4,2,0,1400000]
[null,277,"2007-12-03",16,24,13,2,17,10,9,11,21,4,23,14,25,22,12,0,4,525,22011,213076,1251270,344720.36,1125.6199999999999,10,4,2,0,1000000]
[null,278,"2007-12-06",12,9,2,3,21,19,1,23,5,15,11,17,13,6,25,0,25,4310,76727,426871,1443593,14182.21,35.130000000000003,10,4,2,0,1000000]
[null,279,"2007-12-10",12,10,3,17,18,6,5,23,1,2,22,19,11,9,13,0,3,804,23945,306944,1412942,384377.54,612.34,10,4,2,0,1000000]
[null,280,"2007-12-13",9,25,20,10,19,24,5,13,16,3,17,11,6,15,4,0,7,1779,17395,224021,1249554,186308.88,312.99,10,4,2,0,1200000]
[null,281,"2007-12-17",4,1,10,23,12,2,25,17,19,8,11,9,14,3,15,0,6,683,24788,310715,1611578,166444.42000000001,624.27,10,4,2,0,1000000]
[null,282,"2007-12-20",25,7,3,21,11,20,16,13,8,4,15,12,19,22,2,0,5,474,14750,190462,1120400,311399.2,1407.77,10,4,2,0,1000000]
[null,283,"2007-12-22",24,22,10,13,4,20,6,1,11,9,23,12,8,2,19,0,5,359,11743,140718,677731,125730.62,747.63,10,4,2,0,1000000]
[null,284,"2007-12-27",23,5,22,7,21,12,25,13,1,11,15,17,3,6,19,0,7,3392,89618,409708,1452685,51508.88,45.39,10,4,2,0,1200000]
[null,285,"2007-12-29",11,16,8,10,14,1,4,5,15,22,9,12,19,13,23,0,3,338,13308,131095,794186,231166.67,879.33,10,4,2,0,1300000]
[null,286,"2008-01-03",25,1,23,21,7,4,11,9,12,2,13,10,24,19,3,0,3,729,27687,296552,1434986,224820.4,396.51,10,4,2,0,1200000]
[null,287,"2008-01-07",15,21,6,23,2,10,22,25,7,17,16,5,18,13,12,0,5,528,17308,223741,1228506,270692.90000000002,1098.5899999999999,10,4,2,0,1200000]
[null,288,"2008-01-10",18,15,6,19,2,10,3,14,25,9,24,1,4,13,12,0,1,504,18396,224846,1284701,1112109.33,945.67,10,4,2,0,1200000]
[null,289,"2008-01-14",4,8,1,3,10,19,2,14,6,9,17,15,12,24,22,0,14,1421,34554,333071,1433297,63211.34,266.89999999999998,10,4,2,0,1300000]
[null,290,"2008-01-17",17,9,13,2,23,14,11,20,22,7,6,12,1,21,5,0,5,437,15046,198722,1215690,244730.42,1200.05,10,4,2,0,1200000]
[null,291,"2008-01-21",14,8,15,10,1,5,17,24,2,12,7,13,23,20,11,0,5,554,19853,244168,1365109,236637.79,915.31,10,4,2,0,1300000]
[null,292,"2008-01-24",21,3,24,7,17,5,2,11,13,9,22,12,25,16,8,0,1,513,17502,203845,1145496,1210021.45,1010.88,10,4,2,0,1200000]
[null,293,"2008-01-28",14,12,3,9,25,22,13,24,2,6,1,23,18,15,19,0,3,722,40725,266109,1420232,311274.88,554.30999999999995,10,4,2,0,1200000]
[null,294,"2008-01-31",11,16,24,4,20,2,1,5,7,3,8,12,15,23,25,0,3,451,14533,198742,1146969,423387.36,1206.99,10,4,2,0,1300000]
[null,295,"2008-02-07",25,24,6,23,15,10,3,21,13,18,2,4,19,17,16,0,2,336,16242,237731,1327959,710326.08,1812.06,10,4,2,0,1200000]
[null,296,"2008-02-11",16,18,14,6,22,11,15,19,2,25,7,3,12,8,17,0,5,319,12612,181976,1088291,317206.8,2130.81,10,4,2,0,1200000]
[null,297,"2008-02-14",23,10,25,24,1,21,15,9,8,16,4,22,14,7,12,0,0,267,11711,165948,1000928,0,2388.7600000000002,10,4,2,1488197.27,3000000]
[null,298,"2008-02-18",1,6,7,16,4,24,21,8,13,3,11,15,14,12,22,0,2,421,15894,227004,1522778,1712831.75,1972.31,10,4,2,0,1200000]
[null,299,"2008-02-21",10,20,3,24,23,6,17,8,22,13,7,5,19,18,21,0,1,261,13134,195795,1051550,1400709.24,2300.02,10,4,2,0,1200000]
[null,300,"2008-02-25",7,21,9,4,11,23,19,17,3,12,8,25,20,15,22,0,5,671,20196,258453,1332471,236323.91,754.71,10,4,2,0,1200000]
[null,301,"2008-02-28",2,9,11,3,17,13,12,19,20,15,22,23,18,8,14,0,4,654,20814,274101,1312404,207255.79,543.27,10,4,2,0,1200000]
[null,302,"2008-03-03",18,20,9,6,11,25,2,16,15,14,4,22,12,10,5,0,9,906,26568,243704,1152753,154317.67000000001,656.98,10,4,2,0,1200000]
[null,303,"2008-03-06",6,22,18,21,12,24,23,20,15,17,2,8,3,16,4,0,3,343,15661,203428,1079262,452508.66,1696.2,10,4,2,0,1200000]
[null,304,"2008-03-10",1,15,22,16,14,4,18,17,12,21,20,25,5,3,19,0,0,259,9066,148763,997021,0,2902.1,10,4,2,1753836.94,3000000]
[null,305,"2008-03-13",20,10,25,4,3,18,22,21,2,8,11,12,5,24,13,0,3,584,21381,283628,1490712,1088299.3799999999,1108.9000000000001,10,4,2,0,1200000]
[null,306,"2008-03-17",25,5,13,4,2,8,20,1,11,16,18,12,14,15,19,0,0,320,17342,202597,1229254,0,1852.02,10,4,2,1382844.08,2700000]
[null,307,"2008-03-20",20,9,12,14,23,17,21,24,19,1,3,10,15,4,6,0,22,1413,32008,275894,1240760,120368.22,383.76,10,4,2,0,1100000]
[null,308,"2008-03-24",23,1,21,16,24,19,5,25,12,13,22,4,18,2,15,0,2,409,15693,236924,1225502,506005.32,1060.44,10,4,2,0,1200000]
[null,309,"2008-03-27",3,13,22,10,16,21,1,9,14,20,4,8,17,24,2,0,2,404,12892,173688,990478,694576.96,1473.64,10,4,2,0,1200000]
[null,310,"2008-03-31",11,14,21,10,3,24,18,19,9,15,23,16,5,2,17,0,1,425,15440,201420,1160428,1396694.91,1408.43,10,4,2,0,1100000]
[null,311,"2008-04-03",23,5,24,12,17,10,25,2,14,16,20,19,15,7,4,0,9,651,23806,225341,1142240,133572.09,791.41,10,4,2,0,1200000]
[null,312,"2008-04-07",22,8,9,18,2,17,10,19,1,16,25,11,13,12,6,0,1,386,16143,211127,1238109,1458512.89,1619.37,10,4,2,0,1200000]
[null,313,"2008-04-10",7,6,14,23,17,12,15,19,10,16,9,25,2,3,18,0,3,456,18119,231723,1255491,381993.94,1077.05,10,4,2,0,1200000]
[null,314,"2008-04-14",21,5,11,1,8,19,2,22,9,20,6,12,14,13,15,0,1,468,17436,212788,1261900,1364366.67,1249.42,10,4,2,0,1200000]
[null,315,"2008-04-17",16,13,11,23,5,6,21,17,8,2,24,3,20,14,19,0,10,1080,21712,211835,1071147,125445.39,497.8,10,4,2,0,1200000]
[null,316,"2008-04-22",8,19,6,14,4,3,24,23,1,13,12,15,10,18,7,0,1,434,16372,199719,1101192,847060.95,836.47,10,4,2,0,1100000]
[null,317,"2008-04-24",21,5,8,4,11,1,22,2,25,14,18,16,9,24,19,0,3,461,16254,179587,952067,367450.06,1024.8,10,4,2,0,1100000]
[null,318,"2008-04-28",11,21,12,14,6,4,16,15,13,25,5,3,18,23,9,0,4,429,18173,221406,1258488,290530.52,1160.96,10,4,2,0,1200000]
[null,319,"2008-05-02",14,24,6,9,4,8,3,16,23,1,19,10,20,12,17,0,7,751,27120,187666,917589,129225.31,516.21,10,4,2,0,1100000]
[null,320,"2008-05-05",19,15,12,17,11,18,1,25,3,22,9,21,14,6,23,0,3,493,17434,234131,1229263,316958.56,826.61,10,4,2,0,1200000]
[null,321,"2008-05-08",17,20,12,25,9,24,14,3,10,2,4,13,11,16,18,0,1,363,15732,193924,1100213,1308152.1499999999,1544.46,10,4,2,0,1200000]
[null,322,"2008-05-12",1,12,13,2,16,23,3,7,5,20,17,18,15,24,21,0,2,509,22083,228275,1286179,606827.96,1021.89,10,4,2,0,1200000]
[null,323,"2008-05-15",4,17,2,21,14,1,3,20,6,7,10,25,23,9,19,0,1,362,15703,205418,1101654,1207120.3600000001,1429.11,10,4,2,0,1200000]
[null,324,"2008-05-19",21,10,2,23,8,1,24,16,6,4,7,12,9,3,20,0,4,290,11630,189382,1109531,377040.37,2228.81,10,4,2,0,1200000]
[null,325,"2008-05-23",25,10,22,20,23,5,4,6,2,14,24,19,7,15,1,0,0,256,10643,149581,880526,0,2041.78,10,4,2,1219620.3899999999,2500000]
[null,326,"2008-05-26",25,7,24,6,15,13,12,10,1,18,8,11,4,17,2,0,3,502,18802,238352,1338497,845942.74,1125.3900000000001,10,4,2,0,1100000]
[null,327,"2008-05-29",19,8,4,14,3,16,1,15,13,12,17,21,23,2,18,0,4,418,16121,223081,1259895,241255.81,989.43,10,4,2,0,1200000]
[null,328,"2008-06-02",13,2,25,23,19,11,12,22,18,24,4,5,3,15,21,0,2,658,45227,246938,1427296,557712.09,726.51,10,4,2,0,1200000]
[null,329,"2008-06-05",18,21,8,20,24,9,1,14,4,23,25,3,17,2,13,0,5,606,21890,268768,1374725,214440.72,758.28,10,4,2,0,1100000]
[null,330,"2008-06-09",15,19,24,25,2,12,14,5,9,22,23,1,18,17,6,0,5,738,31136,296602,1469456,232346.13,674.64,10,4,2,0,1300000]
[null,331,"2008-06-12",16,15,13,19,5,23,3,18,1,7,6,22,21,25,12,0,7,1215,32125,300389,1421050,126426.54,312.16000000000003,10,4,2,0,1200000]
[null,332,"2008-06-16",3,2,11,21,20,12,6,5,19,7,23,24,14,10,25,0,4,511,17926,215746,1219635,392555.41,1316.94,10,4,2,0,1300000]
[null,333,"2008-06-19",16,2,13,25,9,14,1,6,21,15,5,23,18,12,11,0,13,847,29908,259841,1376784,69149.3,454.85,10,4,2,0,1200000]
[null,334,"2008-06-23",17,8,13,15,11,22,21,6,1,2,18,23,25,7,16,0,5,564,27218,227334,1327880,249447.01,947.75,10,4,2,0,1100000]
[null,335,"2008-06-26",16,14,21,9,6,17,8,3,20,19,1,12,11,7,4,0,3,365,13738,188747,1009236,469504.44,1653.83,10,4,2,0,1200000]
[null,336,"2008-06-30",10,15,16,11,3,25,1,14,19,5,22,2,17,6,8,0,7,655,21173,230794,1182316,199505.51,913.76,10,4,2,0,1100000]
[null,337,"2008-07-03",3,11,7,8,23,4,19,16,9,5,1,18,22,10,12,0,3,448,16514,211919,1140661,433926.54,1245.33,10,4,2,0,1300000]
[null,338,"2008-07-07",16,4,7,19,9,3,5,21,20,15,25,17,6,14,12,0,2,487,18303,246771,1287428,721253.58,1269.44,10,4,2,0,1300000]
[null,339,"2008-07-10",13,19,1,23,18,16,15,5,22,20,24,21,8,2,10,0,4,592,20706,240542,1259730,296278.06,857.95,10,4,2,0,1300000]
[null,340,"2008-07-14",14,4,19,2,8,21,20,25,11,10,6,9,5,22,3,0,1,327,12947,186327,1169660,1687296.66,2211.4,10,4,2,0,1300000]
[null,341,"2008-07-17",20,5,21,12,11,7,16,19,18,13,22,1,25,24,9,0,1,470,18651,218671,1192125,1260439.81,1149.3399999999999,10,4,2,0,1300000]
[null,342,"2008-07-21",8,3,11,25,23,12,21,15,1,4,20,13,16,19,22,0,3,526,22656,244613,1441615,385056,941.2,10,4,2,0,1300000]
[null,343,"2008-07-24",20,15,11,25,6,8,18,12,13,16,14,19,22,3,5,0,1,377,16379,212523,1239600,1130781.71,1285.47,10,4,2,0,1300000]
[null,344,"2008-07-28",11,16,9,20,25,24,5,3,12,10,15,13,4,21,6,0,3,504,19170,205613,1218349,482078.39,1229.79,10,4,2,0,1300000]
[null,345,"2008-07-31",23,25,9,24,20,2,12,16,19,14,15,7,18,11,21,0,2,487,17730,243678,1169691,623887.52,1098.07,10,4,2,0,1200000]
[null,346,"2008-08-04",14,10,23,5,12,6,8,17,24,18,15,2,1,21,3,0,9,1172,30597,286722,1426264,136257.48000000001,448.43,10,4,2,0,1300000]
[null,347,"2008-08-07",15,24,19,3,18,14,25,12,20,9,10,11,5,8,7,0,1,472,17632,233556,1280973,1352922.32,1228.44,10,4,2,0,1000000]
[null,348,"2008-08-11",14,8,20,19,12,25,1,7,18,24,2,17,5,22,21,0,3,513,19748,237771,1287333,492793.03,1235.07,10,4,2,0,1300000]
[null,349,"2008-08-14",7,8,17,20,22,12,1,16,2,19,25,24,5,14,18,0,32,27396,28850,241867,1224170,36966.120000000003,18.510000000000002,10,4,2,0,1200000]
[null,350,"2008-08-18",23,9,1,14,13,7,15,4,25,22,12,8,6,2,3,0,6,469,16607,278066,1360066,218458.22,1197.76,10,4,2,0,1200000]
[null,351,"2008-08-21",7,1,12,3,24,18,23,5,19,2,14,11,10,17,16,0,2,407,17560,231726,1290054,615440.05000000005,1296.1199999999999,10,4,2,0,1100000]
[null,352,"2008-08-25",3,1,15,13,6,20,17,24,19,2,12,22,4,9,18,0,2,565,23106,259188,1343684,657121.53,996.9,10,4,2,0,1100000]
[null,353,"2008-08-28",18,23,19,8,12,2,9,11,3,21,22,20,13,17,7,0,14,2000,44131,289622,1252694,67443.44,202.33,10,4,2,0,1300000]
[null,354,"2008-09-01",23,22,9,10,8,19,17,12,1,2,18,21,4,16,7,0,1,436,16846,236753,1379307,1466707.15,1441.72,10,4,2,0,1300000]
[null,355,"2008-09-04",12,11,23,13,8,4,19,25,18,7,10,6,9,15,2,0,4,591,18493,253429,1444467,289376.69,839.38,10,4,2,0,1300000]
[null,356,"2008-09-08",13,10,2,24,5,16,15,11,14,19,9,4,25,22,20,0,2,821,23749,272108,1335422,695239.96,725.85,10,4,2,0,1200000]
[null,357,"2008-09-11",17,10,6,23,21,5,8,9,14,2,19,1,13,11,25,0,6,1448,33292,306828,1437076,168827.59,299.81,10,4,2,0,1300000]
[null,358,"2008-09-15",25,16,17,11,14,18,12,23,24,4,15,2,10,6,9,0,2,552,18299,250995,1333113,721234.78,1119.93,10,4,2,0,1200000]
[null,359,"2008-09-18",22,21,12,4,25,13,8,24,16,11,7,17,19,18,10,0,1,300,13923,188972,1182581,1481108.4,2115.87,10,4,2,0,1300000]
[null,360,"2008-09-22",5,17,18,2,11,8,4,19,20,1,3,24,9,23,7,0,2,417,16124,237726,1427989,682532.86,1402.94,10,4,2,0,1300000]
[null,361,"2008-09-25",9,1,20,12,7,10,14,24,19,23,13,4,17,16,15,0,4,484,19120,242545,1220594,312794.76,1107.8900000000001,10,4,2,0,1300000]
[null,362,"2008-09-29",10,23,4,13,22,6,3,18,1,2,24,12,5,7,17,0,8,638,21073,233259,1335651,168748.37,906.85,10,4,2,0,1300000]
[null,363,"2008-10-02",22,23,16,3,8,6,17,2,4,9,13,11,15,20,21,0,5,668,19545,220182,1174243,274166.02,879.49,10,4,2,0,1300000]
[null,364,"2008-10-06",2,9,6,15,19,21,12,11,7,20,22,13,24,3,4,0,3,668,20646,252824,1310968,447199.37,860.74,10,4,2,0,1300000]
[null,365,"2008-10-09",11,12,4,8,19,5,15,20,23,16,3,24,25,18,10,0,2,562,18388,238729,1311049,651227.17000000004,993.23,10,4,2,0,1400000]
[null,366,"2008-10-13",23,6,22,11,15,21,13,5,8,3,17,9,20,18,25,0,16,1741,34338,363612,1356210,56071.97,220.85,10,4,2,0,1300000]
[null,367,"2008-10-16",15,21,13,20,18,22,12,7,1,17,2,8,4,9,24,0,39,1459,29602,284400,1349601,25430.52,291.33,10,4,2,0,1300000]
[null,368,"2008-10-20",6,13,22,5,2,3,24,14,11,21,20,15,19,17,4,0,2,416,16521,233642,1191140,675514.68,1391.86,10,4,2,0,1300000]
[null,369,"2008-10-23",24,9,12,5,15,3,23,11,6,21,1,7,14,22,20,0,1,325,15013,190722,1114074,1415661.08,1866.81,10,4,2,0,1300000]
[null,370,"2008-10-27",14,17,11,3,7,12,19,4,9,10,16,23,6,25,8,0,5,492,17793,233791,1212825,269470.63,1173.6500000000001,10,4,2,0,1300000]
[null,371,"2008-10-30",1,16,2,8,3,13,22,7,10,5,14,6,15,25,9,0,0,1193,14611,222489,1063063,0,508.48,10,4,2,1415443.53,3000000]
[null,372,"2008-11-03",19,12,23,10,24,14,16,6,22,25,17,13,3,4,5,0,6,656,24609,295743,1640560,554941.62,1250.57,10,4,2,0,1300000]
[null,373,"2008-11-06",19,20,11,22,4,17,14,13,9,23,2,15,12,21,6,0,4,735,24680,332598,1444046,265177.68,618.49,10,4,2,0,1300000]
[null,374,"2008-11-10",21,3,25,24,16,9,6,18,20,23,13,12,22,2,1,0,3,494,16863,227943,1350791,518004.06,1348.19,10,4,2,0,1300000]
[null,375,"2008-11-13",1,5,16,10,25,2,14,13,11,18,7,19,12,17,20,0,4,317,13255,198729,1156972,393090.48,2125.77,10,4,2,0,1300000]
[null,376,"2008-11-17",12,24,3,14,8,20,16,10,18,22,13,21,25,15,2,0,1,513,23503,257299,1294636,1268121.68,1059.42,10,4,2,0,1200000]
[null,377,"2008-11-20",22,11,12,15,4,3,1,8,2,7,17,9,13,19,20,0,2,692,25917,320438,1420841,320234.59999999998,396.66,10,4,2,0,1300000]
[null,378,"2008-11-24",24,2,25,13,16,14,6,23,12,4,15,21,3,22,19,0,2,591,19172,288777,1488124,614795.43000000005,891.66,10,4,2,0,1200000]
[null,379,"2008-11-27",21,7,14,17,16,13,4,22,5,3,12,25,18,11,10,0,1,379,13149,182312,1113168,1583155.69,1790.23,10,4,2,0,1400000]
[null,380,"2008-12-01",8,7,14,9,25,6,23,10,4,17,18,22,3,11,2,0,1,455,18919,242645,1332353,1596209.7,1503.49,10,4,2,0,1300000]
[null,381,"2008-12-04",3,7,13,19,25,15,6,12,17,4,10,22,21,9,1,0,17,1354,31510,302442,1484351,65578.880000000005,352.87,10,4,2,0,1300000]
[null,382,"2008-12-08",10,15,11,3,24,8,12,2,4,14,22,21,7,9,16,0,2,338,15156,203544,1257269,768787.34,1949.59,10,4,2,0,1300000]
[null,383,"2008-12-11",24,22,11,16,15,7,9,23,18,6,5,14,25,12,3,0,4,612,21763,259218,1323194,349610.03,979.3,10,4,2,0,1300000]
[null,384,"2008-12-15",17,19,13,22,7,11,25,4,1,15,18,3,21,10,20,0,3,1007,28988,324515,1518682,412832.13,527.1,10,4,2,0,1300000]
[null,385,"2008-12-18",4,5,8,12,20,23,25,6,13,15,18,1,24,22,2,0,7,821,25895,299177,1495379,156752.12,572.79,10,4,2,0,1300000]
[null,386,"2008-12-22",23,15,11,21,19,3,7,6,9,1,18,20,25,2,4,0,3,474,19690,280416,1499549,490605,1330.75,10,4,2,0,1200000]
[null,387,"2008-12-26",23,12,11,14,19,15,21,9,4,22,8,2,20,3,10,0,11,633,18843,212395,962489,86423.679999999993,643.64,10,4,2,0,1300000]
[null,388,"2008-12-29",1,7,21,15,16,9,11,6,10,20,5,17,3,18,2,0,0,362,12984,198569,1161589,0,1812.45,10,4,2,1530915.08,2800000]
[null,389,"2009-01-02",19,23,2,12,3,9,24,4,17,5,10,25,13,6,18,0,5,1943,27337,306754,1452691,508398.23,223.02,10,4,2,0,1300000]
[null,390,"2009-01-05",12,25,21,5,7,22,19,2,20,13,14,10,11,15,24,0,2,372,14485,213528,1290300,676763.37,1559.37,10,4,2,0,1300000]
[null,391,"2009-01-08",21,18,25,16,6,15,4,23,13,12,3,1,9,22,8,0,16,2683,46805,355727,1524094,55856.68,142.76,10,4,2,0,1400000]
[null,392,"2009-01-12",1,23,2,18,20,3,17,21,11,25,15,10,4,14,12,0,0,457,20303,254042,1460896,0,1397.41,10,4,2,1490101.04,3000000]
[null,393,"2009-01-15",4,8,23,17,3,21,22,20,18,1,25,6,7,10,11,0,3,487,19532,286635,1573413,1134703.22,1684.37,10,4,2,0,1300000]
[null,394,"2009-01-19",6,14,12,13,2,22,16,20,18,7,24,21,8,23,5,0,4,689,25961,279906,1402452,363660.08,904.82,10,4,2,0,1300000]
[null,395,"2009-01-22",2,8,11,25,22,1,4,9,13,14,15,23,21,17,6,0,6,721,23631,283504,1410875,195471.33,697.14,10,4,2,0,1300000]
[null,396,"2009-01-26",3,2,9,1,5,10,15,13,22,7,6,24,20,18,11,0,12,1403,34981,316500,1468013,98868.7,362.42,10,4,2,0,1300000]
[null,397,"2009-01-29",15,2,25,20,6,4,10,1,3,5,9,13,14,8,22,0,3,571,26605,270210,1300941,423217.58,952.96,10,4,2,0,1300000]
[null,398,"2009-02-02",13,22,10,3,9,16,12,20,5,7,18,4,21,2,8,0,3,444,20276,258635,1456897,484199.91,1402.13,10,4,2,0,1300000]
[null,399,"2009-02-05",10,22,12,11,14,24,21,19,9,17,23,1,7,4,16,0,6,902,29339,275256,1277274,241918.74,689.67,10,4,2,0,1300000]
[null,400,"2009-02-09",12,20,23,24,15,1,9,22,10,19,17,14,16,21,5,0,2,394,16987,247550,1282388,869374.43,1891.31,10,4,2,0,1300000]
[null,401,"2009-02-12",8,7,25,17,23,10,6,24,21,5,2,3,14,16,1,0,4,339,14147,207925,1185040,421490.77,2131.4299999999998,10,4,2,0,1300000]
[null,402,"2009-02-16",9,6,21,22,20,1,11,7,8,23,2,4,25,24,16,0,3,298,12055,184681,1178887,640021.04,2761.36,10,4,2,0,1300000]
[null,403,"2009-02-19",25,21,8,14,24,13,2,9,7,4,12,15,6,11,19,0,1,319,13940,218692,1337929,1372832.11,1844.38,10,4,2,0,1300000]
[null,404,"2009-02-26",21,8,14,1,6,13,20,11,18,16,24,25,22,5,10,0,10,1945,38916,340364,1333220,140051.17000000001,308.60000000000002,10,4,2,0,1300000]
[null,405,"2009-03-02",18,16,25,5,7,24,6,11,8,4,19,22,14,13,12,0,4,522,17915,232083,1337718,394040.4,1294.06,10,4,2,0,1300000]
[null,406,"2009-03-05",16,9,5,1,2,8,24,4,22,21,11,7,10,17,23,0,2,351,13344,226037,1165504,810235.41,1978.6,10,4,2,0,1300000]
[null,407,"2009-03-09",12,14,11,17,22,20,25,4,8,15,6,16,9,7,2,0,3,385,16370,218984,1272669,482750.73,1612.15,10,4,2,0,1300000]
[null,408,"2009-03-12",20,1,14,12,18,3,21,22,11,4,2,10,15,23,19,0,6,707,34309,225407,1244916,246627.48,897.01,10,4,2,0,1300000]
[null,409,"2009-03-16",24,6,14,20,8,7,23,25,4,2,10,16,21,1,17,0,7,715,34068,265339,1290730,217932.87,914.41,10,4,2,0,1400000]
[null,410,"2009-03-19",5,17,1,4,8,15,19,18,7,10,25,9,14,13,11,0,3,542,20218,273463,1433295,383338.36,909.35,10,4,2,0,1300000]
[null,411,"2009-03-23",18,17,1,5,14,25,7,16,12,24,20,11,22,21,9,0,4,766,25330,253883,1353830,381115.94,852.93,10,4,2,0,1300000]
[null,412,"2009-03-26",18,20,21,12,4,11,3,22,19,17,25,10,9,8,16,0,1,373,12969,171721,1097290,1710946.58,1965.86,10,4,2,0,1500000]
[null,413,"2009-03-30",8,16,20,21,14,3,10,25,13,17,6,12,2,5,9,0,4,593,18784,224653,1290202,397925.72,1150.3499999999999,10,4,2,0,1200000]
[null,414,"2009-04-02",3,16,19,15,6,5,20,11,18,25,21,10,8,2,9,0,1,470,21468,293063,1295176,1338329.8999999999,1220.3599999999999,10,4,2,0,1300000]
[null,415,"2009-04-06",7,3,15,1,22,18,19,23,10,11,20,13,14,21,17,0,5,612,27538,309040,1565600,253888.86,888.97,10,4,2,0,1300000]
[null,416,"2009-04-09",13,20,6,19,23,25,15,5,18,22,24,1,2,7,16,0,4,496,18138,232293,1241256,363504.24,1256.3499999999999,10,4,2,0,1300000]
[null,417,"2009-04-15",21,8,17,12,1,23,14,13,2,9,3,11,19,16,15,0,1,517,20670,269076,1441878,1093879.81,906.78,10,4,2,0,1100000]
[null,418,"2009-04-16",5,19,20,22,11,9,14,8,10,12,24,25,13,18,23,0,4,585,17760,201772,1160590,299058.14,876.36,10,4,2,0,1200000]
[null,419,"2009-04-20",23,3,17,21,16,14,18,5,4,22,20,15,24,7,6,0,10,669,17576,193868,1059789,170853.39,1094.51,10,4,2,0,1300000]
[null,420,"2009-04-23",22,11,3,19,9,5,4,24,10,25,12,18,8,7,6,0,3,467,14512,191755,1085486,440611.68,1213.06,10,4,2,0,1200000]
[null,421,"2009-04-27",25,10,14,4,5,15,9,3,13,20,16,8,19,23,12,0,2,572,28873,248920,1412541,656440.63,983.68,10,4,2,0,1300000]
[null,422,"2009-04-30",25,7,22,3,8,18,14,17,1,23,4,12,13,6,2,0,11,1108,32327,310368,1327303,91352.8,555.26,10,4,2,0,1300000]
[null,423,"2009-05-04",17,16,24,20,25,1,13,2,23,18,11,15,5,3,22,0,1,410,17740,256631,1403461,1216110.8799999999,1271.2,10,4,2,0,1300000]
[null,424,"2009-05-07",6,11,13,24,10,1,15,18,25,16,9,3,17,14,19,0,0,329,14344,209080,1284777,0,2162.75,10,4,2,1660271.46,3500000]
[null,425,"2009-05-11",16,1,19,22,23,7,10,20,11,12,13,18,9,15,24,0,6,708,26922,345096,1928442,578407.86,1095.75,10,4,2,0,1300000]
[null,426,"2009-05-14",6,15,16,24,19,11,25,3,5,10,4,18,2,22,8,0,2,951,25317,292035,1325120,726104.9,934.91,10,4,2,0,1300000]
[null,427,"2009-05-18",4,9,7,24,3,11,16,1,10,21,6,22,19,5,12,0,2,434,17269,247243,1264170,886616.18,1751.05,10,4,2,0,1200000]
[null,428,"2009-05-21",13,17,4,14,1,20,18,24,23,11,22,15,19,3,21,0,2,382,25391,265762,1327398,666581.88,1495.69,10,4,2,0,1300000]
[null,429,"2009-05-25",16,7,23,3,5,13,2,12,25,14,19,4,6,17,8,16198531,7,1066,28810,338670,1536903,168970.74,679.32,10,4,2,0,1300000]
[null,430,"2009-05-28",5,14,2,20,15,7,25,13,22,6,4,23,9,11,3,14860456,1,407,18378,236449,1404782,1275129.3,1342.72,10,4,2,0,1300000]
[null,431,"2009-06-01",24,3,18,5,12,21,13,9,15,20,22,11,1,23,2,16491134,3,727,25503,386807,1640128,355534.38,898.24,10,4,2,0,1300000]
[null,432,"2009-06-04",10,15,13,6,21,12,2,17,7,20,3,23,4,19,24,15736418,12,1151,26062,270390,1329532,119469.82,762.58,10,4,2,0,1400000]
[null,433,"2009-06-08",14,15,19,7,9,8,24,21,23,3,1,5,2,25,22,16037085,4,474,19541,270976,1478893,345730.12,1250.3800000000001,10,4,2,0,1300000]
[null,434,"2009-06-12",21,12,3,15,17,11,13,16,4,9,23,6,25,24,18,13760377,3,595,19268,232834,1277729,388361.81,1198.8499999999999,10,4,2,0,1200000]
[null,435,"2009-06-15",14,16,25,11,24,15,1,10,17,21,18,5,4,13,3,14772336,2,359,14484,215823,1337639,690715.03,1649.14,10,4,2,0,1300000]
[null,436,"2009-06-18",20,3,15,25,7,23,4,6,21,19,13,10,14,18,22,15155196,4,566,18007,221994,1270949,375002.23,1135.8,10,4,2,0,1600000]
[null,437,"2009-06-22",12,20,5,21,1,8,19,4,11,23,6,17,10,16,2,16132693,1,491,20628,248500,1293534,1623920.99,1417.45,10,4,2,0,1400000]
[null,438,"2009-06-25",21,18,7,23,13,8,9,1,15,17,11,24,22,25,4,14183624,2,705,24534,308933,1434620,463833.28,805.61,10,4,2,0,1300000]
[null,439,"2009-06-29",9,25,2,21,10,3,11,5,14,24,23,17,19,12,15,15952516,3,1050,31931,341529,1652570,331827.03000000003,580.45000000000005,10,4,2,0,1300000]
[null,440,"2009-07-02",12,1,14,19,3,13,15,21,5,22,25,24,16,8,9,15767408,4,620,21684,279245,1477709,324801.28999999998,1282.95,10,4,2,0,1400000]
[null,441,"2009-07-06",11,25,13,2,20,1,9,7,10,14,4,8,3,23,24,17161316,1,476,19887,275351,1618369,1478453.2,1331.14,10,4,2,0,1300000]
[null,442,"2009-07-09",22,6,12,23,8,5,18,25,14,15,17,24,9,13,7,14924279,8,670,20117,265028,1362847,158181.99,1156.3699999999999,10,4,2,0,1300000]
[null,443,"2009-07-13",23,5,12,7,18,3,16,10,17,11,19,22,21,1,2,17315220,4,508,20967,261631,1477085,417926.72,1410.33,10,4,2,0,1300000]
[null,444,"2009-07-16",2,7,22,18,19,20,25,3,21,1,15,6,10,14,24,15820194,4,451,15044,195211,1144892,458498.53,1742.79,10,4,2,0,1400000]
[null,445,"2009-07-20",1,15,10,2,4,12,7,20,18,21,13,16,9,11,19,16687213,4,603,23103,266477,1430795,390412.33,1109.92,10,4,2,0,1400000]
[null,446,"2009-07-23",1,8,4,15,6,11,14,16,24,5,19,21,10,23,2,15423126,5,651,22372,254065,1230063,302724.08,1423.51,10,4,2,0,1600000]
[null,447,"2009-07-27",18,16,25,21,24,8,22,17,5,12,1,2,19,10,20,16646597,3,409,19802,222597,1314025,589834.32999999996,1854.18,10,4,2,0,1300000]
[null,448,"2009-07-30",10,17,20,5,12,23,1,6,15,13,24,3,14,9,11,15505899,1,435,17496,247609,1473482,1329469.54,1309.82,10,4,2,0,1300000]
[null,449,"2009-08-03",17,1,10,3,4,8,19,18,11,2,22,24,9,25,16,17260092,0,522,18788,250501,1422374,0,1433.44,10,4,2,1745924.77,3300000]
[null,450,"2009-08-06",24,22,11,14,5,9,16,7,4,21,23,18,17,25,6,21774037,3,460,19788,268293,1642129,1403449.06,2296.0500000000002,10,4,2,0,1600000]
[null,451,"2009-08-10",18,5,14,9,24,23,8,19,15,6,1,22,17,3,25,18053027,9,1074,30935,351167,1692152,155083.09,795.66,10,4,2,0,1400000]
[null,452,"2009-08-13",18,14,20,9,17,24,12,19,25,10,11,1,6,8,7,17628249,0,336,13228,207555,1271237,0,2659.27,10,4,2,2084866.37,3500000]
[null,453,"2009-08-17",3,24,14,4,1,19,9,2,6,25,15,11,20,21,17,22697507,4,781,29034,359976,1939899,1057914.21,1178.05,10,4,2,0,1500000]
[null,454,"2009-08-20",12,6,4,24,20,17,22,19,25,3,13,11,15,7,14,17205022,0,485,20691,261766,1519792,0,1420.19,10,4,2,1607172.77,3500000]
[null,455,"2009-08-24",7,12,18,21,19,11,1,6,4,3,23,14,5,8,25,22419502,8,729,29024,362409,1966307,457924.97,1208.83,10,4,2,0,1500000]
[null,456,"2009-08-27",23,12,14,4,11,24,25,9,13,17,3,10,1,18,21,17448810,7,785,27862,346024,1732830,178670.79,975.45,10,4,2,0,1100000]
[null,457,"2009-08-31",15,19,25,4,21,13,23,22,14,16,11,18,5,1,20,18614264,1,407,17580,298630,1634482,1741731.78,1834.05,10,4,2,0,1500000]
[null,458,"2009-09-03",22,6,13,9,4,20,3,15,8,5,2,7,18,16,11,17785732,5,855,29344,311187,1553849,311957.52,1116.92,10,4,2,0,1400000]
[null,459,"2009-09-08",11,17,10,19,23,2,14,15,1,20,4,21,3,7,12,14705278,3,757,31694,283370,1385273,367854.54,892.53,10,4,2,0,1400000]
[null,460,"2009-09-10",4,9,10,1,19,15,23,11,22,17,16,12,14,6,3,18291798.75,8,645,20777,239996,1235607,214569.91,1140.57,12.5,5,2.5,0,1400000]
[null,461,"2009-09-14",11,19,4,24,6,12,23,8,15,17,5,7,14,13,3,20409758.75,5,698,24686,324355,1647498,287640.28999999998,1261.5,12.5,5,2.5,0,1400000]
[null,462,"2009-09-17",18,3,7,23,17,24,21,1,8,14,5,22,16,2,12,18581586.25,0,558,19875,265357,1274994,0,1285.8800000000001,12.5,5,2.5,1674205.87,4000000]
[null,463,"2009-09-21",22,19,2,9,18,23,25,20,11,3,6,13,7,17,14,23941345,7,1196,31408,347878,1782660,515681.63,990.83,12.5,5,2.5,0,1500000]
[null,464,"2009-09-24",5,25,17,2,8,21,1,23,22,16,24,19,20,10,11,18733250,2,530,23200,213995,1175939,966866.22,1563.66,12.5,5,2.5,0,2000000]
[null,465,"2009-09-28",7,10,1,22,9,18,6,25,11,3,21,2,19,13,4,19053426.25,2,455,20974,246908,1400828,830150.42,1563.86,12.5,5,2.5,0,1500000]
[null,466,"2009-10-01",6,12,17,8,20,14,10,19,25,2,22,11,7,18,21,18383551.25,1,328,13667,199100,1156871,1976545.27,2582.6,12.5,5,2.5,0,1700000]
[null,467,"2009-10-05",7,10,2,13,25,4,22,15,21,24,14,6,18,17,5,19225602.5,5,565,17521,213037,1251469,396907.31,1505.34,12.5,5,2.5,0,2000000]
[null,468,"2009-10-08",15,9,18,17,5,13,2,6,10,21,25,3,24,22,12,17983296.25,8,954,23771,268374,1260272,191492.28,983.14,12.5,5,2.5,0,1600000]
[null,469,"2009-10-13",6,25,5,23,13,14,19,2,22,18,11,10,7,1,8,15901822.5,3,617,17705,208381,1155000,465357.53,1385.31,12.5,5,2.5,0,1600000]
[null,470,"2009-10-15",20,6,7,18,22,23,13,5,15,4,1,8,3,11,10,15797396.25,3,576,23017,268187,1174744,390100.47,1243.94,12.5,5,2.5,0,1400000]
[null,471,"2009-10-19",4,25,20,12,24,16,13,15,11,6,9,3,10,14,2,16900541.25,1,314,14393,182221,1128926,1727808.67,2358.25,12.5,5,2.5,0,1200000]
[null,472,"2009-10-22",13,6,11,2,12,1,14,7,20,8,4,17,18,15,5,16716763.75,3,446,14550,226525,1064480,552536.31000000006,1592.83,12.5,5,2.5,0,1600000]
[null,473,"2009-10-27",8,25,5,7,15,1,6,17,23,9,11,22,12,19,2,16817123.75,8,724,22640,257219,1324486,154499.63,1045.21,12.5,5,2.5,0,1500000]
[null,474,"2009-10-29",3,11,10,23,16,17,21,15,12,2,5,9,1,18,24,15989461.25,2,461,17059,207057,1118403,733503.8,1363.81,12.5,5,2.5,0,1500000]
[null,475,"2009-11-03",4,9,2,20,23,3,21,11,6,5,14,13,25,10,17,10833466.25,0,433,13728,161087,821107,0,1204.8399999999999,12.5,5,2.5,852108.03,2500000]
[null,476,"2009-11-05",6,1,13,5,10,7,24,17,9,19,16,15,14,25,11,17651687.5,1,424,23008,248333,1265772,2359556.64,1523.7,12.5,5,2.5,0,1600000]
[null,477,"2009-11-09",8,16,7,14,4,24,2,20,6,23,18,11,25,12,10,17599641.25,8,1382,36503,271640,1163643,185196.45,656.35,12.5,5,2.5,0,1500000]
[null,478,"2009-11-12",11,2,22,9,10,13,24,23,7,12,5,16,25,3,18,16959021.25,7,708,23117,261931,1302836,182665.53,1105.72,12.5,5,2.5,0,1500000]
[null,479,"2009-11-16",18,15,13,23,24,3,5,22,19,2,11,8,16,14,25,17307541.25,1,607,21383,258022,1403421,1250813.46,1261.6199999999999,12.5,5,2.5,0,1500000]
[null,480,"2009-11-19",22,7,6,24,11,8,9,12,4,25,19,18,5,17,15,16373383.75,2,484,18602,214612,1132768,752129.78,1331.99,12.5,5,2.5,0,1000000]
[null,481,"2009-11-23",5,13,17,15,24,22,21,12,10,3,14,9,1,7,20,16568422.5,7,1081,26980,261385,1224712,181112.53,718.03,12.5,5,2.5,0,1500000]
[null,482,"2009-11-26",25,17,15,2,21,8,10,9,22,12,6,23,7,19,16,16016520,4,242,11135,179422,989180,433783.11,3072.84,12.5,5,2.5,0,1500000]
[null,483,"2009-11-30",22,5,1,7,21,6,24,17,18,4,9,14,11,12,23,16793572.5,5,508,20378,208730,1127835,320893.49,1353.6,12.5,5,2.5,0,1500000]
[null,484,"2009-12-03",8,4,16,20,23,14,6,13,1,11,9,17,21,10,25,17088946.25,3,695,20032,224299,1109636,551482.24,1020.21,12.5,5,2.5,0,1600000]
[null,485,"2009-12-07",25,17,22,7,6,18,24,20,3,21,16,2,11,5,4,17202796.25,2,211,8989,153197,967691,1047362.19,4254.6899999999996,12.5,5,2.5,0,1500000]
[null,486,"2009-12-10",4,15,13,20,19,2,22,9,7,5,11,3,18,1,21,16414207.5,3,591,21380,272508,1295745,384852.57,1196.06,12.5,5,2.5,0,1500000]
[null,487,"2009-12-14",8,7,5,17,6,24,15,14,18,21,4,9,10,22,19,17364491.25,5,331,13349,192877,1071367,375735.37,2432.4699999999998,12.5,5,2.5,0,1500000]
[null,488,"2009-12-17",8,7,5,13,24,14,6,20,17,15,25,22,18,12,11,16418361.25,6,456,18355,219517,1184568,240000.26,1353.38,12.5,5,2.5,0,1400000]
[null,489,"2009-12-21",23,12,17,10,11,1,5,21,18,22,25,2,14,7,19,17300711.25,1,773,26471,262837,1315551,1314020.28,1040.75,12.5,5,2.5,0,1400000]
[null,490,"2009-12-24",10,21,12,23,17,5,13,16,14,8,22,6,18,3,11,13123340,3,360,12787,164246,889574,420057.19,1500.2,12.5,5,2.5,0,1200000]
[null,491,"2009-12-28",1,23,13,2,16,11,3,7,25,24,9,21,22,12,20,14272188.75,10,575,16674,188823,1024321,125888.45,1340.42,12.5,5,2.5,0,1200000]
[null,492,"2009-12-31",15,3,11,1,12,8,24,6,2,4,14,21,19,25,18,11734530,2,273,10832,147080,784911,571428.56999999995,1794.13,12.5,5,2.5,0,1000000]
[null,493,"2010-01-04",22,13,25,15,17,12,1,5,14,18,7,4,21,10,8,13328721.25,1,522,16064,182362,960295,1153381.96,1352.78,12.5,5,2.5,0,1200000]
[null,494,"2010-01-07",12,4,7,3,20,13,5,18,8,19,16,15,21,22,2,16283552.5,1,410,17607,201733,1055673,1616972.81,1690.22,12.5,5,2.5,0,1500000]
[null,495,"2010-01-11",1,9,24,3,7,6,13,11,8,25,17,22,4,15,19,16841256.25,14,1763,35188,315606,1359905,69850.67,339.6,12.5,5,2.5,0,1300000]
[null,496,"2010-01-14",19,11,21,22,17,14,5,16,7,9,24,13,15,4,3,16639763.75,4,1104,28763,286168,1332039,270015.19,598.96,12.5,5,2.5,0,1500000]
[null,497,"2010-01-18",2,16,4,5,25,17,11,9,3,8,12,14,1,23,19,17276282.5,1,660,19661,241297,1275136,1452743.77,1347.62,12.5,5,2.5,0,1500000]
[null,498,"2010-01-21",11,14,20,5,16,2,23,13,22,4,15,1,6,25,18,16457183.75,1,394,19783,214251,1145546,1500332.47,1631.98,12.5,5,2.5,0,1400000]
[null,499,"2010-01-25",19,7,3,2,25,12,24,10,1,11,20,15,17,4,21,15863796.25,5,668,22310,232278,1158584,259345.38,1188.49,12.5,5,2.5,0,1300000]
[null,500,"2010-01-28",25,16,2,5,13,21,23,8,18,6,14,3,10,20,9,16444431.25,11,1761,41880,310156,1174557,99248.36,379.56,12.5,5,2.5,0,1500000]
[null,501,"2010-02-01",18,3,25,17,21,23,2,12,19,4,15,9,24,6,1,17436590,9,692,21741,270699,1326696,148820.57999999999,1185.01,12.5,5,2.5,0,1400000]
[null,502,"2010-02-04",23,2,10,5,19,13,4,3,16,1,6,8,24,11,18,16846957.5,2,457,18368,226048,1214288,739979.76,1387.89,12.5,5,2.5,0,1400000]
[null,503,"2010-02-08",1,2,14,12,3,17,5,7,20,25,11,15,21,24,4,17343740,3,597,38355,269717,1289118,422012.08,1298.3599999999999,12.5,5,2.5,0,1300000]
[null,504,"2010-02-11",16,15,20,10,17,13,18,14,9,21,12,19,1,23,6,16912318.75,0,274,10689,162296,982144,0,3099.58,12.5,5,2.5,1981660.21,2700000]
[null,505,"2010-02-13",3,6,19,24,16,21,17,15,22,7,18,11,20,4,9,11518358.75,1,210,8418,125363,702501,3246835.18,2581.9899999999998,12.5,5,2.5,0,1000000]
[null,506,"2010-02-18",21,20,19,4,11,9,15,12,6,16,24,17,22,5,13,15490326.25,1,395,14552,206308,995591,1526982.41,1656.76,12.5,5,2.5,0,1500000]
[null,507,"2010-02-22",8,24,9,11,3,20,21,1,6,10,23,5,2,12,25,16885393.75,6,406,15636,212701,1221538,254800.4,1613.8,12.5,5,2.5,0,1500000]
[null,508,"2010-02-25",14,15,19,8,5,2,7,9,3,25,6,16,24,18,23,16032995,5,495,19303,229983,1116568,281746.45,1219.68,12.5,5,2.5,0,1400000]
[null,509,"2010-03-01",20,11,17,1,3,24,15,9,25,5,12,6,19,16,22,17652985,9,898,25538,265722,1269135,160612.17000000001,985.52,12.5,5,2.5,0,1500000]
[null,510,"2010-03-04",23,3,21,4,20,7,6,13,25,1,22,10,11,12,2,17645832.5,4,509,18319,214225,1238241,413048.98,1391.13,12.5,5,2.5,0,1500000]
[null,511,"2010-03-08",24,13,11,17,25,5,12,19,1,21,18,14,10,7,2,18319595,5,751,26939,251711,1386659,294214.40999999997,1199.27,12.5,5,2.5,0,1500000]
[null,512,"2010-03-12",9,2,12,15,16,5,24,6,21,7,1,4,10,8,13,15381350,1,282,10972,188835,919784,1661076.85,2524.44,12.5,5,2.5,0,1500000]
[null,513,"2010-03-15",15,20,18,17,22,2,23,3,1,9,10,13,25,11,6,17503810,5,1040,26822,279101,1423069,236824.24,697.08,12.5,5,2.5,0,1500000]
[null,514,"2010-03-18",1,7,24,25,8,11,22,17,9,12,15,5,6,18,21,16865391.25,2,595,20989,218580,1180373,763862.2,1100.4000000000001,12.5,5,2.5,0,1500000]
[null,515,"2010-03-22",11,18,14,5,3,17,7,20,25,9,10,2,13,24,12,17317927.5,6,884,26458,288568,1350255,202043.33,839.59,12.5,5,2.5,0,1500000]
[null,516,"2010-03-25",8,7,23,11,21,4,20,6,18,5,14,24,12,2,13,16379625,1,472,18207,210820,1094470,1564230.58,1420.3,12.5,5,2.5,0,1500000]
[null,517,"2010-03-29",9,21,7,23,12,17,11,3,13,22,8,1,4,6,5,16878151.25,1,453,18492,238232,1347231,1293222.3400000001,1223.49,12.5,5,2.5,0,1400000]
[null,518,"2010-04-01",19,13,11,20,14,17,24,10,5,16,12,6,4,7,22,15723253.75,1,309,12294,175675,964462,1704237.56,2363.7199999999998,12.5,5,2.5,0,1500000]
[null,519,"2010-04-05",23,9,17,19,24,16,3,12,15,11,7,25,13,2,21,13795147.5,8,1120,33226,297943,1208184,70254.06,307.23,12.5,5,2.5,0,1400000]
[null,520,"2010-04-08",15,12,24,10,14,4,18,6,5,22,20,9,2,23,19,17072350,5,787,22526,241184,1169925,304073.8,1182.76,12.5,5,2.5,0,1500000]
[null,521,"2010-04-12",19,9,5,17,12,11,2,10,6,23,4,20,13,1,3,17602177.5,4,617,22112,255951,1431712,320079.25,1270.44,12.5,5,2.5,0,1500000]
[null,522,"2010-04-15",16,25,11,6,19,22,23,4,2,21,7,9,17,18,24,17270428.75,1,341,15323,198246,1114898,1779817.9,2236.89,12.5,5,2.5,0,1500000]
[null,523,"2010-04-19",2,19,11,13,4,8,16,25,24,17,12,5,9,10,18,17321650,2,675,20538,221803,1234488,777355.86,1410.16,12.5,5,2.5,0,1300000]
[null,524,"2010-04-22",3,11,7,22,5,2,17,23,20,24,12,6,14,10,21,15152727.5,4,551,17994,201564,1085636,333599.98,1482.72,12.5,5,2.5,0,1500000]
[null,525,"2010-04-26",4,9,3,25,15,21,17,16,20,22,18,6,10,13,11,17073548.75,4,494,15966,212745,1120415,422783.22,1467.15,12.5,5,2.5,0,1500000]
[null,526,"2010-04-29",4,8,24,12,7,10,1,15,2,25,9,11,16,19,14,15957947.5,4,410,17338,207248,1171704,348184.93,1455.83,12.5,5,2.5,0,1200000]
[null,527,"2010-05-03",11,5,14,2,6,9,22,23,12,19,15,24,1,16,17,16439850,3,656,21327,241186,1166896,464997.39,1301.94,12.5,5,2.5,0,1300000]
[null,528,"2010-05-06",6,23,10,4,12,15,7,24,11,25,2,19,3,21,8,17081620,1,437,15652,222396,1238471,1526533.47,1497.09,12.5,5,2.5,0,1400000]
[null,529,"2010-05-10",23,16,25,7,19,5,18,3,20,17,22,11,6,2,12,17022458.75,1,348,13505,189493,1126684,1744474.56,2148.37,12.5,5,2.5,0,1300000]
[null,530,"2010-05-13",11,16,10,3,8,23,14,9,18,4,7,6,12,21,22,17089015,2,332,13200,183705,1071544,921212.78,2378.35,12.5,5,2.5,0,1500000]
[null,531,"2010-05-17",14,3,12,21,1,15,23,25,22,7,16,17,10,13,2,17534215,1,357,13299,188391,1214710,1750987,2102.0300000000002,12.5,5,2.5,0,1300000]
[null,532,"2010-05-20",24,7,2,9,15,6,16,5,19,12,1,11,22,4,13,16435972.5,4,856,27798,290052,1324573,260411.23,745.02,12.5,5,2.5,0,1500000]
[null,533,"2010-05-24",20,10,8,24,25,18,13,16,9,1,11,17,2,3,14,17014878.75,2,563,19464,217320,1115689,825816.73,1257.27,12.5,5,2.5,0,1400000]
[null,534,"2010-05-27",3,24,2,22,5,18,7,1,19,8,12,21,11,13,15,16012412.5,8,651,21381,246416,1296022,141434.12,1064.1099999999999,12.5,5,2.5,0,1300000]
[null,535,"2010-05-31",1,25,13,4,5,24,23,11,15,19,21,16,9,6,17,17198776.25,8,1498,40961,360660,1416452,105001.52,343.31,12.5,5,2.5,0,1500000]
[null,536,"2010-06-04",3,19,16,4,20,11,17,9,15,22,23,5,25,24,7,14780662.5,3,380,16892,233261,1174458,358144.31,1211.77,12.5,5,2.5,0,1500000]
[null,537,"2010-06-07",10,18,6,24,11,17,22,23,15,4,2,9,14,1,20,15075810,3,498,15557,185784,967245,505475.29,1305.01,12.5,5,2.5,0,1500000]
[null,538,"2010-06-10",12,16,6,18,10,24,19,20,13,17,11,25,21,5,2,16986092.5,2,308,12973,188621,1136757,864843.03,2406.8000000000002,12.5,5,2.5,0,1500000]
[null,539,"2010-06-14",12,4,5,16,6,14,2,13,8,1,21,9,15,23,19,16829241.25,2,575,20840,234195,1245413,701454.48,1493.78,12.5,5,2.5,0,1100000]
[null,540,"2010-06-17",13,11,12,7,18,16,9,22,15,24,19,20,2,6,8,15765595,2,353,15332,216759,1082704,724630.15,1759.52,12.5,5,2.5,0,1500000]
[null,541,"2010-06-21",9,3,20,17,19,10,22,6,4,13,25,14,5,24,15,16363996.25,13,697,20672,235534,1177329,106439.22,1215.45,12.5,5,2.5,0,1500000]
[null,542,"2010-06-24",18,13,8,2,4,17,22,10,24,5,9,16,1,3,20,14991955,2,251,11695,171471,964323,780319.96,2664.72,12.5,5,2.5,0,1300000]
[null,543,"2010-06-28",7,20,15,1,13,17,25,24,14,16,22,11,8,10,5,13582411.25,1,566,16716,186405,907421,1258973.1200000001,1361.83,12.5,5,2.5,0,1300000]
[null,544,"2010-07-01",18,19,9,21,5,8,7,4,2,14,15,13,11,24,23,16051836.25,8,1188,26674,264609,1304943,131506.97,542.17999999999995,12.5,5,2.5,0,1500000]
[null,545,"2010-07-05",18,24,1,23,13,12,11,5,25,7,6,14,15,17,3,16581190,5,559,19089,255175,1318074,243944,1335.89,12.5,5,2.5,0,1200000]
[null,546,"2010-07-08",5,17,10,4,9,13,3,19,18,12,21,8,11,2,23,16789755,10,1362,29268,298934,1399866,99495.51,447.25,12.5,5,2.5,0,1300000]
[null,547,"2010-07-12",25,14,9,10,6,5,17,20,4,1,2,12,24,19,16,16369718.75,4,525,18363,219631,1162495,364055.2,1188.75,12.5,5,2.5,0,1200000]
[null,548,"2010-07-15",20,23,6,13,9,14,3,4,1,2,7,25,5,8,17,16854105,3,499,15092,207442,1225078,511311.21,1317.44,12.5,5,2.5,0,1500000]
[null,549,"2010-07-19",22,10,20,14,13,9,7,3,4,15,17,16,21,23,11,17195416.25,3,516,17316,218298,1163801,547465.82999999996,1364.12,12.5,5,2.5,0,1500000]
[null,550,"2010-07-22",16,22,14,13,11,1,9,21,17,6,10,5,18,20,7,16749665,0,364,14046,182316,1038543,0,2128.59,12.5,5,2.5,1807877.4,3500000]
[null,551,"2010-07-26",10,12,20,19,13,18,24,16,21,14,8,22,3,7,17,21717697.5,4,516,19374,251668,1412653,1006624.34,1842.71,12.5,5,2.5,0,1500000]
[null,552,"2010-07-29",1,24,22,4,8,13,17,20,6,10,25,12,3,5,23,16782473.75,5,534,18315,219362,1196146,300996.01,1207.8499999999999,12.5,5,2.5,0,1200000]
[null,553,"2010-08-02",10,23,21,7,14,15,17,8,12,4,5,24,13,18,9,17620751.25,6,552,21395,258936,1319433,236490.57,1101.6600000000001,12.5,5,2.5,0,1200000]
[null,554,"2010-08-05",13,3,22,4,25,20,19,6,9,24,21,17,2,14,1,17382216.25,2,921,19962,225349,1190896,808008,1074.26,12.5,5,2.5,0,1500000]
[null,555,"2010-08-09",7,24,16,1,2,17,14,8,10,20,12,6,9,23,18,17908335,2,367,15698,200568,1148222,934301.32,2182.1,12.5,5,2.5,0,1500000]
[null,556,"2010-08-12",8,11,18,20,25,1,4,9,22,23,14,13,16,17,24,17263437.5,1,410,16469,214203,1182087,1649889.5,1724.62,12.5,5,2.5,0,1500000]
[null,557,"2010-08-16",7,18,12,9,8,21,14,5,17,15,23,10,20,19,1,17495488.75,8,861,18470,244201,1257223,190268.59,1082.3699999999999,12.5,5,2.5,0,1500000]
[null,558,"2010-08-19",14,7,25,5,24,4,20,17,21,3,18,22,12,10,1,16659952.5,4,799,22708,236911,1159379,363422.6,1113.9100000000001,12.5,5,2.5,0,1500000]
[null,559,"2010-08-23",19,14,16,1,7,11,5,10,21,23,2,20,22,13,9,17387301.25,8,686,19343,226706,1195704,201461.22,1438.4,12.5,5,2.5,0,1400000]
[null,560,"2010-08-26",1,4,18,21,23,25,12,24,10,19,9,20,2,14,17,16215326.25,4,604,20649,244953,1235083,314489.59000000003,1275.1300000000001,12.5,5,2.5,0,1500000]
[null,561,"2010-08-30",7,12,15,6,2,3,17,9,11,21,10,20,4,13,18,17128428.75,2,715,18107,220613,1249894,755984.07,1294.67,12.5,5,2.5,0,1500000]
[null,562,"2010-09-02",3,22,16,8,13,14,24,5,18,21,20,1,7,19,2,17075622.5,0,426,15885,219713,1121876,0,1683.32,12.5,5,2.5,1673214.96,3500000]
[null,563,"2010-09-06",6,20,12,3,1,4,23,5,9,19,7,22,16,24,11,21212081.25,1,549,22041,247821,1352794,3849193.68,1698.66,12.5,5,2.5,0,1400000]
[null,564,"2010-09-09",9,19,3,14,24,12,15,21,17,23,7,4,1,20,2,17170655,6,1484,35027,318247,1357895,174322.76,431.51,12.5,5,2.5,0,1500000]
[null,565,"2010-09-13",24,6,7,12,21,1,9,17,18,4,20,15,19,10,23,18883245,4,696,26403,308783,1310061,387484.25,1363.42,12.5,5,2.5,0,1500000]
[null,566,"2010-09-16",5,20,16,4,1,9,7,17,3,14,15,21,11,19,10,17996462.5,1,597,19734,269743,1352743,1442873.72,1479.71,12.5,5,2.5,0,1400000]
[null,567,"2010-09-20",1,14,10,5,15,9,25,12,13,2,7,17,24,21,8,18093071.25,1,484,19068,258278,1433615,1396811.92,1236.8499999999999,12.5,5,2.5,0,1500000]
[null,568,"2010-09-23",15,16,4,9,13,6,1,20,5,18,17,7,8,21,2,17468788.75,2,296,12319,188348,1093798,945550.01,2738.08,12.5,5,2.5,0,1500000]
[null,569,"2010-09-27",19,25,7,6,18,17,12,16,13,1,2,8,22,24,20,17913306.25,3,424,14729,191379,1107683,649261.12,1968.78,12.5,5,2.5,0,1500000]
[null,570,"2010-09-30",20,10,18,21,14,5,2,1,15,12,22,23,4,19,3,16837821.25,5,1211,14428,180764,1141748,340385.74,860.44,12.5,5,2.5,0,1100000]
[null,571,"2010-10-04",25,3,11,15,5,24,12,6,19,4,20,18,7,16,21,17476781.25,1,409,12619,167577,1045766,2000714.6,2096.46,12.5,5,2.5,0,1500000]
[null,572,"2010-10-07",21,5,15,13,16,9,22,10,19,14,6,17,8,2,24,17007736.25,8,537,17762,206388,1132891,208278.57,1329.79,12.5,5,2.5,0,1300000]
[null,573,"2010-10-11",11,24,22,2,20,10,14,1,7,3,12,23,18,25,16,16725980,10,738,22769,237282,1175010,144750.16,1200.8399999999999,12.5,5,2.5,0,1500000]
[null,574,"2010-10-14",6,19,20,16,18,25,14,12,22,1,21,11,13,23,5,16261996.25,2,236,11996,178066,985987,895020.07,3250.68,12.5,5,2.5,0,1300000]
[null,575,"2010-10-18",15,21,3,16,13,5,8,24,9,22,19,12,17,10,18,17045955,3,562,19209,243515,1221767,488591.66,1117.78,12.5,5,2.5,0,1500000]
[null,576,"2010-10-21",15,21,25,6,12,10,8,13,18,16,19,17,9,23,11,17120801.25,2,458,15938,223371,1245607,761051.27,1424.3,12.5,5,2.5,0,1500000]
[null,577,"2010-10-25",8,16,15,4,3,2,22,10,19,1,23,5,21,18,12,17464837.5,2,507,23593,209147,1185808,828762.36,1401.12,12.5,5,2.5,0,1500000]
[null,578,"2010-10-28",10,8,21,19,22,6,16,4,23,7,15,12,1,14,13,16988640,2,397,14876,185023,1069786,904717.13,1953.33,12.5,5,2.5,0,1300000]
[null,579,"2010-11-01",6,7,14,24,17,20,19,13,10,1,8,21,3,5,12,16920325,4,872,22931,240902,1207526,359931.8,1010.85,12.5,5,2.5,0,1500000]
[null,580,"2010-11-04",6,21,13,12,8,7,16,10,9,25,1,4,17,14,24,16594732.5,4,305,12594,181480,1062602,438982.21,2467.35,12.5,5,2.5,0,1400000]
[null,581,"2010-11-08",11,19,4,9,18,23,13,21,2,25,14,6,12,17,15,18138043.75,8,1077,29297,302521,1395685,160241.06,728.74,12.5,5,2.5,0,1500000]
[null,582,"2010-11-11",12,8,18,17,25,23,3,10,7,19,21,9,15,13,11,17750496.25,5,1168,62827,372211,1556302,125093.87,327.85,12.5,5,2.5,0,1000000]
[null,583,"2010-11-16",11,4,7,17,14,19,18,1,9,23,3,16,21,24,8,14957256.25,1,798,22000,207198,1075231,1266644.04,971.79,12.5,5,2.5,0,1300000]
[null,584,"2010-11-18",7,21,23,14,6,10,2,5,11,19,22,20,8,3,15,15560160,3,441,13027,167793,961223,562616.1,1640.28,12.5,5,2.5,0,1500000]
[null,585,"2010-11-22",1,8,13,17,14,15,20,16,18,24,9,23,7,5,10,17010930,3,450,16309,225856,1231405,502480.27,1435.66,12.5,5,2.5,0,1500000]
[null,586,"2010-11-25",25,7,12,4,24,18,11,17,6,3,19,22,8,16,2,16759508.75,7,631,19089,224945,1110458,226653.62,1077.5899999999999,12.5,5,2.5,0,1500000]
[null,587,"2010-11-29",1,5,13,21,20,19,7,18,23,11,17,10,9,4,12,17042682.5,4,980,29881,334590,1495137,210422.78,525.83000000000004,12.5,5,2.5,0,1500000]
[null,588,"2010-12-02",25,17,4,14,5,11,18,19,23,12,24,1,7,13,20,18022215,2,434,17732,261699,1400021,711241.44,1404.69,12.5,5,2.5,0,1500000]
[null,589,"2010-12-06",4,25,21,23,13,6,12,9,10,3,2,24,8,22,20,18537077.5,3,359,13955,218339,1203285,634634.41,2272.86,12.5,5,2.5,0,1600000]
[null,590,"2010-12-09",9,20,15,6,16,19,11,3,1,13,10,21,4,18,14,18154162.5,2,504,16570,219440,1203971,900878.09,1532.11,12.5,5,2.5,0,1500000]
[null,591,"2010-12-13",20,7,2,16,14,11,8,21,17,19,1,10,23,4,15,17905920,3,796,24433,242703,1214464,543400.89,1253.8699999999999,12.5,5,2.5,0,1500000]
[null,592,"2010-12-16",19,16,18,22,20,5,8,17,1,9,3,14,15,6,10,17841922.5,0,315,14618,190335,1147118,0,2567.7800000000002,12.5,5,2.5,1887316.13,3900000]
[null,593,"2010-12-20",23,24,15,14,6,10,11,25,13,3,4,5,1,9,20,21962933.75,4,622,22988,295679,1649560,934664.56,1275.6099999999999,12.5,5,2.5,0,1500000]
[null,594,"2010-12-23",11,2,23,18,25,20,7,14,13,16,9,6,15,3,10,17492418.75,4,627,24729,241352,1268817,368981.88,1441.19,12.5,5,2.5,0,1000000]
[null,595,"2010-12-27",6,8,7,21,17,19,25,10,24,15,12,11,5,1,9,15604147.5,3,441,17892,227692,1213860,403768.38,1177.17,12.5,5,2.5,0,1500000]
[null,596,"2010-12-30",11,19,8,10,25,22,20,12,17,7,23,9,3,18,2,17221717.5,7,570,21506,266520,1246576,200409.07,1054.79,12.5,5,2.5,0,1200000]
[null,597,"2011-01-03",5,1,14,16,8,3,17,10,25,2,18,9,11,22,24,14817326.25,5,423,16975,175807,973590,293731.65999999997,1488,12.5,5,2.5,0,1500000]
[null,598,"2011-01-06",5,14,3,19,1,7,12,18,22,25,11,21,15,4,20,17958260,2,367,15591,215022,1217684,879761.64,2054.7199999999998,12.5,5,2.5,0,1500000]
[null,599,"2011-01-10",12,5,24,16,9,20,2,23,21,13,6,18,7,22,4,17844896.25,2,880,25267,242911,1212629,806835.12,1122.68,12.5,5,2.5,0,1300000]
[null,600,"2011-01-13",9,11,25,17,16,18,10,19,5,6,8,22,1,23,3,17975823.75,1,446,18792,264016,1311553,1508680.72,1449.73,12.5,5,2.5,0,1500000]
[null,601,"2011-01-17",12,9,13,10,25,16,14,3,20,1,7,19,11,5,6,18226795,1,412,17057,233981,1391101,1549579.97,1611.91,12.5,5,2.5,0,1600000]
[null,602,"2011-01-20",9,18,25,12,5,7,10,1,8,6,11,2,23,22,13,17444588.75,3,380,15543,202872,1287103,531250.27,1797.46,12.5,5,2.5,0,1300000]
[null,603,"2011-01-24",8,6,23,13,22,12,19,20,2,15,4,21,16,5,10,17852702.5,9,1056,25773,261450,1219712,173128.62,903.38,12.5,5,2.5,0,1300000]
[null,604,"2011-01-27",15,1,7,25,9,12,13,18,14,2,24,22,6,19,20,17009950,3,506,18012,211005,1136698,549733.19999999995,1396.84,12.5,5,2.5,0,1500000]
[null,605,"2011-01-31",5,21,25,2,18,4,14,23,7,11,3,13,16,17,10,16825062.5,2,672,22418,238557,1242808,692423.3,1261.7,12.5,5,2.5,0,1500000]
[null,606,"2011-02-03",3,25,14,16,6,2,18,8,22,12,24,10,7,23,15,17796427.5,2,534,21419,252623,1205679,805752.09,1293.3499999999999,12.5,5,2.5,0,1300000]
[null,607,"2011-02-07",20,19,16,17,25,9,22,24,12,21,15,3,18,5,7,17785061.25,3,523,19073,242004,1275101,521465.47,1281.94,12.5,5,2.5,0,1300000]
[null,608,"2011-02-10",19,13,10,18,25,23,1,14,8,3,16,7,5,2,17,17846505,3,577,22142,288028,1426372,420262.01,1337.79,12.5,5,2.5,0,1500000]
[null,609,"2011-02-14",23,14,19,4,11,1,7,16,20,12,9,2,25,15,10,18265415,2,776,24054,258435,1294077,786997.78,1241.8399999999999,12.5,5,2.5,0,1500000]
[null,610,"2011-02-17",10,22,2,16,13,1,25,21,14,7,15,4,6,8,12,17676073.75,2,333,16464,193384,1130653,926468.2,2384.73,12.5,5,2.5,0,1100000]
[null,611,"2011-02-21",13,6,18,4,16,8,2,3,14,9,23,5,21,19,20,18059522.5,2,513,19827,228178,1252332,840371.73,1404.13,12.5,5,2.5,0,1300000]
[null,612,"2011-02-24",9,23,2,15,3,10,25,7,18,1,19,6,17,13,16,17388851.25,3,529,20136,283214,1383199,413013.65,1434.01,12.5,5,2.5,0,1200000]
[null,613,"2011-02-28",2,10,5,13,7,22,6,25,20,23,16,12,11,14,17,18022913.75,1,550,18083,220899,1226595,1732890.56,1350.3,12.5,5,2.5,0,1400000]
[null,614,"2011-03-03",16,1,18,6,22,5,12,9,7,11,20,19,17,23,13,18406226.25,1,425,16100,234811,1334543,1661393.86,1675.36,12.5,5,2.5,0,1000000]
[null,615,"2011-03-05",19,7,11,17,1,8,2,23,4,20,24,22,25,21,12,9204536.25,0,242,9713,116484,624296,0,1550.86,12.5,5,2.5,875720.65,2600000]
[null,616,"2011-03-10",9,6,16,15,1,22,2,25,21,18,10,17,24,12,19,18926433.75,2,343,15129,207683,1239087,1419332.3,2452.66,12.5,5,2.5,0,1500000]
[null,617,"2011-03-14",14,3,19,22,24,21,4,2,15,5,25,10,16,7,1,18511731.25,0,327,13164,185941,1177952,0,2639.17,12.5,5,2.5,2013689.11,4000000]
[null,618,"2011-03-17",2,22,4,12,9,1,20,7,19,6,5,21,24,17,13,23159470,6,1435,34894,357814,1689262,641554.44999999995,783.17,12.5,5,2.5,0,1500000]
[null,619,"2011-03-21",19,21,8,17,14,3,1,7,18,9,13,20,25,4,23,18888180,6,1203,34886,333691,1516821,197456.25,602.95000000000005,12.5,5,2.5,0,1500000]
[null,620,"2011-03-24",10,16,18,21,14,7,6,12,20,1,5,11,15,22,19,17993913.75,3,450,16122,213960,1171772,607601.77,1736,12.5,5,2.5,0,1500000]
[null,621,"2011-03-28",3,2,9,25,16,22,5,10,24,8,12,20,15,6,1,18107711.25,3,700,25271,269094,1261576,515408.29,1352.38,12.5,5,2.5,0,1500000]
[null,622,"2011-03-31",3,13,17,5,7,11,10,15,6,9,2,4,21,18,12,17831217.5,5,2177,18926,275820,1304035,291391.81,409.74,12.5,5,2.5,0,1300000]
[null,623,"2011-04-04",2,11,5,15,8,3,20,10,1,4,9,23,25,12,22,19257096.25,2,475,18049,250782,1419371,844970.17,1524.76,12.5,5,2.5,0,1600000]
[null,624,"2011-04-07",24,18,5,7,4,21,2,20,12,11,17,1,9,6,16,19187226.25,6,491,18521,251634,1273538,308089.46999999997,1613.5,12.5,5,2.5,0,1500000]
[null,625,"2011-04-11",3,14,23,16,24,13,6,15,11,2,10,8,17,22,1,19122860,3,546,18552,228447,1243048,642873.99,1513.83,12.5,5,2.5,0,1500000]
[null,626,"2011-04-14",9,2,11,7,24,8,19,5,17,13,1,3,23,21,4,18190837.5,5,1355,44982,395051,1581102,148682.17000000001,335.9,12.5,5,2.5,0,1500000]
[null,627,"2011-04-18",23,25,6,10,2,17,1,14,15,3,21,4,22,12,24,18791143.75,4,320,14807,216494,1245786,476485.44,2552.6,12.5,5,2.5,0,1600000]
[null,628,"2011-04-20",19,10,13,7,8,18,2,25,9,4,22,15,3,11,23,11499612.5,4,673,19084,200567,980620,167714.18,610.29,12.5,5,2.5,0,1400000]
[null,629,"2011-04-25",7,21,12,17,25,1,2,14,9,19,6,5,15,22,4,16064847.5,8,1332,31880,290092,1271027,125261.15,460.6,12.5,5,2.5,0,1500000]
[null,630,"2011-04-28",6,22,20,13,2,17,18,7,24,12,1,14,25,4,23,18093281.25,2,638,21857,246268,1306143,782676.15,1502.16,12.5,5,2.5,0,1500000]
[null,631,"2011-05-02",16,2,10,17,9,3,13,18,14,20,7,21,19,8,5,19423947.5,3,450,17567,246877,1322228,619149.6,1769,12.5,5,2.5,0,1600000]
[null,632,"2011-05-05",24,10,13,6,16,25,11,21,8,22,17,14,1,20,4,19175585,4,762,21365,229826,1156578,506328,1139.0899999999999,12.5,5,2.5,0,1600000]
[null,633,"2011-05-09",22,2,8,7,12,23,20,24,6,3,25,9,21,10,18,19343490,2,388,15770,204945,1230298,1033224.45,2282.5300000000002,12.5,5,2.5,0,1500000]
[null,634,"2011-05-12",21,9,15,20,5,22,3,19,12,4,10,18,2,11,14,19057636.25,3,661,22824,226188,1264483,622554.76,1210.93,12.5,5,2.5,0,1600000]
[null,635,"2011-05-16",1,4,11,19,5,8,18,9,24,7,13,6,20,22,12,19323945,2,593,19681,253091,1313774,909031.24,1313.95,12.5,5,2.5,0,1500000]
[null,636,"2011-05-19",3,1,4,13,6,21,19,20,25,12,10,16,23,14,2,18490957.5,3,576,18740,229516,1271739,584469.17000000004,1304.6199999999999,12.5,5,2.5,0,1500000]
[null,637,"2011-05-23",18,2,9,7,25,19,22,13,6,4,20,23,16,17,21,18934031.25,2,464,17743,224856,1262268,939050.68,1734.7,12.5,5,2.5,0,1600000]
[null,638,"2011-05-26",2,3,18,4,21,24,14,13,19,9,11,1,16,23,25,18027241.25,2,526,21710,236658,1330081,773114.35,1259.83,12.5,5,2.5,0,1500000]
[null,639,"2011-05-30",21,22,12,4,10,8,6,19,2,16,9,20,1,5,24,18575582.5,5,492,19883,262917,1264562,338323.82,1473.54,12.5,5,2.5,0,1600000]
[null,640,"2011-06-02",1,16,9,21,14,3,18,4,22,5,23,20,11,19,13,18748852.5,2,466,19194,261859,1323769,831638.01,1529.69,12.5,5,2.5,0,1600000]
[null,641,"2011-06-06",11,2,18,19,24,16,9,21,22,6,13,3,7,8,20,19364543.75,1,495,20270,239817,1348492,1813203.5,1569.87,12.5,5,2.5,0,1300000]
[null,642,"2011-06-09",18,13,8,10,12,25,2,5,21,20,1,4,11,19,22,19033097.5,4,842,24625,278466,1446550,375056.78,1090.8599999999999,12.5,5,2.5,0,1600000]
[null,643,"2011-06-13",24,10,19,8,16,13,2,9,17,7,21,22,4,23,1,19199963.75,3,447,19976,255454,1434460,545294.64,1568.44,12.5,5,2.5,0,1600000]
[null,644,"2011-06-16",12,9,6,21,7,5,18,24,8,13,15,14,3,2,22,18873666.25,2,568,20049,248830,1430441,793104.27,1196.8399999999999,12.5,5,2.5,0,1600000]
[null,645,"2011-06-20",25,19,23,21,4,11,16,20,9,22,10,8,13,18,5,19082591.25,4,818,23865,294008,1438491,371838,1113.23,12.5,5,2.5,0,1300000]
[null,646,"2011-06-24",1,17,23,6,25,15,5,3,9,21,18,19,14,10,20,14887541.25,0,503,17721,220793,1104937,0,1470.5,12.5,5,2.5,1208118.21,3500000]
[null,647,"2011-06-27",19,9,14,20,22,18,6,23,4,8,11,7,17,13,25,19174908.75,3,523,19995,253649,1373952,972342.03,1400.36,12.5,5,2.5,0,1600000]
[null,648,"2011-06-30",20,8,9,22,13,19,2,21,6,10,15,16,4,11,18,18443550,11,1810,40540,359672,1392519,103892.67,386.56,12.5,5,2.5,0,1600000]
[null,649,"2011-07-04",1,14,2,11,17,24,9,8,6,21,15,4,5,10,22,20055535,2,448,17292,224449,1323044,1024655.84,1960.44,12.5,5,2.5,0,1600000]
[null,650,"2011-07-07",16,19,24,1,25,14,13,23,8,3,20,10,21,17,7,19784355,7,690,24105,283145,1409638,242743.91,1507.72,12.5,5,2.5,0,1600000]
[null,651,"2011-07-11",13,5,15,10,14,25,18,6,4,20,1,24,8,17,19,18956600,6,415,16114,220498,1262606,317201.67,1965.45,12.5,5,2.5,0,1600000]
[null,652,"2011-07-14",17,7,2,21,20,13,19,5,9,16,11,14,10,23,18,19378307.5,8,825,34507,304760,1526942,168907.38,1002.78,12.5,5,2.5,0,1600000]
[null,653,"2011-07-18",16,3,20,1,19,17,22,13,12,23,14,21,7,8,2,19678717.5,5,777,22874,280435,1377295,346044.31,1363.34,12.5,5,2.5,0,1600000]
[null,654,"2011-07-21",25,20,12,13,16,3,7,19,22,17,14,1,2,18,23,19180050,2,814,47662,264054,1422803,727610.86,1094.53,12.5,5,2.5,0,1600000]
[null,655,"2011-07-25",20,13,21,19,11,25,5,14,8,2,15,7,24,10,23,19679015,1,667,25036,285756,1478659,1579836.12,1450.14,12.5,5,2.5,0,1600000]
[null,656,"2011-07-28",3,18,8,14,15,5,22,9,20,7,25,11,23,2,13,19064847.5,11,1450,34748,327871,1554860,108304.55,503.03,12.5,5,2.5,0,1700000]
[null,657,"2011-08-01",13,25,19,17,8,23,5,15,2,10,4,6,24,12,3,20391485,9,1799,34632,329281,1545390,165150.47,505.84,12.5,5,2.5,0,1800000]
[null,658,"2011-08-04",6,4,17,7,23,24,14,25,9,21,11,15,1,5,10,20202058.75,0,494,20320,268288,1405228,0,1608.7,12.5,5,2.5,1854288.48,4000000]
[null,659,"2011-08-08",23,3,8,12,10,24,6,9,20,1,15,11,4,5,19,25567515,6,663,24827,316959,1777295,710540.18,1557.18,12.5,5,2.5,0,1800000]
[null,660,"2011-08-11",17,5,15,16,4,9,3,7,6,12,19,24,14,8,25,20750801.25,0,611,21890,253608,1343439,0,1455.24,12.5,5,2.5,2074690.1,4600000]
[null,661,"2011-08-15",1,7,20,22,3,15,24,6,23,17,10,19,18,11,12,25171296.25,0,576,20131,269743,1619717,0,1979.88,12.5,5,2.5,4735656.05,7000000]
[null,662,"2011-08-18",7,14,13,2,8,15,1,9,6,3,19,16,22,11,20,33445582.5,8,741,27285,378957,2273297,1008663.25,1928.08,12.5,5,2.5,0,1800000]
[null,663,"2011-08-22",13,4,21,19,2,6,24,17,9,16,22,5,23,11,7,21499566.25,8,1314,34032,354983,1576910,203431.69,758.29,12.5,5,2.5,0,1700000]
[null,664,"2011-08-25",18,15,1,23,24,20,7,21,13,3,10,16,4,17,14,20682888.75,3,709,23073,266563,1372907,661652.63,1199.8499999999999,12.5,5,2.5,0,2000000]
[null,665,"2011-08-29",21,3,13,2,17,7,15,22,24,14,20,6,18,12,25,20585658.75,4,495,18564,244730,1346151,519467.64,1799.03,12.5,5,2.5,0,1800000]
[null,666,"2011-09-01",12,24,11,6,7,14,4,16,1,25,2,18,15,20,21,20593937.5,3,564,18649,233643,1254042,739710.75,1686.27,12.5,5,2.5,0,1700000]
[null,667,"2011-09-05",13,15,10,4,17,25,8,6,24,3,20,19,21,18,5,20717900,0,543,28877,289600,1464384,0,1411.57,12.5,5,2.5,1788460.1,4000000]
[null,668,"2011-09-08",11,25,15,1,13,9,20,24,23,10,17,7,12,16,2,23795260,0,1182,24993,315339,1719747,0,1087.81,12.5,5,2.5,3888596.9,6300000]
[null,669,"2011-09-13",15,16,25,19,2,23,4,5,22,6,18,17,12,13,24,32036362.5,3,1441,31327,422759,2267424,2264469.7200000002,1234.18,12.5,5,2.5,0,1500000]
[null,670,"2011-09-15",1,18,21,20,14,7,25,10,22,15,8,12,23,17,13,21563226.25,1,545,23349,283376,1587363,1869250.25,1469.92,12.5,5,2.5,0,1800000]
[null,671,"2011-09-19",10,9,18,20,8,13,5,19,12,11,7,4,14,22,24,21943457.5,5,627,28972,299696,1626828,365698.86,1249.83,12.5,5,2.5,0,1800000]
[null,672,"2011-09-22",11,21,24,19,4,10,15,1,9,2,6,17,23,12,25,21000068.75,18,1852,40833,376528,1590546,78253.87,465.65,12.5,5,2.5,0,1700000]
[null,673,"2011-09-26",2,17,4,15,10,13,11,9,12,14,20,8,5,19,7,21624552.5,6,935,28361,384735,1602321,264187.73,1037.95,12.5,5,2.5,0,1500000]
[null,674,"2011-09-29",10,3,14,11,23,2,16,22,20,24,18,19,25,15,8,20870623.75,3,466,18545,249044,1424551,677614.26,1869.57,12.5,5,2.5,0,1500000]
[null,675,"2011-10-03",13,7,5,2,11,22,23,15,4,17,24,14,3,10,16,21438686.25,0,447,19841,264790,1484860,0,1951.08,12.5,5,2.5,2034976.12,4500000]
[null,676,"2011-10-06",25,15,19,24,6,12,21,16,5,8,13,4,10,2,20,26809987.5,27,1898,44001,437502,1926601,152453.75,671.36,12.5,5,2.5,0,2000000]
[null,677,"2011-10-10",16,12,2,19,25,10,6,1,13,7,5,8,15,23,11,21765088.75,4,695,25144,307365,1757520,408645.24,1439.94,12.5,5,2.5,0,1500000]
[null,678,"2011-10-13",23,2,19,18,3,15,20,12,9,5,21,7,10,25,24,19627842.5,7,1029,29255,311672,1534522,201575.83,839.54,12.5,5,2.5,0,1500000]
[null,679,"2011-10-17",22,11,10,17,15,14,20,2,21,13,19,8,12,7,18,21204228.75,3,527,22138,299828,1562572,596431.89,1455.11,12.5,5,2.5,0,1800000]
[null,680,"2011-10-20",3,6,8,9,19,13,21,4,18,12,20,7,22,16,14,21701171.25,6,762,25279,288785,1486849,332843.40999999997,1123.21,12.5,5,2.5,0,1800000]
[null,681,"2011-10-24",4,18,6,14,15,16,23,11,19,2,8,7,3,10,12,21267476.25,11,886,22911,271627,1510086,175599.18,1334.77,12.5,5,2.5,0,1800000]
[null,682,"2011-10-27",4,18,22,24,19,25,14,2,1,17,5,11,8,7,6,21474290,5,581,20398,252038,1395487,435993.67,1608.04,12.5,5,2.5,0,1500000]
[null,683,"2011-10-31",8,15,6,12,9,5,1,4,13,23,10,24,2,7,11,21348161.25,3,676,74528,268720,1473755,561489.23,1525.6,12.5,5,2.5,0,1800000]
[null,684,"2011-11-03",4,8,22,25,1,13,24,20,14,21,11,12,5,10,16,20160378.75,2,376,18523,223535,1287269,1055224.81,2405.5300000000002,12.5,5,2.5,0,1800000]
[null,685,"2011-11-07",20,22,1,25,15,4,12,23,3,21,9,19,13,17,24,22119227.5,6,909,29982,357321,1747870,261793.8,1057.96,12.5,5,2.5,0,2000000]
[null,686,"2011-11-10",20,1,6,12,3,24,16,4,13,19,7,10,22,25,23,22223860,8,791,21521,257178,1439934,283465.87,1228.68,12.5,5,2.5,0,2000000]
[null,687,"2011-11-14",18,19,13,20,23,1,6,3,24,15,12,25,4,2,9,21234040,3,872,29302,331938,1627018,531410.14,1119.33,12.5,5,2.5,0,1700000]
[null,688,"2011-11-17",21,23,7,1,4,14,3,19,2,24,9,12,22,16,11,20358328.75,3,679,26413,271125,1403679,615207.4,1164.92,12.5,5,2.5,0,1600000]
[null,689,"2011-11-21",11,23,13,8,17,7,4,24,2,3,12,5,15,22,6,21766087.5,5,608,23905,326171,1736438,324427.21000000002,1143.43,12.5,5,2.5,0,1800000]
[null,690,"2011-11-24",3,15,24,12,20,1,10,14,25,13,9,2,18,19,11,21477247.5,13,1000,27745,289566,1507969,146605.53,1166.8599999999999,12.5,5,2.5,0,1800000]
[null,691,"2011-11-28",22,1,20,6,7,17,9,8,23,3,18,11,19,13,2,21368970,3,702,26133,336843,1620986,546038.68999999994,1428.67,12.5,5,2.5,0,1800000]
[null,692,"2011-12-01",4,22,17,12,10,11,24,23,18,2,6,19,1,7,21,22076208.75,7,618,21487,290590,1508173,295805.08,1435.95,12.5,5,2.5,0,1800000]
[null,693,"2011-12-05",6,14,17,7,1,4,2,11,9,22,19,3,10,16,21,22671825,1,611,25967,282885,1440512,2273428.27,1594.65,12.5,5,2.5,0,1800000]
[null,694,"2011-12-08",3,16,15,11,10,6,21,8,14,1,9,24,19,18,20,21392377.5,2,501,20072,241026,1360830,1116865.6399999999,1910.81,12.5,5,2.5,0,1800000]
[null,695,"2011-12-12",24,22,13,3,5,21,17,18,19,20,4,11,2,25,14,22131338.75,1,351,14624,226964,1483823,2310275.1,2820.85,12.5,5,2.5,0,1800000]
[null,696,"2011-12-15",5,20,15,4,9,7,22,13,24,16,11,21,1,10,14,21699778.75,4,700,23639,285765,1425029,522483.41,1279.56,12.5,5,2.5,0,1800000]
[null,697,"2011-12-19",3,7,24,19,8,1,11,23,22,14,16,15,2,25,18,21635683.75,5,677,27928,263866,1462000,411640.34,1302.94,12.5,5,2.5,0,1800000]
[null,698,"2011-12-22",4,6,12,22,7,21,20,9,15,3,14,24,10,18,2,21304380,8,1010,28719,306730,1469014,233535.96,1132.52,12.5,5,2.5,0,1800000]
[null,699,"2011-12-26",22,18,3,8,4,21,19,6,2,25,23,10,9,16,15,20293353.75,1,394,16570,225670,1295966,2135209.04,2322.56,12.5,5,2.5,0,1800000]
[null,700,"2011-12-29",10,21,25,1,22,18,13,2,16,6,7,14,8,19,9,21526365,0,397,15486,216236,1356770,0,2543.83,12.5,5,2.5,2356429.7999999998,4500000]
[null,701,"2012-01-02",17,4,20,21,16,10,19,13,12,3,22,23,25,14,8,23847843.75,3,597,22320,292350,1622356,1553302.57,1653.61,12.5,5,2.5,0,1800000]
[null,702,"2012-01-05",4,14,25,8,23,5,13,3,1,10,2,7,20,6,9,21805083.75,10,1681,23468,284761,1370498,218295.49,795.06,12.5,5,2.5,0,1800000]
[null,703,"2012-01-09",8,24,15,23,2,18,11,21,25,20,17,14,22,5,10,22158733.75,6,746,23555,287923,1552624,337975.15,1164.99,12.5,5,2.5,0,1800000]
[null,704,"2012-01-12",15,17,8,16,11,24,14,22,5,23,2,13,6,3,10,22458780,6,2945,34500,300420,1537665,335539.65999999997,418.53,12.5,5,2.5,0,1800000]
[null,705,"2012-01-16",15,21,22,20,12,9,6,14,11,25,7,8,16,3,4,22415418.75,2,337,14407,202239,1261091,1353150.73,3441.67,12.5,5,2.5,0,1800000]
[null,706,"2012-01-19",22,18,21,16,8,1,25,12,19,24,3,13,6,2,4,21486536.25,4,627,23978,281830,1531310,480327.17,1313.27,12.5,5,2.5,0,1800000]
[null,707,"2012-01-23",25,8,11,20,16,7,3,24,17,12,21,15,14,4,6,21335996.25,3,633,37271,213418,1187296,798815.02,1622.51,12.5,5,2.5,0,1800000]
[null,708,"2012-01-26",1,19,14,6,2,16,21,3,24,5,11,25,4,9,22,20461398.75,5,631,18587,253601,1327971,410292.82,1393.34,12.5,5,2.5,0,1800000]
[null,709,"2012-01-30",6,8,20,12,11,7,14,18,3,1,22,15,16,19,23,21122971.25,4,502,18752,258408,1406084,521421.25,1780.61,12.5,5,2.5,0,1800000]
[null,710,"2012-02-02",19,3,17,14,20,25,21,6,4,18,15,12,24,2,22,20988121.25,2,409,22037,276241,1509467,933071.51,1955.44,12.5,5,2.5,0,1800000]
[null,711,"2012-02-06",2,12,18,21,6,4,1,24,10,22,16,5,15,7,13,20930593.75,5,717,22688,255396,1405971,405520.04,1211.96,12.5,5,2.5,0,1500000]
[null,712,"2012-02-08",9,4,20,18,17,16,8,15,22,21,23,12,1,25,14,11158976.25,1,270,9425,125060,726687,1070276.1100000001,1219.69,12.5,5,2.5,0,1200000]
[null,713,"2012-02-10",23,11,22,6,2,13,15,21,25,5,14,3,19,4,24,17433771.25,2,490,33901,231734,1258455,670129.89,1202.29,12.5,5,2.5,0,1800000]
[null,714,"2012-02-13",13,17,7,19,6,10,21,12,15,14,4,11,8,9,22,18626426.25,3,730,15281,225383,1283742,556906.32999999996,1006,12.5,5,2.5,0,1800000]
[null,715,"2012-02-15",8,15,24,5,20,18,3,25,13,11,22,1,23,10,14,15070938.75,6,961,28109,296555,1151742,145645.87,399.7,12.5,5,2.5,0,1500000]
[null,716,"2012-02-17",21,23,11,18,7,3,12,16,8,20,14,15,25,1,5,17161215,15,2345,39132,318550,1247106,71421.47,200.81,12.5,5,2.5,0,1500000]
[null,717,"2012-02-22",5,9,18,21,23,2,1,14,11,8,7,20,16,3,25,14919460,9,1336,47412,238762,1095760,103212.09,305.62,12.5,5,2.5,0,1500000]
[null,718,"2012-02-24",22,19,3,14,4,24,9,13,21,11,23,25,7,15,17,17731932.5,10,1523,42938,374042,1551618,69135.61,199.53,12.5,5,2.5,0,1500000]
[null,719,"2012-02-27",18,11,22,24,10,2,15,16,9,23,13,25,8,7,19,17729807.5,2,493,20869,250657,1300818,691216.89,1232.58,12.5,5,2.5,0,1500000]
[null,720,"2012-03-01",4,9,17,16,12,24,7,23,13,18,10,20,11,25,21,12585065,2,246,11285,151789,847742,573407.99,1434.42,12.5,5,2.5,0,1500000]
[null,721,"2012-03-02",5,21,15,14,3,9,12,7,19,10,11,8,4,2,1,17311363.75,2,602,66743,216021,1192772,619707.88,904.98,12.5,5,2.5,0,1500000]
[null,722,"2012-03-05",7,1,23,19,6,8,5,20,3,14,10,17,24,13,16,18554390,5,569,21560,228147,1236098,333697.24,1288.92,12.5,5,2.5,0,1500000]
[null,723,"2012-03-07",3,14,9,8,20,11,4,5,7,15,24,2,12,10,18,16914543.75,2,571,19855,316133,1235115,575346.68999999994,885.81,12.5,5,2.5,0,1500000]
[null,724,"2012-03-09",7,6,20,12,23,14,18,10,19,1,25,3,24,15,5,18243855,8,786,20495,250020,1301517,186021.5,832.24,12.5,5,2.5,0,1500000]
[null,725,"2012-03-12",5,17,13,1,21,16,15,24,7,6,18,10,9,25,12,18178236.25,1,437,17124,215269,1171154,1721548.46,1212.1500000000001,12.5,5,2.5,0,1500000]
[null,726,"2012-03-14",10,16,20,25,21,7,13,11,24,2,15,4,9,1,14,16423067.5,2,616,22517,221979,1118236,692133.56,987.77,12.5,5,2.5,0,1500000]
[null,727,"2012-03-16",25,8,23,3,24,16,11,20,6,21,9,18,22,7,4,17543970,2,334,12284,186038,1088773,891124.77,1641.87,12.5,5,2.5,0,1500000]
[null,728,"2012-03-19",13,23,11,7,25,16,6,20,10,19,8,22,21,3,4,17928673.75,2,433,16731,241057,1220737,779365.57,1582.34,12.5,5,2.5,0,1500000]
[null,729,"2012-03-21",10,2,14,12,9,22,6,3,25,15,23,17,1,7,4,16645708.75,0,423,18958,211582,1202030,0,1431.36,12.5,5,2.5,1377438.6,3500000]
[null,730,"2012-03-23",22,24,21,19,4,1,20,12,18,16,8,11,3,14,25,22176270,2,732,26053,300629,1609108,1578295.6,1068.3599999999999,12.5,5,2.5,0,1500000]
[null,731,"2012-03-26",4,7,18,8,6,21,24,14,22,17,3,12,15,19,11,18426406.25,8,930,24643,274479,1313279,179014.93,676.88,12.5,5,2.5,0,1500000]
[null,732,"2012-03-28",25,14,1,11,13,24,20,8,23,9,10,4,22,17,21,16519758.75,2,396,16013,196288,1148094,732554.09,1626.27,12.5,5,2.5,0,1500000]
[null,733,"2012-03-30",8,18,11,14,4,22,1,16,24,20,7,5,12,6,19,17603521.25,4,561,21732,260784,1169639,369602.29,1158.3699999999999,12.5,5,2.5,0,1500000]
[null,734,"2012-04-02",24,15,2,3,19,20,23,8,9,21,13,17,6,18,10,18870583.75,7,657,24012,266496,1376141,210189.59,984.37,12.5,5,2.5,0,1500000]
[null,735,"2012-04-04",8,20,22,5,11,24,13,21,19,14,12,25,17,10,6,17536580,2,438,17967,218084,1212906,767170.7,1539.8,12.5,5,2.5,0,1500000]
[null,736,"2012-04-07",4,10,2,17,13,15,21,9,3,23,8,16,6,19,5,12956078.75,1,468,17577,205306,922208,978883.23,919.39,12.5,5,2.5,0,1500000]
[null,737,"2012-04-09",3,7,18,4,16,25,5,10,22,2,12,6,17,14,8,13434772.5,1,305,13453,174483,917615,1173561.52,1183.92,12.5,5,2.5,0,1500000]
[null,738,"2012-04-11",25,23,13,6,14,11,16,18,9,7,2,24,19,20,12,17484376.25,1,378,14364,203984,1222290,1565780.93,1274.55,12.5,5,2.5,0,1500000]
[null,739,"2012-04-13",11,25,14,2,22,20,8,9,10,17,3,21,4,23,24,17816882.5,4,663,28456,224406,1247457,369285.47,979.32,12.5,5,2.5,0,1500000]
[null,740,"2012-04-16",10,21,11,13,24,9,5,22,4,1,19,12,25,14,23,18143257.5,1,510,18004,241122,1249106,1562051.68,1346.3,12.5,5,2.5,0,1500000]
[null,741,"2012-04-18",18,3,14,12,24,5,21,11,2,7,17,13,10,25,16,16574053.75,2,459,15516,183234,1095199,784337.68,1502.23,12.5,5,2.5,0,1500000]
[null,742,"2012-04-20",23,20,1,7,6,5,14,21,8,11,3,15,13,9,19,16589048.75,4,530,27681,291897,1351826,240842.17,798.97,12.5,5,2.5,0,1500000]
[null,743,"2012-04-23",12,11,3,10,2,24,14,17,1,15,21,6,9,22,23,14434457.5,1,313,12556,161818,932386,1390898.07,1367.31,12.5,5,2.5,0,1500000]
[null,744,"2012-04-25",9,3,4,12,10,13,6,16,11,1,19,23,7,15,24,16099825,2,671,19496,214579,1169178,647798.11,848.72,12.5,5,2.5,0,1500000]
[null,745,"2012-04-27",7,1,17,12,16,24,8,9,3,6,11,20,22,25,13,16738585,3,383,12891,179734,1067335,552072.11,1330.56,12.5,5,2.5,0,1500000]
[null,746,"2012-04-30",16,18,9,8,25,17,10,24,2,20,21,19,4,3,5,16354957.5,3,288,9774,146479,933453,608351.51,1949.85,12.5,5,2.5,0,1500000]
[null,747,"2012-05-02",24,4,10,23,12,15,7,20,2,13,6,16,17,1,3,12816283.75,0,356,12561,158421,831838,0,1467.92,12.5,5,2.5,1188871.8500000001,3300000]
[null,748,"2012-05-04",4,18,23,17,9,15,5,6,10,12,21,20,8,3,1,22831945,4,740,25464,296034,1556747,793177.97,1178.4000000000001,12.5,5,2.5,0,1500000]
[null,749,"2012-05-07",24,2,7,8,18,11,6,22,14,13,1,4,19,15,3,17179040,1,518,19696,251235,1304255,1273569.07,1080.71,12.5,5,2.5,0,1500000]
[null,750,"2012-05-09",9,3,2,20,25,4,13,7,10,19,5,21,11,15,24,17746841.25,8,865,29753,319295,1462867,124354.44,505.53,12.5,5,2.5,0,1500000]
[null,751,"2012-05-11",14,17,20,23,13,12,6,3,9,16,22,5,8,19,21,18228811.25,7,681,21114,243402,1237484,224218.85,1013.07,12.5,5,2.5,0,1500000]
[null,752,"2012-05-14",13,6,24,21,19,14,16,8,12,1,25,4,18,7,5,17915808.75,7,627,17679,212417,1164773,239939.68,1177.47,12.5,5,2.5,0,1500000]
[null,753,"2012-05-16",7,3,11,1,22,8,5,13,21,14,6,4,17,25,20,16954863.75,6,491,16741,206295,1171646,249759.54,1341.56,12.5,5,2.5,0,1500000]
[null,754,"2012-05-18",1,19,5,16,4,20,15,18,24,7,23,22,17,13,25,17376755,3,345,14150,185786,1158321,553202.69999999995,1480.14,12.5,5,2.5,0,1500000]
[null,755,"2012-05-21",14,24,3,5,25,11,17,2,7,8,13,1,10,16,12,17798976.25,2,470,23827,218721,1260942,748738.55,1400.49,12.5,5,2.5,0,1500000]
[null,756,"2012-05-23",15,17,3,20,14,13,8,25,5,6,10,16,22,7,23,16289210,3,535,17736,225949,1167863,439722.22,1083.83,12.5,5,2.5,0,1500000]
[null,757,"2012-05-25",4,10,11,1,21,20,9,14,17,18,3,23,8,13,15,16865268.75,5,836,24379,270512,1333561,221379.88,581.99,12.5,5,2.5,0,1500000]
[null,758,"2012-05-28",15,18,24,4,5,6,17,16,11,2,20,12,1,25,23,17504342.5,3,310,11198,166841,1057956,619738.93999999994,1845.38,12.5,5,2.5,0,1500000]
[null,759,"2012-05-30",20,23,8,16,25,7,5,17,15,18,24,19,2,9,10,12607601.25,2,578,9180,133895,815061,620592.68000000005,943.9,12.5,5,2.5,0,1500000]
[null,760,"2012-06-01",11,24,2,15,9,25,3,12,13,10,7,1,23,16,17,17298340,9,3022,24835,283885,1334195,128877.75,168.71,12.5,5,2.5,0,1500000]
[null,761,"2012-06-04",15,11,4,6,1,19,16,13,20,14,12,24,5,10,22,17945837.5,1,368,14167,201097,1150308,1747773.54,1461.35,12.5,5,2.5,0,1500000]
[null,762,"2012-06-06",7,11,21,13,22,2,1,10,17,3,9,12,5,6,14,16275877.5,2,458,15842,257970,1143254,641206.71,1230.78,12.5,5,2.5,0,1300000]
[null,763,"2012-06-08",18,16,21,1,14,25,13,3,6,7,24,4,2,17,22,13856803.75,3,664,12191,154856,906528,440843.15,875.49,12.5,5,2.5,0,1500000]
[null,764,"2012-06-11",25,4,1,8,23,17,19,3,24,9,11,14,6,16,12,17018805,16,920,23336,229207,1159177,89744.6,686.05,12.5,5,2.5,0,1500000]
[null,765,"2012-06-13",14,23,13,25,12,1,2,18,3,9,20,10,7,24,8,16136796.25,8,1028,26570,251606,1282968,131136.9,448.58,12.5,5,2.5,0,1500000]
[null,766,"2012-06-15",24,25,12,9,21,15,7,5,16,3,6,14,13,1,18,16682886.25,5,848,26482,243389,1197381,255003.87,660.9,12.5,5,2.5,0,1500000]
[null,767,"2012-06-18",1,11,15,12,5,8,22,24,17,19,23,4,3,7,10,17464173.75,8,1046,26738,270587,1312314,154679.17000000001,520,12.5,5,2.5,0,1500000]
[null,768,"2012-06-20",11,3,23,19,25,15,6,12,17,20,14,24,5,1,13,15567085,4,416,16825,229876,1241351,271797.28999999998,1148.76,12.5,5,2.5,0,1500000]
[null,769,"2012-06-22",5,11,4,23,22,16,15,25,7,13,17,10,3,19,20,15780645,5,805,25035,276476,1207581,203133.29,554.59,12.5,5,2.5,0,1500000]
[null,770,"2012-06-25",17,12,4,24,1,3,18,6,25,11,22,16,5,9,21,16528442.5,4,392,12944,176680,1048056,410675.95,1289.4000000000001,12.5,5,2.5,0,1500000]
[null,771,"2012-06-27",20,7,22,25,2,4,6,9,5,23,8,14,17,10,16,15449486.25,1,277,10814,165579,945913,1580159.59,1755.25,12.5,5,2.5,0,1500000]
[null,772,"2012-06-29",16,2,12,20,7,6,9,25,15,8,11,24,10,4,23,16434305,1,307,13217,181680,1109285,1541273.58,1544.75,12.5,5,2.5,0,1500000]
[null,773,"2012-07-02",6,18,20,15,8,17,7,10,2,25,22,11,13,24,5,17395927.5,12,1537,31432,271138,1244514,106078.03,364.04,12.5,5,2.5,0,1500000]
[null,774,"2012-07-04",19,11,14,6,1,15,18,12,3,8,22,9,4,5,25,17539028.75,1,549,19467,226579,1268903,1443277.9,1155.56,12.5,5,2.5,0,1500000]
[null,775,"2012-07-06",6,17,12,2,18,10,20,3,16,13,19,8,7,14,9,18151988.75,20,949,30569,200413,1128610,86100.71,797.6,12.5,5,2.5,0,1500000]
[null,776,"2012-07-09",10,24,22,14,2,18,13,4,23,12,1,11,20,3,19,15361450,5,487,15451,197709,1092780,259199.43,1169.75,12.5,5,2.5,0,1500000]
[null,777,"2012-07-11",21,15,9,25,2,11,14,12,24,3,6,13,20,23,16,17720318.75,1,323,13366,197717,1232550,1621299.97,1544.46,12.5,5,2.5,0,1500000]
[null,778,"2012-07-13",11,15,20,10,6,9,7,19,24,2,13,25,16,5,22,18718457.5,8,1180,30661,304431,1359966,166892.37,497.35,12.5,5,2.5,0,1500000]
[null,779,"2012-07-16",16,20,19,21,14,23,5,13,8,9,22,12,4,17,11,18373653.75,3,467,19152,199159,1169370,595944.44999999995,1177.95,12.5,5,2.5,0,1500000]
[null,780,"2012-07-18",21,20,15,8,13,17,16,3,19,24,6,7,18,25,10,17178081.25,2,352,14837,195277,1205995,770043.9,1346.23,12.5,5,2.5,0,1500000]
[null,781,"2012-07-20",11,1,2,22,10,25,9,15,4,19,16,8,14,20,17,17606718.75,0,433,15221,199119,1143495,0,1198.1600000000001,12.5,5,2.5,1686107.55,3700000]
[null,782,"2012-07-23",18,13,5,14,20,12,10,17,21,15,19,16,11,9,8,22301425,30,2678,39480,237752,1318595,129582.16,361.32,12.5,5,2.5,0,1500000]
[null,783,"2012-07-25",20,16,1,8,19,7,2,5,6,13,24,15,22,11,21,17623381.25,8,597,18700,226078,1155003,199404.5,1174.54,12.5,5,2.5,0,1500000]
[null,784,"2012-07-27",1,12,2,20,23,13,15,4,21,11,3,7,22,18,25,17648432.5,4,428,16514,244421,1283535,356187.7,1463.23,12.5,5,2.5,0,1500000]
[null,785,"2012-07-30",12,11,13,1,17,10,23,15,6,7,4,19,16,21,2,18292142.5,5,805,25273,262315,1282091,292958.89,799.83,12.5,5,2.5,0,1500000]
[null,786,"2012-08-01",21,15,23,24,5,11,8,25,6,10,17,2,4,13,12,17443601.25,5,1064,30112,270687,1324818,239934.51,495.6,12.5,5,2.5,0,1500000]
[null,787,"2012-08-03",8,4,10,12,16,1,5,14,9,20,17,19,13,11,23,18405700,6,504,25605,231055,1286003,258719.49,1353.84,12.5,5,2.5,0,1500000]
[null,788,"2012-08-06",3,12,4,11,24,9,1,22,16,21,25,19,23,8,10,18879368.75,5,468,16432,222508,1244582,353183.78,1161.02,12.5,5,2.5,0,1500000]
[null,789,"2012-08-08",18,12,15,3,22,14,8,19,11,2,24,10,21,4,16,18103752.5,7,861,24148,250920,1225938,217608.36,777.65,12.5,5,2.5,0,1500000]
[null,790,"2012-08-10",8,3,7,12,16,10,19,23,18,20,22,13,25,24,6,18269522.5,3,440,19404,254243,1294263,499387.35,1496.66,12.5,5,2.5,0,1500000]
[null,791,"2012-08-13",11,8,1,7,2,23,14,22,3,10,21,25,6,13,5,18589836.25,3,379,14212,216067,1347106,539529.25,1314.06,12.5,5,2.5,0,1500000]
[null,792,"2012-08-15",20,12,25,14,8,19,21,9,2,3,1,23,6,10,18,16493936.25,7,596,19539,236290,1121395,197035.39,1017.21,12.5,5,2.5,0,1500000]
[null,793,"2012-08-17",17,5,20,16,14,23,11,21,2,12,9,4,25,7,18,17870071.25,22,1692,29121,248506,1169150,69011.789999999994,394.42,12.5,5,2.5,0,1500000]
[null,794,"2012-08-20",2,15,14,9,3,23,5,24,4,8,20,1,25,6,11,18063013.75,1,345,14715,194217,1256859,1662575.93,1482.79,12.5,5,2.5,0,1500000]
[null,795,"2012-08-22",9,10,1,3,7,12,8,24,21,14,4,6,2,16,22,16845563.75,3,342,14333,206278,1138514,509362.56,1374.8,12.5,5,2.5,0,1500000]
[null,796,"2012-08-24",18,24,11,14,6,21,8,4,10,20,2,16,7,17,3,17211578.75,7,435,17298,210837,1137376,225065.01,1591.97,12.5,5,2.5,0,1500000]
[null,797,"2012-08-27",8,7,24,19,2,20,21,11,17,18,3,15,5,25,6,17624722.5,2,378,14820,208425,1199224,803715.64,1308.45,12.5,5,2.5,0,1500000]
[null,798,"2012-08-29",16,18,13,24,19,23,22,10,6,8,1,5,11,3,15,16133771.25,94,3195,39165,294040,1142283,11067.52,143.12,12.5,5,2.5,0,1500000]
[null,799,"2012-08-31",22,3,11,15,14,21,23,24,16,6,19,25,8,13,4,16514811.25,6,419,16984,203788,1207808,228934.58,1441.01,12.5,5,2.5,0,40000000]
[null,800,"2012-09-06",16,13,10,22,12,7,9,6,8,11,4,24,3,21,20,122822547.5,14,2844,105004,1474510,8138893,3072441.79,1232.29,12.5,5,2.5,0,1500000]
[null,801,"2012-09-10",25,3,17,1,6,23,21,10,12,7,19,4,18,15,5,19168148.75,4,597,23454,273131,1375355,379974.65,1119.07,12.5,5,2.5,0,1500000]
[null,802,"2012-09-12",22,4,9,13,21,14,5,3,10,12,18,8,20,1,25,20176683.75,5,553,19943,253420,1436605,343406.91,1364.81,12.5,5,2.5,0,1500000]
[null,803,"2012-09-14",16,25,20,1,17,24,18,14,5,4,19,23,15,12,21,19998111.25,2,319,14077,224953,1170867,1040835.54,2007.88,12.5,5,2.5,0,1500000]
[null,804,"2012-09-17",1,13,7,23,24,6,3,20,18,17,5,4,21,8,15,19564370,2,673,22456,279926,1454905,749492.98,979.04,12.5,5,2.5,0,1500000]
[null,805,"2012-09-19",17,6,11,25,1,16,24,13,14,20,2,4,9,22,7,17830823.75,21,1094,24537,244328,1175059,73297.8,618.45000000000005,12.5,5,2.5,0,1500000]
[null,806,"2012-09-21",14,25,10,5,3,15,1,20,2,16,24,19,8,7,6,18415626.25,4,396,15701,207341,1215583,436171.53,1355.62,12.5,5,2.5,0,1500000]
[null,807,"2012-09-24",19,7,22,25,8,24,11,13,10,21,18,5,4,3,2,18554810,3,575,21501,263246,1395959,469071.25,1075.74,12.5,5,2.5,0,1500000]
[null,808,"2012-09-26",18,6,17,10,16,24,12,22,4,11,21,14,7,20,25,17128637.5,2,408,16656,219780,1150494,763613.67,1151.76,12.5,5,2.5,0,1500000]
[null,809,"2012-09-28",5,2,21,18,1,25,13,16,24,7,9,23,22,19,4,18514736.25,4,517,19419,239501,1286455,397402.39,1351.5,12.5,5,2.5,0,1500000]
[null,810,"2012-10-01",6,3,23,15,22,1,24,16,18,12,17,7,21,9,11,15786400,3,409,14015,187792,1002410,504877.83,1627.8,12.5,5,2.5,0,1500000]
[null,811,"2012-10-03",4,2,17,20,12,3,7,14,19,10,1,5,22,9,6,18698475,6,672,21352,257487,1310561,257846.23,1011.95,12.5,5,2.5,0,1500000]
[null,812,"2012-10-05",18,1,5,14,20,8,17,24,3,19,11,21,23,7,25,18886653.75,0,624,25390,308568,1429406,0,923.08,12.5,5,2.5,1310405.58,3500000]
[null,813,"2012-10-08",3,8,23,1,16,21,10,12,7,5,19,4,24,25,6,24156510,6,648,24441,333884,1667788,558823.21,1385.52,12.5,5,2.5,0,1500000]
[null,814,"2012-10-10",11,12,4,8,17,21,10,24,13,20,19,3,14,22,23,18560160,4,600,22872,271058,1435954,334305.28000000003,979.64,12.5,5,2.5,0,1500000]
[null,815,"2012-10-13",10,20,14,25,8,11,18,7,17,15,22,6,21,23,24,15296943.75,4,342,13448,168329,980109,372368.06,1340.06,12.5,5,2.5,0,1500000]
[null,816,"2012-10-15",13,17,5,25,19,12,8,15,2,3,23,10,16,9,11,15018285,7,646,22125,253513,1198937,134514.23000000001,640.69000000000005,12.5,5,2.5,0,1500000]
[null,817,"2012-10-17",10,23,8,4,25,12,17,24,11,20,18,2,3,5,1,18587293.75,2,610,21700,260178,1373657,722468.13,1041.2,12.5,5,2.5,0,1500000]
[null,818,"2012-10-19",8,24,22,11,5,14,16,23,10,19,25,6,4,20,13,18525706.25,1,624,21181,258295,1329626,1489921.97,1049.53,12.5,5,2.5,0,1500000]
[null,819,"2012-10-22",12,22,8,6,18,5,3,21,20,19,4,7,9,11,10,18352647.5,36,1082,21294,214375,1165488,48367.86,707.37,12.5,5,2.5,0,1500000]
[null,820,"2012-10-24",3,8,22,9,2,1,7,24,6,16,5,13,23,15,10,16648788.75,2,336,13763,196984,1167096,740274.96,1355.81,12.5,5,2.5,0,1500000]
[null,821,"2012-10-26",25,17,24,7,10,11,3,9,12,21,5,16,23,14,4,17834233.75,2,579,19967,249292,1296383,708314.66,1075.46,12.5,5,2.5,0,1500000]
[null,822,"2012-10-29",3,15,22,11,24,2,14,18,12,5,19,17,21,16,23,18111302.5,1,296,11641,208306,1109999,1824731.69,1896.81,12.5,5,2.5,0,1500000]
[null,823,"2012-10-31",2,5,12,16,20,24,22,9,25,11,13,19,4,1,14,16985505,4,400,16440,217928,1173200,369543.37,1624.36,12.5,5,2.5,0,1500000]
[null,824,"2012-11-03",22,4,3,7,19,21,24,14,20,11,15,25,13,2,12,14889361.25,3,372,14049,199656,1066653,411569.27,1458.94,12.5,5,2.5,0,1500000]
[null,825,"2012-11-05",14,22,13,25,23,7,1,15,9,11,17,8,6,10,19,15245956.25,0,321,13676,194946,1102942,0,1224.72,12.5,5,2.5,1277687.1299999999,3200000]
[null,826,"2012-11-07",16,5,20,19,3,23,24,6,14,18,13,12,21,15,17,23427083.75,2,464,19131,323724,1549302,1681109.32,1382.32,12.5,5,2.5,0,1500000]
[null,827,"2012-11-09",4,1,10,17,5,16,12,2,9,22,7,14,21,24,13,19181305,4,749,22525,252917,1301729,414388.43,972.75,12.5,5,2.5,0,1500000]
[null,828,"2012-11-12",19,9,15,8,23,17,25,14,6,7,20,12,24,22,1,19353661.25,1,426,17522,237277,1283313,1777058.21,1283.54,12.5,5,2.5,0,1500000]
[null,829,"2012-11-14",8,22,5,14,16,9,23,11,7,2,13,25,24,18,17,18428756.25,10,679,22284,260616,1362720,142130.62,920.1,12.5,5,2.5,0,1300000]
[null,830,"2012-11-16",10,11,1,19,14,23,21,9,6,16,4,12,24,17,13,15071156.25,2,534,17262,207129,1036556,635039.66,1045.46,12.5,5,2.5,0,1500000]
[null,831,"2012-11-19",18,2,1,14,22,11,17,5,9,10,3,12,20,21,16,18351518.75,5,380,15079,200701,1166531,361257.3,1462.58,12.5,5,2.5,0,1500000]
[null,832,"2012-11-21",19,15,6,12,24,10,2,16,8,22,7,25,11,5,23,15774686.25,5,454,17170,201563,1119723,265914.15000000002,1287.28,12.5,5,2.5,0,1500000]
[null,833,"2012-11-23",11,16,12,2,5,17,6,25,22,19,10,7,20,18,13,17782995,3,388,15241,193234,1167472,569138.06000000006,1354.01,12.5,5,2.5,0,1500000]
[null,834,"2012-11-26",10,14,23,19,22,4,2,18,7,21,9,16,8,11,20,18661801.25,5,420,17962,226287,1268091,335660.48,1229.53,12.5,5,2.5,0,1500000]
[null,835,"2012-11-28",2,15,19,18,14,25,8,4,17,6,12,21,16,1,24,17231137.5,3,525,18152,210969,1095894,540466.93999999994,1357.53,12.5,5,2.5,0,1500000]
[null,836,"2012-11-30",9,18,12,15,4,10,14,21,20,16,25,8,7,22,2,17819526.25,4,953,26739,271546,1199701,358628.95,661.65,12.5,5,2.5,0,1500000]
[null,837,"2012-12-03",16,10,15,22,13,12,7,3,11,8,1,18,24,14,20,19114098.75,7,1008,27317,277627,1372043,211520.18,645.66,12.5,5,2.5,0,1500000]
[null,838,"2012-12-05",9,15,18,10,23,20,14,21,16,4,2,24,5,11,7,18270202.5,21,1476,29280,275669,1247019,68910.69,430.96,12.5,5,2.5,0,1500000]
[null,839,"2012-12-07",21,19,6,3,22,7,16,17,25,24,13,2,8,14,4,18331547.5,2,676,22509,241091,1294913,761053.31,989.73,12.5,5,2.5,0,1500000]
[null,840,"2012-12-10",13,21,20,4,19,6,18,17,25,9,11,22,2,23,12,17918256.25,4,517,20471,238033,1300029,363014.59,1234.55,12.5,5,2.5,0,1500000]
[null,841,"2012-12-12",21,24,13,5,10,14,3,12,17,20,6,16,1,8,15,18011136.25,8,856,25459,260857,1274520,177422.96,728.86,12.5,5,2.5,0,1500000]
[null,842,"2012-12-14",10,3,15,13,20,19,5,18,14,4,7,22,11,21,24,18118220,5,540,18864,248513,1313130,292500.78999999998,1190.47,12.5,5,2.5,0,1500000]
[null,843,"2012-12-17",16,20,7,24,15,22,19,21,12,13,3,4,17,11,8,18441486.25,8,648,20895,252678,1334734,185206.1,1005.05,12.5,5,2.5,0,1500000]
[null,844,"2012-12-19",25,24,8,17,22,12,19,1,3,15,10,16,5,9,7,17358705,3,1228,27512,263661,1262197,428223.99,459.84,12.5,5,2.5,0,1500000]
[null,845,"2012-12-21",12,7,2,4,25,23,21,18,11,22,19,16,14,24,6,17492081.25,3,793,23506,259071,1318336,426917.92,709.92,12.5,5,2.5,0,1500000]
[null,846,"2012-12-24",9,10,24,20,15,23,14,1,21,11,6,4,19,13,25,12369433.75,1,353,15268,168718,874155,1012416.25,1260.67,12.5,5,2.5,0,1500000]
[null,847,"2012-12-26",17,11,21,7,9,18,14,13,20,1,6,25,10,3,5,13371633.75,3,896,22641,217004,1002422,305151.89,449.1,12.5,5,2.5,0,1500000]
[null,848,"2012-12-28",2,25,24,9,23,18,21,5,19,16,3,13,14,8,17,17100522.5,1,545,19542,245263,1288476,1290253.81,1040.6300000000001,12.5,5,2.5,0,1500000]
[null,849,"2012-12-31",14,4,25,5,17,12,23,10,20,15,24,16,1,18,13,10505580,2,199,9441,109273,711303,496366.5,1534.96,12.5,5,2.5,0,1500000]
[null,850,"2013-01-02",23,20,2,14,18,13,3,7,24,10,19,21,8,5,22,12762088.75,2,512,17089,193062,988193,447801.1,768.88,12.5,5,2.5,0,1500000]
[null,851,"2013-01-04",20,4,1,5,10,22,17,18,24,6,14,15,13,7,19,18674728.75,3,436,16305,219507,1236748,580464.31000000006,1228.93,12.5,5,2.5,0,1500000]
[null,852,"2013-01-07",25,4,21,5,23,1,11,20,2,12,16,18,24,3,8,18899070,4,637,22866,244914,1344171,392253.82,1082.69,12.5,5,2.5,0,1500000]
[null,853,"2013-01-09",21,6,19,12,20,23,18,2,11,5,3,17,9,8,22,18232433.75,4,620,21095,255063,1209445,393932.77,1117.1400000000001,12.5,5,2.5,0,1500000]
[null,854,"2013-01-11",14,10,18,17,15,1,13,8,21,5,3,2,9,22,20,19507543.75,2,611,20559,247077,1328568,858416.7,1235.0999999999999,12.5,5,2.5,0,1500000]
[null,855,"2013-01-14",8,1,9,14,18,17,23,3,13,4,10,11,25,24,15,19407508.75,3,939,29033,302371,1494280,444770.18,624.61,12.5,5,2.5,0,1500000]
[null,856,"2013-01-16",13,22,3,7,9,12,20,2,25,8,23,19,15,11,16,18343636.25,5,726,23511,267485,1363911,276059.48,835.7,12.5,5,2.5,0,1500000]
[null,857,"2013-01-18",13,15,18,20,8,3,14,11,21,1,4,16,6,24,19,18682645,3,673,24966,241502,1303212,522692.52,1024.1600000000001,12.5,5,2.5,0,1500000]
[null,858,"2013-01-21",4,22,23,20,5,3,9,11,12,25,6,19,1,17,8,18491177.5,5,768,21496,251218,1264567,314263.90999999997,899.33,12.5,5,2.5,0,1500000]
[null,859,"2013-01-23",4,2,10,5,19,13,18,17,14,9,6,11,20,1,3,17473637.5,2,534,16155,198163,1148941,825060.53,1358.29,12.5,5,2.5,0,1500000]
[null,860,"2013-01-25",19,25,7,16,14,3,6,15,4,24,10,13,22,5,9,17514966.25,2,604,18789,225126,1233144,743148.03,1081.6500000000001,12.5,5,2.5,0,1500000]
[null,861,"2013-01-28",19,2,4,17,11,23,6,14,1,10,15,7,22,3,9,18523993.75,3,585,23260,247055,1332032,500196.28,1127.52,12.5,5,2.5,0,1500000]
[null,862,"2013-01-30",20,3,14,19,23,1,4,13,17,15,18,2,10,24,5,17324085,7,536,16686,232945,1205922,210457.52,1208.1300000000001,12.5,5,2.5,0,1500000]
[null,863,"2013-02-01",1,19,3,18,24,4,23,16,15,22,8,17,7,13,25,18625072.5,4,623,23916,280852,1424173,333851.01,942.2,12.5,5,2.5,0,1500000]
[null,864,"2013-02-04",15,3,18,17,23,13,10,19,8,16,22,12,6,24,21,19244100,3,499,20453,254855,1400075,521879.24,1379.14,12.5,5,2.5,0,1500000]
[null,865,"2013-02-06",10,22,1,13,5,19,21,7,25,4,6,3,23,20,18,18362361.25,0,363,15299,207857,1307893,0,1381.76,12.5,5,2.5,1630127.69,3500000]
[null,866,"2013-02-08",24,14,5,10,23,20,9,13,2,11,18,7,1,3,8,26418763.75,6,1067,38460,434094,2185789,538137.43999999994,658.59,12.5,5,2.5,0,1500000]
[null,867,"2013-02-13",7,6,8,3,13,21,14,10,25,2,15,22,12,5,4,17667313.75,1,271,11860,217737,1146385,1671716.32,1898.06,12.5,5,2.5,0,1500000]
[null,868,"2013-02-15",8,3,21,12,16,10,19,9,14,1,22,24,2,17,13,19980825,9,861,23196,259504,1410881,186080.57,854.98,12.5,5,2.5,0,1500000]
[null,869,"2013-02-18",9,25,22,1,24,12,14,10,20,3,11,23,6,18,21,19500600,6,462,16673,227592,1294999,303342.90000000002,1212.1600000000001,12.5,5,2.5,0,1500000]
[null,870,"2013-02-20",7,13,18,12,14,17,1,8,23,10,5,6,4,16,2,17895286.25,5,534,18402,229018,1293585,297412.88,1224.07,12.5,5,2.5,0,1500000]
[null,871,"2013-02-22",4,23,9,13,17,6,8,24,14,10,22,19,2,15,12,19069448.75,10,1349,34291,337387,1507148,114239.79,372.24,12.5,5,2.5,0,1500000]
[null,872,"2013-02-25",7,2,5,22,12,1,23,18,4,17,6,13,10,14,9,19163885,12,1178,39405,285047,1447871,109893.96,492.07,12.5,5,2.5,0,1500000]
[null,873,"2013-02-27",7,6,11,9,15,14,17,25,13,12,8,18,3,2,22,18031671.25,0,436,16361,224617,1379565,0,1449.94,12.5,5,2.5,1438198.73,3500000]
[null,874,"2013-03-01",16,23,8,1,7,20,4,10,5,21,19,2,25,9,6,25805801.25,5,652,20630,277988,1565472,815257.42,1244.97,12.5,5,2.5,0,1500000]
[null,875,"2013-03-04",4,9,21,24,12,15,13,22,6,23,25,10,2,8,18,19919950,6,639,22578,289536,1444698,259876.31,1072.5899999999999,12.5,5,2.5,0,1500000]
[null,876,"2013-03-06",6,14,9,21,20,16,18,13,7,5,24,25,3,12,23,18787198.75,8,1246,30945,279515,1325097,180454.88,509.28,12.5,5,2.5,0,1500000]
[null,877,"2013-03-08",23,10,16,11,19,3,15,14,25,18,21,7,8,9,13,19597015,6,663,25186,310648,1565268,215761.17,858.28,12.5,5,2.5,0,1500000]
[null,878,"2013-03-11",22,19,7,25,6,2,23,3,13,10,14,1,5,16,12,19392932.5,6,768,22360,255856,1367825,269834.67,926.63,12.5,5,2.5,0,1500000]
[null,879,"2013-03-13",9,2,25,13,4,18,22,3,15,12,16,24,7,10,21,18674900,5,968,26353,274750,1335540,289245.09999999998,656.71,12.5,5,2.5,0,1500000]
[null,880,"2013-03-15",8,14,2,5,19,22,25,6,18,10,21,24,7,16,23,19170513.75,2,349,15293,229425,1289758,881792.84,1554.85,12.5,5,2.5,0,1500000]
[null,881,"2013-03-18",21,4,8,1,7,3,20,23,16,19,6,15,5,22,9,19069537.5,4,315,12529,180215,1137337,511103.33,1996.99,12.5,5,2.5,0,1500000]
[null,882,"2013-03-20",10,2,12,19,7,17,22,25,14,13,18,24,11,8,1,17423412.5,4,1528,30723,283011,1349117,284119.18,326.93,12.5,5,2.5,0,1500000]
[null,883,"2013-03-22",22,21,6,12,8,18,3,17,25,19,10,5,7,16,9,18211077.5,2,337,13011,197609,1174217,894105.58,1632.7,12.5,5,2.5,0,1500000]
[null,884,"2013-03-25",17,10,12,21,25,19,9,8,13,4,15,7,18,20,1,17781113.75,1,461,17526,227344,1270539,1499202.51,1429.47,12.5,5,2.5,0,1500000]
[null,885,"2013-03-27",7,19,23,17,8,16,2,18,9,11,22,24,12,5,15,17061415,2,558,20230,235542,1212096,693752.81,1092.99,12.5,5,2.5,0,1400000]
[null,886,"2013-03-30",15,21,12,13,1,8,23,16,20,4,3,10,11,17,7,12752508.75,1,563,16939,182281,940142,973721.37,760.22,12.5,5,2.5,0,1500000]
[null,887,"2013-04-01",15,10,8,6,1,21,25,19,11,12,24,18,17,23,20,14728711.25,0,298,12875,179140,1041375,0,1326.42,12.5,5,2.5,1284636.43,3500000]
[null,888,"2013-04-03",13,20,12,22,6,11,1,18,17,19,14,24,16,3,21,23107931.25,2,393,15434,261790,1404803,1815769.98,1837.47,12.5,5,2.5,0,1500000]
[null,889,"2013-04-05",5,7,19,2,6,25,12,9,4,21,13,22,16,11,18,18783946.25,3,791,23286,260548,1299921,519445.26,865.97,12.5,5,2.5,0,1500000]
[null,890,"2013-04-08",3,7,1,11,23,6,17,19,24,4,2,18,8,5,16,18167783.75,1,320,12755,170521,1105971,1920251.01,1846.39,12.5,5,2.5,0,1500000]
[null,891,"2013-04-10",5,24,17,23,8,16,19,15,7,25,14,12,6,1,21,17917886.25,6,528,18305,226702,1213232,264802.15999999997,1322.68,12.5,5,2.5,0,1500000]
[null,892,"2013-04-12",6,24,13,3,14,2,19,10,16,20,17,21,22,1,5,18374991.25,2,371,14972,210654,1145292,906556.3,1503.72,12.5,5,2.5,0,1500000]
[null,893,"2013-04-15",8,23,22,6,3,2,5,24,16,9,11,4,1,15,20,18614280,0,317,15045,195002,1120532,0,1867.89,12.5,5,2.5,1924396.65,3500000]
[null,894,"2013-04-17",21,2,18,15,22,6,9,13,12,19,24,25,14,5,1,24047731.25,4,680,24711,296746,1647289,1012853.58,1374.93,12.5,5,2.5,0,1800000]
[null,895,"2013-04-19",25,13,18,17,21,2,5,16,8,12,6,11,3,19,4,18479786.25,1,338,14796,220017,1268428,1673734.65,1523.65,12.5,5,2.5,0,1800000]
[null,896,"2013-04-22",8,13,15,1,2,7,12,20,18,4,17,19,3,6,23,18668972.5,0,466,18447,244774,1373544,0,1429.01,12.5,5,2.5,1514969.52,3500000]
[null,897,"2013-04-24",23,21,9,16,1,11,8,13,10,2,17,14,7,5,18,23234852.5,1,709,25323,314853,1703480,3370586.64,1150.43,12.5,5,2.5,0,1500000]
[null,898,"2013-04-26",14,1,24,20,10,11,4,18,12,8,9,21,6,13,25,18484898.75,0,413,16363,225211,1244150,0,1252.8599999999999,12.5,5,2.5,1681646.19,3500000]
[null,899,"2013-04-29",21,9,20,25,4,10,23,7,15,16,1,14,17,18,12,21944132.5,8,1388,30635,301450,1415514,450823.74,609.6,12.5,5,2.5,0,1500000]
[null,900,"2013-05-03",2,11,7,20,6,25,15,1,13,8,22,10,24,18,12,23308606.25,4,623,26290,317179,1660909,477005.53,1346.21,12.5,5,2.5,0,1600000]
[null,901,"2013-05-06",22,1,7,6,24,10,16,23,4,13,18,12,14,25,2,19423522.5,1,773,26599,295122,1387162,1489699.46,847.1,12.5,5,2.5,0,1500000]
[null,902,"2013-05-08",24,2,11,4,8,17,5,25,9,1,6,3,20,21,23,18312502.5,1,405,17134,229724,1202494,1679849,1276.24,12.5,5,2.5,0,1500000]
[null,903,"2013-05-10",6,20,5,16,8,18,10,2,15,11,13,3,4,1,22,18197715,29,2346,39605,326542,1316206,40670.559999999998,220.98,12.5,5,2.5,0,1500000]
[null,904,"2013-05-13",10,17,16,18,20,22,13,24,7,19,6,9,1,12,5,19076688.75,3,415,16417,220320,1278228,590743.42000000004,1313.98,12.5,5,2.5,0,1500000]
[null,905,"2013-05-15",6,14,20,16,4,11,12,21,1,22,8,23,17,10,13,17903935,3,485,16607,217383,1173879,553880.28,1505.96,12.5,5,2.5,0,1500000]
[null,906,"2013-05-17",5,3,7,10,8,12,22,6,24,1,17,21,18,2,9,17977238.75,1,386,14657,215661,1228374,1629342.76,1298.8,12.5,5,2.5,0,1500000]
[null,907,"2013-05-20",14,4,8,23,5,3,21,13,2,7,20,16,15,22,10,18435088.75,2,442,16685,217658,1244971,843043.83999999997,1676.78,12.5,5,2.5,0,1500000]
[null,908,"2013-05-22",1,15,4,10,12,23,17,13,25,2,18,6,24,9,7,17391132.5,7,1017,27083,290423,1335423,164204.09,496.79,12.5,5,2.5,0,1500000]
[null,909,"2013-05-24",1,8,6,18,3,12,20,13,21,11,7,10,2,22,5,17771860,4,881,27127,325358,1425730,260807.95,520.5,12.5,5,2.5,0,1700000]
[null,910,"2013-05-27",5,11,17,8,6,24,25,20,16,18,3,19,4,13,9,17987955,5,330,13990,200079,1200310,340530.9,1587.56,12.5,5,2.5,0,1700000]
[null,911,"2013-05-29",24,2,17,5,11,21,6,22,25,15,23,3,8,1,13,16371787.5,3,589,20961,268655,1264410,370128.44,828.66,12.5,5,2.5,0,1500000]
[null,912,"2013-05-31",17,14,20,23,15,22,16,4,18,7,21,2,10,3,19,15064735,1,292,12155,163319,921138,1528795.01,1610.96,12.5,5,2.5,0,1500000]
[null,913,"2013-06-03",25,22,20,10,19,24,13,5,18,12,6,17,4,15,3,18296872.5,3,590,21490,240493,1311737,501060.12,1119.8900000000001,12.5,5,2.5,0,1500000]
[null,914,"2013-06-05",5,4,22,12,24,3,1,11,23,18,17,15,6,10,20,17880816.25,2,552,19480,238528,1209768,775870.83,1235.6500000000001,12.5,5,2.5,0,1500000]
[null,915,"2013-06-07",11,20,24,2,10,4,13,5,23,25,8,22,18,1,6,18697866.25,9,1332,37060,362584,1581577,101137.76,300.37,12.5,5,2.5,0,1500000]
[null,916,"2013-06-10",6,24,17,5,19,4,13,18,3,23,7,1,2,14,11,18717087.5,1,595,24818,250098,1382286,1466315.15,1083.25,12.5,5,2.5,0,1500000]
[null,917,"2013-06-12",3,21,1,5,4,14,11,20,19,6,13,22,24,2,17,18766985,1,766,24559,264249,1293661,1546399.44,887.38,12.5,5,2.5,0,1500000]
[null,918,"2013-06-14",1,23,8,9,4,22,21,3,2,13,6,16,17,14,15,18813556.25,4,575,18440,209885,1221424,449094.15,1373.24,12.5,5,2.5,0,1500000]
[null,919,"2013-06-17",5,13,4,21,14,11,3,1,22,7,17,9,19,2,10,19015487.5,9,1206,33391,346016,1553998,118198.45,387.72,12.5,5,2.5,0,1500000]
[null,920,"2013-06-19",19,2,5,4,1,3,23,10,6,16,20,15,13,12,22,17195903.75,7,547,17147,223119,1242588,203650.6,1145.55,12.5,5,2.5,0,1500000]
[null,921,"2013-06-21",18,4,3,16,17,15,2,25,24,21,9,7,12,1,19,17756240,4,398,16049,213764,1205437,401892.27,1242.81,12.5,5,2.5,0,1500000]
[null,922,"2013-06-24",23,2,17,21,8,12,4,9,5,20,6,22,16,24,15,15549668.75,1,427,15537,183545,984851,1488198.17,1531.97,12.5,5,2.5,0,1500000]
[null,923,"2013-06-26",14,15,1,7,4,19,22,12,5,6,10,20,24,25,3,15782213.75,4,517,19016,219239,1086654,329495.59000000003,1120.56,12.5,5,2.5,0,1500000]
[null,924,"2013-06-28",16,8,17,2,20,7,6,12,18,1,10,19,14,24,9,17571391.25,1,672,14155,191662,1056793,1800682.99,1177.8399999999999,12.5,5,2.5,0,1500000]
[null,925,"2013-07-01",12,3,16,23,7,25,22,1,4,6,24,14,13,9,15,17492985,6,481,16892,221428,1230987,250591.53,1374.01,12.5,5,2.5,0,1500000]
[null,926,"2013-07-03",14,1,11,19,15,5,13,24,9,12,7,6,10,8,21,17745471.25,2,318,11117,210197,1104449,878225.88,1699.52,12.5,5,2.5,0,1500000]
[null,927,"2013-07-05",23,22,2,5,9,6,3,14,13,21,16,17,11,20,25,17489780,4,645,19588,223824,1184092,383866.49,1046.4000000000001,12.5,5,2.5,0,1500000]
[null,928,"2013-07-08",11,14,1,9,19,4,12,24,6,8,10,25,17,15,23,18374512.5,3,589,22476,251909,1273880,510071.24,1141.97,12.5,5,2.5,0,1500000]
[null,929,"2013-07-10",23,2,18,25,14,1,21,11,9,8,20,7,4,5,10,16938465,2,605,20584,235562,1184553,696075.8,1011.46,12.5,5,2.5,0,1500000]
[null,930,"2013-07-12",9,20,24,2,11,14,15,16,5,25,6,12,22,23,3,18370201.25,4,482,18859,235113,1203273,417112.07,1521.54,12.5,5,2.5,0,1500000]
[null,931,"2013-07-15",20,19,16,5,8,3,25,14,12,10,22,11,2,6,24,18657858.75,19,1615,32934,303814,1274917,74116.89,383.28,12.5,5,2.5,0,1500000]
[null,932,"2013-07-17",16,18,4,8,12,13,20,14,1,25,21,5,23,15,22,17887972.5,3,431,16472,217357,1260341,520306.74,1591.92,12.5,5,2.5,0,1500000]
[null,933,"2013-07-19",14,17,19,15,7,5,11,24,23,2,16,4,10,6,3,17608676.25,4,519,18529,225802,1185113,389910.27,1320.91,12.5,5,2.5,0,1500000]
[null,934,"2013-07-22",22,24,21,8,20,3,23,4,14,25,11,9,2,10,19,17978643.75,6,1126,17604,209344,1237028,269565.06,631.38,12.5,5,2.5,0,1500000]
[null,935,"2013-07-24",7,22,19,18,3,4,1,2,10,14,23,5,6,12,9,16400607.5,7,629,22633,234740,1275273,167349.73000000001,818.63,12.5,5,2.5,0,1500000]
[null,936,"2013-07-26",7,4,1,8,18,25,2,15,3,13,6,17,20,19,23,16477340,5,3650,16529,214200,1213359,267737.75,161.21,12.5,5,2.5,0,1500000]
[null,937,"2013-07-29",23,2,20,14,25,19,6,9,1,11,13,24,10,16,12,18039021.25,2,656,19164,219599,1203128,817920.91,1096.1099999999999,12.5,5,2.5,0,1500000]
[null,938,"2013-07-31",19,6,7,17,20,15,11,25,13,16,18,3,4,10,2,17368430,2,345,12679,194650,1132978,837484.55,1493.84,12.5,5,2.5,0,1500000]
[null,939,"2013-08-02",11,21,25,1,7,5,20,9,10,18,16,6,4,19,15,18428811.25,5,517,20035,218275,1224319,337573.04,1435.04,12.5,5,2.5,0,1500000]
[null,940,"2013-08-05",25,14,18,24,4,17,3,2,9,20,19,16,13,7,6,18811687.5,8,451,16919,239217,1286223,208026.73,1622,12.5,5,2.5,0,1500000]
[null,941,"2013-08-07",11,25,16,3,15,18,4,5,2,9,10,7,1,8,23,18770717.5,2,612,19474,262227,1500058,672945.71,966.66,12.5,5,2.5,0,1500000]
[null,942,"2013-08-09",13,18,5,1,21,6,4,24,11,22,12,3,7,19,20,18783558.75,7,708,21665,250433,1272846,231612.43,1006.57,12.5,5,2.5,0,1500000]
[null,943,"2013-08-12",5,18,14,13,12,10,23,3,6,9,15,21,17,4,22,18646142.5,5,606,18987,218844,1235693,344624.4,1249.8599999999999,12.5,5,2.5,0,1500000]
[null,944,"2013-08-14",16,9,21,8,10,12,11,24,19,1,14,13,25,17,18,17571705,3,352,13000,182856,1124962,583268.77,1529.55,12.5,5,2.5,0,1500000]
[null,945,"2013-08-16",13,4,21,2,9,20,3,19,24,6,18,23,11,25,5,17942240,2,559,20641,273823,1431531,612444.66,963.17,12.5,5,2.5,0,1500000]
[null,946,"2013-08-19",1,22,10,24,14,20,21,16,7,19,25,18,9,8,17,18726688.75,3,329,17278,190012,1087707,660967.05000000005,1854.48,12.5,5,2.5,0,1500000]
[null,947,"2013-08-21",3,9,7,16,22,18,10,1,11,12,5,24,15,2,20,17770275,8,1345,30342,262698,1254138,170295.8,445.23,12.5,5,2.5,0,1500000]
[null,948,"2013-08-23",18,2,5,16,21,6,11,9,13,1,19,24,22,8,17,17923508.75,0,538,17838,210919,1198126,0,1344.56,12.5,5,2.5,1645684.55,4000000]
[null,949,"2013-08-26",10,17,11,23,8,15,12,6,13,9,14,7,1,21,16,24481728.75,3,664,18552,266592,1542831,1360692.32,1612.86,12.5,5,2.5,0,1500000]
[null,950,"2013-08-28",25,12,20,5,21,17,9,8,4,14,13,2,18,7,19,17058010,5,780,21614,241710,1244871,265527.67,748.17,12.5,5,2.5,0,1500000]
[null,951,"2013-08-30",21,7,25,19,10,17,14,9,15,3,22,8,13,20,23,17676410,1,531,19677,259631,1345575,1307191.51,1082.08,12.5,5,2.5,0,70000000]
[null,952,"2013-09-07",12,3,18,17,6,4,8,11,14,23,19,21,25,22,1,184038946.25,66,7312,217355,2405881,12609108,1107491.1499999999,950.3,12.5,5,2.5,0,1500000]
[null,953,"2013-09-09",1,9,13,12,21,16,10,7,24,15,14,18,5,2,6,16340968.75,3,529,20127,219556,1173802,441240.97,1099.9100000000001,12.5,5,2.5,0,1500000]
[null,954,"2013-09-11",11,14,25,23,6,20,13,8,24,3,16,18,12,10,5,21839597.5,4,1216,41600,399445,1612147,348758.66,504.27,12.5,5,2.5,0,1500000]
[null,955,"2013-09-13",4,5,16,7,24,11,1,12,21,14,2,9,13,18,10,22536213.75,8,789,40298,311297,1651649,212195.77,945.73,12.5,5,2.5,0,1500000]
[null,956,"2013-09-16",5,6,16,13,2,12,17,22,8,4,21,11,18,3,19,20886370,7,2656,21500,273772,1429577,258859.09,299.88,12.5,5,2.5,0,1500000]
[null,957,"2013-09-18",24,15,22,5,8,6,1,23,16,25,13,21,4,7,3,20473332.5,4,529,18110,247759,1386724,464123.27,1542.61,12.5,5,2.5,0,1500000]
[null,958,"2013-09-20",19,14,24,4,6,20,5,1,9,17,21,16,12,13,22,20383113.75,6,980,22313,253805,1297377,317066.08,853.28,12.5,5,2.5,0,1500000]
[null,959,"2013-09-23",9,19,25,5,12,24,16,20,11,2,22,21,14,23,6,19957588.75,5,607,22665,244599,1331433,359474.45,1301.57,12.5,5,2.5,0,1500000]
[null,960,"2013-09-25",16,14,1,6,7,2,24,17,10,4,20,21,12,18,3,19443263.75,5,502,20532,241227,1300020,349978.92,1532.23,12.5,5,2.5,0,1500000]
[null,961,"2013-09-27",1,4,18,20,7,12,22,2,11,15,25,21,5,9,3,19846927.5,4,604,20840,249984,1392852,425868.23,1239.7,12.5,5,2.5,0,1500000]
[null,962,"2013-09-30",15,1,6,25,14,13,23,21,22,4,17,20,8,9,11,19782530,4,781,21183,246810,1332274,441188.11,993.23,12.5,5,2.5,0,1500000]
[null,963,"2013-10-02",11,23,15,14,7,3,19,18,9,16,17,6,4,10,24,19823418.75,2,516,20536,221115,1281293,946534.38,1612.63,12.5,5,2.5,0,1500000]
[null,964,"2013-10-04",2,23,4,9,15,1,20,3,10,19,11,7,18,17,21,20611673.75,1,635,25422,300656,1559672,1525545.03,1056.01,12.5,5,2.5,0,1500000]
[null,965,"2013-10-07",13,18,14,24,19,15,10,22,21,8,16,3,4,11,9,19458092.5,2,622,20589,241750,1310749,869573.18,1229.03,12.5,5,2.5,0,1500000]
[null,966,"2013-10-09",4,11,6,21,7,5,12,3,10,17,2,8,25,19,22,19708068.75,5,416,18161,250337,1355925,346419.9,1281.1400000000001,12.5,5,2.5,0,1500000]
[null,967,"2013-10-11",17,4,25,16,22,11,23,21,2,10,20,8,6,9,3,20295466.25,1,334,15293,212557,1271457,2048091.22,1886.77,12.5,5,2.5,0,1700000]
[null,968,"2013-10-14",11,7,9,20,19,5,3,4,2,18,14,16,21,13,25,16770608.75,3,563,19553,237192,1209535,444090.24,1040.1600000000001,12.5,5,2.5,0,1500000]
[null,969,"2013-10-16",16,17,20,18,5,1,4,12,24,3,10,22,19,11,9,19134560,1,349,14365,213655,1241095,1852893.52,1633.59,12.5,5,2.5,0,1700000]
[null,970,"2013-10-18",15,18,6,9,1,17,8,12,19,20,3,21,10,23,24,19973570,4,607,24331,249846,1361628,436203.49,1263.51,12.5,5,2.5,0,1700000]
[null,971,"2013-10-21",22,24,4,9,7,10,5,20,11,6,18,21,3,23,25,17907670,2,366,14198,200042,1193814,846432.42,1423.17,12.5,5,2.5,0,1600000]
[null,972,"2013-10-23",22,1,13,15,8,23,25,20,21,11,3,6,16,14,24,18678341.25,4,464,19035,283722,1277430,383556.17,1453.41,12.5,5,2.5,0,1500000]
[null,973,"2013-10-25",22,14,6,3,1,24,5,11,8,25,2,20,15,21,18,18753606.25,3,576,19978,265115,1335479,506745.39,1160.1300000000001,12.5,5,2.5,0,1500000]
[null,974,"2013-10-28",1,21,12,22,6,4,14,10,9,7,19,8,17,15,24,18494096.25,5,695,22636,246358,1242387,320341.33,1013.01,12.5,5,2.5,0,1500000]
[null,975,"2013-10-30",11,12,6,10,16,19,2,20,4,1,17,24,14,13,7,18390261.25,2,401,16544,229031,1232404,833166.32,1278.5999999999999,12.5,5,2.5,0,1500000]
[null,976,"2013-11-01",19,13,25,14,6,2,10,1,23,21,24,7,3,11,4,19788190,7,2748,28191,286509,1487285,208483.97,233.43,12.5,5,2.5,0,1500000]
[null,977,"2013-11-04",22,1,2,14,11,17,10,7,23,18,13,20,24,8,6,16245977.5,2,595,17352,208028,1115240,706660.34,1044.0999999999999,12.5,5,2.5,0,1500000]
[null,978,"2013-11-06",13,18,4,11,15,3,16,7,14,5,9,25,12,8,6,19404726.25,2,497,18888,270691,1285575,850463.44,1504.34,12.5,5,2.5,0,1500000]
[null,979,"2013-11-08",6,16,9,19,25,23,22,2,21,24,5,10,7,8,14,19679342.5,7,1621,12426,194099,1160041,301389.03999999998,572.08000000000004,12.5,5,2.5,0,1500000]
[null,980,"2013-11-11",12,22,9,24,20,11,7,10,21,2,6,8,17,13,1,18979775,2,470,15691,232629,1299322,852475.7,1594.53,12.5,5,2.5,0,1500000]
[null,981,"2013-11-13",22,24,16,6,9,2,4,18,19,1,25,8,3,12,21,19031186.25,1,1093,19962,247300,1311735,1643460.78,660.93,12.5,5,2.5,0,1500000]
[null,982,"2013-11-16",14,5,23,3,4,21,9,7,1,13,17,18,6,24,20,15837672.5,5,777,21758,231267,1182844,235343.01,665.68,12.5,5,2.5,0,1500000]
[null,983,"2013-11-18",14,8,15,2,10,7,4,18,19,25,5,21,16,11,6,15869077.5,3,465,17205,201368,1073246,467196.08,1324.9,12.5,5,2.5,0,1500000]
[null,984,"2013-11-20",25,15,13,4,2,9,24,12,23,10,22,8,11,20,21,15984548.75,3,375,15691,197747,1140552,455001.24,1600,12.5,5,2.5,0,1500000]
[null,985,"2013-11-22",3,21,9,13,24,6,4,17,12,7,22,14,18,23,25,18957911.25,9,840,25278,304564,1414280,150181.04999999999,707.28,12.5,5,2.5,0,1500000]
[null,986,"2013-11-25",2,14,7,13,1,11,22,21,23,20,15,5,16,24,18,18971103.75,1,427,17867,232109,1333445,1653206.74,1701.83,12.5,5,2.5,0,1500000]
[null,987,"2013-11-27",22,15,2,20,4,12,9,19,7,13,6,5,18,11,23,18375838.75,8,716,21787,249776,1288046,190392.1,935.07,12.5,5,2.5,0,1500000]
[null,988,"2013-11-29",15,3,20,9,13,7,17,11,1,24,25,5,12,16,19,19163553.75,7,1072,35064,328638,1390679,187033.84,536.83000000000004,12.5,5,2.5,0,1500000]
[null,989,"2013-12-02",13,15,4,22,10,9,8,19,14,3,24,17,18,6,23,19657371.25,10,1095,30921,329251,1459402,135213.85,542.78,12.5,5,2.5,0,1500000]
[null,990,"2013-12-04",7,8,13,19,20,6,24,22,10,11,12,16,15,5,1,19621093.75,3,530,20786,251909,1331774,574548.43000000005,1429.52,12.5,5,2.5,0,1500000]
[null,991,"2013-12-06",14,7,9,2,6,22,21,24,17,1,15,12,25,5,18,19777118.75,2,720,25051,262388,1339471,849021.42,1036.6500000000001,12.5,5,2.5,0,1500000]
[null,992,"2013-12-09",5,17,8,24,20,15,11,13,9,3,19,1,7,4,10,19036316.25,3,995,32986,343293,1586164,346622.4,459.38,12.5,5,2.5,0,1500000]
[null,993,"2013-12-11",7,5,12,17,20,4,2,25,24,9,14,21,10,23,22,18991796.25,13,1174,32773,282394,1382535,107871.93,525.04999999999995,12.5,5,2.5,0,1500000]
[null,994,"2013-12-13",25,23,12,18,8,15,5,11,16,9,3,22,13,7,14,19884807.5,4,665,29090,284340,1483517,370711.64,980.15,12.5,5,2.5,0,1500000]
[null,995,"2013-12-16",14,2,23,9,20,12,13,8,7,3,22,17,4,24,1,19261593.75,8,1390,47471,315664,1506672,144485.25,365.52,12.5,5,2.5,0,1500000]
[null,996,"2013-12-18",20,18,21,9,24,2,17,4,16,6,3,13,25,7,23,18908596.25,6,542,21222,254504,1323203,263717.90000000002,1283.24,12.5,5,2.5,0,1500000]
[null,997,"2013-12-20",2,24,22,4,18,7,15,10,19,5,12,23,16,17,9,18814730,1,888,26803,270089,1356413,1458533.01,721.97,12.5,5,2.5,0,1500000]
[null,998,"2013-12-23",19,1,5,3,22,2,14,12,9,20,11,17,21,23,4,18894196.25,4,503,19696,252244,1404744,375122.75,1311.24,12.5,5,2.5,0,1500000]
[null,999,"2013-12-27",6,2,14,16,24,15,18,10,1,13,21,8,12,5,7,21432236.25,13,3312,23248,278379,1533006,137174.65,236.67,12.5,5,2.5,0,1500000]
[null,1000,"2013-12-30",13,16,11,14,4,18,22,3,8,17,20,12,15,19,2,18167571.25,5,504,17116,177777,1174300,360234.73,1570.88,12.5,5,2.5,0,1500000]
[null,1001,"2014-01-03",23,8,6,17,14,25,21,13,12,10,19,11,5,20,7,21157848.75,2,552,23908,279583,1512176,872757.74,1389.96,12.5,5,2.5,0,1500000]
[null,1002,"2014-01-06",22,18,17,8,12,4,24,21,15,20,14,3,13,16,10,19844837.5,3,463,21800,281706,1399181,539409.18000000005,1536.3,12.5,5,2.5,0,1500000]
[null,1003,"2014-01-09",1,12,25,3,21,16,10,20,14,17,19,8,2,23,6,19534005,20,1491,30893,264106,1286624,83616.45,493.01,12.5,5,2.5,0,1500000]
[null,1004,"2014-01-10",12,21,10,3,6,22,15,18,25,19,14,20,2,1,24,19365566.25,2,634,16516,225118,1266871,915764.38,1269.82,12.5,5,2.5,0,1500000]
[null,1005,"2014-01-13",21,9,18,20,10,1,14,22,12,19,24,15,16,5,7,20220847.5,6,1029,27316,277192,1409828,276720.59999999998,709.24,12.5,5,2.5,0,1500000]
[null,1006,"2014-01-15",4,7,6,5,15,22,13,3,16,23,1,24,20,14,9,19601950,0,1040,20930,249120,1313774,0,737.87,12.5,5,2.5,1745812.02,4300000]
[null,1007,"2014-01-17",24,6,2,20,11,25,9,3,12,7,22,1,23,10,18,30205492.5,3,780,30264,372775,2076704,1471047.16,1503.14,12.5,5,2.5,0,1500000]
[null,1008,"2014-01-20",19,12,13,7,6,18,3,16,10,8,22,17,9,1,21,19504476.25,3,464,17351,229223,1308420,599333.56000000006,1703.29,12.5,5,2.5,0,1500000]
[null,1009,"2014-01-22",9,6,4,12,18,11,24,2,10,20,17,14,22,19,15,19523170,5,783,26432,287528,1428594,296150.96000000002,831.26,12.5,5,2.5,0,1500000]
[null,1010,"2014-01-24",11,4,21,8,14,10,1,2,15,19,13,23,6,16,22,20240820,1,781,23337,258572,1335140,1814272.5,1021.1,12.5,5,2.5,0,1500000]
[null,1011,"2014-01-27",4,19,9,25,18,10,17,7,23,3,24,15,1,13,5,19880980,11,1392,43614,417821,1647955,82614.289999999994,286.95999999999998,12.5,5,2.5,0,1500000]
[null,1012,"2014-01-29",16,17,1,25,7,15,12,24,18,9,11,21,14,2,22,19272168.75,2,497,21639,230443,1301971,865822.37,1531.51,12.5,5,2.5,0,1500000]
[null,1013,"2014-01-31",7,18,1,4,20,17,3,19,11,21,13,23,10,2,5,20231166.25,2,635,25378,316292,1619570,672939.33,931.64,12.5,5,2.5,0,1500000]
[null,1014,"2014-02-03",13,24,14,10,25,9,2,8,1,18,12,23,17,22,20,20258027.5,7,1002,29104,308448,1543385,204938.93,629.32000000000005,12.5,5,2.5,0,1500000]
[null,1015,"2014-02-05",3,23,18,13,17,21,1,7,2,5,15,8,20,16,6,19890783.75,5,705,22656,321143,1444547,296247.69,923.53,12.5,5,2.5,0,1500000]
[null,1016,"2014-02-07",15,3,19,20,25,2,21,23,1,12,6,14,5,11,16,20557996.25,3,450,18347,254800,1404566,611929.55000000005,1255.24,12.5,5,2.5,0,1500000]
[null,1017,"2014-02-10",21,4,16,10,9,3,2,19,8,11,12,17,23,1,15,19036435,4,538,18518,235827,1320821,417122.63,1363.2,12.5,5,2.5,0,1500000]
[null,1018,"2014-02-12",11,17,2,19,18,7,5,10,8,16,14,22,12,24,4,19522973.75,10,1333,32443,307032,1422788,140876.07,464.54,12.5,5,2.5,0,1500000]
[null,1019,"2014-02-14",22,3,18,8,12,20,7,5,21,2,4,17,23,1,10,19968448.75,4,495,21377,276435,1469227,394426.32,1401,12.5,5,2.5,0,1500000]
[null,1020,"2014-02-17",7,12,20,21,18,9,5,2,15,24,3,19,11,16,13,19793913.75,5,964,28119,294854,1434495,300401.49,684.87,12.5,5,2.5,0,1500000]
[null,1021,"2014-02-19",1,21,20,13,9,6,14,22,15,18,5,16,10,19,23,18898463.75,2,429,14862,202882,1235781,916666.52,1314.93,12.5,5,2.5,0,1500000]
[null,1022,"2014-02-21",25,9,10,21,3,22,18,5,16,7,8,4,24,1,14,19641053.75,1,377,16077,230634,1280395,1861269.7,1519.1,12.5,5,2.5,0,1500000]
[null,1023,"2014-02-24",21,18,9,11,16,14,8,23,6,22,3,7,13,2,1,19378468.75,5,795,31343,252290,1342968,320281.55,885.42,12.5,5,2.5,0,1500000]
[null,1024,"2014-02-26",7,2,23,4,14,13,20,17,10,9,12,22,11,21,1,19310845,1,844,28269,304887,1469479,1341782.52,698.8,12.5,5,2.5,0,1500000]
[null,1025,"2014-02-28",16,11,9,22,1,13,19,14,25,7,18,17,2,15,23,20086470,4,603,22967,290357,1511182,378225.98,1102.8399999999999,12.5,5,2.5,0,1500000]
[null,1026,"2014-03-05",1,6,7,12,19,11,20,16,24,18,14,23,5,15,21,17100081.25,3,359,14279,199800,1100769,545681.26,1403.08,12.5,5,2.5,0,1500000]
[null,1027,"2014-03-07",10,14,19,1,16,9,25,15,6,5,12,3,8,21,23,19800512.5,18,2355,38656,314914,1420132,78561.19,263.94,12.5,5,2.5,0,1500000]
[null,1028,"2014-03-10",4,25,5,11,24,17,20,7,10,19,6,9,8,23,16,18760833.75,1,359,12107,165118,1051937,2116472.2599999998,1813.99,12.5,5,2.5,0,1500000]
[null,1029,"2014-03-12",2,6,22,13,24,19,14,25,1,18,11,23,17,3,8,19538588.75,4,770,24707,292093,1466052,360165.03,822.41,12.5,5,2.5,0,1500000]
[null,1030,"2014-03-14",19,8,15,16,2,23,11,4,20,3,1,17,9,18,10,20665512.5,3,497,25063,210613,1307180,676809.17,1257.04,12.5,5,2.5,0,1500000]
[null,1031,"2014-03-17",12,4,9,24,11,14,17,2,22,5,19,15,1,6,20,19793677.5,5,978,31287,287029,1328912,324368.94,728.93,12.5,5,2.5,0,1500000]
[null,1032,"2014-03-19",23,4,2,6,3,10,20,11,8,17,16,13,18,14,1,18965438.75,1,651,22781,284856,1457907,1362548.79,920,12.5,5,2.5,0,1500000]
[null,1033,"2014-03-21",13,4,18,17,7,14,12,23,16,6,21,24,22,8,3,20123827.5,17,1715,34728,331040,1400205,87481.06,381.16,12.5,5,2.5,0,1500000]
[null,1034,"2014-03-24",8,2,23,3,13,17,12,6,21,10,20,18,14,19,4,19649196.25,13,1342,32252,343553,1567286,91359.69,389.01,12.5,5,2.5,0,1500000]
[null,1035,"2014-03-26",15,13,21,19,25,20,7,6,12,14,9,18,23,4,22,19459795,2,426,17119,229142,1313118,892605.72,1289.43,12.5,5,2.5,0,1500000]
[null,1036,"2014-03-28",14,12,7,22,18,21,4,9,11,5,19,24,10,17,20,19871846.25,5,1038,28915,304527,1416116,302397.83,640.27,12.5,5,2.5,0,1500000]
[null,1037,"2014-03-31",11,20,9,25,17,18,1,12,24,5,15,21,6,10,23,20049066.25,5,664,22465,255746,1402241,342185.59,1132.6099999999999,12.5,5,2.5,0,1500000]
[null,1038,"2014-04-02",8,10,24,19,6,7,20,18,16,9,17,2,13,21,25,19572836.25,4,581,18105,169263,1120352,539435.07999999996,1632.45,12.5,5,2.5,0,1500000]
[null,1039,"2014-04-04",21,1,15,18,9,2,19,14,22,20,3,12,24,8,13,20209668.75,8,948,24745,285265,1441405,202302.78,750.41,12.5,5,2.5,0,1500000]
[null,1040,"2014-04-07",10,12,4,23,25,9,2,1,6,16,20,22,13,21,8,19573275,3,596,19358,241718,1324805,584433.78,1293.0899999999999,12.5,5,2.5,0,1500000]
[null,1041,"2014-04-09",25,20,12,21,19,15,24,5,10,23,3,7,13,1,17,19300711.25,23,2584,53020,387511,1527477,41088.660000000003,160.75,12.5,5,2.5,0,1500000]
[null,1042,"2014-04-11",7,1,15,10,21,14,16,24,6,11,22,9,3,8,19,20197378.75,2,403,15449,212827,1273755,1012165.05,1545.58,12.5,5,2.5,0,1500000]
[null,1043,"2014-04-14",6,25,7,17,14,12,18,11,1,2,9,19,8,24,10,19157536.25,1,721,18286,219452,1311274,1742177.9,1062.1199999999999,12.5,5,2.5,0,1500000]
[null,1044,"2014-04-16",17,10,20,24,11,6,12,23,5,2,8,15,4,7,25,18448298.75,5,604,20620,238845,1238195,325172.09000000003,1183.21,12.5,5,2.5,0,1500000]
[null,1045,"2014-04-19",24,23,20,6,9,17,3,25,16,2,11,5,22,21,15,13005620,4,316,11848,144759,827375,316751.59000000003,1762.42,12.5,5,2.5,0,1500000]
[null,1046,"2014-04-23",13,14,21,3,7,12,18,4,11,25,20,5,22,8,23,18554671.25,2,468,20115,249230,1360628,743572.13,1396.77,12.5,5,2.5,0,1500000]
[null,1047,"2014-04-25",15,21,20,11,17,24,8,22,12,7,9,10,16,4,25,19013818.75,5,403,14546,196837,1186685,385566.7,1471.91,12.5,5,2.5,0,1500000]
[null,1048,"2014-04-28",15,16,1,20,9,17,10,2,21,25,18,7,3,6,5,18605535,3,635,14726,224736,1270009,562261.51,1167.6199999999999,12.5,5,2.5,0,1500000]
[null,1049,"2014-04-30",18,17,20,9,12,22,25,21,4,23,14,2,5,19,16,18159712.5,2,350,15789,214885,1203819,844574.18,1484.96,12.5,5,2.5,0,1000000]
[null,1050,"2014-05-02",24,1,7,15,21,22,25,17,19,4,6,13,10,12,16,15504387.5,3,620,17903,195974,1028317,462651.25,984.01,12.5,5,2.5,0,1500000]
[null,1051,"2014-05-05",3,8,4,7,14,13,16,23,20,10,25,2,18,21,11,19147621.25,47,2182,37540,324142,1427812,26807.51,253.81,12.5,5,2.5,0,1500000]
[null,1052,"2014-05-07",18,8,3,1,5,11,24,21,10,23,6,16,20,17,4,19203903.75,1,489,21480,297512,1309097,1558188.66,1400.65,12.5,5,2.5,0,1500000]
[null,1053,"2014-05-09",14,12,24,17,22,13,2,6,4,1,3,15,18,11,23,19831141.25,2,439,17084,250527,1348455,885469.81,1773.2,12.5,5,2.5,0,1500000]
[null,1054,"2014-05-12",20,15,9,5,3,24,17,12,6,16,4,2,25,18,13,20458717.5,0,426,15144,200998,1138535,0,1366.15,15,6,3,1891434.18,4500000]
[null,1055,"2014-05-14",12,7,1,24,10,2,8,9,25,22,14,18,13,3,23,28939281,7,1816,39337,391609,1865541,543366.74,462.82,15,6,3,0,1500000]
[null,1056,"2014-05-16",22,15,18,4,6,21,10,23,9,14,2,8,5,11,19,21631438.5,1,575,18368,223819,1187407,1975299.62,1510.02,15,6,3,0,1500000]
[null,1057,"2014-05-19",19,25,13,7,20,11,9,6,23,4,21,16,14,1,8,20948403,2,601,19341,222547,1190831,915327.26,1338.9,15,6,3,0,1500000]
[null,1058,"2014-05-21",22,9,24,17,6,12,25,18,13,4,21,20,7,5,16,20054383.5,0,435,17006,220051,1128874,0,1777.35,15,6,3,1758915.72,3500000]
[null,1059,"2014-05-23",21,24,8,19,3,20,7,15,16,11,2,1,22,5,14,26639814,6,817,24070,275381,1447031,700543.51,1315.1,15,6,3,0,1700000]
[null,1060,"2014-05-26",17,7,20,13,4,14,16,8,2,15,1,5,22,23,21,20609161.5,8,521,16731,191860,1092739,249774.14,1685.84,15,6,3,0,1700000]
[null,1061,"2014-05-28",24,12,15,2,14,23,16,21,5,22,3,7,19,9,8,19540947,0,725,21260,240108,1151101,0,934.87,15,6,3,1541952.01,4000000]
[null,1062,"2014-05-30",8,7,13,4,9,16,23,17,3,19,15,11,5,25,20,27302385,6,1044,36488,381558,1700077,566496.32999999996,781.87,15,6,3,0,1700000]
[null,1063,"2014-06-02",14,24,6,10,16,25,15,7,13,2,22,5,21,12,20,21492015,2,499,17705,223742,1209942,960674.9,1692.48,15,6,3,0,1700000]
[null,1064,"2014-06-04",15,25,9,7,11,10,14,2,24,8,16,18,19,21,3,20693161.5,3,424,16408,200299,1140989,642774.01,1399.36,15,6,3,0,1700000]
[null,1065,"2014-06-06",12,20,14,21,5,15,4,2,19,24,6,25,17,22,3,20836659,6,788,17103,220304,1179498,307523.49,1029.25,15,6,3,0,1700000]
[null,1066,"2014-06-09",10,24,6,16,21,5,4,22,14,11,17,19,2,18,23,20287932,1,315,13142,188528,1059026,2013464.58,1966.75,15,6,3,0,1700000]
[null,1067,"2014-06-11",21,15,1,3,5,14,2,11,17,4,10,25,7,13,22,20225562,3,398,15792,226013,1238826,545041.79,1264.1099999999999,15,6,3,0,1700000]
[null,1068,"2014-06-13",24,20,18,10,14,17,11,13,21,15,16,6,2,22,7,18350269.5,1,395,14346,194839,1046445,1617102.55,1259.67,15,6,3,0,1700000]
[null,1069,"2014-06-16",22,23,17,15,1,11,16,4,8,12,3,10,13,25,24,19903134,4,462,15977,204302,1150636,437233.75,1663.98,15,6,3,0,1700000]
[null,1070,"2014-06-18",9,22,18,23,4,20,25,11,13,19,12,10,21,16,24,17213679,1,446,13763,182171,946984,1563785.03,1541.2,15,6,3,0,1500000]
[null,1071,"2014-06-20",11,6,14,16,3,2,13,17,21,4,22,24,5,10,12,16399084.5,2,372,13805,176088,946178,709026.2,1675.59,15,6,3,0,1700000]
[null,1072,"2014-06-23",2,4,7,22,23,25,14,17,20,3,13,1,5,15,9,15971133,5,440,17225,223743,1059395,204871.67999999999,1023.33,15,6,3,0,1700000]
[null,1073,"2014-06-25",13,20,17,16,23,5,3,6,1,19,22,4,7,24,21,17357824.5,0,281,10753,165239,942582,0,1823.63,15,6,3,1665431.86,4000000]
[null,1074,"2014-06-27",9,10,8,25,13,11,17,22,23,24,21,1,4,7,20,25815805.5,2,1067,22038,295885,1604599,1843775.56,833.03,15,6,3,0,1700000]
[null,1075,"2014-06-30",21,15,16,24,6,17,1,18,22,12,2,23,25,9,10,19038640.5,1,463,11267,162575,978847,1956340.53,1300.1099999999999,15,6,3,0,1700000]
[null,1076,"2014-07-02",18,15,12,11,20,13,17,9,16,25,4,14,21,10,22,19569499.5,3,420,14168,200497,1029069,623595.11,1370.54,15,6,3,0,1700000]
[null,1077,"2014-07-04",20,19,12,13,2,5,8,24,7,15,6,21,14,10,1,17876455.5,3,549,15166,178761,1020398,532018.11,1277.8900000000001,15,6,3,0,1700000]
[null,1078,"2014-07-07",23,13,6,24,11,25,2,10,21,7,18,17,5,4,9,20086306.5,2,583,21071,243726,1269257,740655.16,1116.8499999999999,15,6,3,0,1700000]
[null,1079,"2014-07-09",15,24,6,11,22,5,13,20,16,19,8,17,7,21,14,15428905.5,4,342,12621,162490,890341,336289.73,1728.88,15,6,3,0,1700000]
[null,1080,"2014-07-11",5,14,3,17,12,21,2,16,10,6,23,22,15,25,11,21307719,2,376,15540,216713,1183330,977364.19,1599.62,15,6,3,0,1700000]
[null,1081,"2014-07-14",21,10,5,16,13,12,14,1,15,22,18,19,6,7,23,19646718,2,398,15915,184400,1055715,940950.46,1454.89,15,6,3,0,1700000]

{"sheet":"Total de Saída de Cada Dezena","index":1,"n_rows":32,"n_cols":3,"rows_kept":32,"cut":false,"hidden":false,"merged":[[1,1,1,18],[2,1,2,18],[3,1,3,18],[5,1,5,19]]}
[]
[null,"Atenção!"]
[null,"Esta planilha é de uso pessoal, é restritamente proibida a distribuição da mesma a terceiros, sujeito a punições de acordo com as leis de direitos autorais"]
[null,"Todos os direitos reservados ao site www.ApostaEsperta.com "]
[]
[null,"Planilha de Análise Estatística Lotofacil"]
[null,"Dezena","Total de Saídas"]
[null,1,{"$f":"COUNTIF('Resultados Gerais'!D8:R1048576,B8)","v":668}]
[null,2,{"$f":"COUNTIF('Resultados Gerais'!D8:R1048576,B9)","v":670}]
[null,3,{"$f":"COUNTIF('Resultados Gerais'!D8:R1048576,B10)","v":643}]
[null,4,{"$f":"COUNTIF('Resultados Gerais'!D8:R1048576,B11)","v":664}]
[null,5,{"$f":"COUNTIF('Resultados Gerais'!D8:R1048576,B12)","v":630}]
[null,6,{"$f":"COUNTIF('Resultados Gerais'!D8:R1048576,B13)","v":652}]
[null,7,{"$f":"COUNTIF('Resultados Gerais'!D8:R1048576,B14)","v":632}]
[null,8,{"$f":"COUNTIF('Resultados Gerais'!D8:R1048576,B15)","v":601}]
[null,9,{"$f":"COUNTIF('Resultados Gerais'!D8:R1048576,B16)","v":641}]
[null,10,{"$f":"COUNTIF('Resultados Gerais'!D8:R1048576,B17)","v":647}]
[null,11,{"$f":"COUNTIF('Resultados Gerais'!D8:R1048576,B18)","v":675}]
[null,12,{"$f":"COUNTIF('Resultados Gerais'!D8:R1048576,B19)","v":657}]
[null,13,{"$f":"COUNTIF('Resultados Gerais'!D8:R1048576,B20)","v":666}]
[null,14,{"$f":"COUNTIF('Resultados Gerais'!D8:R1048576,B21)","v":653}]
[null,15,{"$f":"COUNTIF('Resultados Gerais'!D8:R1048576,B22)","v":641}]
[null,16,{"$f":"COUNTIF('Resultados Gerais'!D8:R1048576,B23)","v":623}]
[null,17,{"$f":"COUNTIF('Resultados Gerais'!D8:R1048576,B24)","v":645}]
[null,18,{"$f":"COUNTIF('Resultados Gerais'!D8:R1048576,B25)","v":622}]
[null,19,{"$f":"COUNTIF('Resultados Gerais'!D8:R1048576,B26)","v":656}]
[null,20,{"$f":"COUNTIF('Resultados Gerais'!D8:R1048576,B27)","v":644}]
[null,21,{"$f":"COUNTIF('Resultados Gerais'!D8:R1048576,B28)","v":664}]
[null,22,{"$f":"COUNTIF('Resultados Gerais'!D8:R1048576,B29)","v":652}]
[null,23,{"$f":"COUNTIF('Resultados Gerais'!D8:R1048576,B30)","v":657}]
[null,24,{"$f":"COUNTIF('Resultados Gerais'!D8:R1048576,B31)","v":664}]
[null,25,{"$f":"COUNTIF('Resultados Gerais'!D8:R1048576,B32)","v":648}]

{"sheet":"10 Últimos Sorteios","index":2,"n_rows":36,"n_cols":26,"rows_kept":36,"cut":false,"hidden":false,"merged":[[8,23,9,24],[8,3,9,19],[5,1,5,27],[1,1,1,27],[2,1,2,27],[3,1,3,27]]}
[]
[null,"Atenção!"]
[null,"Esta planilha é de uso pessoal, é restritamente proibida a distribuição da mesma a terceiros, sujeito a punições de acordo com as leis de direitos autorais"]
[null,"Todos os direitos reservados ao site www.ApostaEsperta.com "]
[]
[null,"Planilha de Análise Estatística Lotofacil"]
[]
[]
[null,null,null,"Resultados dos Últimos 10 Sorteios",null,null,null,null,null,null,null,null,null,null,null,null,null,null,null,null,null,null,null,"Números Quentes\nÚltimos 10 Sorteios"]
[]
[null,null,null,"Sorteio","Data do Sorteio","1ªD","2ªD","3ªD","4ªD","5ªD","6ªD","7ªD","8ªD","9ªD","10ªD","11ª","12ªD","13ªD","14ªD","15ªD",null,null,null,"Dezena","Qtd de Saída"]
[null,null,null,{"$f":"COUNT('Resultados Gerais'!B8:B1048576)","v":1081},{"$f":"VLOOKUP(D12,'Resultados Gerais'!B8:C1048576,2,0)","v":"2014-07-14"},{"$f":"VLOOKUP($D12,'Resultados Gerais'!$B8:$R1048576,3,0)","v":21},{"$f":"VLOOKUP($D12,'Resultados Gerais'!$B8:$R1048576,4,0)","v":10},{"$f":"VLOOKUP($D12,'Resultados Gerais'!$B8:$R1048576,5,0)","v":5},{"$f":"VLOOKUP($D12,'Resultados Gerais'!$B8:$R1048576,6,0)","v":16},{"$f":"VLOOKUP($D12,'Resultados Gerais'!$B8:$R1048576,7,0)","v":13},{"$f":"VLOOKUP($D12,'Resultados Gerais'!$B8:$R1048576,8,0)","v":12},{"$f":"VLOOKUP($D12,'Resultados Gerais'!$B8:$R1048576,9,0)","v":14},{"$f":"VLOOKUP($D12,'Resultados Gerais'!$B8:$R1048576,10,0)","v":1},{"$f":"VLOOKUP($D12,'Resultados Gerais'!$B8:$R1048576,11,0)","v":15},{"$f":"VLOOKUP($D12,'Resultados Gerais'!$B8:$R1048576,12,0)","v":22},{"$f":"VLOOKUP($D12,'Resultados Gerais'!$B8:$R1048576,13,0)","v":18},{"$f":"VLOOKUP($D12,'Resultados Gerais'!$B8:$R1048576,14,0)","v":19},{"$f":"VLOOKUP($D12,'Resultados Gerais'!$B8:$R1048576,15,0)","v":6},{"$f":"VLOOKUP($D12,'Resultados Gerais'!$B8:$R1048576,16,0)","v":7},{"$f":"VLOOKUP($D12,'Resultados Gerais'!$B8:$R1048576,17,0)","v":23},null,null,null,21,{"$f":"COUNTIF($F$12:$T$22,X12)","v":10},{"$f":"COUNTIF($F$12:$T$22,X12)","v":10}]
[null,null,1,{"$f":"COUNT('Resultados Gerais'!B8:B1048576)-C13","v":1080},{"$f":"VLOOKUP(D13,'Resultados Gerais'!B8:C1048576,2,0)","v":"2014-07-11"},{"$f":"VLOOKUP($D13,'Resultados Gerais'!$B8:$R1048576,3,0)","v":5},{"$f":"VLOOKUP($D13,'Resultados Gerais'!$B8:$R1048576,4,0)","v":14},{"$f":"VLOOKUP($D13,'Resultados Gerais'!$B8:$R1048576,5,0)","v":3},{"$f":"VLOOKUP($D13,'Resultados Gerais'!$B8:$R1048576,6,0)","v":17},{"$f":"VLOOKUP($D13,'Resultados Gerais'!$B8:$R1048576,7,0)","v":12},{"$f":"VLOOKUP($D13,'Resultados Gerais'!$B8:$R1048576,8,0)","v":21},{"$f":"VLOOKUP($D13,'Resultados Gerais'!$B8:$R1048576,9,0)","v":2},{"$f":"VLOOKUP($D13,'Resultados Gerais'!$B8:$R1048576,10,0)","v":16},{"$f":"VLOOKUP($D13,'Resultados Gerais'!$B8:$R1048576,11,0)","v":10},{"$f":"VLOOKUP($D13,'Resultados Gerais'!$B8:$R1048576,12,0)","v":6},{"$f":"VLOOKUP($D13,'Resultados Gerais'!$B8:$R1048576,13,0)","v":23},{"$f":"VLOOKUP($D13,'Resultados Gerais'!$B8:$R1048576,14,0)","v":22},{"$f":"VLOOKUP($D13,'Resultados Gerais'!$B8:$R1048576,15,0)","v":15},{"$f":"VLOOKUP($D13,'Resultados Gerais'!$B8:$R1048576,16,0)","v":25},{"$f":"VLOOKUP($D13,'Resultados Gerais'!$B8:$R1048576,17,0)","v":11},null,null,null,22,{"$f":"COUNTIF($F$12:$T$22,X13)","v":8},{"$f":"COUNTIF($F$12:$T$22,X13)","v":8}]
[null,null,2,{"$f":"COUNT('Resultados Gerais'!B8:B1048576)-C14","v":1079},{"$f":"VLOOKUP(D14,'Resultados Gerais'!B8:C1048576,2,0)","v":"2014-07-09"},{"$f":"VLOOKUP($D14,'Resultados Gerais'!$B8:$R1048576,3,0)","v":15},{"$f":"VLOOKUP($D14,'Resultados Gerais'!$B8:$R1048576,4,0)","v":24},{"$f":"VLOOKUP($D14,'Resultados Gerais'!$B8:$R1048576,5,0)","v":6},{"$f":"VLOOKUP($D14,'Resultados Gerais'!$B8:$R1048576,6,0)","v":11},{"$f":"VLOOKUP($D14,'Resultados Gerais'!$B8:$R1048576,7,0)","v":22},{"$f":"VLOOKUP($D14,'Resultados Gerais'!$B8:$R1048576,8,0)","v":5},{"$f":"VLOOKUP($D14,'Resultados Gerais'!$B8:$R1048576,9,0)","v":13},{"$f":"VLOOKUP($D14,'Resultados Gerais'!$B8:$R1048576,10,0)","v":20},{"$f":"VLOOKUP($D14,'Resultados Gerais'!$B8:$R1048576,11,0)","v":16},{"$f":"VLOOKUP($D14,'Resultados Gerais'!$B8:$R1048576,12,0)","v":19},{"$f":"VLOOKUP($D14,'Resultados Gerais'!$B8:$R1048576,13,0)","v":8},{"$f":"VLOOKUP($D14,'Resultados Gerais'!$B8:$R1048576,14,0)","v":17},{"$f":"VLOOKUP($D14,'Resultados Gerais'!$B8:$R1048576,15,0)","v":7},{"$f":"VLOOKUP($D14,'Resultados Gerais'!$B8:$R1048576,16,0)","v":21},{"$f":"VLOOKUP($D14,'Resultados Gerais'!$B8:$R1048576,17,0)","v":14},null,null,null,17,{"$f":"COUNTIF($F$12:$T$22,X14)","v":8},8]
[null,null,3,{"$f":"COUNT('Resultados Gerais'!B8:B1048576)-C15","v":1078},{"$f":"VLOOKUP(D15,'Resultados Gerais'!B8:C1048576,2,0)","v":"2014-07-07"},{"$f":"VLOOKUP($D15,'Resultados Gerais'!$B8:$R1048576,3,0)","v":23},{"$f":"VLOOKUP($D15,'Resultados Gerais'!$B8:$R1048576,4,0)","v":13},{"$f":"VLOOKUP($D15,'Resultados Gerais'!$B8:$R1048576,5,0)","v":6},{"$f":"VLOOKUP($D15,'Resultados Gerais'!$B8:$R1048576,6,0)","v":24},{"$f":"VLOOKUP($D15,'Resultados Gerais'!$B8:$R1048576,7,0)","v":11},{"$f":"VLOOKUP($D15,'Resultados Gerais'!$B8:$R1048576,8,0)","v":25},{"$f":"VLOOKUP($D15,'Resultados Gerais'!$B8:$R1048576,9,0)","v":2},{"$f":"VLOOKUP($D15,'Resultados Gerais'!$B8:$R1048576,10,0)","v":10},{"$f":"VLOOKUP($D15,'Resultados Gerais'!$B8:$R1048576,11,0)","v":21},{"$f":"VLOOKUP($D15,'Resultados Gerais'!$B8:$R1048576,12,0)","v":7},{"$f":"VLOOKUP($D15,'Resultados Gerais'!$B8:$R1048576,13,0)","v":18},{"$f":"VLOOKUP($D15,'Resultados Gerais'!$B8:$R1048576,14,0)","v":17},{"$f":"VLOOKUP($D15,'Resultados Gerais'!$B8:$R1048576,15,0)","v":5},{"$f":"VLOOKUP($D15,'Resultados Gerais'!$B8:$R1048576,16,0)","v":4},{"$f":"VLOOKUP($D15,'Resultados Gerais'!$B8:$R1048576,17,0)","v":9},null,null,null,13,{"$f":"COUNTIF($F$12:$T$22,X15)","v":8},8]
[null,null,4,{"$f":"COUNT('Resultados Gerais'!B8:B1048576)-C16","v":1077},{"$f":"VLOOKUP(D16,'Resultados Gerais'!B8:C1048576,2,0)","v":"2014-07-04"},{"$f":"VLOOKUP($D16,'Resultados Gerais'!$B8:$R1048576,3,0)","v":20},{"$f":"VLOOKUP($D16,'Resultados Gerais'!$B8:$R1048576,4,0)","v":19},{"$f":"VLOOKUP($D16,'Resultados Gerais'!$B8:$R1048576,5,0)","v":12},{"$f":"VLOOKUP($D16,'Resultados Gerais'!$B8:$R1048576,6,0)","v":13},{"$f":"VLOOKUP($D16,'Resultados Gerais'!$B8:$R1048576,7,0)","v":2},{"$f":"VLOOKUP($D16,'Resultados Gerais'!$B8:$R1048576,8,0)","v":5},{"$f":"VLOOKUP($D16,'Resultados Gerais'!$B8:$R1048576,9,0)","v":8},{"$f":"VLOOKUP($D16,'Resultados Gerais'!$B8:$R1048576,10,0)","v":24},{"$f":"VLOOKUP($D16,'Resultados Gerais'!$B8:$R1048576,11,0)","v":7},{"$f":"VLOOKUP($D16,'Resultados Gerais'!$B8:$R1048576,12,0)","v":15},{"$f":"VLOOKUP($D16,'Resultados Gerais'!$B8:$R1048576,13,0)","v":6},{"$f":"VLOOKUP($D16,'Resultados Gerais'!$B8:$R1048576,14,0)","v":21},{"$f":"VLOOKUP($D16,'Resultados Gerais'!$B8:$R1048576,15,0)","v":14},{"$f":"VLOOKUP($D16,'Resultados Gerais'!$B8:$R1048576,16,0)","v":10},{"$f":"VLOOKUP($D16,'Resultados Gerais'!$B8:$R1048576,17,0)","v":1},null,null,null,6,{"$f":"COUNTIF($F$12:$T$22,X16)","v":7},7]
[null,null,5,{"$f":"COUNT('Resultados Gerais'!B8:B1048576)-C17","v":1076},{"$f":"VLOOKUP(D17,'Resultados Gerais'!B8:C1048576,2,0)","v":"2014-07-02"},{"$f":"VLOOKUP($D17,'Resultados Gerais'!$B8:$R1048576,3,0)","v":18},{"$f":"VLOOKUP($D17,'Resultados Gerais'!$B8:$R1048576,4,0)","v":15},{"$f":"VLOOKUP($D17,'Resultados Gerais'!$B8:$R1048576,5,0)","v":12},{"$f":"VLOOKUP($D17,'Resultados Gerais'!$B8:$R1048576,6,0)","v":11},{"$f":"VLOOKUP($D17,'Resultados Gerais'!$B8:$R1048576,7,0)","v":20},{"$f":"VLOOKUP($D17,'Resultados Gerais'!$B8:$R1048576,8,0)","v":13},{"$f":"VLOOKUP($D17,'Resultados Gerais'!$B8:$R1048576,9,0)","v":17},{"$f":"VLOOKUP($D17,'Resultados Gerais'!$B8:$R1048576,10,0)","v":9},{"$f":"VLOOKUP($D17,'Resultados Gerais'!$B8:$R1048576,11,0)","v":16},{"$f":"VLOOKUP($D17,'Resultados Gerais'!$B8:$R1048576,12,0)","v":25},{"$f":"VLOOKUP($D17,'Resultados Gerais'!$B8:$R1048576,13,0)","v":4},21,{"$f":"VLOOKUP($D17,'Resultados Gerais'!$B8:$R1048576,15,0)","v":21},{"$f":"VLOOKUP($D17,'Resultados Gerais'!$B8:$R1048576,16,0)","v":10},{"$f":"VLOOKUP($D17,'Resultados Gerais'!$B8:$R1048576,17,0)","v":22},null,null,null,15,{"$f":"COUNTIF($F$12:$T$22,X17)","v":7},7]
[null,null,6,{"$f":"COUNT('Resultados Gerais'!B8:B1048576)-C18","v":1075},{"$f":"VLOOKUP(D18,'Resultados Gerais'!B8:C1048576,2,0)","v":"2014-06-30"},{"$f":"VLOOKUP($D18,'Resultados Gerais'!$B8:$R1048576,3,0)","v":21},{"$f":"VLOOKUP($D18,'Resultados Gerais'!$B8:$R1048576,4,0)","v":15},{"$f":"VLOOKUP($D18,'Resultados Gerais'!$B8:$R1048576,5,0)","v":16},{"$f":"VLOOKUP($D18,'Resultados Gerais'!$B8:$R1048576,6,0)","v":24},{"$f":"VLOOKUP($D18,'Resultados Gerais'!$B8:$R1048576,7,0)","v":6},{"$f":"VLOOKUP($D18,'Resultados Gerais'!$B8:$R1048576,8,0)","v":17},{"$f":"VLOOKUP($D18,'Resultados Gerais'!$B8:$R1048576,9,0)","v":1},{"$f":"VLOOKUP($D18,'Resultados Gerais'!$B8:$R1048576,10,0)","v":18},{"$f":"VLOOKUP($D18,'Resultados Gerais'!$B8:$R1048576,11,0)","v":22},{"$f":"VLOOKUP($D18,'Resultados Gerais'!$B8:$R1048576,12,0)","v":12},{"$f":"VLOOKUP($D18,'Resultados Gerais'!$B8:$R1048576,13,0)","v":2},{"$f":"VLOOKUP($D18,'Resultados Gerais'!$B8:$R1048576,14,0)","v":23},{"$f":"VLOOKUP($D18,'Resultados Gerais'!$B8:$R1048576,15,0)","v":25},{"$f":"VLOOKUP($D18,'Resultados Gerais'!$B8:$R1048576,16,0)","v":9},{"$f":"VLOOKUP($D18,'Resultados Gerais'!$B8:$R1048576,17,0)","v":10},null,null,null,5,{"$f":"COUNTIF($F$12:$T$22,X18)","v":7},7]
[null,null,7,{"$f":"COUNT('Resultados Gerais'!B8:B1048576)-C19","v":1074},{"$f":"VLOOKUP(D19,'Resultados Gerais'!B8:C1048576,2,0)","v":"2014-06-27"},{"$f":"VLOOKUP($D19,'Resultados Gerais'!$B8:$R1048576,3,0)","v":9},{"$f":"VLOOKUP($D19,'Resultados Gerais'!$B8:$R1048576,4,0)","v":10},{"$f":"VLOOKUP($D19,'Resultados Gerais'!$B8:$R1048576,5,0)","v":8},{"$f":"VLOOKUP($D19,'Resultados Gerais'!$B8:$R1048576,6,0)","v":25},{"$f":"VLOOKUP($D19,'Resultados Gerais'!$B8:$R1048576,7,0)","v":13},{"$f":"VLOOKUP($D19,'Resultados Gerais'!$B8:$R1048576,8,0)","v":11},{"$f":"VLOOKUP($D19,'Resultados Gerais'!$B8:$R1048576,9,0)","v":17},{"$f":"VLOOKUP($D19,'Resultados Gerais'!$B8:$R1048576,10,0)","v":22},{"$f":"VLOOKUP($D19,'Resultados Gerais'!$B8:$R1048576,11,0)","v":23},{"$f":"VLOOKUP($D19,'Resultados Gerais'!$B8:$R1048576,12,0)","v":24},{"$f":"VLOOKUP($D19,'Resultados Gerais'!$B8:$R1048576,13,0)","v":21},{"$f":"VLOOKUP($D19,'Resultados Gerais'!$B8:$R1048576,14,0)","v":1},{"$f":"VLOOKUP($D19,'Resultados Gerais'!$B8:$R1048576,15,0)","v":4},{"$f":"VLOOKUP($D19,'Resultados Gerais'!$B8:$R1048576,16,0)","v":7},{"$f":"VLOOKUP($D19,'Resultados Gerais'!$B8:$R1048576,17,0)","v":20},null,null,null,7,{"$f":"COUNTIF($F$12:$T$22,X19)","v":7},7]
[null,null,8,{"$f":"COUNT('Resultados Gerais'!B8:B1048576)-C20","v":1073},{"$f":"VLOOKUP(D20,'Resultados Gerais'!B8:C1048576,2,0)","v":"2014-06-25"},{"$f":"VLOOKUP($D20,'Resultados Gerais'!$B8:$R1048576,3,0)","v":13},{"$f":"VLOOKUP($D20,'Resultados Gerais'!$B8:$R1048576,4,0)","v":20},{"$f":"VLOOKUP($D20,'Resultados Gerais'!$B8:$R1048576,5,0)","v":17},{"$f":"VLOOKUP($D20,'Resultados Gerais'!$B8:$R1048576,6,0)","v":16},{"$f":"VLOOKUP($D20,'Resultados Gerais'!$B8:$R1048576,7,0)","v":23},{"$f":"VLOOKUP($D20,'Resultados Gerais'!$B8:$R1048576,8,0)","v":5},{"$f":"VLOOKUP($D20,'Resultados Gerais'!$B8:$R1048576,9,0)","v":3},{"$f":"VLOOKUP($D20,'Resultados Gerais'!$B8:$R1048576,10,0)","v":6},{"$f":"VLOOKUP($D20,'Resultados Gerais'!$B8:$R1048576,11,0)","v":1},{"$f":"VLOOKUP($D20,'Resultados Gerais'!$B8:$R1048576,12,0)","v":19},{"$f":"VLOOKUP($D20,'Resultados Gerais'!$B8:$R1048576,13,0)","v":22},{"$f":"VLOOKUP($D20,'Resultados Gerais'!$B8:$R1048576,14,0)","v":4},{"$f":"VLOOKUP($D20,'Resultados Gerais'!$B8:$R1048576,15,0)","v":7},{"$f":"VLOOKUP($D20,'Resultados Gerais'!$B8:$R1048576,16,0)","v":24},{"$f":"VLOOKUP($D20,'Resultados Gerais'!$B8:$R1048576,17,0)","v":21},null,null,null,23,{"$f":"COUNTIF($F$12:$T$22,X20)","v":7},7]
[null,null,9,{"$f":"COUNT('Resultados Gerais'!B8:B1048576)-C21","v":1072},{"$f":"VLOOKUP(D21,'Resultados Gerais'!B8:C1048576,2,0)","v":"2014-06-23"},{"$f":"VLOOKUP($D21,'Resultados Gerais'!$B8:$R1048576,3,0)","v":2},{"$f":"VLOOKUP($D21,'Resultados Gerais'!$B8:$R1048576,4,0)","v":4},{"$f":"VLOOKUP($D21,'Resultados Gerais'!$B8:$R1048576,5,0)","v":7},{"$f":"VLOOKUP($D21,'Resultados Gerais'!$B8:$R1048576,6,0)","v":22},{"$f":"VLOOKUP($D21,'Resultados Gerais'!$B8:$R1048576,7,0)","v":23},{"$f":"VLOOKUP($D21,'Resultados Gerais'!$B8:$R1048576,8,0)","v":25},{"$f":"VLOOKUP($D21,'Resultados Gerais'!$B8:$R1048576,9,0)","v":14},{"$f":"VLOOKUP($D21,'Resultados Gerais'!$B8:$R1048576,10,0)","v":17},{"$f":"VLOOKUP($D21,'Resultados Gerais'!$B8:$R1048576,11,0)","v":20},{"$f":"VLOOKUP($D21,'Resultados Gerais'!$B8:$R1048576,12,0)","v":3},{"$f":"VLOOKUP($D21,'Resultados Gerais'!$B8:$R1048576,13,0)","v":13},{"$f":"VLOOKUP($D21,'Resultados Gerais'!$B8:$R1048576,14,0)","v":1},{"$f":"VLOOKUP($D21,'Resultados Gerais'!$B8:$R1048576,15,0)","v":5},{"$f":"VLOOKUP($D21,'Resultados Gerais'!$B8:$R1048576,16,0)","v":15},{"$f":"VLOOKUP($D21,'Resultados Gerais'!$B8:$R1048576,17,0)","v":9},null,null,null,10,{"$f":"COUNTIF($F$12:$T$22,X21)","v":7},7]
[null,null,null,null,null,null,null,null,null,null,null,null,null,null,null,null,null,null,null,null,null,null,null,16,{"$f":"COUNTIF($F$12:$T$22,X22)","v":6},6]
[null,null,null,null,null,null,null,null,null,null,null,null,null,null,null,null,null,null,null,null,null,null,null,1,{"$f":"COUNTIF($F$12:$T$22,X23)","v":6},6]
[null,null,null,null,null,null,null,null,null,null,null,null,null,null,null,null,null,null,null,null,null,null,null,24,{"$f":"COUNTIF($F$12:$T$22,X24)","v":6},6]
[null,null,null,null,null,null,null,null,null,null,null,null,null,null,null,null,null,null,null,null,null,null,null,20,{"$f":"COUNTIF($F$12:$T$22,X25)","v":6},6]
[null,null,null,null,null,null,null,null,null,null,null,null,null,null,null,null,null,null,null,null,null,null,null,25,{"$f":"COUNTIF($F$12:$T$22,X26)","v":6},6]
[null,null,null,null,null,null,null,null,null,null,null,null,null,null,null,null,null,null,null,null,null,null,null,4,{"$f":"COUNTIF($F$12:$T$22,X27)","v":5},5]
[null,null,null,null,null,null,null,null,null,null,null,null,null,null,null,null,null,null,null,null,null,null,null,9,{"$f":"COUNTIF($F$12:$T$22,X28)","v":5},5]
[null,null,null,null,null,null,null,null,null,null,null,null,null,null,null,null,null,null,null,null,null,null,null,11,{"$f":"COUNTIF($F$12:$T$22,X29)","v":5},5]
[null,null,null,null,null,null,null,null,null,null,null,null,null,null,null,null,null,null,null,null,null,null,null,14,{"$f":"COUNTIF($F$12:$T$22,X30)","v":5},5]
[null,null,null,null,null,null,null,null,null,null,null,null,null,null,null,null,null,null,null,null,null,null,null,2,{"$f":"COUNTIF($F$12:$T$22,X31)","v":5},5]
[null,null,null,null,null,null,null,null,null,null,null,null,null,null,null,null,null,null,null,null,null,null,null,12,{"$f":"COUNTIF($F$12:$T$22,X32)","v":5},5]
[null,null,null,null,null,null,null,null,null,null,null,null,null,null,null,null,null,null,null,null,null,null,null,18,{"$f":"COUNTIF($F$12:$T$22,X33)","v":4},4]
[null,null,null,null,null,null,null,null,null,null,null,null,null,null,null,null,null,null,null,null,null,null,null,19,{"$f":"COUNTIF($F$12:$T$22,X34)","v":4},4]
[null,null,null,null,null,null,null,null,null,null,null,null,null,null,null,null,null,null,null,null,null,null,null,3,{"$f":"COUNTIF($F$12:$T$22,X35)","v":3},3]
[null,null,null,null,null,null,null,null,null,null,null,null,null,null,null,null,null,null,null,null,null,null,null,8,{"$f":"COUNTIF($F$12:$T$22,X36)","v":3},3]

{"sheet":"20 Últimos Sorteios","index":3,"n_rows":36,"n_cols":26,"rows_kept":36,"cut":false,"hidden":false,"merged":[[3,1,3,27],[8,3,9,19],[8,23,9,24],[5,1,5,27],[1,1,1,27],[2,1,2,27]]}
[]
[null,"Atenção!"]
[null,"Esta planilha é de uso pessoal, é restritamente proibida a distribuição da mesma a terceiros, sujeito a punições de acordo com as leis de direitos autorais"]
[null,"Todos os direitos reservados ao site www.ApostaEsperta.com "]
[]
[null,"Planilha de Análise Estatística Lotofacil"]
[]
[]
[null,null,null,"Resultados dos Últimos 20 Sorteios",null,null,null,null,null,null,null,null,null,null,null,null,null,null,null,null,null,null,null,"Números Quentes\nÚltimos 20 Sorteios"]
[]
[null,null,null,"Sorteio","Data do Sorteio","1ªD","2ªD","3ªD","4ªD","5ªD","6ªD","7ªD","8ªD","9ªD","10ªD","11ªD","12ªD","13ªD","14ªD","15ªD",null,null,null,"Dezena","Qtd de Saída"]
[null,null,null,{"$f":"COUNT('Resultados Gerais'!B8:B1048576)","v":1081},{"$f":"VLOOKUP(D12,'Resultados Gerais'!B8:C1048576,2,0)","v":"2014-07-14"},{"$f":"VLOOKUP($D12,'Resultados Gerais'!$B8:$R1048576,3,0)","v":21},{"$f":"VLOOKUP($D12,'Resultados Gerais'!$B8:$R1048576,4,0)","v":10},{"$f":"VLOOKUP($D12,'Resultados Gerais'!$B8:$R1048576,5,0)","v":5},{"$f":"VLOOKUP($D12,'Resultados Gerais'!$B8:$R1048576,6,0)","v":16},{"$f":"VLOOKUP($D12,'Resultados Gerais'!$B8:$R1048576,7,0)","v":13},{"$f":"VLOOKUP($D12,'Resultados Gerais'!$B8:$R1048576,8,0)","v":12},{"$f":"VLOOKUP($D12,'Resultados Gerais'!$B8:$R1048576,9,0)","v":14},{"$f":"VLOOKUP($D12,'Resultados Gerais'!$B8:$R1048576,10,0)","v":1},{"$f":"VLOOKUP($D12,'Resultados Gerais'!$B8:$R1048576,11,0)","v":15},{"$f":"VLOOKUP($D12,'Resultados Gerais'!$B8:$R1048576,12,0)","v":22},{"$f":"VLOOKUP($D12,'Resultados Gerais'!$B8:$R1048576,13,0)","v":18},{"$f":"VLOOKUP($D12,'Resultados Gerais'!$B8:$R1048576,14,0)","v":19},{"$f":"VLOOKUP($D12,'Resultados Gerais'!$B8:$R1048576,15,0)","v":6},{"$f":"VLOOKUP($D12,'Resultados Gerais'!$B8:$R1048576,16,0)","v":7},{"$f":"VLOOKUP($D12,'Resultados Gerais'!$B8:$R1048576,17,0)","v":23},null,null,null,21,{"$f":"COUNTIF($F$12:$T$32,X12)","v":17},{"$f":"COUNTIF($F$12:$T$32,X12)","v":17}]
[null,null,1,{"$f":"COUNT('Resultados Gerais'!B8:B1048576)-C13","v":1080},{"$f":"VLOOKUP(D13,'Resultados Gerais'!B8:C1048576,2,0)","v":"2014-07-11"},{"$f":"VLOOKUP($D13,'Resultados Gerais'!$B8:$R1048576,3,0)","v":5},{"$f":"VLOOKUP($D13,'Resultados Gerais'!$B8:$R1048576,4,0)","v":14},{"$f":"VLOOKUP($D13,'Resultados Gerais'!$B8:$R1048576,5,0)","v":3},{"$f":"VLOOKUP($D13,'Resultados Gerais'!$B8:$R1048576,6,0)","v":17},{"$f":"VLOOKUP($D13,'Resultados Gerais'!$B8:$R1048576,7,0)","v":12},{"$f":"VLOOKUP($D13,'Resultados Gerais'!$B8:$R1048576,8,0)","v":21},{"$f":"VLOOKUP($D13,'Resultados Gerais'!$B8:$R1048576,9,0)","v":2},{"$f":"VLOOKUP($D13,'Resultados Gerais'!$B8:$R1048576,10,0)","v":16},{"$f":"VLOOKUP($D13,'Resultados Gerais'!$B8:$R1048576,11,0)","v":10},{"$f":"VLOOKUP($D13,'Resultados Gerais'!$B8:$R1048576,12,0)","v":6},{"$f":"VLOOKUP($D13,'Resultados Gerais'!$B8:$R1048576,13,0)","v":23},{"$f":"VLOOKUP($D13,'Resultados Gerais'!$B8:$R1048576,14,0)","v":22},{"$f":"VLOOKUP($D13,'Resultados Gerais'!$B8:$R1048576,15,0)","v":15},{"$f":"VLOOKUP($D13,'Resultados Gerais'!$B8:$R1048576,16,0)","v":25},{"$f":"VLOOKUP($D13,'Resultados Gerais'!$B8:$R1048576,17,0)","v":11},null,null,null,9,8,{"$f":"COUNTIF($F$12:$T$32,X13)","v":8}]
[null,null,2,{"$f":"COUNT('Resultados Gerais'!B8:B1048576)-C14","v":1079},{"$f":"VLOOKUP(D14,'Resultados Gerais'!B8:C1048576,2,0)","v":"2014-07-09"},{"$f":"VLOOKUP($D14,'Resultados Gerais'!$B8:$R1048576,3,0)","v":15},{"$f":"VLOOKUP($D14,'Resultados Gerais'!$B8:$R1048576,4,0)","v":24},{"$f":"VLOOKUP($D14,'Resultados Gerais'!$B8:$R1048576,5,0)","v":6},{"$f":"VLOOKUP($D14,'Resultados Gerais'!$B8:$R1048576,6,0)","v":11},{"$f":"VLOOKUP($D14,'Resultados Gerais'!$B8:$R1048576,7,0)","v":22},{"$f":"VLOOKUP($D14,'Resultados Gerais'!$B8:$R1048576,8,0)","v":5},{"$f":"VLOOKUP($D14,'Resultados Gerais'!$B8:$R1048576,9,0)","v":13},{"$f":"VLOOKUP($D14,'Resultados Gerais'!$B8:$R1048576,10,0)","v":20},{"$f":"VLOOKUP($D14,'Resultados Gerais'!$B8:$R1048576,11,0)","v":16},{"$f":"VLOOKUP($D14,'Resultados Gerais'!$B8:$R1048576,12,0)","v":19},{"$f":"VLOOKUP($D14,'Resultados Gerais'!$B8:$R1048576,13,0)","v":8},{"$f":"VLOOKUP($D14,'Resultados Gerais'!$B8:$R1048576,14,0)","v":17},{"$f":"VLOOKUP($D14,'Resultados Gerais'!$B8:$R1048576,15,0)","v":7},{"$f":"VLOOKUP($D14,'Resultados Gerais'!$B8:$R1048576,16,0)","v":21},{"$f":"VLOOKUP($D14,'Resultados Gerais'!$B8:$R1048576,17,0)","v":14},null,null,null,18,8,8]
[null,null,3,{"$f":"COUNT('Resultados Gerais'!B8:B1048576)-C15","v":1078},{"$f":"VLOOKUP(D15,'Resultados Gerais'!B8:C1048576,2,0)","v":"2014-07-07"},{"$f":"VLOOKUP($D15,'Resultados Gerais'!$B8:$R1048576,3,0)","v":23},{"$f":"VLOOKUP($D15,'Resultados Gerais'!$B8:$R1048576,4,0)","v":13},{"$f":"VLOOKUP($D15,'Resultados Gerais'!$B8:$R1048576,5,0)","v":6},{"$f":"VLOOKUP($D15,'Resultados Gerais'!$B8:$R1048576,6,0)","v":24},{"$f":"VLOOKUP($D15,'Resultados Gerais'!$B8:$R1048576,7,0)","v":11},{"$f":"VLOOKUP($D15,'Resultados Gerais'!$B8:$R1048576,8,0)","v":25},{"$f":"VLOOKUP($D15,'Resultados Gerais'!$B8:$R1048576,9,0)","v":2},{"$f":"VLOOKUP($D15,'Resultados Gerais'!$B8:$R1048576,10,0)","v":10},{"$f":"VLOOKUP($D15,'Resultados Gerais'!$B8:$R1048576,11,0)","v":21},{"$f":"VLOOKUP($D15,'Resultados Gerais'!$B8:$R1048576,12,0)","v":7},{"$f":"VLOOKUP($D15,'Resultados Gerais'!$B8:$R1048576,13,0)","v":18},{"$f":"VLOOKUP($D15,'Resultados Gerais'!$B8:$R1048576,14,0)","v":17},{"$f":"VLOOKUP($D15,'Resultados Gerais'!$B8:$R1048576,15,0)","v":5},{"$f":"VLOOKUP($D15,'Resultados Gerais'!$B8:$R1048576,16,0)","v":4},{"$f":"VLOOKUP($D15,'Resultados Gerais'!$B8:$R1048576,17,0)","v":9},null,null,null,16,14,14]
[null,null,4,{"$f":"COUNT('Resultados Gerais'!B8:B1048576)-C16","v":1077},{"$f":"VLOOKUP(D16,'Resultados Gerais'!B8:C1048576,2,0)","v":"2014-07-04"},{"$f":"VLOOKUP($D16,'Resultados Gerais'!$B8:$R1048576,3,0)","v":20},{"$f":"VLOOKUP($D16,'Resultados Gerais'!$B8:$R1048576,4,0)","v":19},{"$f":"VLOOKUP($D16,'Resultados Gerais'!$B8:$R1048576,5,0)","v":12},{"$f":"VLOOKUP($D16,'Resultados Gerais'!$B8:$R1048576,6,0)","v":13},{"$f":"VLOOKUP($D16,'Resultados Gerais'!$B8:$R1048576,7,0)","v":2},{"$f":"VLOOKUP($D16,'Resultados Gerais'!$B8:$R1048576,8,0)","v":5},{"$f":"VLOOKUP($D16,'Resultados Gerais'!$B8:$R1048576,9,0)","v":8},{"$f":"VLOOKUP($D16,'Resultados Gerais'!$B8:$R1048576,10,0)","v":24},{"$f":"VLOOKUP($D16,'Resultados Gerais'!$B8:$R1048576,11,0)","v":7},{"$f":"VLOOKUP($D16,'Resultados Gerais'!$B8:$R1048576,12,0)","v":15},{"$f":"VLOOKUP($D16,'Resultados Gerais'!$B8:$R1048576,13,0)","v":6},{"$f":"VLOOKUP($D16,'Resultados Gerais'!$B8:$R1048576,14,0)","v":21},{"$f":"VLOOKUP($D16,'Resultados Gerais'!$B8:$R1048576,15,0)","v":14},{"$f":"VLOOKUP($D16,'Resultados Gerais'!$B8:$R1048576,16,0)","v":10},{"$f":"VLOOKUP($D16,'Resultados Gerais'!$B8:$R1048576,17,0)","v":1},null,null,null,14,13,13]
[null,null,5,{"$f":"COUNT('Resultados Gerais'!B8:B1048576)-C17","v":1076},{"$f":"VLOOKUP(D17,'Resultados Gerais'!B8:C1048576,2,0)","v":"2014-07-02"},{"$f":"VLOOKUP($D17,'Resultados Gerais'!$B8:$R1048576,3,0)","v":18},{"$f":"VLOOKUP($D17,'Resultados Gerais'!$B8:$R1048576,4,0)","v":15},{"$f":"VLOOKUP($D17,'Resultados Gerais'!$B8:$R1048576,5,0)","v":12},{"$f":"VLOOKUP($D17,'Resultados Gerais'!$B8:$R1048576,6,0)","v":11},{"$f":"VLOOKUP($D17,'Resultados Gerais'!$B8:$R1048576,7,0)","v":20},{"$f":"VLOOKUP($D17,'Resultados Gerais'!$B8:$R1048576,8,0)","v":13},{"$f":"VLOOKUP($D17,'Resultados Gerais'!$B8:$R1048576,9,0)","v":17},{"$f":"VLOOKUP($D17,'Resultados Gerais'!$B8:$R1048576,10,0)","v":9},{"$f":"VLOOKUP($D17,'Resultados Gerais'!$B8:$R1048576,11,0)","v":16},{"$f":"VLOOKUP($D17,'Resultados Gerais'!$B8:$R1048576,12,0)","v":25},{"$f":"VLOOKUP($D17,'Resultados Gerais'!$B8:$R1048576,13,0)","v":4},{"$f":"VLOOKUP($D17,'Resultados Gerais'!$B8:$R1048576,14,0)","v":14},{"$f":"VLOOKUP($D17,'Resultados Gerais'!$B8:$R1048576,15,0)","v":21},{"$f":"VLOOKUP($D17,'Resultados Gerais'!$B8:$R1048576,16,0)","v":10},{"$f":"VLOOKUP($D17,'Resultados Gerais'!$B8:$R1048576,17,0)","v":22},null,null,null,11,13,13]
[null,null,6,{"$f":"COUNT('Resultados Gerais'!B8:B1048576)-C18","v":1075},{"$f":"VLOOKUP(D18,'Resultados Gerais'!B8:C1048576,2,0)","v":"2014-06-30"},{"$f":"VLOOKUP($D18,'Resultados Gerais'!$B8:$R1048576,3,0)","v":21},{"$f":"VLOOKUP($D18,'Resultados Gerais'!$B8:$R1048576,4,0)","v":15},{"$f":"VLOOKUP($D18,'Resultados Gerais'!$B8:$R1048576,5,0)","v":16},{"$f":"VLOOKUP($D18,'Resultados Gerais'!$B8:$R1048576,6,0)","v":24},{"$f":"VLOOKUP($D18,'Resultados Gerais'!$B8:$R1048576,7,0)","v":6},{"$f":"VLOOKUP($D18,'Resultados Gerais'!$B8:$R1048576,8,0)","v":17},{"$f":"VLOOKUP($D18,'Resultados Gerais'!$B8:$R1048576,9,0)","v":1},{"$f":"VLOOKUP($D18,'Resultados Gerais'!$B8:$R1048576,10,0)","v":18},{"$f":"VLOOKUP($D18,'Resultados Gerais'!$B8:$R1048576,11,0)","v":22},{"$f":"VLOOKUP($D18,'Resultados Gerais'!$B8:$R1048576,12,0)","v":12},{"$f":"VLOOKUP($D18,'Resultados Gerais'!$B8:$R1048576,13,0)","v":2},{"$f":"VLOOKUP($D18,'Resultados Gerais'!$B8:$R1048576,14,0)","v":23},{"$f":"VLOOKUP($D18,'Resultados Gerais'!$B8:$R1048576,15,0)","v":25},{"$f":"VLOOKUP($D18,'Resultados Gerais'!$B8:$R1048576,16,0)","v":9},{"$f":"VLOOKUP($D18,'Resultados Gerais'!$B8:$R1048576,17,0)","v":10},null,null,null,1,8,8]
[null,null,7,{"$f":"COUNT('Resultados Gerais'!B8:B1048576)-C19","v":1074},{"$f":"VLOOKUP(D19,'Resultados Gerais'!B8:C1048576,2,0)","v":"2014-06-27"},{"$f":"VLOOKUP($D19,'Resultados Gerais'!$B8:$R1048576,3,0)","v":9},{"$f":"VLOOKUP($D19,'Resultados Gerais'!$B8:$R1048576,4,0)","v":10},{"$f":"VLOOKUP($D19,'Resultados Gerais'!$B8:$R1048576,5,0)","v":8},{"$f":"VLOOKUP($D19,'Resultados Gerais'!$B8:$R1048576,6,0)","v":25},{"$f":"VLOOKUP($D19,'Resultados Gerais'!$B8:$R1048576,7,0)","v":13},{"$f":"VLOOKUP($D19,'Resultados Gerais'!$B8:$R1048576,8,0)","v":11},{"$f":"VLOOKUP($D19,'Resultados Gerais'!$B8:$R1048576,9,0)","v":17},{"$f":"VLOOKUP($D19,'Resultados Gerais'!$B8:$R1048576,10,0)","v":22},{"$f":"VLOOKUP($D19,'Resultados Gerais'!$B8:$R1048576,11,0)","v":23},{"$f":"VLOOKUP($D19,'Resultados Gerais'!$B8:$R1048576,12,0)","v":24},{"$f":"VLOOKUP($D19,'Resultados Gerais'!$B8:$R1048576,13,0)","v":21},{"$f":"VLOOKUP($D19,'Resultados Gerais'!$B8:$R1048576,14,0)","v":1},{"$f":"VLOOKUP($D19,'Resultados Gerais'!$B8:$R1048576,15,0)","v":4},{"$f":"VLOOKUP($D19,'Resultados Gerais'!$B8:$R1048576,16,0)","v":7},{"$f":"VLOOKUP($D19,'Resultados Gerais'!$B8:$R1048576,17,0)","v":20},null,null,null,6,12,12]
[null,null,8,{"$f":"COUNT('Resultados Gerais'!B8:B1048576)-C20","v":1073},{"$f":"VLOOKUP(D20,'Resultados Gerais'!B8:C1048576,2,0)","v":"2014-06-25"},{"$f":"VLOOKUP($D20,'Resultados Gerais'!$B8:$R1048576,3,0)","v":13},{"$f":"VLOOKUP($D20,'Resultados Gerais'!$B8:$R1048576,4,0)","v":20},{"$f":"VLOOKUP($D20,'Resultados Gerais'!$B8:$R1048576,5,0)","v":17},{"$f":"VLOOKUP($D20,'Resultados Gerais'!$B8:$R1048576,6,0)","v":16},{"$f":"VLOOKUP($D20,'Resultados Gerais'!$B8:$R1048576,7,0)","v":23},{"$f":"VLOOKUP($D20,'Resultados Gerais'!$B8:$R1048576,8,0)","v":5},{"$f":"VLOOKUP($D20,'Resultados Gerais'!$B8:$R1048576,9,0)","v":3},{"$f":"VLOOKUP($D20,'Resultados Gerais'!$B8:$R1048576,10,0)","v":6},{"$f":"VLOOKUP($D20,'Resultados Gerais'!$B8:$R1048576,11,0)","v":1},{"$f":"VLOOKUP($D20,'Resultados Gerais'!$B8:$R1048576,12,0)","v":19},{"$f":"VLOOKUP($D20,'Resultados Gerais'!$B8:$R1048576,13,0)","v":22},{"$f":"VLOOKUP($D20,'Resultados Gerais'!$B8:$R1048576,14,0)","v":4},{"$f":"VLOOKUP($D20,'Resultados Gerais'!$B8:$R1048576,15,0)","v":7},{"$f":"VLOOKUP($D20,'Resultados Gerais'!$B8:$R1048576,16,0)","v":24},{"$f":"VLOOKUP($D20,'Resultados Gerais'!$B8:$R1048576,17,0)","v":21},null,null,null,4,12,12]
[null,null,9,{"$f":"COUNT('Resultados Gerais'!B8:B1048576)-C21","v":1072},{"$f":"VLOOKUP(D21,'Resultados Gerais'!B8:C1048576,2,0)","v":"2014-06-23"},{"$f":"VLOOKUP($D21,'Resultados Gerais'!$B8:$R1048576,3,0)","v":2},{"$f":"VLOOKUP($D21,'Resultados Gerais'!$B8:$R1048576,4,0)","v":4},{"$f":"VLOOKUP($D21,'Resultados Gerais'!$B8:$R1048576,5,0)","v":7},{"$f":"VLOOKUP($D21,'Resultados Gerais'!$B8:$R1048576,6,0)","v":22},{"$f":"VLOOKUP($D21,'Resultados Gerais'!$B8:$R1048576,7,0)","v":23},{"$f":"VLOOKUP($D21,'Resultados Gerais'!$B8:$R1048576,8,0)","v":25},{"$f":"VLOOKUP($D21,'Resultados Gerais'!$B8:$R1048576,9,0)","v":14},{"$f":"VLOOKUP($D21,'Resultados Gerais'!$B8:$R1048576,10,0)","v":17},{"$f":"VLOOKUP($D21,'Resultados Gerais'!$B8:$R1048576,11,0)","v":20},{"$f":"VLOOKUP($D21,'Resultados Gerais'!$B8:$R1048576,12,0)","v":3},{"$f":"VLOOKUP($D21,'Resultados Gerais'!$B8:$R1048576,13,0)","v":13},{"$f":"VLOOKUP($D21,'Resultados Gerais'!$B8:$R1048576,14,0)","v":1},{"$f":"VLOOKUP($D21,'Resultados Gerais'!$B8:$R1048576,15,0)","v":5},{"$f":"VLOOKUP($D21,'Resultados Gerais'!$B8:$R1048576,16,0)","v":15},{"$f":"VLOOKUP($D21,'Resultados Gerais'!$B8:$R1048576,17,0)","v":9},null,null,null,24,14,14]
[null,null,10,{"$f":"COUNT('Resultados Gerais'!B8:B1048576)-C22","v":1071},{"$f":"VLOOKUP(D22,'Resultados Gerais'!B8:C1048576,2,0)","v":"2014-06-20"},{"$f":"VLOOKUP($D22,'Resultados Gerais'!$B8:$R1048576,3,0)","v":11},{"$f":"VLOOKUP($D22,'Resultados Gerais'!$B8:$R1048576,4,0)","v":6},{"$f":"VLOOKUP($D22,'Resultados Gerais'!$B8:$R1048576,5,0)","v":14},{"$f":"VLOOKUP($D22,'Resultados Gerais'!$B8:$R1048576,6,0)","v":16},{"$f":"VLOOKUP($D22,'Resultados Gerais'!$B8:$R1048576,7,0)","v":3},{"$f":"VLOOKUP($D22,'Resultados Gerais'!$B8:$R1048576,8,0)","v":2},{"$f":"VLOOKUP($D22,'Resultados Gerais'!$B8:$R1048576,9,0)","v":13},{"$f":"VLOOKUP($D22,'Resultados Gerais'!$B8:$R1048576,10,0)","v":17},{"$f":"VLOOKUP($D22,'Resultados Gerais'!$B8:$R1048576,11,0)","v":21},{"$f":"VLOOKUP($D22,'Resultados Gerais'!$B8:$R1048576,12,0)","v":4},{"$f":"VLOOKUP($D22,'Resultados Gerais'!$B8:$R1048576,13,0)","v":22},{"$f":"VLOOKUP($D22,'Resultados Gerais'!$B8:$R1048576,14,0)","v":24},{"$f":"VLOOKUP($D22,'Resultados Gerais'!$B8:$R1048576,15,0)","v":5},{"$f":"VLOOKUP($D22,'Resultados Gerais'!$B8:$R1048576,16,0)","v":10},{"$f":"VLOOKUP($D22,'Resultados Gerais'!$B8:$R1048576,17,0)","v":12},null,null,null,7,12,12]
[null,null,11,{"$f":"COUNT('Resultados Gerais'!B8:B1048576)-C23","v":1070},{"$f":"VLOOKUP(D23,'Resultados Gerais'!B8:C1048576,2,0)","v":"2014-06-18"},{"$f":"VLOOKUP($D23,'Resultados Gerais'!$B8:$R1048576,3,0)","v":9},{"$f":"VLOOKUP($D23,'Resultados Gerais'!$B8:$R1048576,4,0)","v":22},{"$f":"VLOOKUP($D23,'Resultados Gerais'!$B8:$R1048576,5,0)","v":18},{"$f":"VLOOKUP($D23,'Resultados Gerais'!$B8:$R1048576,6,0)","v":23},{"$f":"VLOOKUP($D23,'Resultados Gerais'!$B8:$R1048576,7,0)","v":4},{"$f":"VLOOKUP($D23,'Resultados Gerais'!$B8:$R1048576,8,0)","v":20},{"$f":"VLOOKUP($D23,'Resultados Gerais'!$B8:$R1048576,9,0)","v":25},{"$f":"VLOOKUP($D23,'Resultados Gerais'!$B8:$R1048576,10,0)","v":11},{"$f":"VLOOKUP($D23,'Resultados Gerais'!$B8:$R1048576,11,0)","v":13},{"$f":"VLOOKUP($D23,'Resultados Gerais'!$B8:$R1048576,12,0)","v":19},{"$f":"VLOOKUP($D23,'Resultados Gerais'!$B8:$R1048576,13,0)","v":12},{"$f":"VLOOKUP($D23,'Resultados Gerais'!$B8:$R1048576,14,0)","v":10},{"$f":"VLOOKUP($D23,'Resultados Gerais'!$B8:$R1048576,15,0)","v":21},{"$f":"VLOOKUP($D23,'Resultados Gerais'!$B8:$R1048576,16,0)","v":16},{"$f":"VLOOKUP($D23,'Resultados Gerais'!$B8:$R1048576,17,0)","v":24},null,null,null,13,15,15]
[null,null,12,{"$f":"COUNT('Resultados Gerais'!B8:B1048576)-C24","v":1069},{"$f":"VLOOKUP(D24,'Resultados Gerais'!B8:C1048576,2,0)","v":"2014-06-16"},{"$f":"VLOOKUP($D24,'Resultados Gerais'!$B8:$R1048576,3,0)","v":22},{"$f":"VLOOKUP($D24,'Resultados Gerais'!$B8:$R1048576,4,0)","v":23},{"$f":"VLOOKUP($D24,'Resultados Gerais'!$B8:$R1048576,5,0)","v":17},{"$f":"VLOOKUP($D24,'Resultados Gerais'!$B8:$R1048576,6,0)","v":15},{"$f":"VLOOKUP($D24,'Resultados Gerais'!$B8:$R1048576,7,0)","v":1},{"$f":"VLOOKUP($D24,'Resultados Gerais'!$B8:$R1048576,8,0)","v":11},{"$f":"VLOOKUP($D24,'Resultados Gerais'!$B8:$R1048576,9,0)","v":16},{"$f":"VLOOKUP($D24,'Resultados Gerais'!$B8:$R1048576,10,0)","v":4},{"$f":"VLOOKUP($D24,'Resultados Gerais'!$B8:$R1048576,11,0)","v":8},{"$f":"VLOOKUP($D24,'Resultados Gerais'!$B8:$R1048576,12,0)","v":12},{"$f":"VLOOKUP($D24,'Resultados Gerais'!$B8:$R1048576,13,0)","v":3},{"$f":"VLOOKUP($D24,'Resultados Gerais'!$B8:$R1048576,14,0)","v":10},{"$f":"VLOOKUP($D24,'Resultados Gerais'!$B8:$R1048576,15,0)","v":13},{"$f":"VLOOKUP($D24,'Resultados Gerais'!$B8:$R1048576,16,0)","v":25},{"$f":"VLOOKUP($D24,'Resultados Gerais'!$B8:$R1048576,17,0)","v":24},null,null,null,22,16,16]
[null,null,13,{"$f":"COUNT('Resultados Gerais'!B8:B1048576)-C25","v":1068},{"$f":"VLOOKUP(D25,'Resultados Gerais'!B8:C1048576,2,0)","v":"2014-06-13"},{"$f":"VLOOKUP($D25,'Resultados Gerais'!$B8:$R1048576,3,0)","v":24},{"$f":"VLOOKUP($D25,'Resultados Gerais'!$B8:$R1048576,4,0)","v":20},{"$f":"VLOOKUP($D25,'Resultados Gerais'!$B8:$R1048576,5,0)","v":18},{"$f":"VLOOKUP($D25,'Resultados Gerais'!$B8:$R1048576,6,0)","v":10},{"$f":"VLOOKUP($D25,'Resultados Gerais'!$B8:$R1048576,7,0)","v":14},{"$f":"VLOOKUP($D25,'Resultados Gerais'!$B8:$R1048576,8,0)","v":17},{"$f":"VLOOKUP($D25,'Resultados Gerais'!$B8:$R1048576,9,0)","v":11},{"$f":"VLOOKUP($D25,'Resultados Gerais'!$B8:$R1048576,10,0)","v":13},{"$f":"VLOOKUP($D25,'Resultados Gerais'!$B8:$R1048576,11,0)","v":21},{"$f":"VLOOKUP($D25,'Resultados Gerais'!$B8:$R1048576,12,0)","v":15},{"$f":"VLOOKUP($D25,'Resultados Gerais'!$B8:$R1048576,13,0)","v":16},{"$f":"VLOOKUP($D25,'Resultados Gerais'!$B8:$R1048576,14,0)","v":6},{"$f":"VLOOKUP($D25,'Resultados Gerais'!$B8:$R1048576,15,0)","v":2},{"$f":"VLOOKUP($D25,'Resultados Gerais'!$B8:$R1048576,16,0)","v":22},{"$f":"VLOOKUP($D25,'Resultados Gerais'!$B8:$R1048576,17,0)","v":7},null,null,null,12,10,10]
[null,null,14,{"$f":"COUNT('Resultados Gerais'!B8:B1048576)-C26","v":1067},{"$f":"VLOOKUP(D26,'Resultados Gerais'!B8:C1048576,2,0)","v":"2014-06-11"},{"$f":"VLOOKUP($D26,'Resultados Gerais'!$B8:$R1048576,3,0)","v":21},{"$f":"VLOOKUP($D26,'Resultados Gerais'!$B8:$R1048576,4,0)","v":15},{"$f":"VLOOKUP($D26,'Resultados Gerais'!$B8:$R1048576,5,0)","v":1},{"$f":"VLOOKUP($D26,'Resultados Gerais'!$B8:$R1048576,6,0)","v":3},{"$f":"VLOOKUP($D26,'Resultados Gerais'!$B8:$R1048576,7,0)","v":5},{"$f":"VLOOKUP($D26,'Resultados Gerais'!$B8:$R1048576,8,0)","v":14},{"$f":"VLOOKUP($D26,'Resultados Gerais'!$B8:$R1048576,9,0)","v":2},{"$f":"VLOOKUP($D26,'Resultados Gerais'!$B8:$R1048576,10,0)","v":11},{"$f":"VLOOKUP($D26,'Resultados Gerais'!$B8:$R1048576,11,0)","v":17},{"$f":"VLOOKUP($D26,'Resultados Gerais'!$B8:$R1048576,12,0)","v":4},{"$f":"VLOOKUP($D26,'Resultados Gerais'!$B8:$R1048576,13,0)","v":10},{"$f":"VLOOKUP($D26,'Resultados Gerais'!$B8:$R1048576,14,0)","v":25},{"$f":"VLOOKUP($D26,'Resultados Gerais'!$B8:$R1048576,15,0)","v":7},{"$f":"VLOOKUP($D26,'Resultados Gerais'!$B8:$R1048576,16,0)","v":13},{"$f":"VLOOKUP($D26,'Resultados Gerais'!$B8:$R1048576,17,0)","v":22},null,null,null,17,15,15]
[null,null,15,{"$f":"COUNT('Resultados Gerais'!B8:B1048576)-C27","v":1066},{"$f":"VLOOKUP(D27,'Resultados Gerais'!B8:C1048576,2,0)","v":"2014-06-09"},{"$f":"VLOOKUP($D27,'Resultados Gerais'!$B8:$R1048576,3,0)","v":10},{"$f":"VLOOKUP($D27,'Resultados Gerais'!$B8:$R1048576,4,0)","v":24},{"$f":"VLOOKUP($D27,'Resultados Gerais'!$B8:$R1048576,5,0)","v":6},{"$f":"VLOOKUP($D27,'Resultados Gerais'!$B8:$R1048576,6,0)","v":16},{"$f":"VLOOKUP($D27,'Resultados Gerais'!$B8:$R1048576,7,0)","v":21},{"$f":"VLOOKUP($D27,'Resultados Gerais'!$B8:$R1048576,8,0)","v":5},{"$f":"VLOOKUP($D27,'Resultados Gerais'!$B8:$R1048576,9,0)","v":4},{"$f":"VLOOKUP($D27,'Resultados Gerais'!$B8:$R1048576,10,0)","v":22},{"$f":"VLOOKUP($D27,'Resultados Gerais'!$B8:$R1048576,11,0)","v":14},{"$f":"VLOOKUP($D27,'Resultados Gerais'!$B8:$R1048576,12,0)","v":11},{"$f":"VLOOKUP($D27,'Resultados Gerais'!$B8:$R1048576,13,0)","v":17},{"$f":"VLOOKUP($D27,'Resultados Gerais'!$B8:$R1048576,14,0)","v":19},{"$f":"VLOOKUP($D27,'Resultados Gerais'!$B8:$R1048576,15,0)","v":2},{"$f":"VLOOKUP($D27,'Resultados Gerais'!$B8:$R1048576,16,0)","v":18},{"$f":"VLOOKUP($D27,'Resultados Gerais'!$B8:$R1048576,17,0)","v":23},null,null,null,10,15,15]
[null,null,16,{"$f":"COUNT('Resultados Gerais'!B8:B1048576)-C28","v":1065},{"$f":"VLOOKUP(D28,'Resultados Gerais'!B8:C1048576,2,0)","v":"2014-06-06"},{"$f":"VLOOKUP($D28,'Resultados Gerais'!$B8:$R1048576,3,0)","v":12},{"$f":"VLOOKUP($D28,'Resultados Gerais'!$B8:$R1048576,4,0)","v":20},{"$f":"VLOOKUP($D28,'Resultados Gerais'!$B8:$R1048576,5,0)","v":14},{"$f":"VLOOKUP($D28,'Resultados Gerais'!$B8:$R1048576,6,0)","v":21},{"$f":"VLOOKUP($D28,'Resultados Gerais'!$B8:$R1048576,7,0)","v":5},{"$f":"VLOOKUP($D28,'Resultados Gerais'!$B8:$R1048576,8,0)","v":15},{"$f":"VLOOKUP($D28,'Resultados Gerais'!$B8:$R1048576,9,0)","v":4},{"$f":"VLOOKUP($D28,'Resultados Gerais'!$B8:$R1048576,10,0)","v":2},{"$f":"VLOOKUP($D28,'Resultados Gerais'!$B8:$R1048576,11,0)","v":19},{"$f":"VLOOKUP($D28,'Resultados Gerais'!$B8:$R1048576,12,0)","v":24},{"$f":"VLOOKUP($D28,'Resultados Gerais'!$B8:$R1048576,13,0)","v":6},{"$f":"VLOOKUP($D28,'Resultados Gerais'!$B8:$R1048576,14,0)","v":25},{"$f":"VLOOKUP($D28,'Resultados Gerais'!$B8:$R1048576,15,0)","v":17},{"$f":"VLOOKUP($D28,'Resultados Gerais'!$B8:$R1048576,16,0)","v":22},{"$f":"VLOOKUP($D28,'Resultados Gerais'!$B8:$R1048576,17,0)","v":3},null,null,null,20,11,11]
[null,null,17,{"$f":"COUNT('Resultados Gerais'!B8:B1048576)-C29","v":1064},{"$f":"VLOOKUP(D29,'Resultados Gerais'!B8:C1048576,2,0)","v":"2014-06-04"},{"$f":"VLOOKUP($D29,'Resultados Gerais'!$B8:$R1048576,3,0)","v":15},{"$f":"VLOOKUP($D29,'Resultados Gerais'!$B8:$R1048576,4,0)","v":25},{"$f":"VLOOKUP($D29,'Resultados Gerais'!$B8:$R1048576,5,0)","v":9},{"$f":"VLOOKUP($D29,'Resultados Gerais'!$B8:$R1048576,6,0)","v":7},{"$f":"VLOOKUP($D29,'Resultados Gerais'!$B8:$R1048576,7,0)","v":11},{"$f":"VLOOKUP($D29,'Resultados Gerais'!$B8:$R1048576,8,0)","v":10},{"$f":"VLOOKUP($D29,'Resultados Gerais'!$B8:$R1048576,9,0)","v":14},{"$f":"VLOOKUP($D29,'Resultados Gerais'!$B8:$R1048576,10,0)","v":2},{"$f":"VLOOKUP($D29,'Resultados Gerais'!$B8:$R1048576,11,0)","v":24},{"$f":"VLOOKUP($D29,'Resultados Gerais'!$B8:$R1048576,12,0)","v":8},{"$f":"VLOOKUP($D29,'Resultados Gerais'!$B8:$R1048576,13,0)","v":16},{"$f":"VLOOKUP($D29,'Resultados Gerais'!$B8:$R1048576,14,0)","v":18},{"$f":"VLOOKUP($D29,'Resultados Gerais'!$B8:$R1048576,15,0)","v":19},{"$f":"VLOOKUP($D29,'Resultados Gerais'!$B8:$R1048576,16,0)","v":21},{"$f":"VLOOKUP($D29,'Resultados Gerais'!$B8:$R1048576,17,0)","v":3},null,null,null,19,9,9]
[null,null,18,{"$f":"COUNT('Resultados Gerais'!B8:B1048576)-C30","v":1063},{"$f":"VLOOKUP(D30,'Resultados Gerais'!B8:C1048576,2,0)","v":"2014-06-02"},{"$f":"VLOOKUP($D30,'Resultados Gerais'!$B8:$R1048576,3,0)","v":14},{"$f":"VLOOKUP($D30,'Resultados Gerais'!$B8:$R1048576,4,0)","v":24},{"$f":"VLOOKUP($D30,'Resultados Gerais'!$B8:$R1048576,5,0)","v":6},{"$f":"VLOOKUP($D30,'Resultados Gerais'!$B8:$R1048576,6,0)","v":10},{"$f":"VLOOKUP($D30,'Resultados Gerais'!$B8:$R1048576,7,0)","v":16},{"$f":"VLOOKUP($D30,'Resultados Gerais'!$B8:$R1048576,8,0)","v":25},{"$f":"VLOOKUP($D30,'Resultados Gerais'!$B8:$R1048576,9,0)","v":15},{"$f":"VLOOKUP($D30,'Resultados Gerais'!$B8:$R1048576,10,0)","v":7},{"$f":"VLOOKUP($D30,'Resultados Gerais'!$B8:$R1048576,11,0)","v":13},{"$f":"VLOOKUP($D30,'Resultados Gerais'!$B8:$R1048576,12,0)","v":2},{"$f":"VLOOKUP($D30,'Resultados Gerais'!$B8:$R1048576,13,0)","v":22},{"$f":"VLOOKUP($D30,'Resultados Gerais'!$B8:$R1048576,14,0)","v":5},{"$f":"VLOOKUP($D30,'Resultados Gerais'!$B8:$R1048576,15,0)","v":21},{"$f":"VLOOKUP($D30,'Resultados Gerais'!$B8:$R1048576,16,0)","v":12},{"$f":"VLOOKUP($D30,'Resultados Gerais'!$B8:$R1048576,17,0)","v":20},null,null,null,5,13,13]
[null,null,19,{"$f":"COUNT('Resultados Gerais'!B8:B1048576)-C31","v":1062},{"$f":"VLOOKUP(D31,'Resultados Gerais'!B8:C1048576,2,0)","v":"2014-05-30"},{"$f":"VLOOKUP($D31,'Resultados Gerais'!$B8:$R1048576,3,0)","v":8},{"$f":"VLOOKUP($D31,'Resultados Gerais'!$B8:$R1048576,4,0)","v":7},{"$f":"VLOOKUP($D31,'Resultados Gerais'!$B8:$R1048576,5,0)","v":13},{"$f":"VLOOKUP($D31,'Resultados Gerais'!$B8:$R1048576,6,0)","v":4},{"$f":"VLOOKUP($D31,'Resultados Gerais'!$B8:$R1048576,7,0)","v":9},{"$f":"VLOOKUP($D31,'Resultados Gerais'!$B8:$R1048576,8,0)","v":16},{"$f":"VLOOKUP($D31,'Resultados Gerais'!$B8:$R1048576,9,0)","v":23},{"$f":"VLOOKUP($D31,'Resultados Gerais'!$B8:$R1048576,10,0)","v":17},{"$f":"VLOOKUP($D31,'Resultados Gerais'!$B8:$R1048576,11,0)","v":3},{"$f":"VLOOKUP($D31,'Resultados Gerais'!$B8:$R1048576,12,0)","v":19},{"$f":"VLOOKUP($D31,'Resultados Gerais'!$B8:$R1048576,13,0)","v":15},{"$f":"VLOOKUP($D31,'Resultados Gerais'!$B8:$R1048576,14,0)","v":11},{"$f":"VLOOKUP($D31,'Resultados Gerais'!$B8:$R1048576,15,0)","v":5},{"$f":"VLOOKUP($D31,'Resultados Gerais'!$B8:$R1048576,16,0)","v":25},{"$f":"VLOOKUP($D31,'Resultados Gerais'!$B8:$R1048576,17,0)","v":20},null,null,null,3,9,9]
[null,null,null,null,null,null,null,null,null,null,null,null,null,null,null,null,null,null,null,null,null,null,null,8,6,6]
[null,null,null,null,null,null,null,null,null,null,null,null,null,null,null,null,null,null,null,null,null,null,null,2,12,12]
[null,null,null,null,null,null,null,null,null,null,null,null,null,null,null,null,null,null,null,null,null,null,null,15,14,14]
[null,null,null,null,null,null,null,null,null,null,null,null,null,null,null,null,null,null,null,null,null,null,null,25,13,13]
[null,null,null,null,null,null,null,null,null,null,null,null,null,null,null,null,null,null,null,null,null,null,null,23,11,11]

{"sheet":"50 Últimos Sorteios","index":4,"n_rows":61,"n_cols":26,"rows_kept":61,"cut":false,"hidden":false,"merged":[[8,23,10,24],[8,3,9,19],[5,1,5,27],[1,1,1,27],[2,1,2,27],[3,1,3,27]]}
[]
[null,"Atenção!"]
[null,"Esta planilha é de uso pessoal, é restritamente proibida a distribuição da mesma a terceiros, sujeito a punições de acordo com as leis de direitos autorais"]
[null,"Todos os direitos reservados ao site www.ApostaEsperta.com "]
[]
[null,"Planilha de Análise Estatística Lotofacil"]
[]
[]
[null,null,null,"Resultados dos Últimos 50 Sorteios",null,null,null,null,null,null,null,null,null,null,null,null,null,null,null,null,null,null,null,"Números Quentes\nÚltimos 10 Sorteios"]
[]
[null,null,null,"Sorteio","Data do Sorteio","1ªD","2ªD","3ªD","4ªD","5ªD","6ªD","7ªD","8ªD","9ªD","10ªD","11ªD","12ªD","13ªD","14ªD","15ªD"]
[null,null,null,{"$f":"COUNT('Resultados Gerais'!B8:B1048576)","v":1081},{"$f":"VLOOKUP(D12,'Resultados Gerais'!B8:C1048576,2,0)","v":"2014-07-14"},{"$f":"VLOOKUP($D12,'Resultados Gerais'!$B8:$R1048576,3,0)","v":21},{"$f":"VLOOKUP($D12,'Resultados Gerais'!$B8:$R1048576,4,0)","v":10},{"$f":"VLOOKUP($D12,'Resultados Gerais'!$B8:$R1048576,5,0)","v":5},{"$f":"VLOOKUP($D12,'Resultados Gerais'!$B8:$R1048576,6,0)","v":16},{"$f":"VLOOKUP($D12,'Resultados Gerais'!$B8:$R1048576,7,0)","v":13},{"$f":"VLOOKUP($D12,'Resultados Gerais'!$B8:$R1048576,8,0)","v":12},{"$f":"VLOOKUP($D12,'Resultados Gerais'!$B8:$R1048576,9,0)","v":14},{"$f":"VLOOKUP($D12,'Resultados Gerais'!$B8:$R1048576,10,0)","v":1},{"$f":"VLOOKUP($D12,'Resultados Gerais'!$B8:$R1048576,11,0)","v":15},{"$f":"VLOOKUP($D12,'Resultados Gerais'!$B8:$R1048576,12,0)","v":22},{"$f":"VLOOKUP($D12,'Resultados Gerais'!$B8:$R1048576,13,0)","v":18},{"$f":"VLOOKUP($D12,'Resultados Gerais'!$B8:$R1048576,14,0)","v":19},{"$f":"VLOOKUP($D12,'Resultados Gerais'!$B8:$R1048576,15,0)","v":6},{"$f":"VLOOKUP($D12,'Resultados Gerais'!$B8:$R1048576,16,0)","v":7},{"$f":"VLOOKUP($D12,'Resultados Gerais'!$B8:$R1048576,17,0)","v":23},null,null,null,"Dezena","Qtd de Saída"]
[null,null,1,{"$f":"COUNT('Resultados Gerais'!B8:B1048576)-C13","v":1080},{"$f":"VLOOKUP(D13,'Resultados Gerais'!B8:C1048576,2,0)","v":"2014-07-11"},{"$f":"VLOOKUP($D13,'Resultados Gerais'!$B8:$R1048576,3,0)","v":5},{"$f":"VLOOKUP($D13,'Resultados Gerais'!$B8:$R1048576,4,0)","v":14},{"$f":"VLOOKUP($D13,'Resultados Gerais'!$B8:$R1048576,5,0)","v":3},{"$f":"VLOOKUP($D13,'Resultados Gerais'!$B8:$R1048576,6,0)","v":17},{"$f":"VLOOKUP($D13,'Resultados Gerais'!$B8:$R1048576,7,0)","v":12},{"$f":"VLOOKUP($D13,'Resultados Gerais'!$B8:$R1048576,8,0)","v":21},{"$f":"VLOOKUP($D13,'Resultados Gerais'!$B8:$R1048576,9,0)","v":2},{"$f":"VLOOKUP($D13,'Resultados Gerais'!$B8:$R1048576,10,0)","v":16},{"$f":"VLOOKUP($D13,'Resultados Gerais'!$B8:$R1048576,11,0)","v":10},{"$f":"VLOOKUP($D13,'Resultados Gerais'!$B8:$R1048576,12,0)","v":6},{"$f":"VLOOKUP($D13,'Resultados Gerais'!$B8:$R1048576,13,0)","v":23},{"$f":"VLOOKUP($D13,'Resultados Gerais'!$B8:$R1048576,14,0)","v":22},{"$f":"VLOOKUP($D13,'Resultados Gerais'!$B8:$R1048576,15,0)","v":15},{"$f":"VLOOKUP($D13,'Resultados Gerais'!$B8:$R1048576,16,0)","v":25},{"$f":"VLOOKUP($D13,'Resultados Gerais'!$B8:$R1048576,17,0)","v":11},null,null,null,6,{"$f":"COUNTIF($F$12:$T$62,X13)","v":31},{"$f":"COUNTIF($F$12:$T$62,X13)","v":31}]
[null,null,2,{"$f":"COUNT('Resultados Gerais'!B8:B1048576)-C14","v":1079},{"$f":"VLOOKUP(D14,'Resultados Gerais'!B8:C1048576,2,0)","v":"2014-07-09"},{"$f":"VLOOKUP($D14,'Resultados Gerais'!$B8:$R1048576,3,0)","v":15},{"$f":"VLOOKUP($D14,'Resultados Gerais'!$B8:$R1048576,4,0)","v":24},{"$f":"VLOOKUP($D14,'Resultados Gerais'!$B8:$R1048576,5,0)","v":6},{"$f":"VLOOKUP($D14,'Resultados Gerais'!$B8:$R1048576,6,0)","v":11},{"$f":"VLOOKUP($D14,'Resultados Gerais'!$B8:$R1048576,7,0)","v":22},{"$f":"VLOOKUP($D14,'Resultados Gerais'!$B8:$R1048576,8,0)","v":5},{"$f":"VLOOKUP($D14,'Resultados Gerais'!$B8:$R1048576,9,0)","v":13},{"$f":"VLOOKUP($D14,'Resultados Gerais'!$B8:$R1048576,10,0)","v":20},{"$f":"VLOOKUP($D14,'Resultados Gerais'!$B8:$R1048576,11,0)","v":16},{"$f":"VLOOKUP($D14,'Resultados Gerais'!$B8:$R1048576,12,0)","v":19},{"$f":"VLOOKUP($D14,'Resultados Gerais'!$B8:$R1048576,13,0)","v":8},{"$f":"VLOOKUP($D14,'Resultados Gerais'!$B8:$R1048576,14,0)","v":17},{"$f":"VLOOKUP($D14,'Resultados Gerais'!$B8:$R1048576,15,0)","v":7},{"$f":"VLOOKUP($D14,'Resultados Gerais'!$B8:$R1048576,16,0)","v":21},{"$f":"VLOOKUP($D14,'Resultados Gerais'!$B8:$R1048576,17,0)","v":14},null,null,null,4,31,31]
[null,null,3,{"$f":"COUNT('Resultados Gerais'!B8:B1048576)-C15","v":1078},{"$f":"VLOOKUP(D15,'Resultados Gerais'!B8:C1048576,2,0)","v":"2014-07-07"},{"$f":"VLOOKUP($D15,'Resultados Gerais'!$B8:$R1048576,3,0)","v":23},{"$f":"VLOOKUP($D15,'Resultados Gerais'!$B8:$R1048576,4,0)","v":13},{"$f":"VLOOKUP($D15,'Resultados Gerais'!$B8:$R1048576,5,0)","v":6},{"$f":"VLOOKUP($D15,'Resultados Gerais'!$B8:$R1048576,6,0)","v":24},{"$f":"VLOOKUP($D15,'Resultados Gerais'!$B8:$R1048576,7,0)","v":11},{"$f":"VLOOKUP($D15,'Resultados Gerais'!$B8:$R1048576,8,0)","v":25},{"$f":"VLOOKUP($D15,'Resultados Gerais'!$B8:$R1048576,9,0)","v":2},{"$f":"VLOOKUP($D15,'Resultados Gerais'!$B8:$R1048576,10,0)","v":10},{"$f":"VLOOKUP($D15,'Resultados Gerais'!$B8:$R1048576,11,0)","v":21},{"$f":"VLOOKUP($D15,'Resultados Gerais'!$B8:$R1048576,12,0)","v":7},{"$f":"VLOOKUP($D15,'Resultados Gerais'!$B8:$R1048576,13,0)","v":18},{"$f":"VLOOKUP($D15,'Resultados Gerais'!$B8:$R1048576,14,0)","v":17},{"$f":"VLOOKUP($D15,'Resultados Gerais'!$B8:$R1048576,15,0)","v":5},{"$f":"VLOOKUP($D15,'Resultados Gerais'!$B8:$R1048576,16,0)","v":4},{"$f":"VLOOKUP($D15,'Resultados Gerais'!$B8:$R1048576,17,0)","v":9},null,null,null,9,26,26]
[null,null,4,{"$f":"COUNT('Resultados Gerais'!B8:B1048576)-C16","v":1077},{"$f":"VLOOKUP(D16,'Resultados Gerais'!B8:C1048576,2,0)","v":"2014-07-04"},{"$f":"VLOOKUP($D16,'Resultados Gerais'!$B8:$R1048576,3,0)","v":20},{"$f":"VLOOKUP($D16,'Resultados Gerais'!$B8:$R1048576,4,0)","v":19},{"$f":"VLOOKUP($D16,'Resultados Gerais'!$B8:$R1048576,5,0)","v":12},{"$f":"VLOOKUP($D16,'Resultados Gerais'!$B8:$R1048576,6,0)","v":13},{"$f":"VLOOKUP($D16,'Resultados Gerais'!$B8:$R1048576,7,0)","v":2},{"$f":"VLOOKUP($D16,'Resultados Gerais'!$B8:$R1048576,8,0)","v":5},{"$f":"VLOOKUP($D16,'Resultados Gerais'!$B8:$R1048576,9,0)","v":8},{"$f":"VLOOKUP($D16,'Resultados Gerais'!$B8:$R1048576,10,0)","v":24},{"$f":"VLOOKUP($D16,'Resultados Gerais'!$B8:$R1048576,11,0)","v":7},{"$f":"VLOOKUP($D16,'Resultados Gerais'!$B8:$R1048576,12,0)","v":15},{"$f":"VLOOKUP($D16,'Resultados Gerais'!$B8:$R1048576,13,0)","v":6},{"$f":"VLOOKUP($D16,'Resultados Gerais'!$B8:$R1048576,14,0)","v":21},{"$f":"VLOOKUP($D16,'Resultados Gerais'!$B8:$R1048576,15,0)","v":14},{"$f":"VLOOKUP($D16,'Resultados Gerais'!$B8:$R1048576,16,0)","v":10},{"$f":"VLOOKUP($D16,'Resultados Gerais'!$B8:$R1048576,17,0)","v":1},null,null,null,14,31,31]
[null,null,5,{"$f":"COUNT('Resultados Gerais'!B8:B1048576)-C17","v":1076},{"$f":"VLOOKUP(D17,'Resultados Gerais'!B8:C1048576,2,0)","v":"2014-07-02"},{"$f":"VLOOKUP($D17,'Resultados Gerais'!$B8:$R1048576,3,0)","v":18},{"$f":"VLOOKUP($D17,'Resultados Gerais'!$B8:$R1048576,4,0)","v":15},{"$f":"VLOOKUP($D17,'Resultados Gerais'!$B8:$R1048576,5,0)","v":12},{"$f":"VLOOKUP($D17,'Resultados Gerais'!$B8:$R1048576,6,0)","v":11},{"$f":"VLOOKUP($D17,'Resultados Gerais'!$B8:$R1048576,7,0)","v":20},{"$f":"VLOOKUP($D17,'Resultados Gerais'!$B8:$R1048576,8,0)","v":13},{"$f":"VLOOKUP($D17,'Resultados Gerais'!$B8:$R1048576,9,0)","v":17},{"$f":"VLOOKUP($D17,'Resultados Gerais'!$B8:$R1048576,10,0)","v":9},{"$f":"VLOOKUP($D17,'Resultados Gerais'!$B8:$R1048576,11,0)","v":16},{"$f":"VLOOKUP($D17,'Resultados Gerais'!$B8:$R1048576,12,0)","v":25},{"$f":"VLOOKUP($D17,'Resultados Gerais'!$B8:$R1048576,13,0)","v":4},{"$f":"VLOOKUP($D17,'Resultados Gerais'!$B8:$R1048576,14,0)","v":14},{"$f":"VLOOKUP($D17,'Resultados Gerais'!$B8:$R1048576,15,0)","v":21},{"$f":"VLOOKUP($D17,'Resultados Gerais'!$B8:$R1048576,16,0)","v":10},{"$f":"VLOOKUP($D17,'Resultados Gerais'!$B8:$R1048576,17,0)","v":22},null,null,null,1,23,23]
[null,null,6,{"$f":"COUNT('Resultados Gerais'!B8:B1048576)-C18","v":1075},{"$f":"VLOOKUP(D18,'Resultados Gerais'!B8:C1048576,2,0)","v":"2014-06-30"},{"$f":"VLOOKUP($D18,'Resultados Gerais'!$B8:$R1048576,3,0)","v":21},{"$f":"VLOOKUP($D18,'Resultados Gerais'!$B8:$R1048576,4,0)","v":15},{"$f":"VLOOKUP($D18,'Resultados Gerais'!$B8:$R1048576,5,0)","v":16},{"$f":"VLOOKUP($D18,'Resultados Gerais'!$B8:$R1048576,6,0)","v":24},{"$f":"VLOOKUP($D18,'Resultados Gerais'!$B8:$R1048576,7,0)","v":6},{"$f":"VLOOKUP($D18,'Resultados Gerais'!$B8:$R1048576,8,0)","v":17},{"$f":"VLOOKUP($D18,'Resultados Gerais'!$B8:$R1048576,9,0)","v":1},{"$f":"VLOOKUP($D18,'Resultados Gerais'!$B8:$R1048576,10,0)","v":18},{"$f":"VLOOKUP($D18,'Resultados Gerais'!$B8:$R1048576,11,0)","v":22},{"$f":"VLOOKUP($D18,'Resultados Gerais'!$B8:$R1048576,12,0)","v":12},{"$f":"VLOOKUP($D18,'Resultados Gerais'!$B8:$R1048576,13,0)","v":2},{"$f":"VLOOKUP($D18,'Resultados Gerais'!$B8:$R1048576,14,0)","v":23},{"$f":"VLOOKUP($D18,'Resultados Gerais'!$B8:$R1048576,15,0)","v":25},{"$f":"VLOOKUP($D18,'Resultados Gerais'!$B8:$R1048576,16,0)","v":9},{"$f":"VLOOKUP($D18,'Resultados Gerais'!$B8:$R1048576,17,0)","v":10},null,null,null,3,25,25]
[null,null,7,{"$f":"COUNT('Resultados Gerais'!B8:B1048576)-C19","v":1074},{"$f":"VLOOKUP(D19,'Resultados Gerais'!B8:C1048576,2,0)","v":"2014-06-27"},{"$f":"VLOOKUP($D19,'Resultados Gerais'!$B8:$R1048576,3,0)","v":9},{"$f":"VLOOKUP($D19,'Resultados Gerais'!$B8:$R1048576,4,0)","v":10},{"$f":"VLOOKUP($D19,'Resultados Gerais'!$B8:$R1048576,5,0)","v":8},{"$f":"VLOOKUP($D19,'Resultados Gerais'!$B8:$R1048576,6,0)","v":25},{"$f":"VLOOKUP($D19,'Resultados Gerais'!$B8:$R1048576,7,0)","v":13},{"$f":"VLOOKUP($D19,'Resultados Gerais'!$B8:$R1048576,8,0)","v":11},{"$f":"VLOOKUP($D19,'Resultados Gerais'!$B8:$R1048576,9,0)","v":17},{"$f":"VLOOKUP($D19,'Resultados Gerais'!$B8:$R1048576,10,0)","v":22},{"$f":"VLOOKUP($D19,'Resultados Gerais'!$B8:$R1048576,11,0)","v":23},{"$f":"VLOOKUP($D19,'Resultados Gerais'!$B8:$R1048576,12,0)","v":24},{"$f":"VLOOKUP($D19,'Resultados Gerais'!$B8:$R1048576,13,0)","v":21},{"$f":"VLOOKUP($D19,'Resultados Gerais'!$B8:$R1048576,14,0)","v":1},{"$f":"VLOOKUP($D19,'Resultados Gerais'!$B8:$R1048576,15,0)","v":4},{"$f":"VLOOKUP($D19,'Resultados Gerais'!$B8:$R1048576,16,0)","v":7},{"$f":"VLOOKUP($D19,'Resultados Gerais'!$B8:$R1048576,17,0)","v":20},null,null,null,19,23,23]
[null,null,8,{"$f":"COUNT('Resultados Gerais'!B8:B1048576)-C20","v":1073},{"$f":"VLOOKUP(D20,'Resultados Gerais'!B8:C1048576,2,0)","v":"2014-06-25"},{"$f":"VLOOKUP($D20,'Resultados Gerais'!$B8:$R1048576,3,0)","v":13},{"$f":"VLOOKUP($D20,'Resultados Gerais'!$B8:$R1048576,4,0)","v":20},{"$f":"VLOOKUP($D20,'Resultados Gerais'!$B8:$R1048576,5,0)","v":17},{"$f":"VLOOKUP($D20,'Resultados Gerais'!$B8:$R1048576,6,0)","v":16},{"$f":"VLOOKUP($D20,'Resultados Gerais'!$B8:$R1048576,7,0)","v":23},{"$f":"VLOOKUP($D20,'Resultados Gerais'!$B8:$R1048576,8,0)","v":5},{"$f":"VLOOKUP($D20,'Resultados Gerais'!$B8:$R1048576,9,0)","v":3},{"$f":"VLOOKUP($D20,'Resultados Gerais'!$B8:$R1048576,10,0)","v":6},{"$f":"VLOOKUP($D20,'Resultados Gerais'!$B8:$R1048576,11,0)","v":1},{"$f":"VLOOKUP($D20,'Resultados Gerais'!$B8:$R1048576,12,0)","v":19},{"$f":"VLOOKUP($D20,'Resultados Gerais'!$B8:$R1048576,13,0)","v":22},{"$f":"VLOOKUP($D20,'Resultados Gerais'!$B8:$R1048576,14,0)","v":4},{"$f":"VLOOKUP($D20,'Resultados Gerais'!$B8:$R1048576,15,0)","v":7},{"$f":"VLOOKUP($D20,'Resultados Gerais'!$B8:$R1048576,16,0)","v":24},{"$f":"VLOOKUP($D20,'Resultados Gerais'!$B8:$R1048576,17,0)","v":21},null,null,null,21,41,41]
[null,null,9,{"$f":"COUNT('Resultados Gerais'!B8:B1048576)-C21","v":1072},{"$f":"VLOOKUP(D21,'Resultados Gerais'!B8:C1048576,2,0)","v":"2014-06-23"},{"$f":"VLOOKUP($D21,'Resultados Gerais'!$B8:$R1048576,3,0)","v":2},{"$f":"VLOOKUP($D21,'Resultados Gerais'!$B8:$R1048576,4,0)","v":4},{"$f":"VLOOKUP($D21,'Resultados Gerais'!$B8:$R1048576,5,0)","v":7},{"$f":"VLOOKUP($D21,'Resultados Gerais'!$B8:$R1048576,6,0)","v":22},{"$f":"VLOOKUP($D21,'Resultados Gerais'!$B8:$R1048576,7,0)","v":23},{"$f":"VLOOKUP($D21,'Resultados Gerais'!$B8:$R1048576,8,0)","v":25},{"$f":"VLOOKUP($D21,'Resultados Gerais'!$B8:$R1048576,9,0)","v":14},{"$f":"VLOOKUP($D21,'Resultados Gerais'!$B8:$R1048576,10,0)","v":17},{"$f":"VLOOKUP($D21,'Resultados Gerais'!$B8:$R1048576,11,0)","v":20},{"$f":"VLOOKUP($D21,'Resultados Gerais'!$B8:$R1048576,12,0)","v":3},{"$f":"VLOOKUP($D21,'Resultados Gerais'!$B8:$R1048576,13,0)","v":13},{"$f":"VLOOKUP($D21,'Resultados Gerais'!$B8:$R1048576,14,0)","v":1},{"$f":"VLOOKUP($D21,'Resultados Gerais'!$B8:$R1048576,15,0)","v":5},{"$f":"VLOOKUP($D21,'Resultados Gerais'!$B8:$R1048576,16,0)","v":15},{"$f":"VLOOKUP($D21,'Resultados Gerais'!$B8:$R1048576,17,0)","v":9},null,null,null,2,30,30]
[null,null,10,{"$f":"COUNT('Resultados Gerais'!B8:B1048576)-C22","v":1071},{"$f":"VLOOKUP(D22,'Resultados Gerais'!B8:C1048576,2,0)","v":"2014-06-20"},{"$f":"VLOOKUP($D22,'Resultados Gerais'!$B8:$R1048576,3,0)","v":11},{"$f":"VLOOKUP($D22,'Resultados Gerais'!$B8:$R1048576,4,0)","v":6},{"$f":"VLOOKUP($D22,'Resultados Gerais'!$B8:$R1048576,5,0)","v":14},{"$f":"VLOOKUP($D22,'Resultados Gerais'!$B8:$R1048576,6,0)","v":16},{"$f":"VLOOKUP($D22,'Resultados Gerais'!$B8:$R1048576,7,0)","v":3},{"$f":"VLOOKUP($D22,'Resultados Gerais'!$B8:$R1048576,8,0)","v":2},{"$f":"VLOOKUP($D22,'Resultados Gerais'!$B8:$R1048576,9,0)","v":13},{"$f":"VLOOKUP($D22,'Resultados Gerais'!$B8:$R1048576,10,0)","v":17},{"$f":"VLOOKUP($D22,'Resultados Gerais'!$B8:$R1048576,11,0)","v":21},{"$f":"VLOOKUP($D22,'Resultados Gerais'!$B8:$R1048576,12,0)","v":4},{"$f":"VLOOKUP($D22,'Resultados Gerais'!$B8:$R1048576,13,0)","v":22},{"$f":"VLOOKUP($D22,'Resultados Gerais'!$B8:$R1048576,14,0)","v":24},{"$f":"VLOOKUP($D22,'Resultados Gerais'!$B8:$R1048576,15,0)","v":5},{"$f":"VLOOKUP($D22,'Resultados Gerais'!$B8:$R1048576,16,0)","v":10},{"$f":"VLOOKUP($D22,'Resultados Gerais'!$B8:$R1048576,17,0)","v":12},null,null,null,11,28,28]
[null,null,11,{"$f":"COUNT('Resultados Gerais'!B8:B1048576)-C23","v":1070},{"$f":"VLOOKUP(D23,'Resultados Gerais'!B8:C1048576,2,0)","v":"2014-06-18"},{"$f":"VLOOKUP($D23,'Resultados Gerais'!$B8:$R1048576,3,0)","v":9},{"$f":"VLOOKUP($D23,'Resultados Gerais'!$B8:$R1048576,4,0)","v":22},{"$f":"VLOOKUP($D23,'Resultados Gerais'!$B8:$R1048576,5,0)","v":18},{"$f":"VLOOKUP($D23,'Resultados Gerais'!$B8:$R1048576,6,0)","v":23},{"$f":"VLOOKUP($D23,'Resultados Gerais'!$B8:$R1048576,7,0)","v":4},{"$f":"VLOOKUP($D23,'Resultados Gerais'!$B8:$R1048576,8,0)","v":20},{"$f":"VLOOKUP($D23,'Resultados Gerais'!$B8:$R1048576,9,0)","v":25},{"$f":"VLOOKUP($D23,'Resultados Gerais'!$B8:$R1048576,10,0)","v":11},{"$f":"VLOOKUP($D23,'Resultados Gerais'!$B8:$R1048576,11,0)","v":13},{"$f":"VLOOKUP($D23,'Resultados Gerais'!$B8:$R1048576,12,0)","v":19},{"$f":"VLOOKUP($D23,'Resultados Gerais'!$B8:$R1048576,13,0)","v":12},{"$f":"VLOOKUP($D23,'Resultados Gerais'!$B8:$R1048576,14,0)","v":10},{"$f":"VLOOKUP($D23,'Resultados Gerais'!$B8:$R1048576,15,0)","v":21},{"$f":"VLOOKUP($D23,'Resultados Gerais'!$B8:$R1048576,16,0)","v":16},{"$f":"VLOOKUP($D23,'Resultados Gerais'!$B8:$R1048576,17,0)","v":24},null,null,null,16,32,32]
[null,null,12,{"$f":"COUNT('Resultados Gerais'!B8:B1048576)-C24","v":1069},{"$f":"VLOOKUP(D24,'Resultados Gerais'!B8:C1048576,2,0)","v":"2014-06-16"},{"$f":"VLOOKUP($D24,'Resultados Gerais'!$B8:$R1048576,3,0)","v":22},{"$f":"VLOOKUP($D24,'Resultados Gerais'!$B8:$R1048576,4,0)","v":23},{"$f":"VLOOKUP($D24,'Resultados Gerais'!$B8:$R1048576,5,0)","v":17},{"$f":"VLOOKUP($D24,'Resultados Gerais'!$B8:$R1048576,6,0)","v":15},{"$f":"VLOOKUP($D24,'Resultados Gerais'!$B8:$R1048576,7,0)","v":1},{"$f":"VLOOKUP($D24,'Resultados Gerais'!$B8:$R1048576,8,0)","v":11},{"$f":"VLOOKUP($D24,'Resultados Gerais'!$B8:$R1048576,9,0)","v":16},{"$f":"VLOOKUP($D24,'Resultados Gerais'!$B8:$R1048576,10,0)","v":4},{"$f":"VLOOKUP($D24,'Resultados Gerais'!$B8:$R1048576,11,0)","v":8},{"$f":"VLOOKUP($D24,'Resultados Gerais'!$B8:$R1048576,12,0)","v":12},{"$f":"VLOOKUP($D24,'Resultados Gerais'!$B8:$R1048576,13,0)","v":3},{"$f":"VLOOKUP($D24,'Resultados Gerais'!$B8:$R1048576,14,0)","v":10},{"$f":"VLOOKUP($D24,'Resultados Gerais'!$B8:$R1048576,15,0)","v":13},{"$f":"VLOOKUP($D24,'Resultados Gerais'!$B8:$R1048576,16,0)","v":25},{"$f":"VLOOKUP($D24,'Resultados Gerais'!$B8:$R1048576,17,0)","v":24},null,null,null,5,28,28]
[null,null,13,{"$f":"COUNT('Resultados Gerais'!B8:B1048576)-C25","v":1068},{"$f":"VLOOKUP(D25,'Resultados Gerais'!B8:C1048576,2,0)","v":"2014-06-13"},{"$f":"VLOOKUP($D25,'Resultados Gerais'!$B8:$R1048576,3,0)","v":24},{"$f":"VLOOKUP($D25,'Resultados Gerais'!$B8:$R1048576,4,0)","v":20},{"$f":"VLOOKUP($D25,'Resultados Gerais'!$B8:$R1048576,5,0)","v":18},{"$f":"VLOOKUP($D25,'Resultados Gerais'!$B8:$R1048576,6,0)","v":10},{"$f":"VLOOKUP($D25,'Resultados Gerais'!$B8:$R1048576,7,0)","v":14},{"$f":"VLOOKUP($D25,'Resultados Gerais'!$B8:$R1048576,8,0)","v":17},{"$f":"VLOOKUP($D25,'Resultados Gerais'!$B8:$R1048576,9,0)","v":11},{"$f":"VLOOKUP($D25,'Resultados Gerais'!$B8:$R1048576,10,0)","v":13},{"$f":"VLOOKUP($D25,'Resultados Gerais'!$B8:$R1048576,11,0)","v":21},{"$f":"VLOOKUP($D25,'Resultados Gerais'!$B8:$R1048576,12,0)","v":15},{"$f":"VLOOKUP($D25,'Resultados Gerais'!$B8:$R1048576,13,0)","v":16},{"$f":"VLOOKUP($D25,'Resultados Gerais'!$B8:$R1048576,14,0)","v":6},{"$f":"VLOOKUP($D25,'Resultados Gerais'!$B8:$R1048576,15,0)","v":2},{"$f":"VLOOKUP($D25,'Resultados Gerais'!$B8:$R1048576,16,0)","v":22},{"$f":"VLOOKUP($D25,'Resultados Gerais'!$B8:$R1048576,17,0)","v":7},null,null,null,24,33,33]
[null,null,14,{"$f":"COUNT('Resultados Gerais'!B8:B1048576)-C26","v":1067},{"$f":"VLOOKUP(D26,'Resultados Gerais'!B8:C1048576,2,0)","v":"2014-06-11"},{"$f":"VLOOKUP($D26,'Resultados Gerais'!$B8:$R1048576,3,0)","v":21},{"$f":"VLOOKUP($D26,'Resultados Gerais'!$B8:$R1048576,4,0)","v":15},{"$f":"VLOOKUP($D26,'Resultados Gerais'!$B8:$R1048576,5,0)","v":1},{"$f":"VLOOKUP($D26,'Resultados Gerais'!$B8:$R1048576,6,0)","v":3},{"$f":"VLOOKUP($D26,'Resultados Gerais'!$B8:$R1048576,7,0)","v":5},{"$f":"VLOOKUP($D26,'Resultados Gerais'!$B8:$R1048576,8,0)","v":14},{"$f":"VLOOKUP($D26,'Resultados Gerais'!$B8:$R1048576,9,0)","v":2},{"$f":"VLOOKUP($D26,'Resultados Gerais'!$B8:$R1048576,10,0)","v":11},{"$f":"VLOOKUP($D26,'Resultados Gerais'!$B8:$R1048576,11,0)","v":17},{"$f":"VLOOKUP($D26,'Resultados Gerais'!$B8:$R1048576,12,0)","v":4},{"$f":"VLOOKUP($D26,'Resultados Gerais'!$B8:$R1048576,13,0)","v":10},{"$f":"VLOOKUP($D26,'Resultados Gerais'!$B8:$R1048576,14,0)","v":25},{"$f":"VLOOKUP($D26,'Resultados Gerais'!$B8:$R1048576,15,0)","v":7},{"$f":"VLOOKUP($D26,'Resultados Gerais'!$B8:$R1048576,16,0)","v":13},{"$f":"VLOOKUP($D26,'Resultados Gerais'!$B8:$R1048576,17,0)","v":22},null,null,null,20,33,33]
[null,null,15,{"$f":"COUNT('Resultados Gerais'!B8:B1048576)-C27","v":1066},{"$f":"VLOOKUP(D27,'Resultados Gerais'!B8:C1048576,2,0)","v":"2014-06-09"},{"$f":"VLOOKUP($D27,'Resultados Gerais'!$B8:$R1048576,3,0)","v":10},{"$f":"VLOOKUP($D27,'Resultados Gerais'!$B8:$R1048576,4,0)","v":24},{"$f":"VLOOKUP($D27,'Resultados Gerais'!$B8:$R1048576,5,0)","v":6},{"$f":"VLOOKUP($D27,'Resultados Gerais'!$B8:$R1048576,6,0)","v":16},{"$f":"VLOOKUP($D27,'Resultados Gerais'!$B8:$R1048576,7,0)","v":21},{"$f":"VLOOKUP($D27,'Resultados Gerais'!$B8:$R1048576,8,0)","v":5},{"$f":"VLOOKUP($D27,'Resultados Gerais'!$B8:$R1048576,9,0)","v":4},{"$f":"VLOOKUP($D27,'Resultados Gerais'!$B8:$R1048576,10,0)","v":22},{"$f":"VLOOKUP($D27,'Resultados Gerais'!$B8:$R1048576,11,0)","v":14},{"$f":"VLOOKUP($D27,'Resultados Gerais'!$B8:$R1048576,12,0)","v":11},{"$f":"VLOOKUP($D27,'Resultados Gerais'!$B8:$R1048576,13,0)","v":17},{"$f":"VLOOKUP($D27,'Resultados Gerais'!$B8:$R1048576,14,0)","v":19},{"$f":"VLOOKUP($D27,'Resultados Gerais'!$B8:$R1048576,15,0)","v":2},{"$f":"VLOOKUP($D27,'Resultados Gerais'!$B8:$R1048576,16,0)","v":18},{"$f":"VLOOKUP($D27,'Resultados Gerais'!$B8:$R1048576,17,0)","v":23},null,null,null,18,27,27]
[null,null,16,{"$f":"COUNT('Resultados Gerais'!B8:B1048576)-C28","v":1065},{"$f":"VLOOKUP(D28,'Resultados Gerais'!B8:C1048576,2,0)","v":"2014-06-06"},{"$f":"VLOOKUP($D28,'Resultados Gerais'!$B8:$R1048576,3,0)","v":12},{"$f":"VLOOKUP($D28,'Resultados Gerais'!$B8:$R1048576,4,0)","v":20},{"$f":"VLOOKUP($D28,'Resultados Gerais'!$B8:$R1048576,5,0)","v":14},{"$f":"VLOOKUP($D28,'Resultados Gerais'!$B8:$R1048576,6,0)","v":21},{"$f":"VLOOKUP($D28,'Resultados Gerais'!$B8:$R1048576,7,0)","v":5},{"$f":"VLOOKUP($D28,'Resultados Gerais'!$B8:$R1048576,8,0)","v":15},{"$f":"VLOOKUP($D28,'Resultados Gerais'!$B8:$R1048576,9,0)","v":4},{"$f":"VLOOKUP($D28,'Resultados Gerais'!$B8:$R1048576,10,0)","v":2},{"$f":"VLOOKUP($D28,'Resultados Gerais'!$B8:$R1048576,11,0)","v":19},{"$f":"VLOOKUP($D28,'Resultados Gerais'!$B8:$R1048576,12,0)","v":24},{"$f":"VLOOKUP($D28,'Resultados Gerais'!$B8:$R1048576,13,0)","v":6},{"$f":"VLOOKUP($D28,'Resultados Gerais'!$B8:$R1048576,14,0)","v":25},{"$f":"VLOOKUP($D28,'Resultados Gerais'!$B8:$R1048576,15,0)","v":17},{"$f":"VLOOKUP($D28,'Resultados Gerais'!$B8:$R1048576,16,0)","v":22},{"$f":"VLOOKUP($D28,'Resultados Gerais'!$B8:$R1048576,17,0)","v":3},null,null,null,13,32,32]
[null,null,17,{"$f":"COUNT('Resultados Gerais'!B8:B1048576)-C29","v":1064},{"$f":"VLOOKUP(D29,'Resultados Gerais'!B8:C1048576,2,0)","v":"2014-06-04"},{"$f":"VLOOKUP($D29,'Resultados Gerais'!$B8:$R1048576,3,0)","v":15},{"$f":"VLOOKUP($D29,'Resultados Gerais'!$B8:$R1048576,4,0)","v":25},{"$f":"VLOOKUP($D29,'Resultados Gerais'!$B8:$R1048576,5,0)","v":9},{"$f":"VLOOKUP($D29,'Resultados Gerais'!$B8:$R1048576,6,0)","v":7},{"$f":"VLOOKUP($D29,'Resultados Gerais'!$B8:$R1048576,7,0)","v":11},{"$f":"VLOOKUP($D29,'Resultados Gerais'!$B8:$R1048576,8,0)","v":10},{"$f":"VLOOKUP($D29,'Resultados Gerais'!$B8:$R1048576,9,0)","v":14},{"$f":"VLOOKUP($D29,'Resultados Gerais'!$B8:$R1048576,10,0)","v":2},{"$f":"VLOOKUP($D29,'Resultados Gerais'!$B8:$R1048576,11,0)","v":24},{"$f":"VLOOKUP($D29,'Resultados Gerais'!$B8:$R1048576,12,0)","v":8},{"$f":"VLOOKUP($D29,'Resultados Gerais'!$B8:$R1048576,13,0)","v":16},{"$f":"VLOOKUP($D29,'Resultados Gerais'!$B8:$R1048576,14,0)","v":18},{"$f":"VLOOKUP($D29,'Resultados Gerais'!$B8:$R1048576,15,0)","v":19},{"$f":"VLOOKUP($D29,'Resultados Gerais'!$B8:$R1048576,16,0)","v":21},{"$f":"VLOOKUP($D29,'Resultados Gerais'!$B8:$R1048576,17,0)","v":3},null,null,null,10,32,32]
[null,null,18,{"$f":"COUNT('Resultados Gerais'!B8:B1048576)-C30","v":1063},{"$f":"VLOOKUP(D30,'Resultados Gerais'!B8:C1048576,2,0)","v":"2014-06-02"},{"$f":"VLOOKUP($D30,'Resultados Gerais'!$B8:$R1048576,3,0)","v":14},{"$f":"VLOOKUP($D30,'Resultados Gerais'!$B8:$R1048576,4,0)","v":24},{"$f":"VLOOKUP($D30,'Resultados Gerais'!$B8:$R1048576,5,0)","v":6},{"$f":"VLOOKUP($D30,'Resultados Gerais'!$B8:$R1048576,6,0)","v":10},{"$f":"VLOOKUP($D30,'Resultados Gerais'!$B8:$R1048576,7,0)","v":16},{"$f":"VLOOKUP($D30,'Resultados Gerais'!$B8:$R1048576,8,0)","v":25},{"$f":"VLOOKUP($D30,'Resultados Gerais'!$B8:$R1048576,9,0)","v":15},{"$f":"VLOOKUP($D30,'Resultados Gerais'!$B8:$R1048576,10,0)","v":7},{"$f":"VLOOKUP($D30,'Resultados Gerais'!$B8:$R1048576,11,0)","v":13},{"$f":"VLOOKUP($D30,'Resultados Gerais'!$B8:$R1048576,12,0)","v":2},{"$f":"VLOOKUP($D30,'Resultados Gerais'!$B8:$R1048576,13,0)","v":22},{"$f":"VLOOKUP($D30,'Resultados Gerais'!$B8:$R1048576,14,0)","v":5},{"$f":"VLOOKUP($D30,'Resultados Gerais'!$B8:$R1048576,15,0)","v":21},{"$f":"VLOOKUP($D30,'Resultados Gerais'!$B8:$R1048576,16,0)","v":12},{"$f":"VLOOKUP($D30,'Resultados Gerais'!$B8:$R1048576,17,0)","v":20},null,null,null,12,29,29]
[null,null,19,{"$f":"COUNT('Resultados Gerais'!B8:B1048576)-C31","v":1062},{"$f":"VLOOKUP(D31,'Resultados Gerais'!B8:C1048576,2,0)","v":"2014-05-30"},{"$f":"VLOOKUP($D31,'Resultados Gerais'!$B8:$R1048576,3,0)","v":8},{"$f":"VLOOKUP($D31,'Resultados Gerais'!$B8:$R1048576,4,0)","v":7},{"$f":"VLOOKUP($D31,'Resultados Gerais'!$B8:$R1048576,5,0)","v":13},{"$f":"VLOOKUP($D31,'Resultados Gerais'!$B8:$R1048576,6,0)","v":4},{"$f":"VLOOKUP($D31,'Resultados Gerais'!$B8:$R1048576,7,0)","v":9},{"$f":"VLOOKUP($D31,'Resultados Gerais'!$B8:$R1048576,8,0)","v":16},{"$f":"VLOOKUP($D31,'Resultados Gerais'!$B8:$R1048576,9,0)","v":23},{"$f":"VLOOKUP($D31,'Resultados Gerais'!$B8:$R1048576,10,0)","v":17},{"$f":"VLOOKUP($D31,'Resultados Gerais'!$B8:$R1048576,11,0)","v":3},{"$f":"VLOOKUP($D31,'Resultados Gerais'!$B8:$R1048576,12,0)","v":19},{"$f":"VLOOKUP($D31,'Resultados Gerais'!$B8:$R1048576,13,0)","v":15},{"$f":"VLOOKUP($D31,'Resultados Gerais'!$B8:$R1048576,14,0)","v":11},{"$f":"VLOOKUP($D31,'Resultados Gerais'!$B8:$R1048576,15,0)","v":5},{"$f":"VLOOKUP($D31,'Resultados Gerais'!$B8:$R1048576,16,0)","v":25},{"$f":"VLOOKUP($D31,'Resultados Gerais'!$B8:$R1048576,17,0)","v":20},null,null,null,7,31,31]
[null,null,20,{"$f":"COUNT('Resultados Gerais'!B8:B1048576)-C32","v":1061},{"$f":"VLOOKUP(D32,'Resultados Gerais'!B8:C1048576,2,0)","v":"2014-05-28"},{"$f":"VLOOKUP($D32,'Resultados Gerais'!$B8:$R1048576,3,0)","v":24},{"$f":"VLOOKUP($D32,'Resultados Gerais'!$B8:$R1048576,4,0)","v":12},{"$f":"VLOOKUP($D32,'Resultados Gerais'!$B8:$R1048576,5,0)","v":15},{"$f":"VLOOKUP($D32,'Resultados Gerais'!$B8:$R1048576,6,0)","v":2},{"$f":"VLOOKUP($D32,'Resultados Gerais'!$B8:$R1048576,7,0)","v":14},{"$f":"VLOOKUP($D32,'Resultados Gerais'!$B8:$R1048576,8,0)","v":23},{"$f":"VLOOKUP($D32,'Resultados Gerais'!$B8:$R1048576,9,0)","v":16},{"$f":"VLOOKUP($D32,'Resultados Gerais'!$B8:$R1048576,10,0)","v":21},{"$f":"VLOOKUP($D32,'Resultados Gerais'!$B8:$R1048576,11,0)","v":5},{"$f":"VLOOKUP($D32,'Resultados Gerais'!$B8:$R1048576,12,0)","v":22},{"$f":"VLOOKUP($D32,'Resultados Gerais'!$B8:$R1048576,13,0)","v":3},{"$f":"VLOOKUP($D32,'Resultados Gerais'!$B8:$R1048576,14,0)","v":7},{"$f":"VLOOKUP($D32,'Resultados Gerais'!$B8:$R1048576,15,0)","v":19},{"$f":"VLOOKUP($D32,'Resultados Gerais'!$B8:$R1048576,16,0)","v":9},{"$f":"VLOOKUP($D32,'Resultados Gerais'!$B8:$R1048576,17,0)","v":8},null,null,null,22,34,34]
[null,null,21,{"$f":"COUNT('Resultados Gerais'!B8:B1048576)-C33","v":1060},{"$f":"VLOOKUP(D33,'Resultados Gerais'!B8:C1048576,2,0)","v":"2014-05-26"},{"$f":"VLOOKUP($D33,'Resultados Gerais'!$B8:$R1048576,3,0)","v":17},{"$f":"VLOOKUP($D33,'Resultados Gerais'!$B8:$R1048576,4,0)","v":7},{"$f":"VLOOKUP($D33,'Resultados Gerais'!$B8:$R1048576,5,0)","v":20},{"$f":"VLOOKUP($D33,'Resultados Gerais'!$B8:$R1048576,6,0)","v":13},{"$f":"VLOOKUP($D33,'Resultados Gerais'!$B8:$R1048576,7,0)","v":4},{"$f":"VLOOKUP($D33,'Resultados Gerais'!$B8:$R1048576,8,0)","v":14},{"$f":"VLOOKUP($D33,'Resultados Gerais'!$B8:$R1048576,9,0)","v":16},{"$f":"VLOOKUP($D33,'Resultados Gerais'!$B8:$R1048576,10,0)","v":8},{"$f":"VLOOKUP($D33,'Resultados Gerais'!$B8:$R1048576,11,0)","v":2},{"$f":"VLOOKUP($D33,'Resultados Gerais'!$B8:$R1048576,12,0)","v":15},{"$f":"VLOOKUP($D33,'Resultados Gerais'!$B8:$R1048576,13,0)","v":1},{"$f":"VLOOKUP($D33,'Resultados Gerais'!$B8:$R1048576,14,0)","v":5},{"$f":"VLOOKUP($D33,'Resultados Gerais'!$B8:$R1048576,15,0)","v":22},{"$f":"VLOOKUP($D33,'Resultados Gerais'!$B8:$R1048576,16,0)","v":23},{"$f":"VLOOKUP($D33,'Resultados Gerais'!$B8:$R1048576,17,0)","v":21},null,null,null,23,30,30]
[null,null,22,{"$f":"COUNT('Resultados Gerais'!B8:B1048576)-C34","v":1059},{"$f":"VLOOKUP(D34,'Resultados Gerais'!B8:C1048576,2,0)","v":"2014-05-23"},{"$f":"VLOOKUP($D34,'Resultados Gerais'!$B8:$R1048576,3,0)","v":21},{"$f":"VLOOKUP($D34,'Resultados Gerais'!$B8:$R1048576,4,0)","v":24},{"$f":"VLOOKUP($D34,'Resultados Gerais'!$B8:$R1048576,5,0)","v":8},{"$f":"VLOOKUP($D34,'Resultados Gerais'!$B8:$R1048576,6,0)","v":19},{"$f":"VLOOKUP($D34,'Resultados Gerais'!$B8:$R1048576,7,0)","v":3},{"$f":"VLOOKUP($D34,'Resultados Gerais'!$B8:$R1048576,8,0)","v":20},{"$f":"VLOOKUP($D34,'Resultados Gerais'!$B8:$R1048576,9,0)","v":7},{"$f":"VLOOKUP($D34,'Resultados Gerais'!$B8:$R1048576,10,0)","v":15},{"$f":"VLOOKUP($D34,'Resultados Gerais'!$B8:$R1048576,11,0)","v":16},{"$f":"VLOOKUP($D34,'Resultados Gerais'!$B8:$R1048576,12,0)","v":11},{"$f":"VLOOKUP($D34,'Resultados Gerais'!$B8:$R1048576,13,0)","v":2},{"$f":"VLOOKUP($D34,'Resultados Gerais'!$B8:$R1048576,14,0)","v":1},{"$f":"VLOOKUP($D34,'Resultados Gerais'!$B8:$R1048576,15,0)","v":22},{"$f":"VLOOKUP($D34,'Resultados Gerais'!$B8:$R1048576,16,0)","v":5},{"$f":"VLOOKUP($D34,'Resultados Gerais'!$B8:$R1048576,17,0)","v":14},null,null,null,17,34,34]
[null,null,23,{"$f":"COUNT('Resultados Gerais'!B8:B1048576)-C35","v":1058},{"$f":"VLOOKUP(D35,'Resultados Gerais'!B8:C1048576,2,0)","v":"2014-05-21"},{"$f":"VLOOKUP($D35,'Resultados Gerais'!$B8:$R1048576,3,0)","v":22},{"$f":"VLOOKUP($D35,'Resultados Gerais'!$B8:$R1048576,4,0)","v":9},{"$f":"VLOOKUP($D35,'Resultados Gerais'!$B8:$R1048576,5,0)","v":24},{"$f":"VLOOKUP($D35,'Resultados Gerais'!$B8:$R1048576,6,0)","v":17},{"$f":"VLOOKUP($D35,'Resultados Gerais'!$B8:$R1048576,7,0)","v":6},{"$f":"VLOOKUP($D35,'Resultados Gerais'!$B8:$R1048576,8,0)","v":12},{"$f":"VLOOKUP($D35,'Resultados Gerais'!$B8:$R1048576,9,0)","v":25},{"$f":"VLOOKUP($D35,'Resultados Gerais'!$B8:$R1048576,10,0)","v":18},{"$f":"VLOOKUP($D35,'Resultados Gerais'!$B8:$R1048576,11,0)","v":13},{"$f":"VLOOKUP($D35,'Resultados Gerais'!$B8:$R1048576,12,0)","v":4},{"$f":"VLOOKUP($D35,'Resultados Gerais'!$B8:$R1048576,13,0)","v":21},{"$f":"VLOOKUP($D35,'Resultados Gerais'!$B8:$R1048576,14,0)","v":20},{"$f":"VLOOKUP($D35,'Resultados Gerais'!$B8:$R1048576,15,0)","v":7},{"$f":"VLOOKUP($D35,'Resultados Gerais'!$B8:$R1048576,16,0)","v":5},{"$f":"VLOOKUP($D35,'Resultados Gerais'!$B8:$R1048576,17,0)","v":16},null,null,null,25,31,31]
[null,null,24,{"$f":"COUNT('Resultados Gerais'!B8:B1048576)-C36","v":1057},{"$f":"VLOOKUP(D36,'Resultados Gerais'!B8:C1048576,2,0)","v":"2014-05-19"},{"$f":"VLOOKUP($D36,'Resultados Gerais'!$B8:$R1048576,3,0)","v":19},{"$f":"VLOOKUP($D36,'Resultados Gerais'!$B8:$R1048576,4,0)","v":25},{"$f":"VLOOKUP($D36,'Resultados Gerais'!$B8:$R1048576,5,0)","v":13},{"$f":"VLOOKUP($D36,'Resultados Gerais'!$B8:$R1048576,6,0)","v":7},{"$f":"VLOOKUP($D36,'Resultados Gerais'!$B8:$R1048576,7,0)","v":20},{"$f":"VLOOKUP($D36,'Resultados Gerais'!$B8:$R1048576,8,0)","v":11},{"$f":"VLOOKUP($D36,'Resultados Gerais'!$B8:$R1048576,9,0)","v":9},{"$f":"VLOOKUP($D36,'Resultados Gerais'!$B8:$R1048576,10,0)","v":6},{"$f":"VLOOKUP($D36,'Resultados Gerais'!$B8:$R1048576,11,0)","v":23},{"$f":"VLOOKUP($D36,'Resultados Gerais'!$B8:$R1048576,12,0)","v":4},{"$f":"VLOOKUP($D36,'Resultados Gerais'!$B8:$R1048576,13,0)","v":21},{"$f":"VLOOKUP($D36,'Resultados Gerais'!$B8:$R1048576,14,0)","v":16},{"$f":"VLOOKUP($D36,'Resultados Gerais'!$B8:$R1048576,15,0)","v":14},{"$f":"VLOOKUP($D36,'Resultados Gerais'!$B8:$R1048576,16,0)","v":1},{"$f":"VLOOKUP($D36,'Resultados Gerais'!$B8:$R1048576,17,0)","v":8},null,null,null,15,30,30]
[null,null,25,{"$f":"COUNT('Resultados Gerais'!B8:B1048576)-C37","v":1056},{"$f":"VLOOKUP(D37,'Resultados Gerais'!B8:C1048576,2,0)","v":"2014-05-16"},{"$f":"VLOOKUP($D37,'Resultados Gerais'!$B8:$R1048576,3,0)","v":22},{"$f":"VLOOKUP($D37,'Resultados Gerais'!$B8:$R1048576,4,0)","v":15},{"$f":"VLOOKUP($D37,'Resultados Gerais'!$B8:$R1048576,5,0)","v":18},{"$f":"VLOOKUP($D37,'Resultados Gerais'!$B8:$R1048576,6,0)","v":4},{"$f":"VLOOKUP($D37,'Resultados Gerais'!$B8:$R1048576,7,0)","v":6},{"$f":"VLOOKUP($D37,'Resultados Gerais'!$B8:$R1048576,8,0)","v":21},{"$f":"VLOOKUP($D37,'Resultados Gerais'!$B8:$R1048576,9,0)","v":10},{"$f":"VLOOKUP($D37,'Resultados Gerais'!$B8:$R1048576,10,0)","v":23},{"$f":"VLOOKUP($D37,'Resultados Gerais'!$B8:$R1048576,11,0)","v":9},{"$f":"VLOOKUP($D37,'Resultados Gerais'!$B8:$R1048576,12,0)","v":14},{"$f":"VLOOKUP($D37,'Resultados Gerais'!$B8:$R1048576,13,0)","v":2},{"$f":"VLOOKUP($D37,'Resultados Gerais'!$B8:$R1048576,14,0)","v":8},{"$f":"VLOOKUP($D37,'Resultados Gerais'!$B8:$R1048576,15,0)","v":5},{"$f":"VLOOKUP($D37,'Resultados Gerais'!$B8:$R1048576,16,0)","v":11},{"$f":"VLOOKUP($D37,'Resultados Gerais'!$B8:$R1048576,17,0)","v":19},null,null,null,8,25,25]
[null,null,26,{"$f":"COUNT('Resultados Gerais'!B8:B1048576)-C38","v":1055},{"$f":"VLOOKUP(D38,'Resultados Gerais'!B8:C1048576,2,0)","v":"2014-05-14"},{"$f":"VLOOKUP($D38,'Resultados Gerais'!$B8:$R1048576,3,0)","v":12},{"$f":"VLOOKUP($D38,'Resultados Gerais'!$B8:$R1048576,4,0)","v":7},{"$f":"VLOOKUP($D38,'Resultados Gerais'!$B8:$R1048576,5,0)","v":1},{"$f":"VLOOKUP($D38,'Resultados Gerais'!$B8:$R1048576,6,0)","v":24},{"$f":"VLOOKUP($D38,'Resultados Gerais'!$B8:$R1048576,7,0)","v":10},{"$f":"VLOOKUP($D38,'Resultados Gerais'!$B8:$R1048576,8,0)","v":2},{"$f":"VLOOKUP($D38,'Resultados Gerais'!$B8:$R1048576,9,0)","v":8},{"$f":"VLOOKUP($D38,'Resultados Gerais'!$B8:$R1048576,10,0)","v":9},{"$f":"VLOOKUP($D38,'Resultados Gerais'!$B8:$R1048576,11,0)","v":25},{"$f":"VLOOKUP($D38,'Resultados Gerais'!$B8:$R1048576,12,0)","v":22},{"$f":"VLOOKUP($D38,'Resultados Gerais'!$B8:$R1048576,13,0)","v":14},{"$f":"VLOOKUP($D38,'Resultados Gerais'!$B8:$R1048576,14,0)","v":18},{"$f":"VLOOKUP($D38,'Resultados Gerais'!$B8:$R1048576,15,0)","v":13},{"$f":"VLOOKUP($D38,'Resultados Gerais'!$B8:$R1048576,16,0)","v":3},{"$f":"VLOOKUP($D38,'Resultados Gerais'!$B8:$R1048576,17,0)","v":23}]
[null,null,27,{"$f":"COUNT('Resultados Gerais'!B8:B1048576)-C39","v":1054},{"$f":"VLOOKUP(D39,'Resultados Gerais'!B8:C1048576,2,0)","v":"2014-05-12"},{"$f":"VLOOKUP($D39,'Resultados Gerais'!$B8:$R1048576,3,0)","v":20},{"$f":"VLOOKUP($D39,'Resultados Gerais'!$B8:$R1048576,4,0)","v":15},{"$f":"VLOOKUP($D39,'Resultados Gerais'!$B8:$R1048576,5,0)","v":9},{"$f":"VLOOKUP($D39,'Resultados Gerais'!$B8:$R1048576,6,0)","v":5},{"$f":"VLOOKUP($D39,'Resultados Gerais'!$B8:$R1048576,7,0)","v":3},{"$f":"VLOOKUP($D39,'Resultados Gerais'!$B8:$R1048576,8,0)","v":24},{"$f":"VLOOKUP($D39,'Resultados Gerais'!$B8:$R1048576,9,0)","v":17},{"$f":"VLOOKUP($D39,'Resultados Gerais'!$B8:$R1048576,10,0)","v":12},{"$f":"VLOOKUP($D39,'Resultados Gerais'!$B8:$R1048576,11,0)","v":6},{"$f":"VLOOKUP($D39,'Resultados Gerais'!$B8:$R1048576,12,0)","v":16},{"$f":"VLOOKUP($D39,'Resultados Gerais'!$B8:$R1048576,13,0)","v":4},{"$f":"VLOOKUP($D39,'Resultados Gerais'!$B8:$R1048576,14,0)","v":2},{"$f":"VLOOKUP($D39,'Resultados Gerais'!$B8:$R1048576,15,0)","v":25},{"$f":"VLOOKUP($D39,'Resultados Gerais'!$B8:$R1048576,16,0)","v":18},{"$f":"VLOOKUP($D39,'Resultados Gerais'!$B8:$R1048576,17,0)","v":13}]
[null,null,28,{"$f":"COUNT('Resultados Gerais'!B8:B1048576)-C40","v":1053},{"$f":"VLOOKUP(D40,'Resultados Gerais'!B8:C1048576,2,0)","v":"2014-05-09"},{"$f":"VLOOKUP($D40,'Resultados Gerais'!$B8:$R1048576,3,0)","v":14},{"$f":"VLOOKUP($D40,'Resultados Gerais'!$B8:$R1048576,4,0)","v":12},{"$f":"VLOOKUP($D40,'Resultados Gerais'!$B8:$R1048576,5,0)","v":24},{"$f":"VLOOKUP($D40,'Resultados Gerais'!$B8:$R1048576,6,0)","v":17},{"$f":"VLOOKUP($D40,'Resultados Gerais'!$B8:$R1048576,7,0)","v":22},{"$f":"VLOOKUP($D40,'Resultados Gerais'!$B8:$R1048576,8,0)","v":13},{"$f":"VLOOKUP($D40,'Resultados Gerais'!$B8:$R1048576,9,0)","v":2},{"$f":"VLOOKUP($D40,'Resultados Gerais'!$B8:$R1048576,10,0)","v":6},{"$f":"VLOOKUP($D40,'Resultados Gerais'!$B8:$R1048576,11,0)","v":4},{"$f":"VLOOKUP($D40,'Resultados Gerais'!$B8:$R1048576,12,0)","v":1},{"$f":"VLOOKUP($D40,'Resultados Gerais'!$B8:$R1048576,13,0)","v":3},{"$f":"VLOOKUP($D40,'Resultados Gerais'!$B8:$R1048576,14,0)","v":15},{"$f":"VLOOKUP($D40,'Resultados Gerais'!$B8:$R1048576,15,0)","v":18},{"$f":"VLOOKUP($D40,'Resultados Gerais'!$B8:$R1048576,16,0)","v":11},{"$f":"VLOOKUP($D40,'Resultados Gerais'!$B8:$R1048576,17,0)","v":23}]
[null,null,29,{"$f":"COUNT('Resultados Gerais'!B8:B1048576)-C41","v":1052},{"$f":"VLOOKUP(D41,'Resultados Gerais'!B8:C1048576,2,0)","v":"2014-05-07"},{"$f":"VLOOKUP($D41,'Resultados Gerais'!$B8:$R1048576,3,0)","v":18},{"$f":"VLOOKUP($D41,'Resultados Gerais'!$B8:$R1048576,4,0)","v":8},{"$f":"VLOOKUP($D41,'Resultados Gerais'!$B8:$R1048576,5,0)","v":3},{"$f":"VLOOKUP($D41,'Resultados Gerais'!$B8:$R1048576,6,0)","v":1},{"$f":"VLOOKUP($D41,'Resultados Gerais'!$B8:$R1048576,7,0)","v":5},{"$f":"VLOOKUP($D41,'Resultados Gerais'!$B8:$R1048576,8,0)","v":11},{"$f":"VLOOKUP($D41,'Resultados Gerais'!$B8:$R1048576,9,0)","v":24},{"$f":"VLOOKUP($D41,'Resultados Gerais'!$B8:$R1048576,10,0)","v":21},{"$f":"VLOOKUP($D41,'Resultados Gerais'!$B8:$R1048576,11,0)","v":10},{"$f":"VLOOKUP($D41,'Resultados Gerais'!$B8:$R1048576,12,0)","v":23},{"$f":"VLOOKUP($D41,'Resultados Gerais'!$B8:$R1048576,13,0)","v":6},{"$f":"VLOOKUP($D41,'Resultados Gerais'!$B8:$R1048576,14,0)","v":16},{"$f":"VLOOKUP($D41,'Resultados Gerais'!$B8:$R1048576,15,0)","v":20},{"$f":"VLOOKUP($D41,'Resultados Gerais'!$B8:$R1048576,16,0)","v":17},{"$f":"VLOOKUP($D41,'Resultados Gerais'!$B8:$R1048576,17,0)","v":4}]
[null,null,30,{"$f":"COUNT('Resultados Gerais'!B8:B1048576)-C42","v":1051},{"$f":"VLOOKUP(D42,'Resultados Gerais'!B8:C1048576,2,0)","v":"2014-05-05"},{"$f":"VLOOKUP($D42,'Resultados Gerais'!$B8:$R1048576,3,0)","v":3},{"$f":"VLOOKUP($D42,'Resultados Gerais'!$B8:$R1048576,4,0)","v":8},{"$f":"VLOOKUP($D42,'Resultados Gerais'!$B8:$R1048576,5,0)","v":4},{"$f":"VLOOKUP($D42,'Resultados Gerais'!$B8:$R1048576,6,0)","v":7},{"$f":"VLOOKUP($D42,'Resultados Gerais'!$B8:$R1048576,7,0)","v":14},{"$f":"VLOOKUP($D42,'Resultados Gerais'!$B8:$R1048576,8,0)","v":13},{"$f":"VLOOKUP($D42,'Resultados Gerais'!$B8:$R1048576,9,0)","v":16},{"$f":"VLOOKUP($D42,'Resultados Gerais'!$B8:$R1048576,10,0)","v":23},{"$f":"VLOOKUP($D42,'Resultados Gerais'!$B8:$R1048576,11,0)","v":20},{"$f":"VLOOKUP($D42,'Resultados Gerais'!$B8:$R1048576,12,0)","v":10},{"$f":"VLOOKUP($D42,'Resultados Gerais'!$B8:$R1048576,13,0)","v":25},{"$f":"VLOOKUP($D42,'Resultados Gerais'!$B8:$R1048576,14,0)","v":2},{"$f":"VLOOKUP($D42,'Resultados Gerais'!$B8:$R1048576,15,0)","v":18},{"$f":"VLOOKUP($D42,'Resultados Gerais'!$B8:$R1048576,16,0)","v":21},{"$f":"VLOOKUP($D42,'Resultados Gerais'!$B8:$R1048576,17,0)","v":11}]
[null,null,31,{"$f":"COUNT('Resultados Gerais'!B8:B1048576)-C43","v":1050},{"$f":"VLOOKUP(D43,'Resultados Gerais'!B8:C1048576,2,0)","v":"2014-05-02"},{"$f":"VLOOKUP($D43,'Resultados Gerais'!$B8:$R1048576,3,0)","v":24},{"$f":"VLOOKUP($D43,'Resultados Gerais'!$B8:$R1048576,4,0)","v":1},{"$f":"VLOOKUP($D43,'Resultados Gerais'!$B8:$R1048576,5,0)","v":7},{"$f":"VLOOKUP($D43,'Resultados Gerais'!$B8:$R1048576,6,0)","v":15},{"$f":"VLOOKUP($D43,'Resultados Gerais'!$B8:$R1048576,7,0)","v":21},{"$f":"VLOOKUP($D43,'Resultados Gerais'!$B8:$R1048576,8,0)","v":22},{"$f":"VLOOKUP($D43,'Resultados Gerais'!$B8:$R1048576,9,0)","v":25},{"$f":"VLOOKUP($D43,'Resultados Gerais'!$B8:$R1048576,10,0)","v":17},{"$f":"VLOOKUP($D43,'Resultados Gerais'!$B8:$R1048576,11,0)","v":19},{"$f":"VLOOKUP($D43,'Resultados Gerais'!$B8:$R1048576,12,0)","v":4},{"$f":"VLOOKUP($D43,'Resultados Gerais'!$B8:$R1048576,13,0)","v":6},{"$f":"VLOOKUP($D43,'Resultados Gerais'!$B8:$R1048576,14,0)","v":13},{"$f":"VLOOKUP($D43,'Resultados Gerais'!$B8:$R1048576,15,0)","v":10},{"$f":"VLOOKUP($D43,'Resultados Gerais'!$B8:$R1048576,16,0)","v":12},{"$f":"VLOOKUP($D43,'Resultados Gerais'!$B8:$R1048576,17,0)","v":16}]
[null,null,32,{"$f":"COUNT('Resultados Gerais'!B8:B1048576)-C44","v":1049},{"$f":"VLOOKUP(D44,'Resultados Gerais'!B8:C1048576,2,0)","v":"2014-04-30"},{"$f":"VLOOKUP($D44,'Resultados Gerais'!$B8:$R1048576,3,0)","v":18},{"$f":"VLOOKUP($D44,'Resultados Gerais'!$B8:$R1048576,4,0)","v":17},{"$f":"VLOOKUP($D44,'Resultados Gerais'!$B8:$R1048576,5,0)","v":20},{"$f":"VLOOKUP($D44,'Resultados Gerais'!$B8:$R1048576,6,0)","v":9},{"$f":"VLOOKUP($D44,'Resultados Gerais'!$B8:$R1048576,7,0)","v":12},{"$f":"VLOOKUP($D44,'Resultados Gerais'!$B8:$R1048576,8,0)","v":22},{"$f":"VLOOKUP($D44,'Resultados Gerais'!$B8:$R1048576,9,0)","v":25},{"$f":"VLOOKUP($D44,'Resultados Gerais'!$B8:$R1048576,10,0)","v":21},{"$f":"VLOOKUP($D44,'Resultados Gerais'!$B8:$R1048576,11,0)","v":4},{"$f":"VLOOKUP($D44,'Resultados Gerais'!$B8:$R1048576,12,0)","v":23},{"$f":"VLOOKUP($D44,'Resultados Gerais'!$B8:$R1048576,13,0)","v":14},{"$f":"VLOOKUP($D44,'Resultados Gerais'!$B8:$R1048576,14,0)","v":2},{"$f":"VLOOKUP($D44,'Resultados Gerais'!$B8:$R1048576,15,0)","v":5},{"$f":"VLOOKUP($D44,'Resultados Gerais'!$B8:$R1048576,16,0)","v":19},{"$f":"VLOOKUP($D44,'Resultados Gerais'!$B8:$R1048576,17,0)","v":16}]
[null,null,33,{"$f":"COUNT('Resultados Gerais'!B8:B1048576)-C45","v":1048},{"$f":"VLOOKUP(D45,'Resultados Gerais'!B8:C1048576,2,0)","v":"2014-04-28"},{"$f":"VLOOKUP($D45,'Resultados Gerais'!$B8:$R1048576,3,0)","v":15},{"$f":"VLOOKUP($D45,'Resultados Gerais'!$B8:$R1048576,4,0)","v":16},{"$f":"VLOOKUP($D45,'Resultados Gerais'!$B8:$R1048576,5,0)","v":1},{"$f":"VLOOKUP($D45,'Resultados Gerais'!$B8:$R1048576,6,0)","v":20},{"$f":"VLOOKUP($D45,'Resultados Gerais'!$B8:$R1048576,7,0)","v":9},{"$f":"VLOOKUP($D45,'Resultados Gerais'!$B8:$R1048576,8,0)","v":17},{"$f":"VLOOKUP($D45,'Resultados Gerais'!$B8:$R1048576,9,0)","v":10},{"$f":"VLOOKUP($D45,'Resultados Gerais'!$B8:$R1048576,10,0)","v":2},{"$f":"VLOOKUP($D45,'Resultados Gerais'!$B8:$R1048576,11,0)","v":21},{"$f":"VLOOKUP($D45,'Resultados Gerais'!$B8:$R1048576,12,0)","v":25},{"$f":"VLOOKUP($D45,'Resultados Gerais'!$B8:$R1048576,13,0)","v":18},{"$f":"VLOOKUP($D45,'Resultados Gerais'!$B8:$R1048576,14,0)","v":7},{"$f":"VLOOKUP($D45,'Resultados Gerais'!$B8:$R1048576,15,0)","v":3},{"$f":"VLOOKUP($D45,'Resultados Gerais'!$B8:$R1048576,16,0)","v":6},{"$f":"VLOOKUP($D45,'Resultados Gerais'!$B8:$R1048576,17,0)","v":5}]
[null,null,34,{"$f":"COUNT('Resultados Gerais'!B8:B1048576)-C46","v":1047},{"$f":"VLOOKUP(D46,'Resultados Gerais'!B8:C1048576,2,0)","v":"2014-04-25"},{"$f":"VLOOKUP($D46,'Resultados Gerais'!$B8:$R1048576,3,0)","v":15},{"$f":"VLOOKUP($D46,'Resultados Gerais'!$B8:$R1048576,4,0)","v":21},{"$f":"VLOOKUP($D46,'Resultados Gerais'!$B8:$R1048576,5,0)","v":20},{"$f":"VLOOKUP($D46,'Resultados Gerais'!$B8:$R1048576,6,0)","v":11},{"$f":"VLOOKUP($D46,'Resultados Gerais'!$B8:$R1048576,7,0)","v":17},{"$f":"VLOOKUP($D46,'Resultados Gerais'!$B8:$R1048576,8,0)","v":24},{"$f":"VLOOKUP($D46,'Resultados Gerais'!$B8:$R1048576,9,0)","v":8},{"$f":"VLOOKUP($D46,'Resultados Gerais'!$B8:$R1048576,10,0)","v":22},{"$f":"VLOOKUP($D46,'Resultados Gerais'!$B8:$R1048576,11,0)","v":12},{"$f":"VLOOKUP($D46,'Resultados Gerais'!$B8:$R1048576,12,0)","v":7},{"$f":"VLOOKUP($D46,'Resultados Gerais'!$B8:$R1048576,13,0)","v":9},{"$f":"VLOOKUP($D46,'Resultados Gerais'!$B8:$R1048576,14,0)","v":10},{"$f":"VLOOKUP($D46,'Resultados Gerais'!$B8:$R1048576,15,0)","v":16},{"$f":"VLOOKUP($D46,'Resultados Gerais'!$B8:$R1048576,16,0)","v":4},{"$f":"VLOOKUP($D46,'Resultados Gerais'!$B8:$R1048576,17,0)","v":25}]
[null,null,35,{"$f":"COUNT('Resultados Gerais'!B8:B1048576)-C47","v":1046},{"$f":"VLOOKUP(D47,'Resultados Gerais'!B8:C1048576,2,0)","v":"2014-04-23"},{"$f":"VLOOKUP($D47,'Resultados Gerais'!$B8:$R1048576,3,0)","v":13},{"$f":"VLOOKUP($D47,'Resultados Gerais'!$B8:$R1048576,4,0)","v":14},{"$f":"VLOOKUP($D47,'Resultados Gerais'!$B8:$R1048576,5,0)","v":21},{"$f":"VLOOKUP($D47,'Resultados Gerais'!$B8:$R1048576,6,0)","v":3},{"$f":"VLOOKUP($D47,'Resultados Gerais'!$B8:$R1048576,7,0)","v":7},{"$f":"VLOOKUP($D47,'Resultados Gerais'!$B8:$R1048576,8,0)","v":12},{"$f":"VLOOKUP($D47,'Resultados Gerais'!$B8:$R1048576,9,0)","v":18},{"$f":"VLOOKUP($D47,'Resultados Gerais'!$B8:$R1048576,10,0)","v":4},{"$f":"VLOOKUP($D47,'Resultados Gerais'!$B8:$R1048576,11,0)","v":11},{"$f":"VLOOKUP($D47,'Resultados Gerais'!$B8:$R1048576,12,0)","v":25},{"$f":"VLOOKUP($D47,'Resultados Gerais'!$B8:$R1048576,13,0)","v":20},{"$f":"VLOOKUP($D47,'Resultados Gerais'!$B8:$R1048576,14,0)","v":5},{"$f":"VLOOKUP($D47,'Resultados Gerais'!$B8:$R1048576,15,0)","v":22},{"$f":"VLOOKUP($D47,'Resultados Gerais'!$B8:$R1048576,16,0)","v":8},{"$f":"VLOOKUP($D47,'Resultados Gerais'!$B8:$R1048576,17,0)","v":23}]
[null,null,36,{"$f":"COUNT('Resultados Gerais'!B8:B1048576)-C48","v":1045},{"$f":"VLOOKUP(D48,'Resultados Gerais'!B8:C1048576,2,0)","v":"2014-04-19"},{"$f":"VLOOKUP($D48,'Resultados Gerais'!$B8:$R1048576,3,0)","v":24},{"$f":"VLOOKUP($D48,'Resultados Gerais'!$B8:$R1048576,4,0)","v":23},{"$f":"VLOOKUP($D48,'Resultados Gerais'!$B8:$R1048576,5,0)","v":20},{"$f":"VLOOKUP($D48,'Resultados Gerais'!$B8:$R1048576,6,0)","v":6},{"$f":"VLOOKUP($D48,'Resultados Gerais'!$B8:$R1048576,7,0)","v":9},{"$f":"VLOOKUP($D48,'Resultados Gerais'!$B8:$R1048576,8,0)","v":17},{"$f":"VLOOKUP($D48,'Resultados Gerais'!$B8:$R1048576,9,0)","v":3},{"$f":"VLOOKUP($D48,'Resultados Gerais'!$B8:$R1048576,10,0)","v":25},{"$f":"VLOOKUP($D48,'Resultados Gerais'!$B8:$R1048576,11,0)","v":16},{"$f":"VLOOKUP($D48,'Resultados Gerais'!$B8:$R1048576,12,0)","v":2},{"$f":"VLOOKUP($D48,'Resultados Gerais'!$B8:$R1048576,13,0)","v":11},{"$f":"VLOOKUP($D48,'Resultados Gerais'!$B8:$R1048576,14,0)","v":5},{"$f":"VLOOKUP($D48,'Resultados Gerais'!$B8:$R1048576,15,0)","v":22},{"$f":"VLOOKUP($D48,'Resultados Gerais'!$B8:$R1048576,16,0)","v":21},{"$f":"VLOOKUP($D48,'Resultados Gerais'!$B8:$R1048576,17,0)","v":15}]
[null,null,37,{"$f":"COUNT('Resultados Gerais'!B8:B1048576)-C49","v":1044},{"$f":"VLOOKUP(D49,'Resultados Gerais'!B8:C1048576,2,0)","v":"2014-04-16"},{"$f":"VLOOKUP($D49,'Resultados Gerais'!$B8:$R1048576,3,0)","v":17},{"$f":"VLOOKUP($D49,'Resultados Gerais'!$B8:$R1048576,4,0)","v":10},{"$f":"VLOOKUP($D49,'Resultados Gerais'!$B8:$R1048576,5,0)","v":20},{"$f":"VLOOKUP($D49,'Resultados Gerais'!$B8:$R1048576,6,0)","v":24},{"$f":"VLOOKUP($D49,'Resultados Gerais'!$B8:$R1048576,7,0)","v":11},{"$f":"VLOOKUP($D49,'Resultados Gerais'!$B8:$R1048576,8,0)","v":6},{"$f":"VLOOKUP($D49,'Resultados Gerais'!$B8:$R1048576,9,0)","v":12},{"$f":"VLOOKUP($D49,'Resultados Gerais'!$B8:$R1048576,10,0)","v":23},{"$f":"VLOOKUP($D49,'Resultados Gerais'!$B8:$R1048576,11,0)","v":5},{"$f":"VLOOKUP($D49,'Resultados Gerais'!$B8:$R1048576,12,0)","v":2},{"$f":"VLOOKUP($D49,'Resultados Gerais'!$B8:$R1048576,13,0)","v":8},{"$f":"VLOOKUP($D49,'Resultados Gerais'!$B8:$R1048576,14,0)","v":15},{"$f":"VLOOKUP($D49,'Resultados Gerais'!$B8:$R1048576,15,0)","v":4},{"$f":"VLOOKUP($D49,'Resultados Gerais'!$B8:$R1048576,16,0)","v":7},{"$f":"VLOOKUP($D49,'Resultados Gerais'!$B8:$R1048576,17,0)","v":25}]
[null,null,38,{"$f":"COUNT('Resultados Gerais'!B8:B1048576)-C50","v":1043},{"$f":"VLOOKUP(D50,'Resultados Gerais'!B8:C1048576,2,0)","v":"2014-04-14"},{"$f":"VLOOKUP($D50,'Resultados Gerais'!$B8:$R1048576,3,0)","v":6},{"$f":"VLOOKUP($D50,'Resultados Gerais'!$B8:$R1048576,4,0)","v":25},{"$f":"VLOOKUP($D50,'Resultados Gerais'!$B8:$R1048576,5,0)","v":7},{"$f":"VLOOKUP($D50,'Resultados Gerais'!$B8:$R1048576,6,0)","v":17},{"$f":"VLOOKUP($D50,'Resultados Gerais'!$B8:$R1048576,7,0)","v":14},{"$f":"VLOOKUP($D50,'Resultados Gerais'!$B8:$R1048576,8,0)","v":12},{"$f":"VLOOKUP($D50,'Resultados Gerais'!$B8:$R1048576,9,0)","v":18},{"$f":"VLOOKUP($D50,'Resultados Gerais'!$B8:$R1048576,10,0)","v":11},{"$f":"VLOOKUP($D50,'Resultados Gerais'!$B8:$R1048576,11,0)","v":1},{"$f":"VLOOKUP($D50,'Resultados Gerais'!$B8:$R1048576,12,0)","v":2},{"$f":"VLOOKUP($D50,'Resultados Gerais'!$B8:$R1048576,13,0)","v":9},{"$f":"VLOOKUP($D50,'Resultados Gerais'!$B8:$R1048576,14,0)","v":19},{"$f":"VLOOKUP($D50,'Resultados Gerais'!$B8:$R1048576,15,0)","v":8},{"$f":"VLOOKUP($D50,'Resultados Gerais'!$B8:$R1048576,16,0)","v":24},{"$f":"VLOOKUP($D50,'Resultados Gerais'!$B8:$R1048576,17,0)","v":10}]
[null,null,39,{"$f":"COUNT('Resultados Gerais'!B8:B1048576)-C51","v":1042},{"$f":"VLOOKUP(D51,'Resultados Gerais'!B8:C1048576,2,0)","v":"2014-04-11"},{"$f":"VLOOKUP($D51,'Resultados Gerais'!$B8:$R1048576,3,0)","v":7},{"$f":"VLOOKUP($D51,'Resultados Gerais'!$B8:$R1048576,4,0)","v":1},{"$f":"VLOOKUP($D51,'Resultados Gerais'!$B8:$R1048576,5,0)","v":15},{"$f":"VLOOKUP($D51,'Resultados Gerais'!$B8:$R1048576,6,0)","v":10},{"$f":"VLOOKUP($D51,'Resultados Gerais'!$B8:$R1048576,7,0)","v":21},{"$f":"VLOOKUP($D51,'Resultados Gerais'!$B8:$R1048576,8,0)","v":14},{"$f":"VLOOKUP($D51,'Resultados Gerais'!$B8:$R1048576,9,0)","v":16},{"$f":"VLOOKUP($D51,'Resultados Gerais'!$B8:$R1048576,10,0)","v":24},{"$f":"VLOOKUP($D51,'Resultados Gerais'!$B8:$R1048576,11,0)","v":6},{"$f":"VLOOKUP($D51,'Resultados Gerais'!$B8:$R1048576,12,0)","v":11},{"$f":"VLOOKUP($D51,'Resultados Gerais'!$B8:$R1048576,13,0)","v":22},{"$f":"VLOOKUP($D51,'Resultados Gerais'!$B8:$R1048576,14,0)","v":9},{"$f":"VLOOKUP($D51,'Resultados Gerais'!$B8:$R1048576,15,0)","v":3},{"$f":"VLOOKUP($D51,'Resultados Gerais'!$B8:$R1048576,16,0)","v":8},{"$f":"VLOOKUP($D51,'Resultados Gerais'!$B8:$R1048576,17,0)","v":19}]
[null,null,40,{"$f":"COUNT('Resultados Gerais'!B8:B1048576)-C52","v":1041},{"$f":"VLOOKUP(D52,'Resultados Gerais'!B8:C1048576,2,0)","v":"2014-04-09"},{"$f":"VLOOKUP($D52,'Resultados Gerais'!$B8:$R1048576,3,0)","v":25},{"$f":"VLOOKUP($D52,'Resultados Gerais'!$B8:$R1048576,4,0)","v":20},{"$f":"VLOOKUP($D52,'Resultados Gerais'!$B8:$R1048576,5,0)","v":12},{"$f":"VLOOKUP($D52,'Resultados Gerais'!$B8:$R1048576,6,0)","v":21},{"$f":"VLOOKUP($D52,'Resultados Gerais'!$B8:$R1048576,7,0)","v":19},{"$f":"VLOOKUP($D52,'Resultados Gerais'!$B8:$R1048576,8,0)","v":15},{"$f":"VLOOKUP($D52,'Resultados Gerais'!$B8:$R1048576,9,0)","v":24},{"$f":"VLOOKUP($D52,'Resultados Gerais'!$B8:$R1048576,10,0)","v":5},{"$f":"VLOOKUP($D52,'Resultados Gerais'!$B8:$R1048576,11,0)","v":10},{"$f":"VLOOKUP($D52,'Resultados Gerais'!$B8:$R1048576,12,0)","v":23},{"$f":"VLOOKUP($D52,'Resultados Gerais'!$B8:$R1048576,13,0)","v":3},{"$f":"VLOOKUP($D52,'Resultados Gerais'!$B8:$R1048576,14,0)","v":7},{"$f":"VLOOKUP($D52,'Resultados Gerais'!$B8:$R1048576,15,0)","v":13},{"$f":"VLOOKUP($D52,'Resultados Gerais'!$B8:$R1048576,16,0)","v":1},{"$f":"VLOOKUP($D52,'Resultados Gerais'!$B8:$R1048576,17,0)","v":17}]
[null,null,41,{"$f":"COUNT('Resultados Gerais'!B8:B1048576)-C53","v":1040},{"$f":"VLOOKUP(D53,'Resultados Gerais'!B8:C1048576,2,0)","v":"2014-04-07"},{"$f":"VLOOKUP($D53,'Resultados Gerais'!$B8:$R1048576,3,0)","v":10},{"$f":"VLOOKUP($D53,'Resultados Gerais'!$B8:$R1048576,4,0)","v":12},{"$f":"VLOOKUP($D53,'Resultados Gerais'!$B8:$R1048576,5,0)","v":4},{"$f":"VLOOKUP($D53,'Resultados Gerais'!$B8:$R1048576,6,0)","v":23},{"$f":"VLOOKUP($D53,'Resultados Gerais'!$B8:$R1048576,7,0)","v":25},{"$f":"VLOOKUP($D53,'Resultados Gerais'!$B8:$R1048576,8,0)","v":9},{"$f":"VLOOKUP($D53,'Resultados Gerais'!$B8:$R1048576,9,0)","v":2},{"$f":"VLOOKUP($D53,'Resultados Gerais'!$B8:$R1048576,10,0)","v":1},{"$f":"VLOOKUP($D53,'Resultados Gerais'!$B8:$R1048576,11,0)","v":6},{"$f":"VLOOKUP($D53,'Resultados Gerais'!$B8:$R1048576,12,0)","v":16},{"$f":"VLOOKUP($D53,'Resultados Gerais'!$B8:$R1048576,13,0)","v":20},{"$f":"VLOOKUP($D53,'Resultados Gerais'!$B8:$R1048576,14,0)","v":22},{"$f":"VLOOKUP($D53,'Resultados Gerais'!$B8:$R1048576,15,0)","v":13},{"$f":"VLOOKUP($D53,'Resultados Gerais'!$B8:$R1048576,16,0)","v":21},{"$f":"VLOOKUP($D53,'Resultados Gerais'!$B8:$R1048576,17,0)","v":8}]
[null,null,42,{"$f":"COUNT('Resultados Gerais'!B8:B1048576)-C54","v":1039},{"$f":"VLOOKUP(D54,'Resultados Gerais'!B8:C1048576,2,0)","v":"2014-04-04"},{"$f":"VLOOKUP($D54,'Resultados Gerais'!$B8:$R1048576,3,0)","v":21},{"$f":"VLOOKUP($D54,'Resultados Gerais'!$B8:$R1048576,4,0)","v":1},{"$f":"VLOOKUP($D54,'Resultados Gerais'!$B8:$R1048576,5,0)","v":15},{"$f":"VLOOKUP($D54,'Resultados Gerais'!$B8:$R1048576,6,0)","v":18},{"$f":"VLOOKUP($D54,'Resultados Gerais'!$B8:$R1048576,7,0)","v":9},{"$f":"VLOOKUP($D54,'Resultados Gerais'!$B8:$R1048576,8,0)","v":2},{"$f":"VLOOKUP($D54,'Resultados Gerais'!$B8:$R1048576,9,0)","v":19},{"$f":"VLOOKUP($D54,'Resultados Gerais'!$B8:$R1048576,10,0)","v":14},{"$f":"VLOOKUP($D54,'Resultados Gerais'!$B8:$R1048576,11,0)","v":22},{"$f":"VLOOKUP($D54,'Resultados Gerais'!$B8:$R1048576,12,0)","v":20},{"$f":"VLOOKUP($D54,'Resultados Gerais'!$B8:$R1048576,13,0)","v":3},{"$f":"VLOOKUP($D54,'Resultados Gerais'!$B8:$R1048576,14,0)","v":12},{"$f":"VLOOKUP($D54,'Resultados Gerais'!$B8:$R1048576,15,0)","v":24},{"$f":"VLOOKUP($D54,'Resultados Gerais'!$B8:$R1048576,16,0)","v":8},{"$f":"VLOOKUP($D54,'Resultados Gerais'!$B8:$R1048576,17,0)","v":13}]
[null,null,43,{"$f":"COUNT('Resultados Gerais'!B8:B1048576)-C55","v":1038},{"$f":"VLOOKUP(D55,'Resultados Gerais'!B8:C1048576,2,0)","v":"2014-04-02"},{"$f":"VLOOKUP($D55,'Resultados Gerais'!$B8:$R1048576,3,0)","v":8},{"$f":"VLOOKUP($D55,'Resultados Gerais'!$B8:$R1048576,4,0)","v":10},{"$f":"VLOOKUP($D55,'Resultados Gerais'!$B8:$R1048576,5,0)","v":24},{"$f":"VLOOKUP($D55,'Resultados Gerais'!$B8:$R1048576,6,0)","v":19},{"$f":"VLOOKUP($D55,'Resultados Gerais'!$B8:$R1048576,7,0)","v":6},{"$f":"VLOOKUP($D55,'Resultados Gerais'!$B8:$R1048576,8,0)","v":7},{"$f":"VLOOKUP($D55,'Resultados Gerais'!$B8:$R1048576,9,0)","v":20},{"$f":"VLOOKUP($D55,'Resultados Gerais'!$B8:$R1048576,10,0)","v":18},{"$f":"VLOOKUP($D55,'Resultados Gerais'!$B8:$R1048576,11,0)","v":16},{"$f":"VLOOKUP($D55,'Resultados Gerais'!$B8:$R1048576,12,0)","v":9},{"$f":"VLOOKUP($D55,'Resultados Gerais'!$B8:$R1048576,13,0)","v":17},{"$f":"VLOOKUP($D55,'Resultados Gerais'!$B8:$R1048576,14,0)","v":2},{"$f":"VLOOKUP($D55,'Resultados Gerais'!$B8:$R1048576,15,0)","v":13},{"$f":"VLOOKUP($D55,'Resultados Gerais'!$B8:$R1048576,16,0)","v":21},{"$f":"VLOOKUP($D55,'Resultados Gerais'!$B8:$R1048576,17,0)","v":25}]
[null,null,44,{"$f":"COUNT('Resultados Gerais'!B8:B1048576)-C56","v":1037},{"$f":"VLOOKUP(D56,'Resultados Gerais'!B8:C1048576,2,0)","v":"2014-03-31"},{"$f":"VLOOKUP($D56,'Resultados Gerais'!$B8:$R1048576,3,0)","v":11},{"$f":"VLOOKUP($D56,'Resultados Gerais'!$B8:$R1048576,4,0)","v":20},{"$f":"VLOOKUP($D56,'Resultados Gerais'!$B8:$R1048576,5,0)","v":9},{"$f":"VLOOKUP($D56,'Resultados Gerais'!$B8:$R1048576,6,0)","v":25},{"$f":"VLOOKUP($D56,'Resultados Gerais'!$B8:$R1048576,7,0)","v":17},{"$f":"VLOOKUP($D56,'Resultados Gerais'!$B8:$R1048576,8,0)","v":18},{"$f":"VLOOKUP($D56,'Resultados Gerais'!$B8:$R1048576,9,0)","v":1},{"$f":"VLOOKUP($D56,'Resultados Gerais'!$B8:$R1048576,10,0)","v":12},{"$f":"VLOOKUP($D56,'Resultados Gerais'!$B8:$R1048576,11,0)","v":24},{"$f":"VLOOKUP($D56,'Resultados Gerais'!$B8:$R1048576,12,0)","v":5},{"$f":"VLOOKUP($D56,'Resultados Gerais'!$B8:$R1048576,13,0)","v":15},{"$f":"VLOOKUP($D56,'Resultados Gerais'!$B8:$R1048576,14,0)","v":21},{"$f":"VLOOKUP($D56,'Resultados Gerais'!$B8:$R1048576,15,0)","v":6},{"$f":"VLOOKUP($D56,'Resultados Gerais'!$B8:$R1048576,16,0)","v":10},{"$f":"VLOOKUP($D56,'Resultados Gerais'!$B8:$R1048576,17,0)","v":23}]
[null,null,45,{"$f":"COUNT('Resultados Gerais'!B8:B1048576)-C57","v":1036},{"$f":"VLOOKUP(D57,'Resultados Gerais'!B8:C1048576,2,0)","v":"2014-03-28"},{"$f":"VLOOKUP($D57,'Resultados Gerais'!$B8:$R1048576,3,0)","v":14},{"$f":"VLOOKUP($D57,'Resultados Gerais'!$B8:$R1048576,4,0)","v":12},{"$f":"VLOOKUP($D57,'Resultados Gerais'!$B8:$R1048576,5,0)","v":7},{"$f":"VLOOKUP($D57,'Resultados Gerais'!$B8:$R1048576,6,0)","v":22},{"$f":"VLOOKUP($D57,'Resultados Gerais'!$B8:$R1048576,7,0)","v":18},{"$f":"VLOOKUP($D57,'Resultados Gerais'!$B8:$R1048576,8,0)","v":21},{"$f":"VLOOKUP($D57,'Resultados Gerais'!$B8:$R1048576,9,0)","v":4},{"$f":"VLOOKUP($D57,'Resultados Gerais'!$B8:$R1048576,10,0)","v":9},{"$f":"VLOOKUP($D57,'Resultados Gerais'!$B8:$R1048576,11,0)","v":11},{"$f":"VLOOKUP($D57,'Resultados Gerais'!$B8:$R1048576,12,0)","v":5},{"$f":"VLOOKUP($D57,'Resultados Gerais'!$B8:$R1048576,13,0)","v":19},{"$f":"VLOOKUP($D57,'Resultados Gerais'!$B8:$R1048576,14,0)","v":24},{"$f":"VLOOKUP($D57,'Resultados Gerais'!$B8:$R1048576,15,0)","v":10},{"$f":"VLOOKUP($D57,'Resultados Gerais'!$B8:$R1048576,16,0)","v":17},{"$f":"VLOOKUP($D57,'Resultados Gerais'!$B8:$R1048576,17,0)","v":20}]
[null,null,46,{"$f":"COUNT('Resultados Gerais'!B8:B1048576)-C58","v":1035},{"$f":"VLOOKUP(D58,'Resultados Gerais'!B8:C1048576,2,0)","v":"2014-03-26"},{"$f":"VLOOKUP($D58,'Resultados Gerais'!$B8:$R1048576,3,0)","v":15},{"$f":"VLOOKUP($D58,'Resultados Gerais'!$B8:$R1048576,4,0)","v":13},{"$f":"VLOOKUP($D58,'Resultados Gerais'!$B8:$R1048576,5,0)","v":21},{"$f":"VLOOKUP($D58,'Resultados Gerais'!$B8:$R1048576,6,0)","v":19},{"$f":"VLOOKUP($D58,'Resultados Gerais'!$B8:$R1048576,7,0)","v":25},{"$f":"VLOOKUP($D58,'Resultados Gerais'!$B8:$R1048576,8,0)","v":20},{"$f":"VLOOKUP($D58,'Resultados Gerais'!$B8:$R1048576,9,0)","v":7},{"$f":"VLOOKUP($D58,'Resultados Gerais'!$B8:$R1048576,10,0)","v":6},{"$f":"VLOOKUP($D58,'Resultados Gerais'!$B8:$R1048576,11,0)","v":12},{"$f":"VLOOKUP($D58,'Resultados Gerais'!$B8:$R1048576,12,0)","v":14},{"$f":"VLOOKUP($D58,'Resultados Gerais'!$B8:$R1048576,13,0)","v":9},{"$f":"VLOOKUP($D58,'Resultados Gerais'!$B8:$R1048576,14,0)","v":18},{"$f":"VLOOKUP($D58,'Resultados Gerais'!$B8:$R1048576,15,0)","v":23},{"$f":"VLOOKUP($D58,'Resultados Gerais'!$B8:$R1048576,16,0)","v":4},{"$f":"VLOOKUP($D58,'Resultados Gerais'!$B8:$R1048576,17,0)","v":22}]
[null,null,47,{"$f":"COUNT('Resultados Gerais'!B8:B1048576)-C59","v":1034},{"$f":"VLOOKUP(D59,'Resultados Gerais'!B8:C1048576,2,0)","v":"2014-03-24"},{"$f":"VLOOKUP($D59,'Resultados Gerais'!$B8:$R1048576,3,0)","v":8},{"$f":"VLOOKUP($D59,'Resultados Gerais'!$B8:$R1048576,4,0)","v":2},{"$f":"VLOOKUP($D59,'Resultados Gerais'!$B8:$R1048576,5,0)","v":23},{"$f":"VLOOKUP($D59,'Resultados Gerais'!$B8:$R1048576,6,0)","v":3},{"$f":"VLOOKUP($D59,'Resultados Gerais'!$B8:$R1048576,7,0)","v":13},{"$f":"VLOOKUP($D59,'Resultados Gerais'!$B8:$R1048576,8,0)","v":17},{"$f":"VLOOKUP($D59,'Resultados Gerais'!$B8:$R1048576,9,0)","v":12},{"$f":"VLOOKUP($D59,'Resultados Gerais'!$B8:$R1048576,10,0)","v":6},{"$f":"VLOOKUP($D59,'Resultados Gerais'!$B8:$R1048576,11,0)","v":21},{"$f":"VLOOKUP($D59,'Resultados Gerais'!$B8:$R1048576,12,0)","v":10},{"$f":"VLOOKUP($D59,'Resultados Gerais'!$B8:$R1048576,13,0)","v":20},{"$f":"VLOOKUP($D59,'Resultados Gerais'!$B8:$R1048576,14,0)","v":18},{"$f":"VLOOKUP($D59,'Resultados Gerais'!$B8:$R1048576,15,0)","v":14},{"$f":"VLOOKUP($D59,'Resultados Gerais'!$B8:$R1048576,16,0)","v":19},{"$f":"VLOOKUP($D59,'Resultados Gerais'!$B8:$R1048576,17,0)","v":4}]
[null,null,48,{"$f":"COUNT('Resultados Gerais'!B8:B1048576)-C60","v":1033},{"$f":"VLOOKUP(D60,'Resultados Gerais'!B8:C1048576,2,0)","v":"2014-03-21"},{"$f":"VLOOKUP($D60,'Resultados Gerais'!$B8:$R1048576,3,0)","v":13},{"$f":"VLOOKUP($D60,'Resultados Gerais'!$B8:$R1048576,4,0)","v":4},{"$f":"VLOOKUP($D60,'Resultados Gerais'!$B8:$R1048576,5,0)","v":18},{"$f":"VLOOKUP($D60,'Resultados Gerais'!$B8:$R1048576,6,0)","v":17},{"$f":"VLOOKUP($D60,'Resultados Gerais'!$B8:$R1048576,7,0)","v":7},{"$f":"VLOOKUP($D60,'Resultados Gerais'!$B8:$R1048576,8,0)","v":14},{"$f":"VLOOKUP($D60,'Resultados Gerais'!$B8:$R1048576,9,0)","v":12},{"$f":"VLOOKUP($D60,'Resultados Gerais'!$B8:$R1048576,10,0)","v":23},{"$f":"VLOOKUP($D60,'Resultados Gerais'!$B8:$R1048576,11,0)","v":16},{"$f":"VLOOKUP($D60,'Resultados Gerais'!$B8:$R1048576,12,0)","v":6},{"$f":"VLOOKUP($D60,'Resultados Gerais'!$B8:$R1048576,13,0)","v":21},{"$f":"VLOOKUP($D60,'Resultados Gerais'!$B8:$R1048576,14,0)","v":24},{"$f":"VLOOKUP($D60,'Resultados Gerais'!$B8:$R1048576,15,0)","v":22},{"$f":"VLOOKUP($D60,'Resultados Gerais'!$B8:$R1048576,16,0)","v":8},{"$f":"VLOOKUP($D60,'Resultados Gerais'!$B8:$R1048576,17,0)","v":3}]
[null,null,49,{"$f":"COUNT('Resultados Gerais'!B8:B1048576)-C61","v":1032},{"$f":"VLOOKUP(D61,'Resultados Gerais'!B8:C1048576,2,0)","v":"2014-03-19"},{"$f":"VLOOKUP($D61,'Resultados Gerais'!$B8:$R1048576,3,0)","v":23},{"$f":"VLOOKUP($D61,'Resultados Gerais'!$B8:$R1048576,4,0)","v":4},{"$f":"VLOOKUP($D61,'Resultados Gerais'!$B8:$R1048576,5,0)","v":2},{"$f":"VLOOKUP($D61,'Resultados Gerais'!$B8:$R1048576,6,0)","v":6},{"$f":"VLOOKUP($D61,'Resultados Gerais'!$B8:$R1048576,7,0)","v":3},{"$f":"VLOOKUP($D61,'Resultados Gerais'!$B8:$R1048576,8,0)","v":10},{"$f":"VLOOKUP($D61,'Resultados Gerais'!$B8:$R1048576,9,0)","v":20},{"$f":"VLOOKUP($D61,'Resultados Gerais'!$B8:$R1048576,10,0)","v":11},{"$f":"VLOOKUP($D61,'Resultados Gerais'!$B8:$R1048576,11,0)","v":8},{"$f":"VLOOKUP($D61,'Resultados Gerais'!$B8:$R1048576,12,0)","v":17},{"$f":"VLOOKUP($D61,'Resultados Gerais'!$B8:$R1048576,13,0)","v":16},{"$f":"VLOOKUP($D61,'Resultados Gerais'!$B8:$R1048576,14,0)","v":13},{"$f":"VLOOKUP($D61,'Resultados Gerais'!$B8:$R1048576,15,0)","v":18},{"$f":"VLOOKUP($D61,'Resultados Gerais'!$B8:$R1048576,16,0)","v":14},{"$f":"VLOOKUP($D61,'Resultados Gerais'!$B8:$R1048576,17,0)","v":1}]

{"sheet":"100 Últimos Sorteios","index":5,"n_rows":112,"n_cols":26,"rows_kept":112,"cut":false,"hidden":false,"merged":[[1,2,1,27],[2,2,2,27],[3,2,3,27],[8,23,10,24],[8,3,9,19],[5,2,5,27]]}
[]
[null,null,"Atenção!"]
[null,null,"Esta planilha é de uso pessoal, é restritamente proibida a distribuição da mesma a terceiros, sujeito a punições de acordo com as leis de direitos autorais"]
[null,null,"Todos os direitos reservados ao site www.ApostaEsperta.com "]
[]
["Planilha de Análise Estatística Lotofácil\nApostaEsperta.Com - Todos os Direitos Reservados",null,"Planilha de Análise Estatística Lotofácil"]
[]
[]
[null,null,null,"Resultados dos Últimos 50 Sorteios",null,null,null,null,null,null,null,null,null,null,null,null,null,null,null,null,null,null,null,"Números Quentes\nÚltimos 10 Sorteios"]
[]
[null,null,null,"Sorteio","Data do Sorteio","1ªD","2ªD","3ªD","4ªD","5ªD","6ªD","7ªD","8ªD","9ªD","10ªD","11ªD","12ªD","13ªD","14ªD","15ªD"]
[null,null,null,{"$f":"COUNT('Resultados Gerais'!B8:B1048576)","v":1081},{"$f":"VLOOKUP(D12,'Resultados Gerais'!B8:C1048576,2,0)","v":"2014-07-14"},{"$f":"VLOOKUP($D12,'Resultados Gerais'!$B8:$R1048576,3,0)","v":21},{"$f":"VLOOKUP($D12,'Resultados Gerais'!$B8:$R1048576,4,0)","v":10},{"$f":"VLOOKUP($D12,'Resultados Gerais'!$B8:$R1048576,5,0)","v":5},{"$f":"VLOOKUP($D12,'Resultados Gerais'!$B8:$R1048576,6,0)","v":16},{"$f":"VLOOKUP($D12,'Resultados Gerais'!$B8:$R1048576,7,0)","v":13},{"$f":"VLOOKUP($D12,'Resultados Gerais'!$B8:$R1048576,8,0)","v":12},{"$f":"VLOOKUP($D12,'Resultados Gerais'!$B8:$R1048576,9,0)","v":14},{"$f":"VLOOKUP($D12,'Resultados Gerais'!$B8:$R1048576,10,0)","v":1},{"$f":"VLOOKUP($D12,'Resultados Gerais'!$B8:$R1048576,11,0)","v":15},{"$f":"VLOOKUP($D12,'Resultados Gerais'!$B8:$R1048576,12,0)","v":22},{"$f":"VLOOKUP($D12,'Resultados Gerais'!$B8:$R1048576,13,0)","v":18},{"$f":"VLOOKUP($D12,'Resultados Gerais'!$B8:$R1048576,14,0)","v":19},{"$f":"VLOOKUP($D12,'Resultados Gerais'!$B8:$R1048576,15,0)","v":6},{"$f":"VLOOKUP($D12,'Resultados Gerais'!$B8:$R1048576,16,0)","v":7},{"$f":"VLOOKUP($D12,'Resultados Gerais'!$B8:$R1048576,17,0)","v":23},null,null,null,"Dezena","Qtd de Saída"]
[1,null,null,{"$f":"COUNT('Resultados Gerais'!B8:B1048576)-A13","v":1080},{"$f":"VLOOKUP(D13,'Resultados Gerais'!B8:C1048576,2,0)","v":"2014-07-11"},{"$f":"VLOOKUP($D13,'Resultados Gerais'!$B8:$R1048576,3,0)","v":5},{"$f":"VLOOKUP($D13,'Resultados Gerais'!$B8:$R1048576,4,0)","v":14},{"$f":"VLOOKUP($D13,'Resultados Gerais'!$B8:$R1048576,5,0)","v":3},{"$f":"VLOOKUP($D13,'Resultados Gerais'!$B8:$R1048576,6,0)","v":17},{"$f":"VLOOKUP($D13,'Resultados Gerais'!$B8:$R1048576,7,0)","v":12},{"$f":"VLOOKUP($D13,'Resultados Gerais'!$B8:$R1048576,8,0)","v":21},{"$f":"VLOOKUP($D13,'Resultados Gerais'!$B8:$R1048576,9,0)","v":2},{"$f":"VLOOKUP($D13,'Resultados Gerais'!$B8:$R1048576,10,0)","v":16},{"$f":"VLOOKUP($D13,'Resultados Gerais'!$B8:$R1048576,11,0)","v":10},{"$f":"VLOOKUP($D13,'Resultados Gerais'!$B8:$R1048576,12,0)","v":6},{"$f":"VLOOKUP($D13,'Resultados Gerais'!$B8:$R1048576,13,0)","v":23},{"$f":"VLOOKUP($D13,'Resultados Gerais'!$B8:$R1048576,14,0)","v":22},{"$f":"VLOOKUP($D13,'Resultados Gerais'!$B8:$R1048576,15,0)","v":15},{"$f":"VLOOKUP($D13,'Resultados Gerais'!$B8:$R1048576,16,0)","v":25},{"$f":"VLOOKUP($D13,'Resultados Gerais'!$B8:$R1048576,17,0)","v":11},null,null,null,6,{"$f":"COUNTIF($F$12:$T$112,X13)","v":57},{"$f":"COUNTIF($F$12:$T$112,X13)","v":57}]
[2,null,null,{"$f":"COUNT('Resultados Gerais'!B8:B1048576)-A14","v":1079},{"$f":"VLOOKUP(D14,'Resultados Gerais'!B8:C1048576,2,0)","v":"2014-07-09"},{"$f":"VLOOKUP($D14,'Resultados Gerais'!$B8:$R1048576,3,0)","v":15},{"$f":"VLOOKUP($D14,'Resultados Gerais'!$B8:$R1048576,4,0)","v":24},{"$f":"VLOOKUP($D14,'Resultados Gerais'!$B8:$R1048576,5,0)","v":6},{"$f":"VLOOKUP($D14,'Resultados Gerais'!$B8:$R1048576,6,0)","v":11},{"$f":"VLOOKUP($D14,'Resultados Gerais'!$B8:$R1048576,7,0)","v":22},{"$f":"VLOOKUP($D14,'Resultados Gerais'!$B8:$R1048576,8,0)","v":5},{"$f":"VLOOKUP($D14,'Resultados Gerais'!$B8:$R1048576,9,0)","v":13},{"$f":"VLOOKUP($D14,'Resultados Gerais'!$B8:$R1048576,10,0)","v":20},{"$f":"VLOOKUP($D14,'Resultados Gerais'!$B8:$R1048576,11,0)","v":16},{"$f":"VLOOKUP($D14,'Resultados Gerais'!$B8:$R1048576,12,0)","v":19},{"$f":"VLOOKUP($D14,'Resultados Gerais'!$B8:$R1048576,13,0)","v":8},{"$f":"VLOOKUP($D14,'Resultados Gerais'!$B8:$R1048576,14,0)","v":17},{"$f":"VLOOKUP($D14,'Resultados Gerais'!$B8:$R1048576,15,0)","v":7},{"$f":"VLOOKUP($D14,'Resultados Gerais'!$B8:$R1048576,16,0)","v":21},{"$f":"VLOOKUP($D14,'Resultados Gerais'!$B8:$R1048576,17,0)","v":14},null,null,null,1,57,57]
[3,null,null,{"$f":"COUNT('Resultados Gerais'!B8:B1048576)-A15","v":1078},{"$f":"VLOOKUP(D15,'Resultados Gerais'!B8:C1048576,2,0)","v":"2014-07-07"},{"$f":"VLOOKUP($D15,'Resultados Gerais'!$B8:$R1048576,3,0)","v":23},{"$f":"VLOOKUP($D15,'Resultados Gerais'!$B8:$R1048576,4,0)","v":13},{"$f":"VLOOKUP($D15,'Resultados Gerais'!$B8:$R1048576,5,0)","v":6},{"$f":"VLOOKUP($D15,'Resultados Gerais'!$B8:$R1048576,6,0)","v":24},{"$f":"VLOOKUP($D15,'Resultados Gerais'!$B8:$R1048576,7,0)","v":11},{"$f":"VLOOKUP($D15,'Resultados Gerais'!$B8:$R1048576,8,0)","v":25},{"$f":"VLOOKUP($D15,'Resultados Gerais'!$B8:$R1048576,9,0)","v":2},{"$f":"VLOOKUP($D15,'Resultados Gerais'!$B8:$R1048576,10,0)","v":10},{"$f":"VLOOKUP($D15,'Resultados Gerais'!$B8:$R1048576,11,0)","v":21},{"$f":"VLOOKUP($D15,'Resultados Gerais'!$B8:$R1048576,12,0)","v":7},{"$f":"VLOOKUP($D15,'Resultados Gerais'!$B8:$R1048576,13,0)","v":18},{"$f":"VLOOKUP($D15,'Resultados Gerais'!$B8:$R1048576,14,0)","v":17},{"$f":"VLOOKUP($D15,'Resultados Gerais'!$B8:$R1048576,15,0)","v":5},{"$f":"VLOOKUP($D15,'Resultados Gerais'!$B8:$R1048576,16,0)","v":4},{"$f":"VLOOKUP($D15,'Resultados Gerais'!$B8:$R1048576,17,0)","v":9},null,null,null,18,60,60]
[4,null,null,{"$f":"COUNT('Resultados Gerais'!B8:B1048576)-A16","v":1077},{"$f":"VLOOKUP(D16,'Resultados Gerais'!B8:C1048576,2,0)","v":"2014-07-04"},{"$f":"VLOOKUP($D16,'Resultados Gerais'!$B8:$R1048576,3,0)","v":20},{"$f":"VLOOKUP($D16,'Resultados Gerais'!$B8:$R1048576,4,0)","v":19},{"$f":"VLOOKUP($D16,'Resultados Gerais'!$B8:$R1048576,5,0)","v":12},{"$f":"VLOOKUP($D16,'Resultados Gerais'!$B8:$R1048576,6,0)","v":13},{"$f":"VLOOKUP($D16,'Resultados Gerais'!$B8:$R1048576,7,0)","v":2},{"$f":"VLOOKUP($D16,'Resultados Gerais'!$B8:$R1048576,8,0)","v":5},{"$f":"VLOOKUP($D16,'Resultados Gerais'!$B8:$R1048576,9,0)","v":8},{"$f":"VLOOKUP($D16,'Resultados Gerais'!$B8:$R1048576,10,0)","v":24},{"$f":"VLOOKUP($D16,'Resultados Gerais'!$B8:$R1048576,11,0)","v":7},{"$f":"VLOOKUP($D16,'Resultados Gerais'!$B8:$R1048576,12,0)","v":15},{"$f":"VLOOKUP($D16,'Resultados Gerais'!$B8:$R1048576,13,0)","v":6},{"$f":"VLOOKUP($D16,'Resultados Gerais'!$B8:$R1048576,14,0)","v":21},{"$f":"VLOOKUP($D16,'Resultados Gerais'!$B8:$R1048576,15,0)","v":14},{"$f":"VLOOKUP($D16,'Resultados Gerais'!$B8:$R1048576,16,0)","v":10},{"$f":"VLOOKUP($D16,'Resultados Gerais'!$B8:$R1048576,17,0)","v":1},null,null,null,13,61,61]
[5,null,null,{"$f":"COUNT('Resultados Gerais'!B8:B1048576)-A17","v":1076},{"$f":"VLOOKUP(D17,'Resultados Gerais'!B8:C1048576,2,0)","v":"2014-07-02"},{"$f":"VLOOKUP($D17,'Resultados Gerais'!$B8:$R1048576,3,0)","v":18},{"$f":"VLOOKUP($D17,'Resultados Gerais'!$B8:$R1048576,4,0)","v":15},{"$f":"VLOOKUP($D17,'Resultados Gerais'!$B8:$R1048576,5,0)","v":12},{"$f":"VLOOKUP($D17,'Resultados Gerais'!$B8:$R1048576,6,0)","v":11},{"$f":"VLOOKUP($D17,'Resultados Gerais'!$B8:$R1048576,7,0)","v":20},{"$f":"VLOOKUP($D17,'Resultados Gerais'!$B8:$R1048576,8,0)","v":13},{"$f":"VLOOKUP($D17,'Resultados Gerais'!$B8:$R1048576,9,0)","v":17},{"$f":"VLOOKUP($D17,'Resultados Gerais'!$B8:$R1048576,10,0)","v":9},{"$f":"VLOOKUP($D17,'Resultados Gerais'!$B8:$R1048576,11,0)","v":16},{"$f":"VLOOKUP($D17,'Resultados Gerais'!$B8:$R1048576,12,0)","v":25},{"$f":"VLOOKUP($D17,'Resultados Gerais'!$B8:$R1048576,13,0)","v":4},{"$f":"VLOOKUP($D17,'Resultados Gerais'!$B8:$R1048576,14,0)","v":14},{"$f":"VLOOKUP($D17,'Resultados Gerais'!$B8:$R1048576,15,0)","v":21},{"$f":"VLOOKUP($D17,'Resultados Gerais'!$B8:$R1048576,16,0)","v":10},{"$f":"VLOOKUP($D17,'Resultados Gerais'!$B8:$R1048576,17,0)","v":22},null,null,null,2,62,62]
[6,null,null,{"$f":"COUNT('Resultados Gerais'!B8:B1048576)-A18","v":1075},{"$f":"VLOOKUP(D18,'Resultados Gerais'!B8:C1048576,2,0)","v":"2014-06-30"},{"$f":"VLOOKUP($D18,'Resultados Gerais'!$B8:$R1048576,3,0)","v":21},{"$f":"VLOOKUP($D18,'Resultados Gerais'!$B8:$R1048576,4,0)","v":15},{"$f":"VLOOKUP($D18,'Resultados Gerais'!$B8:$R1048576,5,0)","v":16},{"$f":"VLOOKUP($D18,'Resultados Gerais'!$B8:$R1048576,6,0)","v":24},{"$f":"VLOOKUP($D18,'Resultados Gerais'!$B8:$R1048576,7,0)","v":6},{"$f":"VLOOKUP($D18,'Resultados Gerais'!$B8:$R1048576,8,0)","v":17},{"$f":"VLOOKUP($D18,'Resultados Gerais'!$B8:$R1048576,9,0)","v":1},{"$f":"VLOOKUP($D18,'Resultados Gerais'!$B8:$R1048576,10,0)","v":18},{"$f":"VLOOKUP($D18,'Resultados Gerais'!$B8:$R1048576,11,0)","v":22},{"$f":"VLOOKUP($D18,'Resultados Gerais'!$B8:$R1048576,12,0)","v":12},{"$f":"VLOOKUP($D18,'Resultados Gerais'!$B8:$R1048576,13,0)","v":2},{"$f":"VLOOKUP($D18,'Resultados Gerais'!$B8:$R1048576,14,0)","v":23},{"$f":"VLOOKUP($D18,'Resultados Gerais'!$B8:$R1048576,15,0)","v":25},{"$f":"VLOOKUP($D18,'Resultados Gerais'!$B8:$R1048576,16,0)","v":9},{"$f":"VLOOKUP($D18,'Resultados Gerais'!$B8:$R1048576,17,0)","v":10},null,null,null,10,61,61]
[7,null,null,{"$f":"COUNT('Resultados Gerais'!B8:B1048576)-A19","v":1074},{"$f":"VLOOKUP(D19,'Resultados Gerais'!B8:C1048576,2,0)","v":"2014-06-27"},{"$f":"VLOOKUP($D19,'Resultados Gerais'!$B8:$R1048576,3,0)","v":9},{"$f":"VLOOKUP($D19,'Resultados Gerais'!$B8:$R1048576,4,0)","v":10},{"$f":"VLOOKUP($D19,'Resultados Gerais'!$B8:$R1048576,5,0)","v":8},{"$f":"VLOOKUP($D19,'Resultados Gerais'!$B8:$R1048576,6,0)","v":25},{"$f":"VLOOKUP($D19,'Resultados Gerais'!$B8:$R1048576,7,0)","v":13},{"$f":"VLOOKUP($D19,'Resultados Gerais'!$B8:$R1048576,8,0)","v":11},{"$f":"VLOOKUP($D19,'Resultados Gerais'!$B8:$R1048576,9,0)","v":17},{"$f":"VLOOKUP($D19,'Resultados Gerais'!$B8:$R1048576,10,0)","v":22},{"$f":"VLOOKUP($D19,'Resultados Gerais'!$B8:$R1048576,11,0)","v":23},{"$f":"VLOOKUP($D19,'Resultados Gerais'!$B8:$R1048576,12,0)","v":24},{"$f":"VLOOKUP($D19,'Resultados Gerais'!$B8:$R1048576,13,0)","v":21},{"$f":"VLOOKUP($D19,'Resultados Gerais'!$B8:$R1048576,14,0)","v":1},{"$f":"VLOOKUP($D19,'Resultados Gerais'!$B8:$R1048576,15,0)","v":4},{"$f":"VLOOKUP($D19,'Resultados Gerais'!$B8:$R1048576,16,0)","v":7},{"$f":"VLOOKUP($D19,'Resultados Gerais'!$B8:$R1048576,17,0)","v":20},null,null,null,4,58,58]
[8,null,null,{"$f":"COUNT('Resultados Gerais'!B8:B1048576)-A20","v":1073},{"$f":"VLOOKUP(D20,'Resultados Gerais'!B8:C1048576,2,0)","v":"2014-06-25"},{"$f":"VLOOKUP($D20,'Resultados Gerais'!$B8:$R1048576,3,0)","v":13},{"$f":"VLOOKUP($D20,'Resultados Gerais'!$B8:$R1048576,4,0)","v":20},{"$f":"VLOOKUP($D20,'Resultados Gerais'!$B8:$R1048576,5,0)","v":17},{"$f":"VLOOKUP($D20,'Resultados Gerais'!$B8:$R1048576,6,0)","v":16},{"$f":"VLOOKUP($D20,'Resultados Gerais'!$B8:$R1048576,7,0)","v":23},{"$f":"VLOOKUP($D20,'Resultados Gerais'!$B8:$R1048576,8,0)","v":5},{"$f":"VLOOKUP($D20,'Resultados Gerais'!$B8:$R1048576,9,0)","v":3},{"$f":"VLOOKUP($D20,'Resultados Gerais'!$B8:$R1048576,10,0)","v":6},{"$f":"VLOOKUP($D20,'Resultados Gerais'!$B8:$R1048576,11,0)","v":1},{"$f":"VLOOKUP($D20,'Resultados Gerais'!$B8:$R1048576,12,0)","v":19},{"$f":"VLOOKUP($D20,'Resultados Gerais'!$B8:$R1048576,13,0)","v":22},{"$f":"VLOOKUP($D20,'Resultados Gerais'!$B8:$R1048576,14,0)","v":4},{"$f":"VLOOKUP($D20,'Resultados Gerais'!$B8:$R1048576,15,0)","v":7},{"$f":"VLOOKUP($D20,'Resultados Gerais'!$B8:$R1048576,16,0)","v":24},{"$f":"VLOOKUP($D20,'Resultados Gerais'!$B8:$R1048576,17,0)","v":21},null,null,null,12,61,61]
[9,null,null,{"$f":"COUNT('Resultados Gerais'!B8:B1048576)-A21","v":1072},{"$f":"VLOOKUP(D21,'Resultados Gerais'!B8:C1048576,2,0)","v":"2014-06-23"},{"$f":"VLOOKUP($D21,'Resultados Gerais'!$B8:$R1048576,3,0)","v":2},{"$f":"VLOOKUP($D21,'Resultados Gerais'!$B8:$R1048576,4,0)","v":4},{"$f":"VLOOKUP($D21,'Resultados Gerais'!$B8:$R1048576,5,0)","v":7},{"$f":"VLOOKUP($D21,'Resultados Gerais'!$B8:$R1048576,6,0)","v":22},{"$f":"VLOOKUP($D21,'Resultados Gerais'!$B8:$R1048576,7,0)","v":23},{"$f":"VLOOKUP($D21,'Resultados Gerais'!$B8:$R1048576,8,0)","v":25},{"$f":"VLOOKUP($D21,'Resultados Gerais'!$B8:$R1048576,9,0)","v":14},{"$f":"VLOOKUP($D21,'Resultados Gerais'!$B8:$R1048576,10,0)","v":17},{"$f":"VLOOKUP($D21,'Resultados Gerais'!$B8:$R1048576,11,0)","v":20},{"$f":"VLOOKUP($D21,'Resultados Gerais'!$B8:$R1048576,12,0)","v":3},{"$f":"VLOOKUP($D21,'Resultados Gerais'!$B8:$R1048576,13,0)","v":13},{"$f":"VLOOKUP($D21,'Resultados Gerais'!$B8:$R1048576,14,0)","v":1},{"$f":"VLOOKUP($D21,'Resultados Gerais'!$B8:$R1048576,15,0)","v":5},{"$f":"VLOOKUP($D21,'Resultados Gerais'!$B8:$R1048576,16,0)","v":15},{"$f":"VLOOKUP($D21,'Resultados Gerais'!$B8:$R1048576,17,0)","v":9},null,null,null,21,71,71]
[10,null,null,{"$f":"COUNT('Resultados Gerais'!B8:B1048576)-A22","v":1071},{"$f":"VLOOKUP(D22,'Resultados Gerais'!B8:C1048576,2,0)","v":"2014-06-20"},{"$f":"VLOOKUP($D22,'Resultados Gerais'!$B8:$R1048576,3,0)","v":11},{"$f":"VLOOKUP($D22,'Resultados Gerais'!$B8:$R1048576,4,0)","v":6},{"$f":"VLOOKUP($D22,'Resultados Gerais'!$B8:$R1048576,5,0)","v":14},{"$f":"VLOOKUP($D22,'Resultados Gerais'!$B8:$R1048576,6,0)","v":16},{"$f":"VLOOKUP($D22,'Resultados Gerais'!$B8:$R1048576,7,0)","v":3},{"$f":"VLOOKUP($D22,'Resultados Gerais'!$B8:$R1048576,8,0)","v":2},{"$f":"VLOOKUP($D22,'Resultados Gerais'!$B8:$R1048576,9,0)","v":13},{"$f":"VLOOKUP($D22,'Resultados Gerais'!$B8:$R1048576,10,0)","v":17},{"$f":"VLOOKUP($D22,'Resultados Gerais'!$B8:$R1048576,11,0)","v":21},{"$f":"VLOOKUP($D22,'Resultados Gerais'!$B8:$R1048576,12,0)","v":4},{"$f":"VLOOKUP($D22,'Resultados Gerais'!$B8:$R1048576,13,0)","v":22},{"$f":"VLOOKUP($D22,'Resultados Gerais'!$B8:$R1048576,14,0)","v":24},{"$f":"VLOOKUP($D22,'Resultados Gerais'!$B8:$R1048576,15,0)","v":5},{"$f":"VLOOKUP($D22,'Resultados Gerais'!$B8:$R1048576,16,0)","v":10},{"$f":"VLOOKUP($D22,'Resultados Gerais'!$B8:$R1048576,17,0)","v":12},null,null,null,9,59,59]
[11,null,null,{"$f":"COUNT('Resultados Gerais'!B8:B1048576)-A23","v":1070},{"$f":"VLOOKUP(D23,'Resultados Gerais'!B8:C1048576,2,0)","v":"2014-06-18"},{"$f":"VLOOKUP($D23,'Resultados Gerais'!$B8:$R1048576,3,0)","v":9},{"$f":"VLOOKUP($D23,'Resultados Gerais'!$B8:$R1048576,4,0)","v":22},{"$f":"VLOOKUP($D23,'Resultados Gerais'!$B8:$R1048576,5,0)","v":18},{"$f":"VLOOKUP($D23,'Resultados Gerais'!$B8:$R1048576,6,0)","v":23},{"$f":"VLOOKUP($D23,'Resultados Gerais'!$B8:$R1048576,7,0)","v":4},{"$f":"VLOOKUP($D23,'Resultados Gerais'!$B8:$R1048576,8,0)","v":20},{"$f":"VLOOKUP($D23,'Resultados Gerais'!$B8:$R1048576,9,0)","v":25},{"$f":"VLOOKUP($D23,'Resultados Gerais'!$B8:$R1048576,10,0)","v":11},{"$f":"VLOOKUP($D23,'Resultados Gerais'!$B8:$R1048576,11,0)","v":13},{"$f":"VLOOKUP($D23,'Resultados Gerais'!$B8:$R1048576,12,0)","v":19},{"$f":"VLOOKUP($D23,'Resultados Gerais'!$B8:$R1048576,13,0)","v":12},{"$f":"VLOOKUP($D23,'Resultados Gerais'!$B8:$R1048576,14,0)","v":10},{"$f":"VLOOKUP($D23,'Resultados Gerais'!$B8:$R1048576,15,0)","v":21},{"$f":"VLOOKUP($D23,'Resultados Gerais'!$B8:$R1048576,16,0)","v":16},{"$f":"VLOOKUP($D23,'Resultados Gerais'!$B8:$R1048576,17,0)","v":24},null,null,null,3,53,53]
[12,null,null,{"$f":"COUNT('Resultados Gerais'!B8:B1048576)-A24","v":1069},{"$f":"VLOOKUP(D24,'Resultados Gerais'!B8:C1048576,2,0)","v":"2014-06-16"},{"$f":"VLOOKUP($D24,'Resultados Gerais'!$B8:$R1048576,3,0)","v":22},{"$f":"VLOOKUP($D24,'Resultados Gerais'!$B8:$R1048576,4,0)","v":23},{"$f":"VLOOKUP($D24,'Resultados Gerais'!$B8:$R1048576,5,0)","v":17},{"$f":"VLOOKUP($D24,'Resultados Gerais'!$B8:$R1048576,6,0)","v":15},{"$f":"VLOOKUP($D24,'Resultados Gerais'!$B8:$R1048576,7,0)","v":1},{"$f":"VLOOKUP($D24,'Resultados Gerais'!$B8:$R1048576,8,0)","v":11},{"$f":"VLOOKUP($D24,'Resultados Gerais'!$B8:$R1048576,9,0)","v":16},{"$f":"VLOOKUP($D24,'Resultados Gerais'!$B8:$R1048576,10,0)","v":4},{"$f":"VLOOKUP($D24,'Resultados Gerais'!$B8:$R1048576,11,0)","v":8},{"$f":"VLOOKUP($D24,'Resultados Gerais'!$B8:$R1048576,12,0)","v":12},{"$f":"VLOOKUP($D24,'Resultados Gerais'!$B8:$R1048576,13,0)","v":3},{"$f":"VLOOKUP($D24,'Resultados Gerais'!$B8:$R1048576,14,0)","v":10},{"$f":"VLOOKUP($D24,'Resultados Gerais'!$B8:$R1048576,15,0)","v":13},{"$f":"VLOOKUP($D24,'Resultados Gerais'!$B8:$R1048576,16,0)","v":25},{"$f":"VLOOKUP($D24,'Resultados Gerais'!$B8:$R1048576,17,0)","v":24},null,null,null,5,57,57]
[13,null,null,{"$f":"COUNT('Resultados Gerais'!B8:B1048576)-A25","v":1068},{"$f":"VLOOKUP(D25,'Resultados Gerais'!B8:C1048576,2,0)","v":"2014-06-13"},{"$f":"VLOOKUP($D25,'Resultados Gerais'!$B8:$R1048576,3,0)","v":24},{"$f":"VLOOKUP($D25,'Resultados Gerais'!$B8:$R1048576,4,0)","v":20},{"$f":"VLOOKUP($D25,'Resultados Gerais'!$B8:$R1048576,5,0)","v":18},{"$f":"VLOOKUP($D25,'Resultados Gerais'!$B8:$R1048576,6,0)","v":10},{"$f":"VLOOKUP($D25,'Resultados Gerais'!$B8:$R1048576,7,0)","v":14},{"$f":"VLOOKUP($D25,'Resultados Gerais'!$B8:$R1048576,8,0)","v":17},{"$f":"VLOOKUP($D25,'Resultados Gerais'!$B8:$R1048576,9,0)","v":11},{"$f":"VLOOKUP($D25,'Resultados Gerais'!$B8:$R1048576,10,0)","v":13},{"$f":"VLOOKUP($D25,'Resultados Gerais'!$B8:$R1048576,11,0)","v":21},{"$f":"VLOOKUP($D25,'Resultados Gerais'!$B8:$R1048576,12,0)","v":15},{"$f":"VLOOKUP($D25,'Resultados Gerais'!$B8:$R1048576,13,0)","v":16},{"$f":"VLOOKUP($D25,'Resultados Gerais'!$B8:$R1048576,14,0)","v":6},{"$f":"VLOOKUP($D25,'Resultados Gerais'!$B8:$R1048576,15,0)","v":2},{"$f":"VLOOKUP($D25,'Resultados Gerais'!$B8:$R1048576,16,0)","v":22},{"$f":"VLOOKUP($D25,'Resultados Gerais'!$B8:$R1048576,17,0)","v":7},null,null,null,22,66,66]
[14,null,null,{"$f":"COUNT('Resultados Gerais'!B8:B1048576)-A26","v":1067},{"$f":"VLOOKUP(D26,'Resultados Gerais'!B8:C1048576,2,0)","v":"2014-06-11"},{"$f":"VLOOKUP($D26,'Resultados Gerais'!$B8:$R1048576,3,0)","v":21},{"$f":"VLOOKUP($D26,'Resultados Gerais'!$B8:$R1048576,4,0)","v":15},{"$f":"VLOOKUP($D26,'Resultados Gerais'!$B8:$R1048576,5,0)","v":1},{"$f":"VLOOKUP($D26,'Resultados Gerais'!$B8:$R1048576,6,0)","v":3},{"$f":"VLOOKUP($D26,'Resultados Gerais'!$B8:$R1048576,7,0)","v":5},{"$f":"VLOOKUP($D26,'Resultados Gerais'!$B8:$R1048576,8,0)","v":14},{"$f":"VLOOKUP($D26,'Resultados Gerais'!$B8:$R1048576,9,0)","v":2},{"$f":"VLOOKUP($D26,'Resultados Gerais'!$B8:$R1048576,10,0)","v":11},{"$f":"VLOOKUP($D26,'Resultados Gerais'!$B8:$R1048576,11,0)","v":17},{"$f":"VLOOKUP($D26,'Resultados Gerais'!$B8:$R1048576,12,0)","v":4},{"$f":"VLOOKUP($D26,'Resultados Gerais'!$B8:$R1048576,13,0)","v":10},{"$f":"VLOOKUP($D26,'Resultados Gerais'!$B8:$R1048576,14,0)","v":25},{"$f":"VLOOKUP($D26,'Resultados Gerais'!$B8:$R1048576,15,0)","v":7},{"$f":"VLOOKUP($D26,'Resultados Gerais'!$B8:$R1048576,16,0)","v":13},{"$f":"VLOOKUP($D26,'Resultados Gerais'!$B8:$R1048576,17,0)","v":22},null,null,null,24,63,63]
[15,null,null,{"$f":"COUNT('Resultados Gerais'!B8:B1048576)-A27","v":1066},{"$f":"VLOOKUP(D27,'Resultados Gerais'!B8:C1048576,2,0)","v":"2014-06-09"},{"$f":"VLOOKUP($D27,'Resultados Gerais'!$B8:$R1048576,3,0)","v":10},{"$f":"VLOOKUP($D27,'Resultados Gerais'!$B8:$R1048576,4,0)","v":24},{"$f":"VLOOKUP($D27,'Resultados Gerais'!$B8:$R1048576,5,0)","v":6},{"$f":"VLOOKUP($D27,'Resultados Gerais'!$B8:$R1048576,6,0)","v":16},{"$f":"VLOOKUP($D27,'Resultados Gerais'!$B8:$R1048576,7,0)","v":21},{"$f":"VLOOKUP($D27,'Resultados Gerais'!$B8:$R1048576,8,0)","v":5},{"$f":"VLOOKUP($D27,'Resultados Gerais'!$B8:$R1048576,9,0)","v":4},{"$f":"VLOOKUP($D27,'Resultados Gerais'!$B8:$R1048576,10,0)","v":22},{"$f":"VLOOKUP($D27,'Resultados Gerais'!$B8:$R1048576,11,0)","v":14},{"$f":"VLOOKUP($D27,'Resultados Gerais'!$B8:$R1048576,12,0)","v":11},{"$f":"VLOOKUP($D27,'Resultados Gerais'!$B8:$R1048576,13,0)","v":17},{"$f":"VLOOKUP($D27,'Resultados Gerais'!$B8:$R1048576,14,0)","v":19},{"$f":"VLOOKUP($D27,'Resultados Gerais'!$B8:$R1048576,15,0)","v":2},{"$f":"VLOOKUP($D27,'Resultados Gerais'!$B8:$R1048576,16,0)","v":18},{"$f":"VLOOKUP($D27,'Resultados Gerais'!$B8:$R1048576,17,0)","v":23},null,null,null,7,64,64]
[16,null,null,{"$f":"COUNT('Resultados Gerais'!B8:B1048576)-A28","v":1065},{"$f":"VLOOKUP(D28,'Resultados Gerais'!B8:C1048576,2,0)","v":"2014-06-06"},{"$f":"VLOOKUP($D28,'Resultados Gerais'!$B8:$R1048576,3,0)","v":12},{"$f":"VLOOKUP($D28,'Resultados Gerais'!$B8:$R1048576,4,0)","v":20},{"$f":"VLOOKUP($D28,'Resultados Gerais'!$B8:$R1048576,5,0)","v":14},{"$f":"VLOOKUP($D28,'Resultados Gerais'!$B8:$R1048576,6,0)","v":21},{"$f":"VLOOKUP($D28,'Resultados Gerais'!$B8:$R1048576,7,0)","v":5},{"$f":"VLOOKUP($D28,'Resultados Gerais'!$B8:$R1048576,8,0)","v":15},{"$f":"VLOOKUP($D28,'Resultados Gerais'!$B8:$R1048576,9,0)","v":4},{"$f":"VLOOKUP($D28,'Resultados Gerais'!$B8:$R1048576,10,0)","v":2},{"$f":"VLOOKUP($D28,'Resultados Gerais'!$B8:$R1048576,11,0)","v":19},{"$f":"VLOOKUP($D28,'Resultados Gerais'!$B8:$R1048576,12,0)","v":24},{"$f":"VLOOKUP($D28,'Resultados Gerais'!$B8:$R1048576,13,0)","v":6},{"$f":"VLOOKUP($D28,'Resultados Gerais'!$B8:$R1048576,14,0)","v":25},{"$f":"VLOOKUP($D28,'Resultados Gerais'!$B8:$R1048576,15,0)","v":17},{"$f":"VLOOKUP($D28,'Resultados Gerais'!$B8:$R1048576,16,0)","v":22},{"$f":"VLOOKUP($D28,'Resultados Gerais'!$B8:$R1048576,17,0)","v":3},null,null,null,14,64,64]
[17,null,null,{"$f":"COUNT('Resultados Gerais'!B8:B1048576)-A29","v":1064},{"$f":"VLOOKUP(D29,'Resultados Gerais'!B8:C1048576,2,0)","v":"2014-06-04"},{"$f":"VLOOKUP($D29,'Resultados Gerais'!$B8:$R1048576,3,0)","v":15},{"$f":"VLOOKUP($D29,'Resultados Gerais'!$B8:$R1048576,4,0)","v":25},{"$f":"VLOOKUP($D29,'Resultados Gerais'!$B8:$R1048576,5,0)","v":9},{"$f":"VLOOKUP($D29,'Resultados Gerais'!$B8:$R1048576,6,0)","v":7},{"$f":"VLOOKUP($D29,'Resultados Gerais'!$B8:$R1048576,7,0)","v":11},{"$f":"VLOOKUP($D29,'Resultados Gerais'!$B8:$R1048576,8,0)","v":10},{"$f":"VLOOKUP($D29,'Resultados Gerais'!$B8:$R1048576,9,0)","v":14},{"$f":"VLOOKUP($D29,'Resultados Gerais'!$B8:$R1048576,10,0)","v":2},{"$f":"VLOOKUP($D29,'Resultados Gerais'!$B8:$R1048576,11,0)","v":24},{"$f":"VLOOKUP($D29,'Resultados Gerais'!$B8:$R1048576,12,0)","v":8},{"$f":"VLOOKUP($D29,'Resultados Gerais'!$B8:$R1048576,13,0)","v":16},{"$f":"VLOOKUP($D29,'Resultados Gerais'!$B8:$R1048576,14,0)","v":18},{"$f":"VLOOKUP($D29,'Resultados Gerais'!$B8:$R1048576,15,0)","v":19},{"$f":"VLOOKUP($D29,'Resultados Gerais'!$B8:$R1048576,16,0)","v":21},{"$f":"VLOOKUP($D29,'Resultados Gerais'!$B8:$R1048576,17,0)","v":3},null,null,null,16,61,61]
[18,null,null,{"$f":"COUNT('Resultados Gerais'!B8:B1048576)-A30","v":1063},{"$f":"VLOOKUP(D30,'Resultados Gerais'!B8:C1048576,2,0)","v":"2014-06-02"},{"$f":"VLOOKUP($D30,'Resultados Gerais'!$B8:$R1048576,3,0)","v":14},{"$f":"VLOOKUP($D30,'Resultados Gerais'!$B8:$R1048576,4,0)","v":24},{"$f":"VLOOKUP($D30,'Resultados Gerais'!$B8:$R1048576,5,0)","v":6},{"$f":"VLOOKUP($D30,'Resultados Gerais'!$B8:$R1048576,6,0)","v":10},{"$f":"VLOOKUP($D30,'Resultados Gerais'!$B8:$R1048576,7,0)","v":16},{"$f":"VLOOKUP($D30,'Resultados Gerais'!$B8:$R1048576,8,0)","v":25},{"$f":"VLOOKUP($D30,'Resultados Gerais'!$B8:$R1048576,9,0)","v":15},{"$f":"VLOOKUP($D30,'Resultados Gerais'!$B8:$R1048576,10,0)","v":7},{"$f":"VLOOKUP($D30,'Resultados Gerais'!$B8:$R1048576,11,0)","v":13},{"$f":"VLOOKUP($D30,'Resultados Gerais'!$B8:$R1048576,12,0)","v":2},{"$f":"VLOOKUP($D30,'Resultados Gerais'!$B8:$R1048576,13,0)","v":22},{"$f":"VLOOKUP($D30,'Resultados Gerais'!$B8:$R1048576,14,0)","v":5},{"$f":"VLOOKUP($D30,'Resultados Gerais'!$B8:$R1048576,15,0)","v":21},{"$f":"VLOOKUP($D30,'Resultados Gerais'!$B8:$R1048576,16,0)","v":12},{"$f":"VLOOKUP($D30,'Resultados Gerais'!$B8:$R1048576,17,0)","v":20},null,null,null,23,63,63]
[19,null,null,{"$f":"COUNT('Resultados Gerais'!B8:B1048576)-A31","v":1062},{"$f":"VLOOKUP(D31,'Resultados Gerais'!B8:C1048576,2,0)","v":"2014-05-30"},{"$f":"VLOOKUP($D31,'Resultados Gerais'!$B8:$R1048576,3,0)","v":8},{"$f":"VLOOKUP($D31,'Resultados Gerais'!$B8:$R1048576,4,0)","v":7},{"$f":"VLOOKUP($D31,'Resultados Gerais'!$B8:$R1048576,5,0)","v":13},{"$f":"VLOOKUP($D31,'Resultados Gerais'!$B8:$R1048576,6,0)","v":4},{"$f":"VLOOKUP($D31,'Resultados Gerais'!$B8:$R1048576,7,0)","v":9},{"$f":"VLOOKUP($D31,'Resultados Gerais'!$B8:$R1048576,8,0)","v":16},{"$f":"VLOOKUP($D31,'Resultados Gerais'!$B8:$R1048576,9,0)","v":23},{"$f":"VLOOKUP($D31,'Resultados Gerais'!$B8:$R1048576,10,0)","v":17},{"$f":"VLOOKUP($D31,'Resultados Gerais'!$B8:$R1048576,11,0)","v":3},{"$f":"VLOOKUP($D31,'Resultados Gerais'!$B8:$R1048576,12,0)","v":19},{"$f":"VLOOKUP($D31,'Resultados Gerais'!$B8:$R1048576,13,0)","v":15},{"$f":"VLOOKUP($D31,'Resultados Gerais'!$B8:$R1048576,14,0)","v":11},{"$f":"VLOOKUP($D31,'Resultados Gerais'!$B8:$R1048576,15,0)","v":5},{"$f":"VLOOKUP($D31,'Resultados Gerais'!$B8:$R1048576,16,0)","v":25},{"$f":"VLOOKUP($D31,'Resultados Gerais'!$B8:$R1048576,17,0)","v":20},null,null,null,8,50,50]
[20,null,null,{"$f":"COUNT('Resultados Gerais'!B8:B1048576)-A32","v":1061},{"$f":"VLOOKUP(D32,'Resultados Gerais'!B8:C1048576,2,0)","v":"2014-05-28"},{"$f":"VLOOKUP($D32,'Resultados Gerais'!$B8:$R1048576,3,0)","v":24},{"$f":"VLOOKUP($D32,'Resultados Gerais'!$B8:$R1048576,4,0)","v":12},{"$f":"VLOOKUP($D32,'Resultados Gerais'!$B8:$R1048576,5,0)","v":15},{"$f":"VLOOKUP($D32,'Resultados Gerais'!$B8:$R1048576,6,0)","v":2},{"$f":"VLOOKUP($D32,'Resultados Gerais'!$B8:$R1048576,7,0)","v":14},{"$f":"VLOOKUP($D32,'Resultados Gerais'!$B8:$R1048576,8,0)","v":23},{"$f":"VLOOKUP($D32,'Resultados Gerais'!$B8:$R1048576,9,0)","v":16},{"$f":"VLOOKUP($D32,'Resultados Gerais'!$B8:$R1048576,10,0)","v":21},{"$f":"VLOOKUP($D32,'Resultados Gerais'!$B8:$R1048576,11,0)","v":5},{"$f":"VLOOKUP($D32,'Resultados Gerais'!$B8:$R1048576,12,0)","v":22},{"$f":"VLOOKUP($D32,'Resultados Gerais'!$B8:$R1048576,13,0)","v":3},{"$f":"VLOOKUP($D32,'Resultados Gerais'!$B8:$R1048576,14,0)","v":7},{"$f":"VLOOKUP($D32,'Resultados Gerais'!$B8:$R1048576,15,0)","v":19},{"$f":"VLOOKUP($D32,'Resultados Gerais'!$B8:$R1048576,16,0)","v":9},{"$f":"VLOOKUP($D32,'Resultados Gerais'!$B8:$R1048576,17,0)","v":8},null,null,null,19,53,53]
[21,null,null,{"$f":"COUNT('Resultados Gerais'!B8:B1048576)-A33","v":1060},{"$f":"VLOOKUP(D33,'Resultados Gerais'!B8:C1048576,2,0)","v":"2014-05-26"},{"$f":"VLOOKUP($D33,'Resultados Gerais'!$B8:$R1048576,3,0)","v":17},{"$f":"VLOOKUP($D33,'Resultados Gerais'!$B8:$R1048576,4,0)","v":7},{"$f":"VLOOKUP($D33,'Resultados Gerais'!$B8:$R1048576,5,0)","v":20},{"$f":"VLOOKUP($D33,'Resultados Gerais'!$B8:$R1048576,6,0)","v":13},{"$f":"VLOOKUP($D33,'Resultados Gerais'!$B8:$R1048576,7,0)","v":4},{"$f":"VLOOKUP($D33,'Resultados Gerais'!$B8:$R1048576,8,0)","v":14},{"$f":"VLOOKUP($D33,'Resultados Gerais'!$B8:$R1048576,9,0)","v":16},{"$f":"VLOOKUP($D33,'Resultados Gerais'!$B8:$R1048576,10,0)","v":8},{"$f":"VLOOKUP($D33,'Resultados Gerais'!$B8:$R1048576,11,0)","v":2},{"$f":"VLOOKUP($D33,'Resultados Gerais'!$B8:$R1048576,12,0)","v":15},{"$f":"VLOOKUP($D33,'Resultados Gerais'!$B8:$R1048576,13,0)","v":1},{"$f":"VLOOKUP($D33,'Resultados Gerais'!$B8:$R1048576,14,0)","v":5},{"$f":"VLOOKUP($D33,'Resultados Gerais'!$B8:$R1048576,15,0)","v":22},{"$f":"VLOOKUP($D33,'Resultados Gerais'!$B8:$R1048576,16,0)","v":23},{"$f":"VLOOKUP($D33,'Resultados Gerais'!$B8:$R1048576,17,0)","v":21},null,null,null,17,65,65]
[22,null,null,{"$f":"COUNT('Resultados Gerais'!B8:B1048576)-A34","v":1059},{"$f":"VLOOKUP(D34,'Resultados Gerais'!B8:C1048576,2,0)","v":"2014-05-23"},{"$f":"VLOOKUP($D34,'Resultados Gerais'!$B8:$R1048576,3,0)","v":21},{"$f":"VLOOKUP($D34,'Resultados Gerais'!$B8:$R1048576,4,0)","v":24},{"$f":"VLOOKUP($D34,'Resultados Gerais'!$B8:$R1048576,5,0)","v":8},{"$f":"VLOOKUP($D34,'Resultados Gerais'!$B8:$R1048576,6,0)","v":19},{"$f":"VLOOKUP($D34,'Resultados Gerais'!$B8:$R1048576,7,0)","v":3},{"$f":"VLOOKUP($D34,'Resultados Gerais'!$B8:$R1048576,8,0)","v":20},{"$f":"VLOOKUP($D34,'Resultados Gerais'!$B8:$R1048576,9,0)","v":7},{"$f":"VLOOKUP($D34,'Resultados Gerais'!$B8:$R1048576,10,0)","v":15},{"$f":"VLOOKUP($D34,'Resultados Gerais'!$B8:$R1048576,11,0)","v":16},{"$f":"VLOOKUP($D34,'Resultados Gerais'!$B8:$R1048576,12,0)","v":11},{"$f":"VLOOKUP($D34,'Resultados Gerais'!$B8:$R1048576,13,0)","v":2},{"$f":"VLOOKUP($D34,'Resultados Gerais'!$B8:$R1048576,14,0)","v":1},{"$f":"VLOOKUP($D34,'Resultados Gerais'!$B8:$R1048576,15,0)","v":22},{"$f":"VLOOKUP($D34,'Resultados Gerais'!$B8:$R1048576,16,0)","v":5},{"$f":"VLOOKUP($D34,'Resultados Gerais'!$B8:$R1048576,17,0)","v":14},null,null,null,20,65,65]
[23,null,null,{"$f":"COUNT('Resultados Gerais'!B8:B1048576)-A35","v":1058},{"$f":"VLOOKUP(D35,'Resultados Gerais'!B8:C1048576,2,0)","v":"2014-05-21"},{"$f":"VLOOKUP($D35,'Resultados Gerais'!$B8:$R1048576,3,0)","v":22},{"$f":"VLOOKUP($D35,'Resultados Gerais'!$B8:$R1048576,4,0)","v":9},{"$f":"VLOOKUP($D35,'Resultados Gerais'!$B8:$R1048576,5,0)","v":24},{"$f":"VLOOKUP($D35,'Resultados Gerais'!$B8:$R1048576,6,0)","v":17},{"$f":"VLOOKUP($D35,'Resultados Gerais'!$B8:$R1048576,7,0)","v":6},{"$f":"VLOOKUP($D35,'Resultados Gerais'!$B8:$R1048576,8,0)","v":12},{"$f":"VLOOKUP($D35,'Resultados Gerais'!$B8:$R1048576,9,0)","v":25},{"$f":"VLOOKUP($D35,'Resultados Gerais'!$B8:$R1048576,10,0)","v":18},{"$f":"VLOOKUP($D35,'Resultados Gerais'!$B8:$R1048576,11,0)","v":13},{"$f":"VLOOKUP($D35,'Resultados Gerais'!$B8:$R1048576,12,0)","v":4},{"$f":"VLOOKUP($D35,'Resultados Gerais'!$B8:$R1048576,13,0)","v":21},{"$f":"VLOOKUP($D35,'Resultados Gerais'!$B8:$R1048576,14,0)","v":20},{"$f":"VLOOKUP($D35,'Resultados Gerais'!$B8:$R1048576,15,0)","v":7},{"$f":"VLOOKUP($D35,'Resultados Gerais'!$B8:$R1048576,16,0)","v":5},{"$f":"VLOOKUP($D35,'Resultados Gerais'!$B8:$R1048576,17,0)","v":16},null,null,null,25,52,52]
[24,null,null,{"$f":"COUNT('Resultados Gerais'!B8:B1048576)-A36","v":1057},{"$f":"VLOOKUP(D36,'Resultados Gerais'!B8:C1048576,2,0)","v":"2014-05-19"},{"$f":"VLOOKUP($D36,'Resultados Gerais'!$B8:$R1048576,3,0)","v":19},{"$f":"VLOOKUP($D36,'Resultados Gerais'!$B8:$R1048576,4,0)","v":25},{"$f":"VLOOKUP($D36,'Resultados Gerais'!$B8:$R1048576,5,0)","v":13},{"$f":"VLOOKUP($D36,'Resultados Gerais'!$B8:$R1048576,6,0)","v":7},{"$f":"VLOOKUP($D36,'Resultados Gerais'!$B8:$R1048576,7,0)","v":20},{"$f":"VLOOKUP($D36,'Resultados Gerais'!$B8:$R1048576,8,0)","v":11},{"$f":"VLOOKUP($D36,'Resultados Gerais'!$B8:$R1048576,9,0)","v":9},{"$f":"VLOOKUP($D36,'Resultados Gerais'!$B8:$R1048576,10,0)","v":6},{"$f":"VLOOKUP($D36,'Resultados Gerais'!$B8:$R1048576,11,0)","v":23},{"$f":"VLOOKUP($D36,'Resultados Gerais'!$B8:$R1048576,12,0)","v":4},{"$f":"VLOOKUP($D36,'Resultados Gerais'!$B8:$R1048576,13,0)","v":21},{"$f":"VLOOKUP($D36,'Resultados Gerais'!$B8:$R1048576,14,0)","v":16},{"$f":"VLOOKUP($D36,'Resultados Gerais'!$B8:$R1048576,15,0)","v":14},{"$f":"VLOOKUP($D36,'Resultados Gerais'!$B8:$R1048576,16,0)","v":1},{"$f":"VLOOKUP($D36,'Resultados Gerais'!$B8:$R1048576,17,0)","v":8},null,null,null,11,56,56]
[25,null,null,{"$f":"COUNT('Resultados Gerais'!B8:B1048576)-A37","v":1056},{"$f":"VLOOKUP(D37,'Resultados Gerais'!B8:C1048576,2,0)","v":"2014-05-16"},{"$f":"VLOOKUP($D37,'Resultados Gerais'!$B8:$R1048576,3,0)","v":22},{"$f":"VLOOKUP($D37,'Resultados Gerais'!$B8:$R1048576,4,0)","v":15},{"$f":"VLOOKUP($D37,'Resultados Gerais'!$B8:$R1048576,5,0)","v":18},{"$f":"VLOOKUP($D37,'Resultados Gerais'!$B8:$R1048576,6,0)","v":4},{"$f":"VLOOKUP($D37,'Resultados Gerais'!$B8:$R1048576,7,0)","v":6},{"$f":"VLOOKUP($D37,'Resultados Gerais'!$B8:$R1048576,8,0)","v":21},{"$f":"VLOOKUP($D37,'Resultados Gerais'!$B8:$R1048576,9,0)","v":10},{"$f":"VLOOKUP($D37,'Resultados Gerais'!$B8:$R1048576,10,0)","v":23},{"$f":"VLOOKUP($D37,'Resultados Gerais'!$B8:$R1048576,11,0)","v":9},{"$f":"VLOOKUP($D37,'Resultados Gerais'!$B8:$R1048576,12,0)","v":14},{"$f":"VLOOKUP($D37,'Resultados Gerais'!$B8:$R1048576,13,0)","v":2},{"$f":"VLOOKUP($D37,'Resultados Gerais'!$B8:$R1048576,14,0)","v":8},{"$f":"VLOOKUP($D37,'Resultados Gerais'!$B8:$R1048576,15,0)","v":5},{"$f":"VLOOKUP($D37,'Resultados Gerais'!$B8:$R1048576,16,0)","v":11},{"$f":"VLOOKUP($D37,'Resultados Gerais'!$B8:$R1048576,17,0)","v":19},null,null,null,15,61,61]
[26,null,null,{"$f":"COUNT('Resultados Gerais'!B8:B1048576)-A38","v":1055},{"$f":"VLOOKUP(D38,'Resultados Gerais'!B8:C1048576,2,0)","v":"2014-05-14"},{"$f":"VLOOKUP($D38,'Resultados Gerais'!$B8:$R1048576,3,0)","v":12},{"$f":"VLOOKUP($D38,'Resultados Gerais'!$B8:$R1048576,4,0)","v":7},{"$f":"VLOOKUP($D38,'Resultados Gerais'!$B8:$R1048576,5,0)","v":1},{"$f":"VLOOKUP($D38,'Resultados Gerais'!$B8:$R1048576,6,0)","v":24},{"$f":"VLOOKUP($D38,'Resultados Gerais'!$B8:$R1048576,7,0)","v":10},{"$f":"VLOOKUP($D38,'Resultados Gerais'!$B8:$R1048576,8,0)","v":2},{"$f":"VLOOKUP($D38,'Resultados Gerais'!$B8:$R1048576,9,0)","v":8},{"$f":"VLOOKUP($D38,'Resultados Gerais'!$B8:$R1048576,10,0)","v":9},{"$f":"VLOOKUP($D38,'Resultados Gerais'!$B8:$R1048576,11,0)","v":25},{"$f":"VLOOKUP($D38,'Resultados Gerais'!$B8:$R1048576,12,0)","v":22},{"$f":"VLOOKUP($D38,'Resultados Gerais'!$B8:$R1048576,13,0)","v":14},{"$f":"VLOOKUP($D38,'Resultados Gerais'!$B8:$R1048576,14,0)","v":18},{"$f":"VLOOKUP($D38,'Resultados Gerais'!$B8:$R1048576,15,0)","v":13},{"$f":"VLOOKUP($D38,'Resultados Gerais'!$B8:$R1048576,16,0)","v":3},{"$f":"VLOOKUP($D38,'Resultados Gerais'!$B8:$R1048576,17,0)","v":23}]
[27,null,null,{"$f":"COUNT('Resultados Gerais'!B8:B1048576)-A39","v":1054},{"$f":"VLOOKUP(D39,'Resultados Gerais'!B8:C1048576,2,0)","v":"2014-05-12"},{"$f":"VLOOKUP($D39,'Resultados Gerais'!$B8:$R1048576,3,0)","v":20},{"$f":"VLOOKUP($D39,'Resultados Gerais'!$B8:$R1048576,4,0)","v":15},{"$f":"VLOOKUP($D39,'Resultados Gerais'!$B8:$R1048576,5,0)","v":9},{"$f":"VLOOKUP($D39,'Resultados Gerais'!$B8:$R1048576,6,0)","v":5},{"$f":"VLOOKUP($D39,'Resultados Gerais'!$B8:$R1048576,7,0)","v":3},{"$f":"VLOOKUP($D39,'Resultados Gerais'!$B8:$R1048576,8,0)","v":24},{"$f":"VLOOKUP($D39,'Resultados Gerais'!$B8:$R1048576,9,0)","v":17},{"$f":"VLOOKUP($D39,'Resultados Gerais'!$B8:$R1048576,10,0)","v":12},{"$f":"VLOOKUP($D39,'Resultados Gerais'!$B8:$R1048576,11,0)","v":6},{"$f":"VLOOKUP($D39,'Resultados Gerais'!$B8:$R1048576,12,0)","v":16},{"$f":"VLOOKUP($D39,'Resultados Gerais'!$B8:$R1048576,13,0)","v":4},{"$f":"VLOOKUP($D39,'Resultados Gerais'!$B8:$R1048576,14,0)","v":2},{"$f":"VLOOKUP($D39,'Resultados Gerais'!$B8:$R1048576,15,0)","v":25},{"$f":"VLOOKUP($D39,'Resultados Gerais'!$B8:$R1048576,16,0)","v":18},{"$f":"VLOOKUP($D39,'Resultados Gerais'!$B8:$R1048576,17,0)","v":13}]
[28,null,null,{"$f":"COUNT('Resultados Gerais'!B8:B1048576)-A40","v":1053},{"$f":"VLOOKUP(D40,'Resultados Gerais'!B8:C1048576,2,0)","v":"2014-05-09"},{"$f":"VLOOKUP($D40,'Resultados Gerais'!$B8:$R1048576,3,0)","v":14},{"$f":"VLOOKUP($D40,'Resultados Gerais'!$B8:$R1048576,4,0)","v":12},{"$f":"VLOOKUP($D40,'Resultados Gerais'!$B8:$R1048576,5,0)","v":24},{"$f":"VLOOKUP($D40,'Resultados Gerais'!$B8:$R1048576,6,0)","v":17},{"$f":"VLOOKUP($D40,'Resultados Gerais'!$B8:$R1048576,7,0)","v":22},{"$f":"VLOOKUP($D40,'Resultados Gerais'!$B8:$R1048576,8,0)","v":13},{"$f":"VLOOKUP($D40,'Resultados Gerais'!$B8:$R1048576,9,0)","v":2},{"$f":"VLOOKUP($D40,'Resultados Gerais'!$B8:$R1048576,10,0)","v":6},{"$f":"VLOOKUP($D40,'Resultados Gerais'!$B8:$R1048576,11,0)","v":4},{"$f":"VLOOKUP($D40,'Resultados Gerais'!$B8:$R1048576,12,0)","v":1},{"$f":"VLOOKUP($D40,'Resultados Gerais'!$B8:$R1048576,13,0)","v":3},{"$f":"VLOOKUP($D40,'Resultados Gerais'!$B8:$R1048576,14,0)","v":15},{"$f":"VLOOKUP($D40,'Resultados Gerais'!$B8:$R1048576,15,0)","v":18},{"$f":"VLOOKUP($D40,'Resultados Gerais'!$B8:$R1048576,16,0)","v":11},{"$f":"VLOOKUP($D40,'Resultados Gerais'!$B8:$R1048576,17,0)","v":23}]
[29,null,null,{"$f":"COUNT('Resultados Gerais'!B8:B1048576)-A41","v":1052},{"$f":"VLOOKUP(D41,'Resultados Gerais'!B8:C1048576,2,0)","v":"2014-05-07"},{"$f":"VLOOKUP($D41,'Resultados Gerais'!$B8:$R1048576,3,0)","v":18},{"$f":"VLOOKUP($D41,'Resultados Gerais'!$B8:$R1048576,4,0)","v":8},{"$f":"VLOOKUP($D41,'Resultados Gerais'!$B8:$R1048576,5,0)","v":3},{"$f":"VLOOKUP($D41,'Resultados Gerais'!$B8:$R1048576,6,0)","v":1},{"$f":"VLOOKUP($D41,'Resultados Gerais'!$B8:$R1048576,7,0)","v":5},{"$f":"VLOOKUP($D41,'Resultados Gerais'!$B8:$R1048576,8,0)","v":11},{"$f":"VLOOKUP($D41,'Resultados Gerais'!$B8:$R1048576,9,0)","v":24},{"$f":"VLOOKUP($D41,'Resultados Gerais'!$B8:$R1048576,10,0)","v":21},{"$f":"VLOOKUP($D41,'Resultados Gerais'!$B8:$R1048576,11,0)","v":10},{"$f":"VLOOKUP($D41,'Resultados Gerais'!$B8:$R1048576,12,0)","v":23},{"$f":"VLOOKUP($D41,'Resultados Gerais'!$B8:$R1048576,13,0)","v":6},{"$f":"VLOOKUP($D41,'Resultados Gerais'!$B8:$R1048576,14,0)","v":16},{"$f":"VLOOKUP($D41,'Resultados Gerais'!$B8:$R1048576,15,0)","v":20},{"$f":"VLOOKUP($D41,'Resultados Gerais'!$B8:$R1048576,16,0)","v":17},{"$f":"VLOOKUP($D41,'Resultados Gerais'!$B8:$R1048576,17,0)","v":4}]
[30,null,null,{"$f":"COUNT('Resultados Gerais'!B8:B1048576)-A42","v":1051},{"$f":"VLOOKUP(D42,'Resultados Gerais'!B8:C1048576,2,0)","v":"2014-05-05"},{"$f":"VLOOKUP($D42,'Resultados Gerais'!$B8:$R1048576,3,0)","v":3},{"$f":"VLOOKUP($D42,'Resultados Gerais'!$B8:$R1048576,4,0)","v":8},{"$f":"VLOOKUP($D42,'Resultados Gerais'!$B8:$R1048576,5,0)","v":4},{"$f":"VLOOKUP($D42,'Resultados Gerais'!$B8:$R1048576,6,0)","v":7},{"$f":"VLOOKUP($D42,'Resultados Gerais'!$B8:$R1048576,7,0)","v":14},{"$f":"VLOOKUP($D42,'Resultados Gerais'!$B8:$R1048576,8,0)","v":13},{"$f":"VLOOKUP($D42,'Resultados Gerais'!$B8:$R1048576,9,0)","v":16},{"$f":"VLOOKUP($D42,'Resultados Gerais'!$B8:$R1048576,10,0)","v":23},{"$f":"VLOOKUP($D42,'Resultados Gerais'!$B8:$R1048576,11,0)","v":20},{"$f":"VLOOKUP($D42,'Resultados Gerais'!$B8:$R1048576,12,0)","v":10},{"$f":"VLOOKUP($D42,'Resultados Gerais'!$B8:$R1048576,13,0)","v":25},{"$f":"VLOOKUP($D42,'Resultados Gerais'!$B8:$R1048576,14,0)","v":2},{"$f":"VLOOKUP($D42,'Resultados Gerais'!$B8:$R1048576,15,0)","v":18},{"$f":"VLOOKUP($D42,'Resultados Gerais'!$B8:$R1048576,16,0)","v":21},{"$f":"VLOOKUP($D42,'Resultados Gerais'!$B8:$R1048576,17,0)","v":11}]
[31,null,null,{"$f":"COUNT('Resultados Gerais'!B8:B1048576)-A43","v":1050},{"$f":"VLOOKUP(D43,'Resultados Gerais'!B8:C1048576,2,0)","v":"2014-05-02"},{"$f":"VLOOKUP($D43,'Resultados Gerais'!$B8:$R1048576,3,0)","v":24},{"$f":"VLOOKUP($D43,'Resultados Gerais'!$B8:$R1048576,4,0)","v":1},{"$f":"VLOOKUP($D43,'Resultados Gerais'!$B8:$R1048576,5,0)","v":7},{"$f":"VLOOKUP($D43,'Resultados Gerais'!$B8:$R1048576,6,0)","v":15},{"$f":"VLOOKUP($D43,'Resultados Gerais'!$B8:$R1048576,7,0)","v":21},{"$f":"VLOOKUP($D43,'Resultados Gerais'!$B8:$R1048576,8,0)","v":22},{"$f":"VLOOKUP($D43,'Resultados Gerais'!$B8:$R1048576,9,0)","v":25},{"$f":"VLOOKUP($D43,'Resultados Gerais'!$B8:$R1048576,10,0)","v":17},{"$f":"VLOOKUP($D43,'Resultados Gerais'!$B8:$R1048576,11,0)","v":19},{"$f":"VLOOKUP($D43,'Resultados Gerais'!$B8:$R1048576,12,0)","v":4},{"$f":"VLOOKUP($D43,'Resultados Gerais'!$B8:$R1048576,13,0)","v":6},{"$f":"VLOOKUP($D43,'Resultados Gerais'!$B8:$R1048576,14,0)","v":13},{"$f":"VLOOKUP($D43,'Resultados Gerais'!$B8:$R1048576,15,0)","v":10},{"$f":"VLOOKUP($D43,'Resultados Gerais'!$B8:$R1048576,16,0)","v":12},{"$f":"VLOOKUP($D43,'Resultados Gerais'!$B8:$R1048576,17,0)","v":16}]
[32,null,null,{"$f":"COUNT('Resultados Gerais'!B8:B1048576)-A44","v":1049},{"$f":"VLOOKUP(D44,'Resultados Gerais'!B8:C1048576,2,0)","v":"2014-04-30"},{"$f":"VLOOKUP($D44,'Resultados Gerais'!$B8:$R1048576,3,0)","v":18},{"$f":"VLOOKUP($D44,'Resultados Gerais'!$B8:$R1048576,4,0)","v":17},{"$f":"VLOOKUP($D44,'Resultados Gerais'!$B8:$R1048576,5,0)","v":20},{"$f":"VLOOKUP($D44,'Resultados Gerais'!$B8:$R1048576,6,0)","v":9},{"$f":"VLOOKUP($D44,'Resultados Gerais'!$B8:$R1048576,7,0)","v":12},{"$f":"VLOOKUP($D44,'Resultados Gerais'!$B8:$R1048576,8,0)","v":22},{"$f":"VLOOKUP($D44,'Resultados Gerais'!$B8:$R1048576,9,0)","v":25},{"$f":"VLOOKUP($D44,'Resultados Gerais'!$B8:$R1048576,10,0)","v":21},{"$f":"VLOOKUP($D44,'Resultados Gerais'!$B8:$R1048576,11,0)","v":4},{"$f":"VLOOKUP($D44,'Resultados Gerais'!$B8:$R1048576,12,0)","v":23},{"$f":"VLOOKUP($D44,'Resultados Gerais'!$B8:$R1048576,13,0)","v":14},{"$f":"VLOOKUP($D44,'Resultados Gerais'!$B8:$R1048576,14,0)","v":2},{"$f":"VLOOKUP($D44,'Resultados Gerais'!$B8:$R1048576,15,0)","v":5},{"$f":"VLOOKUP($D44,'Resultados Gerais'!$B8:$R1048576,16,0)","v":19},{"$f":"VLOOKUP($D44,'Resultados Gerais'!$B8:$R1048576,17,0)","v":16}]
[33,null,null,{"$f":"COUNT('Resultados Gerais'!B8:B1048576)-A45","v":1048},{"$f":"VLOOKUP(D45,'Resultados Gerais'!B8:C1048576,2,0)","v":"2014-04-28"},{"$f":"VLOOKUP($D45,'Resultados Gerais'!$B8:$R1048576,3,0)","v":15},{"$f":"VLOOKUP($D45,'Resultados Gerais'!$B8:$R1048576,4,0)","v":16},{"$f":"VLOOKUP($D45,'Resultados Gerais'!$B8:$R1048576,5,0)","v":1},{"$f":"VLOOKUP($D45,'Resultados Gerais'!$B8:$R1048576,6,0)","v":20},{"$f":"VLOOKUP($D45,'Resultados Gerais'!$B8:$R1048576,7,0)","v":9},{"$f":"VLOOKUP($D45,'Resultados Gerais'!$B8:$R1048576,8,0)","v":17},{"$f":"VLOOKUP($D45,'Resultados Gerais'!$B8:$R1048576,9,0)","v":10},{"$f":"VLOOKUP($D45,'Resultados Gerais'!$B8:$R1048576,10,0)","v":2},{"$f":"VLOOKUP($D45,'Resultados Gerais'!$B8:$R1048576,11,0)","v":21},{"$f":"VLOOKUP($D45,'Resultados Gerais'!$B8:$R1048576,12,0)","v":25},{"$f":"VLOOKUP($D45,'Resultados Gerais'!$B8:$R1048576,13,0)","v":18},{"$f":"VLOOKUP($D45,'Resultados Gerais'!$B8:$R1048576,14,0)","v":7},{"$f":"VLOOKUP($D45,'Resultados Gerais'!$B8:$R1048576,15,0)","v":3},{"$f":"VLOOKUP($D45,'Resultados Gerais'!$B8:$R1048576,16,0)","v":6},{"$f":"VLOOKUP($D45,'Resultados Gerais'!$B8:$R1048576,17,0)","v":5}]
[34,null,null,{"$f":"COUNT('Resultados Gerais'!B8:B1048576)-A46","v":1047},{"$f":"VLOOKUP(D46,'Resultados Gerais'!B8:C1048576,2,0)","v":"2014-04-25"},{"$f":"VLOOKUP($D46,'Resultados Gerais'!$B8:$R1048576,3,0)","v":15},{"$f":"VLOOKUP($D46,'Resultados Gerais'!$B8:$R1048576,4,0)","v":21},{"$f":"VLOOKUP($D46,'Resultados Gerais'!$B8:$R1048576,5,0)","v":20},{"$f":"VLOOKUP($D46,'Resultados Gerais'!$B8:$R1048576,6,0)","v":11},{"$f":"VLOOKUP($D46,'Resultados Gerais'!$B8:$R1048576,7,0)","v":17},{"$f":"VLOOKUP($D46,'Resultados Gerais'!$B8:$R1048576,8,0)","v":24},{"$f":"VLOOKUP($D46,'Resultados Gerais'!$B8:$R1048576,9,0)","v":8},{"$f":"VLOOKUP($D46,'Resultados Gerais'!$B8:$R1048576,10,0)","v":22},{"$f":"VLOOKUP($D46,'Resultados Gerais'!$B8:$R1048576,11,0)","v":12},{"$f":"VLOOKUP($D46,'Resultados Gerais'!$B8:$R1048576,12,0)","v":7},{"$f":"VLOOKUP($D46,'Resultados Gerais'!$B8:$R1048576,13,0)","v":9},{"$f":"VLOOKUP($D46,'Resultados Gerais'!$B8:$R1048576,14,0)","v":10},{"$f":"VLOOKUP($D46,'Resultados Gerais'!$B8:$R1048576,15,0)","v":16},{"$f":"VLOOKUP($D46,'Resultados Gerais'!$B8:$R1048576,16,0)","v":4},{"$f":"VLOOKUP($D46,'Resultados Gerais'!$B8:$R1048576,17,0)","v":25}]
[35,null,null,{"$f":"COUNT('Resultados Gerais'!B8:B1048576)-A47","v":1046},{"$f":"VLOOKUP(D47,'Resultados Gerais'!B8:C1048576,2,0)","v":"2014-04-23"},{"$f":"VLOOKUP($D47,'Resultados Gerais'!$B8:$R1048576,3,0)","v":13},{"$f":"VLOOKUP($D47,'Resultados Gerais'!$B8:$R1048576,4,0)","v":14},{"$f":"VLOOKUP($D47,'Resultados Gerais'!$B8:$R1048576,5,0)","v":21},{"$f":"VLOOKUP($D47,'Resultados Gerais'!$B8:$R1048576,6,0)","v":3},{"$f":"VLOOKUP($D47,'Resultados Gerais'!$B8:$R1048576,7,0)","v":7},{"$f":"VLOOKUP($D47,'Resultados Gerais'!$B8:$R1048576,8,0)","v":12},{"$f":"VLOOKUP($D47,'Resultados Gerais'!$B8:$R1048576,9,0)","v":18},{"$f":"VLOOKUP($D47,'Resultados Gerais'!$B8:$R1048576,10,0)","v":4},{"$f":"VLOOKUP($D47,'Resultados Gerais'!$B8:$R1048576,11,0)","v":11},{"$f":"VLOOKUP($D47,'Resultados Gerais'!$B8:$R1048576,12,0)","v":25},{"$f":"VLOOKUP($D47,'Resultados Gerais'!$B8:$R1048576,13,0)","v":20},{"$f":"VLOOKUP($D47,'Resultados Gerais'!$B8:$R1048576,14,0)","v":5},{"$f":"VLOOKUP($D47,'Resultados Gerais'!$B8:$R1048576,15,0)","v":22},{"$f":"VLOOKUP($D47,'Resultados Gerais'!$B8:$R1048576,16,0)","v":8},{"$f":"VLOOKUP($D47,'Resultados Gerais'!$B8:$R1048576,17,0)","v":23}]
[36,null,null,{"$f":"COUNT('Resultados Gerais'!B8:B1048576)-A48","v":1045},{"$f":"VLOOKUP(D48,'Resultados Gerais'!B8:C1048576,2,0)","v":"2014-04-19"},{"$f":"VLOOKUP($D48,'Resultados Gerais'!$B8:$R1048576,3,0)","v":24},{"$f":"VLOOKUP($D48,'Resultados Gerais'!$B8:$R1048576,4,0)","v":23},{"$f":"VLOOKUP($D48,'Resultados Gerais'!$B8:$R1048576,5,0)","v":20},{"$f":"VLOOKUP($D48,'Resultados Gerais'!$B8:$R1048576,6,0)","v":6},{"$f":"VLOOKUP($D48,'Resultados Gerais'!$B8:$R1048576,7,0)","v":9},{"$f":"VLOOKUP($D48,'Resultados Gerais'!$B8:$R1048576,8,0)","v":17},{"$f":"VLOOKUP($D48,'Resultados Gerais'!$B8:$R1048576,9,0)","v":3},{"$f":"VLOOKUP($D48,'Resultados Gerais'!$B8:$R1048576,10,0)","v":25},{"$f":"VLOOKUP($D48,'Resultados Gerais'!$B8:$R1048576,11,0)","v":16},{"$f":"VLOOKUP($D48,'Resultados Gerais'!$B8:$R1048576,12,0)","v":2},{"$f":"VLOOKUP($D48,'Resultados Gerais'!$B8:$R1048576,13,0)","v":11},{"$f":"VLOOKUP($D48,'Resultados Gerais'!$B8:$R1048576,14,0)","v":5},{"$f":"VLOOKUP($D48,'Resultados Gerais'!$B8:$R1048576,15,0)","v":22},{"$f":"VLOOKUP($D48,'Resultados Gerais'!$B8:$R1048576,16,0)","v":21},{"$f":"VLOOKUP($D48,'Resultados Gerais'!$B8:$R1048576,17,0)","v":15}]
[37,null,null,{"$f":"COUNT('Resultados Gerais'!B8:B1048576)-A49","v":1044},{"$f":"VLOOKUP(D49,'Resultados Gerais'!B8:C1048576,2,0)","v":"2014-04-16"},{"$f":"VLOOKUP($D49,'Resultados Gerais'!$B8:$R1048576,3,0)","v":17},{"$f":"VLOOKUP($D49,'Resultados Gerais'!$B8:$R1048576,4,0)","v":10},{"$f":"VLOOKUP($D49,'Resultados Gerais'!$B8:$R1048576,5,0)","v":20},{"$f":"VLOOKUP($D49,'Resultados Gerais'!$B8:$R1048576,6,0)","v":24},{"$f":"VLOOKUP($D49,'Resultados Gerais'!$B8:$R1048576,7,0)","v":11},{"$f":"VLOOKUP($D49,'Resultados Gerais'!$B8:$R1048576,8,0)","v":6},{"$f":"VLOOKUP($D49,'Resultados Gerais'!$B8:$R1048576,9,0)","v":12},{"$f":"VLOOKUP($D49,'Resultados Gerais'!$B8:$R1048576,10,0)","v":23},{"$f":"VLOOKUP($D49,'Resultados Gerais'!$B8:$R1048576,11,0)","v":5},{"$f":"VLOOKUP($D49,'Resultados Gerais'!$B8:$R1048576,12,0)","v":2},{"$f":"VLOOKUP($D49,'Resultados Gerais'!$B8:$R1048576,13,0)","v":8},{"$f":"VLOOKUP($D49,'Resultados Gerais'!$B8:$R1048576,14,0)","v":15},{"$f":"VLOOKUP($D49,'Resultados Gerais'!$B8:$R1048576,15,0)","v":4},{"$f":"VLOOKUP($D49,'Resultados Gerais'!$B8:$R1048576,16,0)","v":7},{"$f":"VLOOKUP($D49,'Resultados Gerais'!$B8:$R1048576,17,0)","v":25}]
[38,null,null,{"$f":"COUNT('Resultados Gerais'!B8:B1048576)-A50","v":1043},{"$f":"VLOOKUP(D50,'Resultados Gerais'!B8:C1048576,2,0)","v":"2014-04-14"},{"$f":"VLOOKUP($D50,'Resultados Gerais'!$B8:$R1048576,3,0)","v":6},{"$f":"VLOOKUP($D50,'Resultados Gerais'!$B8:$R1048576,4,0)","v":25},{"$f":"VLOOKUP($D50,'Resultados Gerais'!$B8:$R1048576,5,0)","v":7},{"$f":"VLOOKUP($D50,'Resultados Gerais'!$B8:$R1048576,6,0)","v":17},{"$f":"VLOOKUP($D50,'Resultados Gerais'!$B8:$R1048576,7,0)","v":14},{"$f":"VLOOKUP($D50,'Resultados Gerais'!$B8:$R1048576,8,0)","v":12},{"$f":"VLOOKUP($D50,'Resultados Gerais'!$B8:$R1048576,9,0)","v":18},{"$f":"VLOOKUP($D50,'Resultados Gerais'!$B8:$R1048576,10,0)","v":11},{"$f":"VLOOKUP($D50,'Resultados Gerais'!$B8:$R1048576,11,0)","v":1},{"$f":"VLOOKUP($D50,'Resultados Gerais'!$B8:$R1048576,12,0)","v":2},{"$f":"VLOOKUP($D50,'Resultados Gerais'!$B8:$R1048576,13,0)","v":9},{"$f":"VLOOKUP($D50,'Resultados Gerais'!$B8:$R1048576,14,0)","v":19},{"$f":"VLOOKUP($D50,'Resultados Gerais'!$B8:$R1048576,15,0)","v":8},{"$f":"VLOOKUP($D50,'Resultados Gerais'!$B8:$R1048576,16,0)","v":24},{"$f":"VLOOKUP($D50,'Resultados Gerais'!$B8:$R1048576,17,0)","v":10}]
[39,null,null,{"$f":"COUNT('Resultados Gerais'!B8:B1048576)-A51","v":1042},{"$f":"VLOOKUP(D51,'Resultados Gerais'!B8:C1048576,2,0)","v":"2014-04-11"},{"$f":"VLOOKUP($D51,'Resultados Gerais'!$B8:$R1048576,3,0)","v":7},{"$f":"VLOOKUP($D51,'Resultados Gerais'!$B8:$R1048576,4,0)","v":1},{"$f":"VLOOKUP($D51,'Resultados Gerais'!$B8:$R1048576,5,0)","v":15},{"$f":"VLOOKUP($D51,'Resultados Gerais'!$B8:$R1048576,6,0)","v":10},{"$f":"VLOOKUP($D51,'Resultados Gerais'!$B8:$R1048576,7,0)","v":21},{"$f":"VLOOKUP($D51,'Resultados Gerais'!$B8:$R1048576,8,0)","v":14},{"$f":"VLOOKUP($D51,'Resultados Gerais'!$B8:$R1048576,9,0)","v":16},{"$f":"VLOOKUP($D51,'Resultados Gerais'!$B8:$R1048576,10,0)","v":24},{"$f":"VLOOKUP($D51,'Resultados Gerais'!$B8:$R1048576,11,0)","v":6},{"$f":"VLOOKUP($D51,'Resultados Gerais'!$B8:$R1048576,12,0)","v":11},{"$f":"VLOOKUP($D51,'Resultados Gerais'!$B8:$R1048576,13,0)","v":22},{"$f":"VLOOKUP($D51,'Resultados Gerais'!$B8:$R1048576,14,0)","v":9},{"$f":"VLOOKUP($D51,'Resultados Gerais'!$B8:$R1048576,15,0)","v":3},{"$f":"VLOOKUP($D51,'Resultados Gerais'!$B8:$R1048576,16,0)","v":8},{"$f":"VLOOKUP($D51,'Resultados Gerais'!$B8:$R1048576,17,0)","v":19}]
[40,null,null,{"$f":"COUNT('Resultados Gerais'!B8:B1048576)-A52","v":1041},{"$f":"VLOOKUP(D52,'Resultados Gerais'!B8:C1048576,2,0)","v":"2014-04-09"},{"$f":"VLOOKUP($D52,'Resultados Gerais'!$B8:$R1048576,3,0)","v":25},{"$f":"VLOOKUP($D52,'Resultados Gerais'!$B8:$R1048576,4,0)","v":20},{"$f":"VLOOKUP($D52,'Resultados Gerais'!$B8:$R1048576,5,0)","v":12},{"$f":"VLOOKUP($D52,'Resultados Gerais'!$B8:$R1048576,6,0)","v":21},{"$f":"VLOOKUP($D52,'Resultados Gerais'!$B8:$R1048576,7,0)","v":19},{"$f":"VLOOKUP($D52,'Resultados Gerais'!$B8:$R1048576,8,0)","v":15},{"$f":"VLOOKUP($D52,'Resultados Gerais'!$B8:$R1048576,9,0)","v":24},{"$f":"VLOOKUP($D52,'Resultados Gerais'!$B8:$R1048576,10,0)","v":5},{"$f":"VLOOKUP($D52,'Resultados Gerais'!$B8:$R1048576,11,0)","v":10},{"$f":"VLOOKUP($D52,'Resultados Gerais'!$B8:$R1048576,12,0)","v":23},{"$f":"VLOOKUP($D52,'Resultados Gerais'!$B8:$R1048576,13,0)","v":3},{"$f":"VLOOKUP($D52,'Resultados Gerais'!$B8:$R1048576,14,0)","v":7},{"$f":"VLOOKUP($D52,'Resultados Gerais'!$B8:$R1048576,15,0)","v":13},{"$f":"VLOOKUP($D52,'Resultados Gerais'!$B8:$R1048576,16,0)","v":1},{"$f":"VLOOKUP($D52,'Resultados Gerais'!$B8:$R1048576,17,0)","v":17}]
[41,null,null,{"$f":"COUNT('Resultados Gerais'!B8:B1048576)-A53","v":1040},{"$f":"VLOOKUP(D53,'Resultados Gerais'!B8:C1048576,2,0)","v":"2014-04-07"},{"$f":"VLOOKUP($D53,'Resultados Gerais'!$B8:$R1048576,3,0)","v":10},{"$f":"VLOOKUP($D53,'Resultados Gerais'!$B8:$R1048576,4,0)","v":12},{"$f":"VLOOKUP($D53,'Resultados Gerais'!$B8:$R1048576,5,0)","v":4},{"$f":"VLOOKUP($D53,'Resultados Gerais'!$B8:$R1048576,6,0)","v":23},{"$f":"VLOOKUP($D53,'Resultados Gerais'!$B8:$R1048576,7,0)","v":25},{"$f":"VLOOKUP($D53,'Resultados Gerais'!$B8:$R1048576,8,0)","v":9},{"$f":"VLOOKUP($D53,'Resultados Gerais'!$B8:$R1048576,9,0)","v":2},{"$f":"VLOOKUP($D53,'Resultados Gerais'!$B8:$R1048576,10,0)","v":1},{"$f":"VLOOKUP($D53,'Resultados Gerais'!$B8:$R1048576,11,0)","v":6},{"$f":"VLOOKUP($D53,'Resultados Gerais'!$B8:$R1048576,12,0)","v":16},{"$f":"VLOOKUP($D53,'Resultados Gerais'!$B8:$R1048576,13,0)","v":20},{"$f":"VLOOKUP($D53,'Resultados Gerais'!$B8:$R1048576,14,0)","v":22},{"$f":"VLOOKUP($D53,'Resultados Gerais'!$B8:$R1048576,15,0)","v":13},{"$f":"VLOOKUP($D53,'Resultados Gerais'!$B8:$R1048576,16,0)","v":21},{"$f":"VLOOKUP($D53,'Resultados Gerais'!$B8:$R1048576,17,0)","v":8}]
[42,null,null,{"$f":"COUNT('Resultados Gerais'!B8:B1048576)-A54","v":1039},{"$f":"VLOOKUP(D54,'Resultados Gerais'!B8:C1048576,2,0)","v":"2014-04-04"},{"$f":"VLOOKUP($D54,'Resultados Gerais'!$B8:$R1048576,3,0)","v":21},{"$f":"VLOOKUP($D54,'Resultados Gerais'!$B8:$R1048576,4,0)","v":1},{"$f":"VLOOKUP($D54,'Resultados Gerais'!$B8:$R1048576,5,0)","v":15},{"$f":"VLOOKUP($D54,'Resultados Gerais'!$B8:$R1048576,6,0)","v":18},{"$f":"VLOOKUP($D54,'Resultados Gerais'!$B8:$R1048576,7,0)","v":9},{"$f":"VLOOKUP($D54,'Resultados Gerais'!$B8:$R1048576,8,0)","v":2},{"$f":"VLOOKUP($D54,'Resultados Gerais'!$B8:$R1048576,9,0)","v":19},{"$f":"VLOOKUP($D54,'Resultados Gerais'!$B8:$R1048576,10,0)","v":14},{"$f":"VLOOKUP($D54,'Resultados Gerais'!$B8:$R1048576,11,0)","v":22},{"$f":"VLOOKUP($D54,'Resultados Gerais'!$B8:$R1048576,12,0)","v":20},{"$f":"VLOOKUP($D54,'Resultados Gerais'!$B8:$R1048576,13,0)","v":3},{"$f":"VLOOKUP($D54,'Resultados Gerais'!$B8:$R1048576,14,0)","v":12},{"$f":"VLOOKUP($D54,'Resultados Gerais'!$B8:$R1048576,15,0)","v":24},{"$f":"VLOOKUP($D54,'Resultados Gerais'!$B8:$R1048576,16,0)","v":8},{"$f":"VLOOKUP($D54,'Resultados Gerais'!$B8:$R1048576,17,0)","v":13}]
[43,null,null,{"$f":"COUNT('Resultados Gerais'!B8:B1048576)-A55","v":1038},{"$f":"VLOOKUP(D55,'Resultados Gerais'!B8:C1048576,2,0)","v":"2014-04-02"},{"$f":"VLOOKUP($D55,'Resultados Gerais'!$B8:$R1048576,3,0)","v":8},{"$f":"VLOOKUP($D55,'Resultados Gerais'!$B8:$R1048576,4,0)","v":10},{"$f":"VLOOKUP($D55,'Resultados Gerais'!$B8:$R1048576,5,0)","v":24},{"$f":"VLOOKUP($D55,'Resultados Gerais'!$B8:$R1048576,6,0)","v":19},{"$f":"VLOOKUP($D55,'Resultados Gerais'!$B8:$R1048576,7,0)","v":6},{"$f":"VLOOKUP($D55,'Resultados Gerais'!$B8:$R1048576,8,0)","v":7},{"$f":"VLOOKUP($D55,'Resultados Gerais'!$B8:$R1048576,9,0)","v":20},{"$f":"VLOOKUP($D55,'Resultados Gerais'!$B8:$R1048576,10,0)","v":18},{"$f":"VLOOKUP($D55,'Resultados Gerais'!$B8:$R1048576,11,0)","v":16},{"$f":"VLOOKUP($D55,'Resultados Gerais'!$B8:$R1048576,12,0)","v":9},{"$f":"VLOOKUP($D55,'Resultados Gerais'!$B8:$R1048576,13,0)","v":17},{"$f":"VLOOKUP($D55,'Resultados Gerais'!$B8:$R1048576,14,0)","v":2},{"$f":"VLOOKUP($D55,'Resultados Gerais'!$B8:$R1048576,15,0)","v":13},{"$f":"VLOOKUP($D55,'Resultados Gerais'!$B8:$R1048576,16,0)","v":21},{"$f":"VLOOKUP($D55,'Resultados Gerais'!$B8:$R1048576,17,0)","v":25}]
[44,null,null,{"$f":"COUNT('Resultados Gerais'!B8:B1048576)-A56","v":1037},{"$f":"VLOOKUP(D56,'Resultados Gerais'!B8:C1048576,2,0)","v":"2014-03-31"},{"$f":"VLOOKUP($D56,'Resultados Gerais'!$B8:$R1048576,3,0)","v":11},{"$f":"VLOOKUP($D56,'Resultados Gerais'!$B8:$R1048576,4,0)","v":20},{"$f":"VLOOKUP($D56,'Resultados Gerais'!$B8:$R1048576,5,0)","v":9},{"$f":"VLOOKUP($D56,'Resultados Gerais'!$B8:$R1048576,6,0)","v":25},{"$f":"VLOOKUP($D56,'Resultados Gerais'!$B8:$R1048576,7,0)","v":17},{"$f":"VLOOKUP($D56,'Resultados Gerais'!$B8:$R1048576,8,0)","v":18},{"$f":"VLOOKUP($D56,'Resultados Gerais'!$B8:$R1048576,9,0)","v":1},{"$f":"VLOOKUP($D56,'Resultados Gerais'!$B8:$R1048576,10,0)","v":12},{"$f":"VLOOKUP($D56,'Resultados Gerais'!$B8:$R1048576,11,0)","v":24},{"$f":"VLOOKUP($D56,'Resultados Gerais'!$B8:$R1048576,12,0)","v":5},{"$f":"VLOOKUP($D56,'Resultados Gerais'!$B8:$R1048576,13,0)","v":15},{"$f":"VLOOKUP($D56,'Resultados Gerais'!$B8:$R1048576,14,0)","v":21},{"$f":"VLOOKUP($D56,'Resultados Gerais'!$B8:$R1048576,15,0)","v":6},{"$f":"VLOOKUP($D56,'Resultados Gerais'!$B8:$R1048576,16,0)","v":10},{"$f":"VLOOKUP($D56,'Resultados Gerais'!$B8:$R1048576,17,0)","v":23}]
[45,null,null,{"$f":"COUNT('Resultados Gerais'!B8:B1048576)-A57","v":1036},{"$f":"VLOOKUP(D57,'Resultados Gerais'!B8:C1048576,2,0)","v":"2014-03-28"},{"$f":"VLOOKUP($D57,'Resultados Gerais'!$B8:$R1048576,3,0)","v":14},{"$f":"VLOOKUP($D57,'Resultados Gerais'!$B8:$R1048576,4,0)","v":12},{"$f":"VLOOKUP($D57,'Resultados Gerais'!$B8:$R1048576,5,0)","v":7},{"$f":"VLOOKUP($D57,'Resultados Gerais'!$B8:$R1048576,6,0)","v":22},{"$f":"VLOOKUP($D57,'Resultados Gerais'!$B8:$R1048576,7,0)","v":18},{"$f":"VLOOKUP($D57,'Resultados Gerais'!$B8:$R1048576,8,0)","v":21},{"$f":"VLOOKUP($D57,'Resultados Gerais'!$B8:$R1048576,9,0)","v":4},{"$f":"VLOOKUP($D57,'Resultados Gerais'!$B8:$R1048576,10,0)","v":9},{"$f":"VLOOKUP($D57,'Resultados Gerais'!$B8:$R1048576,11,0)","v":11},{"$f":"VLOOKUP($D57,'Resultados Gerais'!$B8:$R1048576,12,0)","v":5},{"$f":"VLOOKUP($D57,'Resultados Gerais'!$B8:$R1048576,13,0)","v":19},{"$f":"VLOOKUP($D57,'Resultados Gerais'!$B8:$R1048576,14,0)","v":24},{"$f":"VLOOKUP($D57,'Resultados Gerais'!$B8:$R1048576,15,0)","v":10},{"$f":"VLOOKUP($D57,'Resultados Gerais'!$B8:$R1048576,16,0)","v":17},{"$f":"VLOOKUP($D57,'Resultados Gerais'!$B8:$R1048576,17,0)","v":20}]
[46,null,null,{"$f":"COUNT('Resultados Gerais'!B8:B1048576)-A58","v":1035},{"$f":"VLOOKUP(D58,'Resultados Gerais'!B8:C1048576,2,0)","v":"2014-03-26"},{"$f":"VLOOKUP($D58,'Resultados Gerais'!$B8:$R1048576,3,0)","v":15},{"$f":"VLOOKUP($D58,'Resultados Gerais'!$B8:$R1048576,4,0)","v":13},{"$f":"VLOOKUP($D58,'Resultados Gerais'!$B8:$R1048576,5,0)","v":21},{"$f":"VLOOKUP($D58,'Resultados Gerais'!$B8:$R1048576,6,0)","v":19},{"$f":"VLOOKUP($D58,'Resultados Gerais'!$B8:$R1048576,7,0)","v":25},{"$f":"VLOOKUP($D58,'Resultados Gerais'!$B8:$R1048576,8,0)","v":20},{"$f":"VLOOKUP($D58,'Resultados Gerais'!$B8:$R1048576,9,0)","v":7},{"$f":"VLOOKUP($D58,'Resultados Gerais'!$B8:$R1048576,10,0)","v":6},{"$f":"VLOOKUP($D58,'Resultados Gerais'!$B8:$R1048576,11,0)","v":12},{"$f":"VLOOKUP($D58,'Resultados Gerais'!$B8:$R1048576,12,0)","v":14},{"$f":"VLOOKUP($D58,'Resultados Gerais'!$B8:$R1048576,13,0)","v":9},{"$f":"VLOOKUP($D58,'Resultados Gerais'!$B8:$R1048576,14,0)","v":18},{"$f":"VLOOKUP($D58,'Resultados Gerais'!$B8:$R1048576,15,0)","v":23},{"$f":"VLOOKUP($D58,'Resultados Gerais'!$B8:$R1048576,16,0)","v":4},{"$f":"VLOOKUP($D58,'Resultados Gerais'!$B8:$R1048576,17,0)","v":22}]
[47,null,null,{"$f":"COUNT('Resultados Gerais'!B8:B1048576)-A59","v":1034},{"$f":"VLOOKUP(D59,'Resultados Gerais'!B8:C1048576,2,0)","v":"2014-03-24"},{"$f":"VLOOKUP($D59,'Resultados Gerais'!$B8:$R1048576,3,0)","v":8},{"$f":"VLOOKUP($D59,'Resultados Gerais'!$B8:$R1048576,4,0)","v":2},{"$f":"VLOOKUP($D59,'Resultados Gerais'!$B8:$R1048576,5,0)","v":23},{"$f":"VLOOKUP($D59,'Resultados Gerais'!$B8:$R1048576,6,0)","v":3},{"$f":"VLOOKUP($D59,'Resultados Gerais'!$B8:$R1048576,7,0)","v":13},{"$f":"VLOOKUP($D59,'Resultados Gerais'!$B8:$R1048576,8,0)","v":17},{"$f":"VLOOKUP($D59,'Resultados Gerais'!$B8:$R1048576,9,0)","v":12},{"$f":"VLOOKUP($D59,'Resultados Gerais'!$B8:$R1048576,10,0)","v":6},{"$f":"VLOOKUP($D59,'Resultados Gerais'!$B8:$R1048576,11,0)","v":21},{"$f":"VLOOKUP($D59,'Resultados Gerais'!$B8:$R1048576,12,0)","v":10},{"$f":"VLOOKUP($D59,'Resultados Gerais'!$B8:$R1048576,13,0)","v":20},{"$f":"VLOOKUP($D59,'Resultados Gerais'!$B8:$R1048576,14,0)","v":18},{"$f":"VLOOKUP($D59,'Resultados Gerais'!$B8:$R1048576,15,0)","v":14},{"$f":"VLOOKUP($D59,'Resultados Gerais'!$B8:$R1048576,16,0)","v":19},{"$f":"VLOOKUP($D59,'Resultados Gerais'!$B8:$R1048576,17,0)","v":4}]
[48,null,null,{"$f":"COUNT('Resultados Gerais'!B8:B1048576)-A60","v":1033},{"$f":"VLOOKUP(D60,'Resultados Gerais'!B8:C1048576,2,0)","v":"2014-03-21"},{"$f":"VLOOKUP($D60,'Resultados Gerais'!$B8:$R1048576,3,0)","v":13},{"$f":"VLOOKUP($D60,'Resultados Gerais'!$B8:$R1048576,4,0)","v":4},{"$f":"VLOOKUP($D60,'Resultados Gerais'!$B8:$R1048576,5,0)","v":18},{"$f":"VLOOKUP($D60,'Resultados Gerais'!$B8:$R1048576,6,0)","v":17},{"$f":"VLOOKUP($D60,'Resultados Gerais'!$B8:$R1048576,7,0)","v":7},{"$f":"VLOOKUP($D60,'Resultados Gerais'!$B8:$R1048576,8,0)","v":14},{"$f":"VLOOKUP($D60,'Resultados Gerais'!$B8:$R1048576,9,0)","v":12},{"$f":"VLOOKUP($D60,'Resultados Gerais'!$B8:$R1048576,10,0)","v":23},{"$f":"VLOOKUP($D60,'Resultados Gerais'!$B8:$R1048576,11,0)","v":16},{"$f":"VLOOKUP($D60,'Resultados Gerais'!$B8:$R1048576,12,0)","v":6},{"$f":"VLOOKUP($D60,'Resultados Gerais'!$B8:$R1048576,13,0)","v":21},{"$f":"VLOOKUP($D60,'Resultados Gerais'!$B8:$R1048576,14,0)","v":24},{"$f":"VLOOKUP($D60,'Resultados Gerais'!$B8:$R1048576,15,0)","v":22},{"$f":"VLOOKUP($D60,'Resultados Gerais'!$B8:$R1048576,16,0)","v":8},{"$f":"VLOOKUP($D60,'Resultados Gerais'!$B8:$R1048576,17,0)","v":3}]
[49,null,null,{"$f":"COUNT('Resultados Gerais'!B8:B1048576)-A61","v":1032},{"$f":"VLOOKUP(D61,'Resultados Gerais'!B8:C1048576,2,0)","v":"2014-03-19"},{"$f":"VLOOKUP($D61,'Resultados Gerais'!$B8:$R1048576,3,0)","v":23},{"$f":"VLOOKUP($D61,'Resultados Gerais'!$B8:$R1048576,4,0)","v":4},{"$f":"VLOOKUP($D61,'Resultados Gerais'!$B8:$R1048576,5,0)","v":2},{"$f":"VLOOKUP($D61,'Resultados Gerais'!$B8:$R1048576,6,0)","v":6},{"$f":"VLOOKUP($D61,'Resultados Gerais'!$B8:$R1048576,7,0)","v":3},{"$f":"VLOOKUP($D61,'Resultados Gerais'!$B8:$R1048576,8,0)","v":10},{"$f":"VLOOKUP($D61,'Resultados Gerais'!$B8:$R1048576,9,0)","v":20},{"$f":"VLOOKUP($D61,'Resultados Gerais'!$B8:$R1048576,10,0)","v":11},{"$f":"VLOOKUP($D61,'Resultados Gerais'!$B8:$R1048576,11,0)","v":8},{"$f":"VLOOKUP($D61,'Resultados Gerais'!$B8:$R1048576,12,0)","v":17},{"$f":"VLOOKUP($D61,'Resultados Gerais'!$B8:$R1048576,13,0)","v":16},{"$f":"VLOOKUP($D61,'Resultados Gerais'!$B8:$R1048576,14,0)","v":13},{"$f":"VLOOKUP($D61,'Resultados Gerais'!$B8:$R1048576,15,0)","v":18},{"$f":"VLOOKUP($D61,'Resultados Gerais'!$B8:$R1048576,16,0)","v":14},{"$f":"VLOOKUP($D61,'Resultados Gerais'!$B8:$R1048576,17,0)","v":1}]
[50,null,null,{"$f":"COUNT('Resultados Gerais'!B8:B1048576)-A62","v":1031},{"$f":"VLOOKUP(D62,'Resultados Gerais'!B8:C1048576,2,0)","v":"2014-03-17"},{"$f":"VLOOKUP($D62,'Resultados Gerais'!$B8:$R1048576,3,0)","v":12},{"$f":"VLOOKUP($D62,'Resultados Gerais'!$B8:$R1048576,4,0)","v":4},{"$f":"VLOOKUP($D62,'Resultados Gerais'!$B8:$R1048576,5,0)","v":9},{"$f":"VLOOKUP($D62,'Resultados Gerais'!$B8:$R1048576,6,0)","v":24},{"$f":"VLOOKUP($D62,'Resultados Gerais'!$B8:$R1048576,7,0)","v":11},{"$f":"VLOOKUP($D62,'Resultados Gerais'!$B8:$R1048576,8,0)","v":14},{"$f":"VLOOKUP($D62,'Resultados Gerais'!$B8:$R1048576,9,0)","v":17},{"$f":"VLOOKUP($D62,'Resultados Gerais'!$B8:$R1048576,10,0)","v":2},{"$f":"VLOOKUP($D62,'Resultados Gerais'!$B8:$R1048576,11,0)","v":22},{"$f":"VLOOKUP($D62,'Resultados Gerais'!$B8:$R1048576,12,0)","v":5},{"$f":"VLOOKUP($D62,'Resultados Gerais'!$B8:$R1048576,13,0)","v":19},{"$f":"VLOOKUP($D62,'Resultados Gerais'!$B8:$R1048576,14,0)","v":15},{"$f":"VLOOKUP($D62,'Resultados Gerais'!$B8:$R1048576,15,0)","v":1},{"$f":"VLOOKUP($D62,'Resultados Gerais'!$B8:$R1048576,16,0)","v":6},{"$f":"VLOOKUP($D62,'Resultados Gerais'!$B8:$R1048576,17,0)","v":20}]
[51,null,null,{"$f":"COUNT('Resultados Gerais'!B8:B1048576)-A63","v":1030},{"$f":"VLOOKUP(D63,'Resultados Gerais'!B8:C1048576,2,0)","v":"2014-03-14"},{"$f":"VLOOKUP($D63,'Resultados Gerais'!$B8:$R1048576,3,0)","v":19},{"$f":"VLOOKUP($D63,'Resultados Gerais'!$B8:$R1048576,4,0)","v":8},{"$f":"VLOOKUP($D63,'Resultados Gerais'!$B8:$R1048576,5,0)","v":15},{"$f":"VLOOKUP($D63,'Resultados Gerais'!$B8:$R1048576,6,0)","v":16},{"$f":"VLOOKUP($D63,'Resultados Gerais'!$B8:$R1048576,7,0)","v":2},{"$f":"VLOOKUP($D63,'Resultados Gerais'!$B8:$R1048576,8,0)","v":23},{"$f":"VLOOKUP($D63,'Resultados Gerais'!$B8:$R1048576,9,0)","v":11},{"$f":"VLOOKUP($D63,'Resultados Gerais'!$B8:$R1048576,10,0)","v":4},{"$f":"VLOOKUP($D63,'Resultados Gerais'!$B8:$R1048576,11,0)","v":20},{"$f":"VLOOKUP($D63,'Resultados Gerais'!$B8:$R1048576,12,0)","v":3},{"$f":"VLOOKUP($D63,'Resultados Gerais'!$B8:$R1048576,13,0)","v":1},{"$f":"VLOOKUP($D63,'Resultados Gerais'!$B8:$R1048576,14,0)","v":17},{"$f":"VLOOKUP($D63,'Resultados Gerais'!$B8:$R1048576,15,0)","v":9},{"$f":"VLOOKUP($D63,'Resultados Gerais'!$B8:$R1048576,16,0)","v":18},{"$f":"VLOOKUP($D63,'Resultados Gerais'!$B8:$R1048576,17,0)","v":10}]
[52,null,null,{"$f":"COUNT('Resultados Gerais'!B8:B1048576)-A64","v":1029},{"$f":"VLOOKUP(D64,'Resultados Gerais'!B8:C1048576,2,0)","v":"2014-03-12"},{"$f":"VLOOKUP($D64,'Resultados Gerais'!$B8:$R1048576,3,0)","v":2},{"$f":"VLOOKUP($D64,'Resultados Gerais'!$B8:$R1048576,4,0)","v":6},{"$f":"VLOOKUP($D64,'Resultados Gerais'!$B8:$R1048576,5,0)","v":22},{"$f":"VLOOKUP($D64,'Resultados Gerais'!$B8:$R1048576,6,0)","v":13},{"$f":"VLOOKUP($D64,'Resultados Gerais'!$B8:$R1048576,7,0)","v":24},{"$f":"VLOOKUP($D64,'Resultados Gerais'!$B8:$R1048576,8,0)","v":19},{"$f":"VLOOKUP($D64,'Resultados Gerais'!$B8:$R1048576,9,0)","v":14},{"$f":"VLOOKUP($D64,'Resultados Gerais'!$B8:$R1048576,10,0)","v":25},{"$f":"VLOOKUP($D64,'Resultados Gerais'!$B8:$R1048576,11,0)","v":1},{"$f":"VLOOKUP($D64,'Resultados Gerais'!$B8:$R1048576,12,0)","v":18},{"$f":"VLOOKUP($D64,'Resultados Gerais'!$B8:$R1048576,13,0)","v":11},{"$f":"VLOOKUP($D64,'Resultados Gerais'!$B8:$R1048576,14,0)","v":23},{"$f":"VLOOKUP($D64,'Resultados Gerais'!$B8:$R1048576,15,0)","v":17},{"$f":"VLOOKUP($D64,'Resultados Gerais'!$B8:$R1048576,16,0)","v":3},{"$f":"VLOOKUP($D64,'Resultados Gerais'!$B8:$R1048576,17,0)","v":8}]
[53,null,null,{"$f":"COUNT('Resultados Gerais'!B8:B1048576)-A65","v":1028},{"$f":"VLOOKUP(D65,'Resultados Gerais'!B8:C1048576,2,0)","v":"2014-03-10"},{"$f":"VLOOKUP($D65,'Resultados Gerais'!$B8:$R1048576,3,0)","v":4},{"$f":"VLOOKUP($D65,'Resultados Gerais'!$B8:$R1048576,4,0)","v":25},{"$f":"VLOOKUP($D65,'Resultados Gerais'!$B8:$R1048576,5,0)","v":5},{"$f":"VLOOKUP($D65,'Resultados Gerais'!$B8:$R1048576,6,0)","v":11},{"$f":"VLOOKUP($D65,'Resultados Gerais'!$B8:$R1048576,7,0)","v":24},{"$f":"VLOOKUP($D65,'Resultados Gerais'!$B8:$R1048576,8,0)","v":17},{"$f":"VLOOKUP($D65,'Resultados Gerais'!$B8:$R1048576,9,0)","v":20},{"$f":"VLOOKUP($D65,'Resultados Gerais'!$B8:$R1048576,10,0)","v":7},{"$f":"VLOOKUP($D65,'Resultados Gerais'!$B8:$R1048576,11,0)","v":10},{"$f":"VLOOKUP($D65,'Resultados Gerais'!$B8:$R1048576,12,0)","v":19},{"$f":"VLOOKUP($D65,'Resultados Gerais'!$B8:$R1048576,13,0)","v":6},{"$f":"VLOOKUP($D65,'Resultados Gerais'!$B8:$R1048576,14,0)","v":9},{"$f":"VLOOKUP($D65,'Resultados Gerais'!$B8:$R1048576,15,0)","v":8},{"$f":"VLOOKUP($D65,'Resultados Gerais'!$B8:$R1048576,16,0)","v":23},{"$f":"VLOOKUP($D65,'Resultados Gerais'!$B8:$R1048576,17,0)","v":16}]
[54,null,null,{"$f":"COUNT('Resultados Gerais'!B8:B1048576)-A66","v":1027},{"$f":"VLOOKUP(D66,'Resultados Gerais'!B8:C1048576,2,0)","v":"2014-03-07"},{"$f":"VLOOKUP($D66,'Resultados Gerais'!$B8:$R1048576,3,0)","v":10},{"$f":"VLOOKUP($D66,'Resultados Gerais'!$B8:$R1048576,4,0)","v":14},{"$f":"VLOOKUP($D66,'Resultados Gerais'!$B8:$R1048576,5,0)","v":19},{"$f":"VLOOKUP($D66,'Resultados Gerais'!$B8:$R1048576,6,0)","v":1},{"$f":"VLOOKUP($D66,'Resultados Gerais'!$B8:$R1048576,7,0)","v":16},{"$f":"VLOOKUP($D66,'Resultados Gerais'!$B8:$R1048576,8,0)","v":9},{"$f":"VLOOKUP($D66,'Resultados Gerais'!$B8:$R1048576,9,0)","v":25},{"$f":"VLOOKUP($D66,'Resultados Gerais'!$B8:$R1048576,10,0)","v":15},{"$f":"VLOOKUP($D66,'Resultados Gerais'!$B8:$R1048576,11,0)","v":6},{"$f":"VLOOKUP($D66,'Resultados Gerais'!$B8:$R1048576,12,0)","v":5},{"$f":"VLOOKUP($D66,'Resultados Gerais'!$B8:$R1048576,13,0)","v":12},{"$f":"VLOOKUP($D66,'Resultados Gerais'!$B8:$R1048576,14,0)","v":3},{"$f":"VLOOKUP($D66,'Resultados Gerais'!$B8:$R1048576,15,0)","v":8},{"$f":"VLOOKUP($D66,'Resultados Gerais'!$B8:$R1048576,16,0)","v":21},{"$f":"VLOOKUP($D66,'Resultados Gerais'!$B8:$R1048576,17,0)","v":23}]
[55,null,null,{"$f":"COUNT('Resultados Gerais'!B8:B1048576)-A67","v":1026},{"$f":"VLOOKUP(D67,'Resultados Gerais'!B8:C1048576,2,0)","v":"2014-03-05"},{"$f":"VLOOKUP($D67,'Resultados Gerais'!$B8:$R1048576,3,0)","v":1},{"$f":"VLOOKUP($D67,'Resultados Gerais'!$B8:$R1048576,4,0)","v":6},{"$f":"VLOOKUP($D67,'Resultados Gerais'!$B8:$R1048576,5,0)","v":7},{"$f":"VLOOKUP($D67,'Resultados Gerais'!$B8:$R1048576,6,0)","v":12},{"$f":"VLOOKUP($D67,'Resultados Gerais'!$B8:$R1048576,7,0)","v":19},{"$f":"VLOOKUP($D67,'Resultados Gerais'!$B8:$R1048576,8,0)","v":11},{"$f":"VLOOKUP($D67,'Resultados Gerais'!$B8:$R1048576,9,0)","v":20},{"$f":"VLOOKUP($D67,'Resultados Gerais'!$B8:$R1048576,10,0)","v":16},{"$f":"VLOOKUP($D67,'Resultados Gerais'!$B8:$R1048576,11,0)","v":24},{"$f":"VLOOKUP($D67,'Resultados Gerais'!$B8:$R1048576,12,0)","v":18},{"$f":"VLOOKUP($D67,'Resultados Gerais'!$B8:$R1048576,13,0)","v":14},{"$f":"VLOOKUP($D67,'Resultados Gerais'!$B8:$R1048576,14,0)","v":23},{"$f":"VLOOKUP($D67,'Resultados Gerais'!$B8:$R1048576,15,0)","v":5},{"$f":"VLOOKUP($D67,'Resultados Gerais'!$B8:$R1048576,16,0)","v":15},{"$f":"VLOOKUP($D67,'Resultados Gerais'!$B8:$R1048576,17,0)","v":21}]
[56,null,null,{"$f":"COUNT('Resultados Gerais'!B8:B1048576)-A68","v":1025},{"$f":"VLOOKUP(D68,'Resultados Gerais'!B8:C1048576,2,0)","v":"2014-02-28"},{"$f":"VLOOKUP($D68,'Resultados Gerais'!$B8:$R1048576,3,0)","v":16},{"$f":"VLOOKUP($D68,'Resultados Gerais'!$B8:$R1048576,4,0)","v":11},{"$f":"VLOOKUP($D68,'Resultados Gerais'!$B8:$R1048576,5,0)","v":9},{"$f":"VLOOKUP($D68,'Resultados Gerais'!$B8:$R1048576,6,0)","v":22},{"$f":"VLOOKUP($D68,'Resultados Gerais'!$B8:$R1048576,7,0)","v":1},{"$f":"VLOOKUP($D68,'Resultados Gerais'!$B8:$R1048576,8,0)","v":13},{"$f":"VLOOKUP($D68,'Resultados Gerais'!$B8:$R1048576,9,0)","v":19},{"$f":"VLOOKUP($D68,'Resultados Gerais'!$B8:$R1048576,10,0)","v":14},{"$f":"VLOOKUP($D68,'Resultados Gerais'!$B8:$R1048576,11,0)","v":25},{"$f":"VLOOKUP($D68,'Resultados Gerais'!$B8:$R1048576,12,0)","v":7},{"$f":"VLOOKUP($D68,'Resultados Gerais'!$B8:$R1048576,13,0)","v":18},{"$f":"VLOOKUP($D68,'Resultados Gerais'!$B8:$R1048576,14,0)","v":17},{"$f":"VLOOKUP($D68,'Resultados Gerais'!$B8:$R1048576,15,0)","v":2},{"$f":"VLOOKUP($D68,'Resultados Gerais'!$B8:$R1048576,16,0)","v":15},{"$f":"VLOOKUP($D68,'Resultados Gerais'!$B8:$R1048576,17,0)","v":23}]
[57,null,null,{"$f":"COUNT('Resultados Gerais'!B8:B1048576)-A69","v":1024},{"$f":"VLOOKUP(D69,'Resultados Gerais'!B8:C1048576,2,0)","v":"2014-02-26"},{"$f":"VLOOKUP($D69,'Resultados Gerais'!$B8:$R1048576,3,0)","v":7},{"$f":"VLOOKUP($D69,'Resultados Gerais'!$B8:$R1048576,4,0)","v":2},{"$f":"VLOOKUP($D69,'Resultados Gerais'!$B8:$R1048576,5,0)","v":23},{"$f":"VLOOKUP($D69,'Resultados Gerais'!$B8:$R1048576,6,0)","v":4},{"$f":"VLOOKUP($D69,'Resultados Gerais'!$B8:$R1048576,7,0)","v":14},{"$f":"VLOOKUP($D69,'Resultados Gerais'!$B8:$R1048576,8,0)","v":13},{"$f":"VLOOKUP($D69,'Resultados Gerais'!$B8:$R1048576,9,0)","v":20},{"$f":"VLOOKUP($D69,'Resultados Gerais'!$B8:$R1048576,10,0)","v":17},{"$f":"VLOOKUP($D69,'Resultados Gerais'!$B8:$R1048576,11,0)","v":10},{"$f":"VLOOKUP($D69,'Resultados Gerais'!$B8:$R1048576,12,0)","v":9},{"$f":"VLOOKUP($D69,'Resultados Gerais'!$B8:$R1048576,13,0)","v":12},{"$f":"VLOOKUP($D69,'Resultados Gerais'!$B8:$R1048576,14,0)","v":22},{"$f":"VLOOKUP($D69,'Resultados Gerais'!$B8:$R1048576,15,0)","v":11},{"$f":"VLOOKUP($D69,'Resultados Gerais'!$B8:$R1048576,16,0)","v":21},{"$f":"VLOOKUP($D69,'Resultados Gerais'!$B8:$R1048576,17,0)","v":1}]
[58,null,null,{"$f":"COUNT('Resultados Gerais'!B8:B1048576)-A70","v":1023},{"$f":"VLOOKUP(D70,'Resultados Gerais'!B8:C1048576,2,0)","v":"2014-02-24"},{"$f":"VLOOKUP($D70,'Resultados Gerais'!$B8:$R1048576,3,0)","v":21},{"$f":"VLOOKUP($D70,'Resultados Gerais'!$B8:$R1048576,4,0)","v":18},{"$f":"VLOOKUP($D70,'Resultados Gerais'!$B8:$R1048576,5,0)","v":9},{"$f":"VLOOKUP($D70,'Resultados Gerais'!$B8:$R1048576,6,0)","v":11},{"$f":"VLOOKUP($D70,'Resultados Gerais'!$B8:$R1048576,7,0)","v":16},{"$f":"VLOOKUP($D70,'Resultados Gerais'!$B8:$R1048576,8,0)","v":14},{"$f":"VLOOKUP($D70,'Resultados Gerais'!$B8:$R1048576,9,0)","v":8},{"$f":"VLOOKUP($D70,'Resultados Gerais'!$B8:$R1048576,10,0)","v":23},{"$f":"VLOOKUP($D70,'Resultados Gerais'!$B8:$R1048576,11,0)","v":6},{"$f":"VLOOKUP($D70,'Resultados Gerais'!$B8:$R1048576,12,0)","v":22},{"$f":"VLOOKUP($D70,'Resultados Gerais'!$B8:$R1048576,13,0)","v":3},{"$f":"VLOOKUP($D70,'Resultados Gerais'!$B8:$R1048576,14,0)","v":7},{"$f":"VLOOKUP($D70,'Resultados Gerais'!$B8:$R1048576,15,0)","v":13},{"$f":"VLOOKUP($D70,'Resultados Gerais'!$B8:$R1048576,16,0)","v":2},{"$f":"VLOOKUP($D70,'Resultados Gerais'!$B8:$R1048576,17,0)","v":1}]
[59,null,null,{"$f":"COUNT('Resultados Gerais'!B8:B1048576)-A71","v":1022},{"$f":"VLOOKUP(D71,'Resultados Gerais'!B8:C1048576,2,0)","v":"2014-02-21"},{"$f":"VLOOKUP($D71,'Resultados Gerais'!$B8:$R1048576,3,0)","v":25},{"$f":"VLOOKUP($D71,'Resultados Gerais'!$B8:$R1048576,4,0)","v":9},{"$f":"VLOOKUP($D71,'Resultados Gerais'!$B8:$R1048576,5,0)","v":10},{"$f":"VLOOKUP($D71,'Resultados Gerais'!$B8:$R1048576,6,0)","v":21},{"$f":"VLOOKUP($D71,'Resultados Gerais'!$B8:$R1048576,7,0)","v":3},{"$f":"VLOOKUP($D71,'Resultados Gerais'!$B8:$R1048576,8,0)","v":22},{"$f":"VLOOKUP($D71,'Resultados Gerais'!$B8:$R1048576,9,0)","v":18},{"$f":"VLOOKUP($D71,'Resultados Gerais'!$B8:$R1048576,10,0)","v":5},{"$f":"VLOOKUP($D71,'Resultados Gerais'!$B8:$R1048576,11,0)","v":16},{"$f":"VLOOKUP($D71,'Resultados Gerais'!$B8:$R1048576,12,0)","v":7},{"$f":"VLOOKUP($D71,'Resultados Gerais'!$B8:$R1048576,13,0)","v":8},{"$f":"VLOOKUP($D71,'Resultados Gerais'!$B8:$R1048576,14,0)","v":4},{"$f":"VLOOKUP($D71,'Resultados Gerais'!$B8:$R1048576,15,0)","v":24},{"$f":"VLOOKUP($D71,'Resultados Gerais'!$B8:$R1048576,16,0)","v":1},{"$f":"VLOOKUP($D71,'Resultados Gerais'!$B8:$R1048576,17,0)","v":14}]
[60,null,null,{"$f":"COUNT('Resultados Gerais'!B8:B1048576)-A72","v":1021},{"$f":"VLOOKUP(D72,'Resultados Gerais'!B8:C1048576,2,0)","v":"2014-02-19"},{"$f":"VLOOKUP($D72,'Resultados Gerais'!$B8:$R1048576,3,0)","v":1},{"$f":"VLOOKUP($D72,'Resultados Gerais'!$B8:$R1048576,4,0)","v":21},{"$f":"VLOOKUP($D72,'Resultados Gerais'!$B8:$R1048576,5,0)","v":20},{"$f":"VLOOKUP($D72,'Resultados Gerais'!$B8:$R1048576,6,0)","v":13},{"$f":"VLOOKUP($D72,'Resultados Gerais'!$B8:$R1048576,7,0)","v":9},{"$f":"VLOOKUP($D72,'Resultados Gerais'!$B8:$R1048576,8,0)","v":6},{"$f":"VLOOKUP($D72,'Resultados Gerais'!$B8:$R1048576,9,0)","v":14},{"$f":"VLOOKUP($D72,'Resultados Gerais'!$B8:$R1048576,10,0)","v":22},{"$f":"VLOOKUP($D72,'Resultados Gerais'!$B8:$R1048576,11,0)","v":15},{"$f":"VLOOKUP($D72,'Resultados Gerais'!$B8:$R1048576,12,0)","v":18},{"$f":"VLOOKUP($D72,'Resultados Gerais'!$B8:$R1048576,13,0)","v":5},{"$f":"VLOOKUP($D72,'Resultados Gerais'!$B8:$R1048576,14,0)","v":16},{"$f":"VLOOKUP($D72,'Resultados Gerais'!$B8:$R1048576,15,0)","v":10},{"$f":"VLOOKUP($D72,'Resultados Gerais'!$B8:$R1048576,16,0)","v":19},{"$f":"VLOOKUP($D72,'Resultados Gerais'!$B8:$R1048576,17,0)","v":23}]
[61,null,null,{"$f":"COUNT('Resultados Gerais'!B8:B1048576)-A73","v":1020},{"$f":"VLOOKUP(D73,'Resultados Gerais'!B8:C1048576,2,0)","v":"2014-02-17"},{"$f":"VLOOKUP($D73,'Resultados Gerais'!$B8:$R1048576,3,0)","v":7},{"$f":"VLOOKUP($D73,'Resultados Gerais'!$B8:$R1048576,4,0)","v":12},{"$f":"VLOOKUP($D73,'Resultados Gerais'!$B8:$R1048576,5,0)","v":20},{"$f":"VLOOKUP($D73,'Resultados Gerais'!$B8:$R1048576,6,0)","v":21},{"$f":"VLOOKUP($D73,'Resultados Gerais'!$B8:$R1048576,7,0)","v":18},{"$f":"VLOOKUP($D73,'Resultados Gerais'!$B8:$R1048576,8,0)","v":9},{"$f":"VLOOKUP($D73,'Resultados Gerais'!$B8:$R1048576,9,0)","v":5},{"$f":"VLOOKUP($D73,'Resultados Gerais'!$B8:$R1048576,10,0)","v":2},{"$f":"VLOOKUP($D73,'Resultados Gerais'!$B8:$R1048576,11,0)","v":15},{"$f":"VLOOKUP($D73,'Resultados Gerais'!$B8:$R1048576,12,0)","v":24},{"$f":"VLOOKUP($D73,'Resultados Gerais'!$B8:$R1048576,13,0)","v":3},{"$f":"VLOOKUP($D73,'Resultados Gerais'!$B8:$R1048576,14,0)","v":19},{"$f":"VLOOKUP($D73,'Resultados Gerais'!$B8:$R1048576,15,0)","v":11},{"$f":"VLOOKUP($D73,'Resultados Gerais'!$B8:$R1048576,16,0)","v":16},{"$f":"VLOOKUP($D73,'Resultados Gerais'!$B8:$R1048576,17,0)","v":13}]
[62,null,null,{"$f":"COUNT('Resultados Gerais'!B8:B1048576)-A74","v":1019},{"$f":"VLOOKUP(D74,'Resultados Gerais'!B8:C1048576,2,0)","v":"2014-02-14"},{"$f":"VLOOKUP($D74,'Resultados Gerais'!$B8:$R1048576,3,0)","v":22},{"$f":"VLOOKUP($D74,'Resultados Gerais'!$B8:$R1048576,4,0)","v":3},{"$f":"VLOOKUP($D74,'Resultados Gerais'!$B8:$R1048576,5,0)","v":18},{"$f":"VLOOKUP($D74,'Resultados Gerais'!$B8:$R1048576,6,0)","v":8},{"$f":"VLOOKUP($D74,'Resultados Gerais'!$B8:$R1048576,7,0)","v":12},{"$f":"VLOOKUP($D74,'Resultados Gerais'!$B8:$R1048576,8,0)","v":20},{"$f":"VLOOKUP($D74,'Resultados Gerais'!$B8:$R1048576,9,0)","v":7},{"$f":"VLOOKUP($D74,'Resultados Gerais'!$B8:$R1048576,10,0)","v":5},{"$f":"VLOOKUP($D74,'Resultados Gerais'!$B8:$R1048576,11,0)","v":21},{"$f":"VLOOKUP($D74,'Resultados Gerais'!$B8:$R1048576,12,0)","v":2},{"$f":"VLOOKUP($D74,'Resultados Gerais'!$B8:$R1048576,13,0)","v":4},{"$f":"VLOOKUP($D74,'Resultados Gerais'!$B8:$R1048576,14,0)","v":17},{"$f":"VLOOKUP($D74,'Resultados Gerais'!$B8:$R1048576,15,0)","v":23},{"$f":"VLOOKUP($D74,'Resultados Gerais'!$B8:$R1048576,16,0)","v":1},{"$f":"VLOOKUP($D74,'Resultados Gerais'!$B8:$R1048576,17,0)","v":10}]
[63,null,null,{"$f":"COUNT('Resultados Gerais'!B8:B1048576)-A75","v":1018},{"$f":"VLOOKUP(D75,'Resultados Gerais'!B8:C1048576,2,0)","v":"2014-02-12"},{"$f":"VLOOKUP($D75,'Resultados Gerais'!$B8:$R1048576,3,0)","v":11},{"$f":"VLOOKUP($D75,'Resultados Gerais'!$B8:$R1048576,4,0)","v":17},{"$f":"VLOOKUP($D75,'Resultados Gerais'!$B8:$R1048576,5,0)","v":2},{"$f":"VLOOKUP($D75,'Resultados Gerais'!$B8:$R1048576,6,0)","v":19},{"$f":"VLOOKUP($D75,'Resultados Gerais'!$B8:$R1048576,7,0)","v":18},{"$f":"VLOOKUP($D75,'Resultados Gerais'!$B8:$R1048576,8,0)","v":7},{"$f":"VLOOKUP($D75,'Resultados Gerais'!$B8:$R1048576,9,0)","v":5},{"$f":"VLOOKUP($D75,'Resultados Gerais'!$B8:$R1048576,10,0)","v":10},{"$f":"VLOOKUP($D75,'Resultados Gerais'!$B8:$R1048576,11,0)","v":8},{"$f":"VLOOKUP($D75,'Resultados Gerais'!$B8:$R1048576,12,0)","v":16},{"$f":"VLOOKUP($D75,'Resultados Gerais'!$B8:$R1048576,13,0)","v":14},{"$f":"VLOOKUP($D75,'Resultados Gerais'!$B8:$R1048576,14,0)","v":22},{"$f":"VLOOKUP($D75,'Resultados Gerais'!$B8:$R1048576,15,0)","v":12},{"$f":"VLOOKUP($D75,'Resultados Gerais'!$B8:$R1048576,16,0)","v":24},{"$f":"VLOOKUP($D75,'Resultados Gerais'!$B8:$R1048576,17,0)","v":4}]
[64,null,null,{"$f":"COUNT('Resultados Gerais'!B8:B1048576)-A76","v":1017},{"$f":"VLOOKUP(D76,'Resultados Gerais'!B8:C1048576,2,0)","v":"2014-02-10"},{"$f":"VLOOKUP($D76,'Resultados Gerais'!$B8:$R1048576,3,0)","v":21},{"$f":"VLOOKUP($D76,'Resultados Gerais'!$B8:$R1048576,4,0)","v":4},{"$f":"VLOOKUP($D76,'Resultados Gerais'!$B8:$R1048576,5,0)","v":16},{"$f":"VLOOKUP($D76,'Resultados Gerais'!$B8:$R1048576,6,0)","v":10},{"$f":"VLOOKUP($D76,'Resultados Gerais'!$B8:$R1048576,7,0)","v":9},{"$f":"VLOOKUP($D76,'Resultados Gerais'!$B8:$R1048576,8,0)","v":3},{"$f":"VLOOKUP($D76,'Resultados Gerais'!$B8:$R1048576,9,0)","v":2},{"$f":"VLOOKUP($D76,'Resultados Gerais'!$B8:$R1048576,10,0)","v":19},{"$f":"VLOOKUP($D76,'Resultados Gerais'!$B8:$R1048576,11,0)","v":8},{"$f":"VLOOKUP($D76,'Resultados Gerais'!$B8:$R1048576,12,0)","v":11},{"$f":"VLOOKUP($D76,'Resultados Gerais'!$B8:$R1048576,13,0)","v":12},{"$f":"VLOOKUP($D76,'Resultados Gerais'!$B8:$R1048576,14,0)","v":17},{"$f":"VLOOKUP($D76,'Resultados Gerais'!$B8:$R1048576,15,0)","v":23},{"$f":"VLOOKUP($D76,'Resultados Gerais'!$B8:$R1048576,16,0)","v":1},{"$f":"VLOOKUP($D76,'Resultados Gerais'!$B8:$R1048576,17,0)","v":15}]
[65,null,null,{"$f":"COUNT('Resultados Gerais'!B8:B1048576)-A77","v":1016},{"$f":"VLOOKUP(D77,'Resultados Gerais'!B8:C1048576,2,0)","v":"2014-02-07"},{"$f":"VLOOKUP($D77,'Resultados Gerais'!$B8:$R1048576,3,0)","v":15},{"$f":"VLOOKUP($D77,'Resultados Gerais'!$B8:$R1048576,4,0)","v":3},{"$f":"VLOOKUP($D77,'Resultados Gerais'!$B8:$R1048576,5,0)","v":19},{"$f":"VLOOKUP($D77,'Resultados Gerais'!$B8:$R1048576,6,0)","v":20},{"$f":"VLOOKUP($D77,'Resultados Gerais'!$B8:$R1048576,7,0)","v":25},{"$f":"VLOOKUP($D77,'Resultados Gerais'!$B8:$R1048576,8,0)","v":2},{"$f":"VLOOKUP($D77,'Resultados Gerais'!$B8:$R1048576,9,0)","v":21},{"$f":"VLOOKUP($D77,'Resultados Gerais'!$B8:$R1048576,10,0)","v":23},{"$f":"VLOOKUP($D77,'Resultados Gerais'!$B8:$R1048576,11,0)","v":1},{"$f":"VLOOKUP($D77,'Resultados Gerais'!$B8:$R1048576,12,0)","v":12},{"$f":"VLOOKUP($D77,'Resultados Gerais'!$B8:$R1048576,13,0)","v":6},{"$f":"VLOOKUP($D77,'Resultados Gerais'!$B8:$R1048576,14,0)","v":14},{"$f":"VLOOKUP($D77,'Resultados Gerais'!$B8:$R1048576,15,0)","v":5},{"$f":"VLOOKUP($D77,'Resultados Gerais'!$B8:$R1048576,16,0)","v":11},{"$f":"VLOOKUP($D77,'Resultados Gerais'!$B8:$R1048576,17,0)","v":16}]
[66,null,null,{"$f":"COUNT('Resultados Gerais'!B8:B1048576)-A78","v":1015},{"$f":"VLOOKUP(D78,'Resultados Gerais'!B8:C1048576,2,0)","v":"2014-02-05"},{"$f":"VLOOKUP($D78,'Resultados Gerais'!$B8:$R1048576,3,0)","v":3},{"$f":"VLOOKUP($D78,'Resultados Gerais'!$B8:$R1048576,4,0)","v":23},{"$f":"VLOOKUP($D78,'Resultados Gerais'!$B8:$R1048576,5,0)","v":18},{"$f":"VLOOKUP($D78,'Resultados Gerais'!$B8:$R1048576,6,0)","v":13},{"$f":"VLOOKUP($D78,'Resultados Gerais'!$B8:$R1048576,7,0)","v":17},{"$f":"VLOOKUP($D78,'Resultados Gerais'!$B8:$R1048576,8,0)","v":21},{"$f":"VLOOKUP($D78,'Resultados Gerais'!$B8:$R1048576,9,0)","v":1},{"$f":"VLOOKUP($D78,'Resultados Gerais'!$B8:$R1048576,10,0)","v":7},{"$f":"VLOOKUP($D78,'Resultados Gerais'!$B8:$R1048576,11,0)","v":2},{"$f":"VLOOKUP($D78,'Resultados Gerais'!$B8:$R1048576,12,0)","v":5},{"$f":"VLOOKUP($D78,'Resultados Gerais'!$B8:$R1048576,13,0)","v":15},{"$f":"VLOOKUP($D78,'Resultados Gerais'!$B8:$R1048576,14,0)","v":8},{"$f":"VLOOKUP($D78,'Resultados Gerais'!$B8:$R1048576,15,0)","v":20},{"$f":"VLOOKUP($D78,'Resultados Gerais'!$B8:$R1048576,16,0)","v":16},{"$f":"VLOOKUP($D78,'Resultados Gerais'!$B8:$R1048576,17,0)","v":6}]
[67,null,null,{"$f":"COUNT('Resultados Gerais'!B8:B1048576)-A79","v":1014},{"$f":"VLOOKUP(D79,'Resultados Gerais'!B8:C1048576,2,0)","v":"2014-02-03"},{"$f":"VLOOKUP($D79,'Resultados Gerais'!$B8:$R1048576,3,0)","v":13},{"$f":"VLOOKUP($D79,'Resultados Gerais'!$B8:$R1048576,4,0)","v":24},{"$f":"VLOOKUP($D79,'Resultados Gerais'!$B8:$R1048576,5,0)","v":14},{"$f":"VLOOKUP($D79,'Resultados Gerais'!$B8:$R1048576,6,0)","v":10},{"$f":"VLOOKUP($D79,'Resultados Gerais'!$B8:$R1048576,7,0)","v":25},{"$f":"VLOOKUP($D79,'Resultados Gerais'!$B8:$R1048576,8,0)","v":9},{"$f":"VLOOKUP($D79,'Resultados Gerais'!$B8:$R1048576,9,0)","v":2},{"$f":"VLOOKUP($D79,'Resultados Gerais'!$B8:$R1048576,10,0)","v":8},{"$f":"VLOOKUP($D79,'Resultados Gerais'!$B8:$R1048576,11,0)","v":1},{"$f":"VLOOKUP($D79,'Resultados Gerais'!$B8:$R1048576,12,0)","v":18},{"$f":"VLOOKUP($D79,'Resultados Gerais'!$B8:$R1048576,13,0)","v":12},{"$f":"VLOOKUP($D79,'Resultados Gerais'!$B8:$R1048576,14,0)","v":23},{"$f":"VLOOKUP($D79,'Resultados Gerais'!$B8:$R1048576,15,0)","v":17},{"$f":"VLOOKUP($D79,'Resultados Gerais'!$B8:$R1048576,16,0)","v":22},{"$f":"VLOOKUP($D79,'Resultados Gerais'!$B8:$R1048576,17,0)","v":20}]
[68,null,null,{"$f":"COUNT('Resultados Gerais'!B8:B1048576)-A80","v":1013},{"$f":"VLOOKUP(D80,'Resultados Gerais'!B8:C1048576,2,0)","v":"2014-01-31"},{"$f":"VLOOKUP($D80,'Resultados Gerais'!$B8:$R1048576,3,0)","v":7},{"$f":"VLOOKUP($D80,'Resultados Gerais'!$B8:$R1048576,4,0)","v":18},{"$f":"VLOOKUP($D80,'Resultados Gerais'!$B8:$R1048576,5,0)","v":1},{"$f":"VLOOKUP($D80,'Resultados Gerais'!$B8:$R1048576,6,0)","v":4},{"$f":"VLOOKUP($D80,'Resultados Gerais'!$B8:$R1048576,7,0)","v":20},{"$f":"VLOOKUP($D80,'Resultados Gerais'!$B8:$R1048576,8,0)","v":17},{"$f":"VLOOKUP($D80,'Resultados Gerais'!$B8:$R1048576,9,0)","v":3},{"$f":"VLOOKUP($D80,'Resultados Gerais'!$B8:$R1048576,10,0)","v":19},{"$f":"VLOOKUP($D80,'Resultados Gerais'!$B8:$R1048576,11,0)","v":11},{"$f":"VLOOKUP($D80,'Resultados Gerais'!$B8:$R1048576,12,0)","v":21},{"$f":"VLOOKUP($D80,'Resultados Gerais'!$B8:$R1048576,13,0)","v":13},{"$f":"VLOOKUP($D80,'Resultados Gerais'!$B8:$R1048576,14,0)","v":23},{"$f":"VLOOKUP($D80,'Resultados Gerais'!$B8:$R1048576,15,0)","v":10},{"$f":"VLOOKUP($D80,'Resultados Gerais'!$B8:$R1048576,16,0)","v":2},{"$f":"VLOOKUP($D80,'Resultados Gerais'!$B8:$R1048576,17,0)","v":5}]
[69,null,null,{"$f":"COUNT('Resultados Gerais'!B8:B1048576)-A81","v":1012},{"$f":"VLOOKUP(D81,'Resultados Gerais'!B8:C1048576,2,0)","v":"2014-01-29"},{"$f":"VLOOKUP($D81,'Resultados Gerais'!$B8:$R1048576,3,0)","v":16},{"$f":"VLOOKUP($D81,'Resultados Gerais'!$B8:$R1048576,4,0)","v":17},{"$f":"VLOOKUP($D81,'Resultados Gerais'!$B8:$R1048576,5,0)","v":1},{"$f":"VLOOKUP($D81,'Resultados Gerais'!$B8:$R1048576,6,0)","v":25},{"$f":"VLOOKUP($D81,'Resultados Gerais'!$B8:$R1048576,7,0)","v":7},{"$f":"VLOOKUP($D81,'Resultados Gerais'!$B8:$R1048576,8,0)","v":15},{"$f":"VLOOKUP($D81,'Resultados Gerais'!$B8:$R1048576,9,0)","v":12},{"$f":"VLOOKUP($D81,'Resultados Gerais'!$B8:$R1048576,10,0)","v":24},{"$f":"VLOOKUP($D81,'Resultados Gerais'!$B8:$R1048576,11,0)","v":18},{"$f":"VLOOKUP($D81,'Resultados Gerais'!$B8:$R1048576,12,0)","v":9},{"$f":"VLOOKUP($D81,'Resultados Gerais'!$B8:$R1048576,13,0)","v":11},{"$f":"VLOOKUP($D81,'Resultados Gerais'!$B8:$R1048576,14,0)","v":21},{"$f":"VLOOKUP($D81,'Resultados Gerais'!$B8:$R1048576,15,0)","v":14},{"$f":"VLOOKUP($D81,'Resultados Gerais'!$B8:$R1048576,16,0)","v":2},{"$f":"VLOOKUP($D81,'Resultados Gerais'!$B8:$R1048576,17,0)","v":22}]
[70,null,null,{"$f":"COUNT('Resultados Gerais'!B8:B1048576)-A82","v":1011},{"$f":"VLOOKUP(D82,'Resultados Gerais'!B8:C1048576,2,0)","v":"2014-01-27"},{"$f":"VLOOKUP($D82,'Resultados Gerais'!$B8:$R1048576,3,0)","v":4},{"$f":"VLOOKUP($D82,'Resultados Gerais'!$B8:$R1048576,4,0)","v":19},{"$f":"VLOOKUP($D82,'Resultados Gerais'!$B8:$R1048576,5,0)","v":9},{"$f":"VLOOKUP($D82,'Resultados Gerais'!$B8:$R1048576,6,0)","v":25},{"$f":"VLOOKUP($D82,'Resultados Gerais'!$B8:$R1048576,7,0)","v":18},{"$f":"VLOOKUP($D82,'Resultados Gerais'!$B8:$R1048576,8,0)","v":10},{"$f":"VLOOKUP($D82,'Resultados Gerais'!$B8:$R1048576,9,0)","v":17},{"$f":"VLOOKUP($D82,'Resultados Gerais'!$B8:$R1048576,10,0)","v":7},{"$f":"VLOOKUP($D82,'Resultados Gerais'!$B8:$R1048576,11,0)","v":23},{"$f":"VLOOKUP($D82,'Resultados Gerais'!$B8:$R1048576,12,0)","v":3},{"$f":"VLOOKUP($D82,'Resultados Gerais'!$B8:$R1048576,13,0)","v":24},{"$f":"VLOOKUP($D82,'Resultados Gerais'!$B8:$R1048576,14,0)","v":15},{"$f":"VLOOKUP($D82,'Resultados Gerais'!$B8:$R1048576,15,0)","v":1},{"$f":"VLOOKUP($D82,'Resultados Gerais'!$B8:$R1048576,16,0)","v":13},{"$f":"VLOOKUP($D82,'Resultados Gerais'!$B8:$R1048576,17,0)","v":5}]
[71,null,null,{"$f":"COUNT('Resultados Gerais'!B8:B1048576)-A83","v":1010},{"$f":"VLOOKUP(D83,'Resultados Gerais'!B8:C1048576,2,0)","v":"2014-01-24"},{"$f":"VLOOKUP($D83,'Resultados Gerais'!$B8:$R1048576,3,0)","v":11},{"$f":"VLOOKUP($D83,'Resultados Gerais'!$B8:$R1048576,4,0)","v":4},{"$f":"VLOOKUP($D83,'Resultados Gerais'!$B8:$R1048576,5,0)","v":21},{"$f":"VLOOKUP($D83,'Resultados Gerais'!$B8:$R1048576,6,0)","v":8},{"$f":"VLOOKUP($D83,'Resultados Gerais'!$B8:$R1048576,7,0)","v":14},{"$f":"VLOOKUP($D83,'Resultados Gerais'!$B8:$R1048576,8,0)","v":10},{"$f":"VLOOKUP($D83,'Resultados Gerais'!$B8:$R1048576,9,0)","v":1},{"$f":"VLOOKUP($D83,'Resultados Gerais'!$B8:$R1048576,10,0)","v":2},{"$f":"VLOOKUP($D83,'Resultados Gerais'!$B8:$R1048576,11,0)","v":15},{"$f":"VLOOKUP($D83,'Resultados Gerais'!$B8:$R1048576,12,0)","v":19},{"$f":"VLOOKUP($D83,'Resultados Gerais'!$B8:$R1048576,13,0)","v":13},{"$f":"VLOOKUP($D83,'Resultados Gerais'!$B8:$R1048576,14,0)","v":23},{"$f":"VLOOKUP($D83,'Resultados Gerais'!$B8:$R1048576,15,0)","v":6},{"$f":"VLOOKUP($D83,'Resultados Gerais'!$B8:$R1048576,16,0)","v":16},{"$f":"VLOOKUP($D83,'Resultados Gerais'!$B8:$R1048576,17,0)","v":22}]
[72,null,null,{"$f":"COUNT('Resultados Gerais'!B8:B1048576)-A84","v":1009},{"$f":"VLOOKUP(D84,'Resultados Gerais'!B8:C1048576,2,0)","v":"2014-01-22"},{"$f":"VLOOKUP($D84,'Resultados Gerais'!$B8:$R1048576,3,0)","v":9},{"$f":"VLOOKUP($D84,'Resultados Gerais'!$B8:$R1048576,4,0)","v":6},{"$f":"VLOOKUP($D84,'Resultados Gerais'!$B8:$R1048576,5,0)","v":4},{"$f":"VLOOKUP($D84,'Resultados Gerais'!$B8:$R1048576,6,0)","v":12},{"$f":"VLOOKUP($D84,'Resultados Gerais'!$B8:$R1048576,7,0)","v":18},{"$f":"VLOOKUP($D84,'Resultados Gerais'!$B8:$R1048576,8,0)","v":11},{"$f":"VLOOKUP($D84,'Resultados Gerais'!$B8:$R1048576,9,0)","v":24},{"$f":"VLOOKUP($D84,'Resultados Gerais'!$B8:$R1048576,10,0)","v":2},{"$f":"VLOOKUP($D84,'Resultados Gerais'!$B8:$R1048576,11,0)","v":10},{"$f":"VLOOKUP($D84,'Resultados Gerais'!$B8:$R1048576,12,0)","v":20},{"$f":"VLOOKUP($D84,'Resultados Gerais'!$B8:$R1048576,13,0)","v":17},{"$f":"VLOOKUP($D84,'Resultados Gerais'!$B8:$R1048576,14,0)","v":14},{"$f":"VLOOKUP($D84,'Resultados Gerais'!$B8:$R1048576,15,0)","v":22},{"$f":"VLOOKUP($D84,'Resultados Gerais'!$B8:$R1048576,16,0)","v":19},{"$f":"VLOOKUP($D84,'Resultados Gerais'!$B8:$R1048576,17,0)","v":15}]
[73,null,null,{"$f":"COUNT('Resultados Gerais'!B8:B1048576)-A85","v":1008},{"$f":"VLOOKUP(D85,'Resultados Gerais'!B8:C1048576,2,0)","v":"2014-01-20"},{"$f":"VLOOKUP($D85,'Resultados Gerais'!$B8:$R1048576,3,0)","v":19},{"$f":"VLOOKUP($D85,'Resultados Gerais'!$B8:$R1048576,4,0)","v":12},{"$f":"VLOOKUP($D85,'Resultados Gerais'!$B8:$R1048576,5,0)","v":13},{"$f":"VLOOKUP($D85,'Resultados Gerais'!$B8:$R1048576,6,0)","v":7},{"$f":"VLOOKUP($D85,'Resultados Gerais'!$B8:$R1048576,7,0)","v":6},{"$f":"VLOOKUP($D85,'Resultados Gerais'!$B8:$R1048576,8,0)","v":18},{"$f":"VLOOKUP($D85,'Resultados Gerais'!$B8:$R1048576,9,0)","v":3},{"$f":"VLOOKUP($D85,'Resultados Gerais'!$B8:$R1048576,10,0)","v":16},{"$f":"VLOOKUP($D85,'Resultados Gerais'!$B8:$R1048576,11,0)","v":10},{"$f":"VLOOKUP($D85,'Resultados Gerais'!$B8:$R1048576,12,0)","v":8},{"$f":"VLOOKUP($D85,'Resultados Gerais'!$B8:$R1048576,13,0)","v":22},{"$f":"VLOOKUP($D85,'Resultados Gerais'!$B8:$R1048576,14,0)","v":17},{"$f":"VLOOKUP($D85,'Resultados Gerais'!$B8:$R1048576,15,0)","v":9},{"$f":"VLOOKUP($D85,'Resultados Gerais'!$B8:$R1048576,16,0)","v":1},{"$f":"VLOOKUP($D85,'Resultados Gerais'!$B8:$R1048576,17,0)","v":21}]
[74,null,null,{"$f":"COUNT('Resultados Gerais'!B8:B1048576)-A86","v":1007},{"$f":"VLOOKUP(D86,'Resultados Gerais'!B8:C1048576,2,0)","v":"2014-01-17"},{"$f":"VLOOKUP($D86,'Resultados Gerais'!$B8:$R1048576,3,0)","v":24},{"$f":"VLOOKUP($D86,'Resultados Gerais'!$B8:$R1048576,4,0)","v":6},{"$f":"VLOOKUP($D86,'Resultados Gerais'!$B8:$R1048576,5,0)","v":2},{"$f":"VLOOKUP($D86,'Resultados Gerais'!$B8:$R1048576,6,0)","v":20},{"$f":"VLOOKUP($D86,'Resultados Gerais'!$B8:$R1048576,7,0)","v":11},{"$f":"VLOOKUP($D86,'Resultados Gerais'!$B8:$R1048576,8,0)","v":25},{"$f":"VLOOKUP($D86,'Resultados Gerais'!$B8:$R1048576,9,0)","v":9},{"$f":"VLOOKUP($D86,'Resultados Gerais'!$B8:$R1048576,10,0)","v":3},{"$f":"VLOOKUP($D86,'Resultados Gerais'!$B8:$R1048576,11,0)","v":12},{"$f":"VLOOKUP($D86,'Resultados Gerais'!$B8:$R1048576,12,0)","v":7},{"$f":"VLOOKUP($D86,'Resultados Gerais'!$B8:$R1048576,13,0)","v":22},{"$f":"VLOOKUP($D86,'Resultados Gerais'!$B8:$R1048576,14,0)","v":1},{"$f":"VLOOKUP($D86,'Resultados Gerais'!$B8:$R1048576,15,0)","v":23},{"$f":"VLOOKUP($D86,'Resultados Gerais'!$B8:$R1048576,16,0)","v":10},{"$f":"VLOOKUP($D86,'Resultados Gerais'!$B8:$R1048576,17,0)","v":18}]
[75,null,null,{"$f":"COUNT('Resultados Gerais'!B8:B1048576)-A87","v":1006},{"$f":"VLOOKUP(D87,'Resultados Gerais'!B8:C1048576,2,0)","v":"2014-01-15"},{"$f":"VLOOKUP($D87,'Resultados Gerais'!$B8:$R1048576,3,0)","v":4},{"$f":"VLOOKUP($D87,'Resultados Gerais'!$B8:$R1048576,4,0)","v":7},{"$f":"VLOOKUP($D87,'Resultados Gerais'!$B8:$R1048576,5,0)","v":6},{"$f":"VLOOKUP($D87,'Resultados Gerais'!$B8:$R1048576,6,0)","v":5},{"$f":"VLOOKUP($D87,'Resultados Gerais'!$B8:$R1048576,7,0)","v":15},{"$f":"VLOOKUP($D87,'Resultados Gerais'!$B8:$R1048576,8,0)","v":22},{"$f":"VLOOKUP($D87,'Resultados Gerais'!$B8:$R1048576,9,0)","v":13},{"$f":"VLOOKUP($D87,'Resultados Gerais'!$B8:$R1048576,10,0)","v":3},{"$f":"VLOOKUP($D87,'Resultados Gerais'!$B8:$R1048576,11,0)","v":16},{"$f":"VLOOKUP($D87,'Resultados Gerais'!$B8:$R1048576,12,0)","v":23},{"$f":"VLOOKUP($D87,'Resultados Gerais'!$B8:$R1048576,13,0)","v":1},{"$f":"VLOOKUP($D87,'Resultados Gerais'!$B8:$R1048576,14,0)","v":24},{"$f":"VLOOKUP($D87,'Resultados Gerais'!$B8:$R1048576,15,0)","v":20},{"$f":"VLOOKUP($D87,'Resultados Gerais'!$B8:$R1048576,16,0)","v":14},{"$f":"VLOOKUP($D87,'Resultados Gerais'!$B8:$R1048576,17,0)","v":9}]
[76,null,null,{"$f":"COUNT('Resultados Gerais'!B8:B1048576)-A88","v":1005},{"$f":"VLOOKUP(D88,'Resultados Gerais'!B8:C1048576,2,0)","v":"2014-01-13"},{"$f":"VLOOKUP($D88,'Resultados Gerais'!$B8:$R1048576,3,0)","v":21},{"$f":"VLOOKUP($D88,'Resultados Gerais'!$B8:$R1048576,4,0)","v":9},{"$f":"VLOOKUP($D88,'Resultados Gerais'!$B8:$R1048576,5,0)","v":18},{"$f":"VLOOKUP($D88,'Resultados Gerais'!$B8:$R1048576,6,0)","v":20},{"$f":"VLOOKUP($D88,'Resultados Gerais'!$B8:$R1048576,7,0)","v":10},{"$f":"VLOOKUP($D88,'Resultados Gerais'!$B8:$R1048576,8,0)","v":1},{"$f":"VLOOKUP($D88,'Resultados Gerais'!$B8:$R1048576,9,0)","v":14},{"$f":"VLOOKUP($D88,'Resultados Gerais'!$B8:$R1048576,10,0)","v":22},{"$f":"VLOOKUP($D88,'Resultados Gerais'!$B8:$R1048576,11,0)","v":12},{"$f":"VLOOKUP($D88,'Resultados Gerais'!$B8:$R1048576,12,0)","v":19},{"$f":"VLOOKUP($D88,'Resultados Gerais'!$B8:$R1048576,13,0)","v":24},{"$f":"VLOOKUP($D88,'Resultados Gerais'!$B8:$R1048576,14,0)","v":15},{"$f":"VLOOKUP($D88,'Resultados Gerais'!$B8:$R1048576,15,0)","v":16},{"$f":"VLOOKUP($D88,'Resultados Gerais'!$B8:$R1048576,16,0)","v":5},{"$f":"VLOOKUP($D88,'Resultados Gerais'!$B8:$R1048576,17,0)","v":7}]
[77,null,null,{"$f":"COUNT('Resultados Gerais'!B8:B1048576)-A89","v":1004},{"$f":"VLOOKUP(D89,'Resultados Gerais'!B8:C1048576,2,0)","v":"2014-01-10"},{"$f":"VLOOKUP($D89,'Resultados Gerais'!$B8:$R1048576,3,0)","v":12},{"$f":"VLOOKUP($D89,'Resultados Gerais'!$B8:$R1048576,4,0)","v":21},{"$f":"VLOOKUP($D89,'Resultados Gerais'!$B8:$R1048576,5,0)","v":10},{"$f":"VLOOKUP($D89,'Resultados Gerais'!$B8:$R1048576,6,0)","v":3},{"$f":"VLOOKUP($D89,'Resultados Gerais'!$B8:$R1048576,7,0)","v":6},{"$f":"VLOOKUP($D89,'Resultados Gerais'!$B8:$R1048576,8,0)","v":22},{"$f":"VLOOKUP($D89,'Resultados Gerais'!$B8:$R1048576,9,0)","v":15},{"$f":"VLOOKUP($D89,'Resultados Gerais'!$B8:$R1048576,10,0)","v":18},{"$f":"VLOOKUP($D89,'Resultados Gerais'!$B8:$R1048576,11,0)","v":25},{"$f":"VLOOKUP($D89,'Resultados Gerais'!$B8:$R1048576,12,0)","v":19},{"$f":"VLOOKUP($D89,'Resultados Gerais'!$B8:$R1048576,13,0)","v":14},{"$f":"VLOOKUP($D89,'Resultados Gerais'!$B8:$R1048576,14,0)","v":20},{"$f":"VLOOKUP($D89,'Resultados Gerais'!$B8:$R1048576,15,0)","v":2},{"$f":"VLOOKUP($D89,'Resultados Gerais'!$B8:$R1048576,16,0)","v":1},{"$f":"VLOOKUP($D89,'Resultados Gerais'!$B8:$R1048576,17,0)","v":24}]
[78,null,null,{"$f":"COUNT('Resultados Gerais'!B8:B1048576)-A90","v":1003},{"$f":"VLOOKUP(D90,'Resultados Gerais'!B8:C1048576,2,0)","v":"2014-01-09"},{"$f":"VLOOKUP($D90,'Resultados Gerais'!$B8:$R1048576,3,0)","v":1},{"$f":"VLOOKUP($D90,'Resultados Gerais'!$B8:$R1048576,4,0)","v":12},{"$f":"VLOOKUP($D90,'Resultados Gerais'!$B8:$R1048576,5,0)","v":25},{"$f":"VLOOKUP($D90,'Resultados Gerais'!$B8:$R1048576,6,0)","v":3},{"$f":"VLOOKUP($D90,'Resultados Gerais'!$B8:$R1048576,7,0)","v":21},{"$f":"VLOOKUP($D90,'Resultados Gerais'!$B8:$R1048576,8,0)","v":16},{"$f":"VLOOKUP($D90,'Resultados Gerais'!$B8:$R1048576,9,0)","v":10},{"$f":"VLOOKUP($D90,'Resultados Gerais'!$B8:$R1048576,10,0)","v":20},{"$f":"VLOOKUP($D90,'Resultados Gerais'!$B8:$R1048576,11,0)","v":14},{"$f":"VLOOKUP($D90,'Resultados Gerais'!$B8:$R1048576,12,0)","v":17},{"$f":"VLOOKUP($D90,'Resultados Gerais'!$B8:$R1048576,13,0)","v":19},{"$f":"VLOOKUP($D90,'Resultados Gerais'!$B8:$R1048576,14,0)","v":8},{"$f":"VLOOKUP($D90,'Resultados Gerais'!$B8:$R1048576,15,0)","v":2},{"$f":"VLOOKUP($D90,'Resultados Gerais'!$B8:$R1048576,16,0)","v":23},{"$f":"VLOOKUP($D90,'Resultados Gerais'!$B8:$R1048576,17,0)","v":6}]
[79,null,null,{"$f":"COUNT('Resultados Gerais'!B8:B1048576)-A91","v":1002},{"$f":"VLOOKUP(D91,'Resultados Gerais'!B8:C1048576,2,0)","v":"2014-01-06"},{"$f":"VLOOKUP($D91,'Resultados Gerais'!$B8:$R1048576,3,0)","v":22},{"$f":"VLOOKUP($D91,'Resultados Gerais'!$B8:$R1048576,4,0)","v":18},{"$f":"VLOOKUP($D91,'Resultados Gerais'!$B8:$R1048576,5,0)","v":17},{"$f":"VLOOKUP($D91,'Resultados Gerais'!$B8:$R1048576,6,0)","v":8},{"$f":"VLOOKUP($D91,'Resultados Gerais'!$B8:$R1048576,7,0)","v":12},{"$f":"VLOOKUP($D91,'Resultados Gerais'!$B8:$R1048576,8,0)","v":4},{"$f":"VLOOKUP($D91,'Resultados Gerais'!$B8:$R1048576,9,0)","v":24},{"$f":"VLOOKUP($D91,'Resultados Gerais'!$B8:$R1048576,10,0)","v":21},{"$f":"VLOOKUP($D91,'Resultados Gerais'!$B8:$R1048576,11,0)","v":15},{"$f":"VLOOKUP($D91,'Resultados Gerais'!$B8:$R1048576,12,0)","v":20},{"$f":"VLOOKUP($D91,'Resultados Gerais'!$B8:$R1048576,13,0)","v":14},{"$f":"VLOOKUP($D91,'Resultados Gerais'!$B8:$R1048576,14,0)","v":3},{"$f":"VLOOKUP($D91,'Resultados Gerais'!$B8:$R1048576,15,0)","v":13},{"$f":"VLOOKUP($D91,'Resultados Gerais'!$B8:$R1048576,16,0)","v":16},{"$f":"VLOOKUP($D91,'Resultados Gerais'!$B8:$R1048576,17,0)","v":10}]
[80,null,null,{"$f":"COUNT('Resultados Gerais'!B8:B1048576)-A92","v":1001},{"$f":"VLOOKUP(D92,'Resultados Gerais'!B8:C1048576,2,0)","v":"2014-01-03"},{"$f":"VLOOKUP($D92,'Resultados Gerais'!$B8:$R1048576,3,0)","v":23},{"$f":"VLOOKUP($D92,'Resultados Gerais'!$B8:$R1048576,4,0)","v":8},{"$f":"VLOOKUP($D92,'Resultados Gerais'!$B8:$R1048576,5,0)","v":6},{"$f":"VLOOKUP($D92,'Resultados Gerais'!$B8:$R1048576,6,0)","v":17},{"$f":"VLOOKUP($D92,'Resultados Gerais'!$B8:$R1048576,7,0)","v":14},{"$f":"VLOOKUP($D92,'Resultados Gerais'!$B8:$R1048576,8,0)","v":25},{"$f":"VLOOKUP($D92,'Resultados Gerais'!$B8:$R1048576,9,0)","v":21},{"$f":"VLOOKUP($D92,'Resultados Gerais'!$B8:$R1048576,10,0)","v":13},{"$f":"VLOOKUP($D92,'Resultados Gerais'!$B8:$R1048576,11,0)","v":12},{"$f":"VLOOKUP($D92,'Resultados Gerais'!$B8:$R1048576,12,0)","v":10},{"$f":"VLOOKUP($D92,'Resultados Gerais'!$B8:$R1048576,13,0)","v":19},{"$f":"VLOOKUP($D92,'Resultados Gerais'!$B8:$R1048576,14,0)","v":11},{"$f":"VLOOKUP($D92,'Resultados Gerais'!$B8:$R1048576,15,0)","v":5},{"$f":"VLOOKUP($D92,'Resultados Gerais'!$B8:$R1048576,16,0)","v":20},{"$f":"VLOOKUP($D92,'Resultados Gerais'!$B8:$R1048576,17,0)","v":7}]
[81,null,null,{"$f":"COUNT('Resultados Gerais'!B8:B1048576)-A93","v":1000},{"$f":"VLOOKUP(D93,'Resultados Gerais'!B8:C1048576,2,0)","v":"2013-12-30"},{"$f":"VLOOKUP($D93,'Resultados Gerais'!$B8:$R1048576,3,0)","v":13},{"$f":"VLOOKUP($D93,'Resultados Gerais'!$B8:$R1048576,4,0)","v":16},{"$f":"VLOOKUP($D93,'Resultados Gerais'!$B8:$R1048576,5,0)","v":11},{"$f":"VLOOKUP($D93,'Resultados Gerais'!$B8:$R1048576,6,0)","v":14},{"$f":"VLOOKUP($D93,'Resultados Gerais'!$B8:$R1048576,7,0)","v":4},{"$f":"VLOOKUP($D93,'Resultados Gerais'!$B8:$R1048576,8,0)","v":18},{"$f":"VLOOKUP($D93,'Resultados Gerais'!$B8:$R1048576,9,0)","v":22},{"$f":"VLOOKUP($D93,'Resultados Gerais'!$B8:$R1048576,10,0)","v":3},{"$f":"VLOOKUP($D93,'Resultados Gerais'!$B8:$R1048576,11,0)","v":8},{"$f":"VLOOKUP($D93,'Resultados Gerais'!$B8:$R1048576,12,0)","v":17},{"$f":"VLOOKUP($D93,'Resultados Gerais'!$B8:$R1048576,13,0)","v":20},{"$f":"VLOOKUP($D93,'Resultados Gerais'!$B8:$R1048576,14,0)","v":12},{"$f":"VLOOKUP($D93,'Resultados Gerais'!$B8:$R1048576,15,0)","v":15},{"$f":"VLOOKUP($D93,'Resultados Gerais'!$B8:$R1048576,16,0)","v":19},{"$f":"VLOOKUP($D93,'Resultados Gerais'!$B8:$R1048576,17,0)","v":2}]
[82,null,null,{"$f":"COUNT('Resultados Gerais'!B8:B1048576)-A94","v":999},{"$f":"VLOOKUP(D94,'Resultados Gerais'!B8:C1048576,2,0)","v":"2013-12-27"},{"$f":"VLOOKUP($D94,'Resultados Gerais'!$B8:$R1048576,3,0)","v":6},{"$f":"VLOOKUP($D94,'Resultados Gerais'!$B8:$R1048576,4,0)","v":2},{"$f":"VLOOKUP($D94,'Resultados Gerais'!$B8:$R1048576,5,0)","v":14},{"$f":"VLOOKUP($D94,'Resultados Gerais'!$B8:$R1048576,6,0)","v":16},{"$f":"VLOOKUP($D94,'Resultados Gerais'!$B8:$R1048576,7,0)","v":24},{"$f":"VLOOKUP($D94,'Resultados Gerais'!$B8:$R1048576,8,0)","v":15},{"$f":"VLOOKUP($D94,'Resultados Gerais'!$B8:$R1048576,9,0)","v":18},{"$f":"VLOOKUP($D94,'Resultados Gerais'!$B8:$R1048576,10,0)","v":10},{"$f":"VLOOKUP($D94,'Resultados Gerais'!$B8:$R1048576,11,0)","v":1},{"$f":"VLOOKUP($D94,'Resultados Gerais'!$B8:$R1048576,12,0)","v":13},{"$f":"VLOOKUP($D94,'Resultados Gerais'!$B8:$R1048576,13,0)","v":21},{"$f":"VLOOKUP($D94,'Resultados Gerais'!$B8:$R1048576,14,0)","v":8},{"$f":"VLOOKUP($D94,'Resultados Gerais'!$B8:$R1048576,15,0)","v":12},{"$f":"VLOOKUP($D94,'Resultados Gerais'!$B8:$R1048576,16,0)","v":5},{"$f":"VLOOKUP($D94,'Resultados Gerais'!$B8:$R1048576,17,0)","v":7}]
[83,null,null,{"$f":"COUNT('Resultados Gerais'!B8:B1048576)-A95","v":998},{"$f":"VLOOKUP(D95,'Resultados Gerais'!B8:C1048576,2,0)","v":"2013-12-23"},{"$f":"VLOOKUP($D95,'Resultados Gerais'!$B8:$R1048576,3,0)","v":19},{"$f":"VLOOKUP($D95,'Resultados Gerais'!$B8:$R1048576,4,0)","v":1},{"$f":"VLOOKUP($D95,'Resultados Gerais'!$B8:$R1048576,5,0)","v":5},{"$f":"VLOOKUP($D95,'Resultados Gerais'!$B8:$R1048576,6,0)","v":3},{"$f":"VLOOKUP($D95,'Resultados Gerais'!$B8:$R1048576,7,0)","v":22},{"$f":"VLOOKUP($D95,'Resultados Gerais'!$B8:$R1048576,8,0)","v":2},{"$f":"VLOOKUP($D95,'Resultados Gerais'!$B8:$R1048576,9,0)","v":14},{"$f":"VLOOKUP($D95,'Resultados Gerais'!$B8:$R1048576,10,0)","v":12},{"$f":"VLOOKUP($D95,'Resultados Gerais'!$B8:$R1048576,11,0)","v":9},{"$f":"VLOOKUP($D95,'Resultados Gerais'!$B8:$R1048576,12,0)","v":20},{"$f":"VLOOKUP($D95,'Resultados Gerais'!$B8:$R1048576,13,0)","v":11},{"$f":"VLOOKUP($D95,'Resultados Gerais'!$B8:$R1048576,14,0)","v":17},{"$f":"VLOOKUP($D95,'Resultados Gerais'!$B8:$R1048576,15,0)","v":21},{"$f":"VLOOKUP($D95,'Resultados Gerais'!$B8:$R1048576,16,0)","v":23},{"$f":"VLOOKUP($D95,'Resultados Gerais'!$B8:$R1048576,17,0)","v":4}]
[84,null,null,{"$f":"COUNT('Resultados Gerais'!B8:B1048576)-A96","v":997},{"$f":"VLOOKUP(D96,'Resultados Gerais'!B8:C1048576,2,0)","v":"2013-12-20"},{"$f":"VLOOKUP($D96,'Resultados Gerais'!$B8:$R1048576,3,0)","v":2},{"$f":"VLOOKUP($D96,'Resultados Gerais'!$B8:$R1048576,4,0)","v":24},{"$f":"VLOOKUP($D96,'Resultados Gerais'!$B8:$R1048576,5,0)","v":22},{"$f":"VLOOKUP($D96,'Resultados Gerais'!$B8:$R1048576,6,0)","v":4},{"$f":"VLOOKUP($D96,'Resultados Gerais'!$B8:$R1048576,7,0)","v":18},{"$f":"VLOOKUP($D96,'Resultados Gerais'!$B8:$R1048576,8,0)","v":7},{"$f":"VLOOKUP($D96,'Resultados Gerais'!$B8:$R1048576,9,0)","v":15},{"$f":"VLOOKUP($D96,'Resultados Gerais'!$B8:$R1048576,10,0)","v":10},{"$f":"VLOOKUP($D96,'Resultados Gerais'!$B8:$R1048576,11,0)","v":19},{"$f":"VLOOKUP($D96,'Resultados Gerais'!$B8:$R1048576,12,0)","v":5},{"$f":"VLOOKUP($D96,'Resultados Gerais'!$B8:$R1048576,13,0)","v":12},{"$f":"VLOOKUP($D96,'Resultados Gerais'!$B8:$R1048576,14,0)","v":23},{"$f":"VLOOKUP($D96,'Resultados Gerais'!$B8:$R1048576,15,0)","v":16},{"$f":"VLOOKUP($D96,'Resultados Gerais'!$B8:$R1048576,16,0)","v":17},{"$f":"VLOOKUP($D96,'Resultados Gerais'!$B8:$R1048576,17,0)","v":9}]
[85,null,null,{"$f":"COUNT('Resultados Gerais'!B8:B1048576)-A97","v":996},{"$f":"VLOOKUP(D97,'Resultados Gerais'!B8:C1048576,2,0)","v":"2013-12-18"},{"$f":"VLOOKUP($D97,'Resultados Gerais'!$B8:$R1048576,3,0)","v":20},{"$f":"VLOOKUP($D97,'Resultados Gerais'!$B8:$R1048576,4,0)","v":18},{"$f":"VLOOKUP($D97,'Resultados Gerais'!$B8:$R1048576,5,0)","v":21},{"$f":"VLOOKUP($D97,'Resultados Gerais'!$B8:$R1048576,6,0)","v":9},{"$f":"VLOOKUP($D97,'Resultados Gerais'!$B8:$R1048576,7,0)","v":24},{"$f":"VLOOKUP($D97,'Resultados Gerais'!$B8:$R1048576,8,0)","v":2},{"$f":"VLOOKUP($D97,'Resultados Gerais'!$B8:$R1048576,9,0)","v":17},{"$f":"VLOOKUP($D97,'Resultados Gerais'!$B8:$R1048576,10,0)","v":4},{"$f":"VLOOKUP($D97,'Resultados Gerais'!$B8:$R1048576,11,0)","v":16},{"$f":"VLOOKUP($D97,'Resultados Gerais'!$B8:$R1048576,12,0)","v":6},{"$f":"VLOOKUP($D97,'Resultados Gerais'!$B8:$R1048576,13,0)","v":3},{"$f":"VLOOKUP($D97,'Resultados Gerais'!$B8:$R1048576,14,0)","v":13},{"$f":"VLOOKUP($D97,'Resultados Gerais'!$B8:$R1048576,15,0)","v":25},{"$f":"VLOOKUP($D97,'Resultados Gerais'!$B8:$R1048576,16,0)","v":7},{"$f":"VLOOKUP($D97,'Resultados Gerais'!$B8:$R1048576,17,0)","v":23}]
[86,null,null,{"$f":"COUNT('Resultados Gerais'!B8:B1048576)-A98","v":995},{"$f":"VLOOKUP(D98,'Resultados Gerais'!B8:C1048576,2,0)","v":"2013-12-16"},{"$f":"VLOOKUP($D98,'Resultados Gerais'!$B8:$R1048576,3,0)","v":14},{"$f":"VLOOKUP($D98,'Resultados Gerais'!$B8:$R1048576,4,0)","v":2},{"$f":"VLOOKUP($D98,'Resultados Gerais'!$B8:$R1048576,5,0)","v":23},{"$f":"VLOOKUP($D98,'Resultados Gerais'!$B8:$R1048576,6,0)","v":9},{"$f":"VLOOKUP($D98,'Resultados Gerais'!$B8:$R1048576,7,0)","v":20},{"$f":"VLOOKUP($D98,'Resultados Gerais'!$B8:$R1048576,8,0)","v":12},{"$f":"VLOOKUP($D98,'Resultados Gerais'!$B8:$R1048576,9,0)","v":13},{"$f":"VLOOKUP($D98,'Resultados Gerais'!$B8:$R1048576,10,0)","v":8},{"$f":"VLOOKUP($D98,'Resultados Gerais'!$B8:$R1048576,11,0)","v":7},{"$f":"VLOOKUP($D98,'Resultados Gerais'!$B8:$R1048576,12,0)","v":3},{"$f":"VLOOKUP($D98,'Resultados Gerais'!$B8:$R1048576,13,0)","v":22},{"$f":"VLOOKUP($D98,'Resultados Gerais'!$B8:$R1048576,14,0)","v":17},{"$f":"VLOOKUP($D98,'Resultados Gerais'!$B8:$R1048576,15,0)","v":4},{"$f":"VLOOKUP($D98,'Resultados Gerais'!$B8:$R1048576,16,0)","v":24},{"$f":"VLOOKUP($D98,'Resultados Gerais'!$B8:$R1048576,17,0)","v":1}]
[87,null,null,{"$f":"COUNT('Resultados Gerais'!B8:B1048576)-A99","v":994},{"$f":"VLOOKUP(D99,'Resultados Gerais'!B8:C1048576,2,0)","v":"2013-12-13"},{"$f":"VLOOKUP($D99,'Resultados Gerais'!$B8:$R1048576,3,0)","v":25},{"$f":"VLOOKUP($D99,'Resultados Gerais'!$B8:$R1048576,4,0)","v":23},{"$f":"VLOOKUP($D99,'Resultados Gerais'!$B8:$R1048576,5,0)","v":12},{"$f":"VLOOKUP($D99,'Resultados Gerais'!$B8:$R1048576,6,0)","v":18},{"$f":"VLOOKUP($D99,'Resultados Gerais'!$B8:$R1048576,7,0)","v":8},{"$f":"VLOOKUP($D99,'Resultados Gerais'!$B8:$R1048576,8,0)","v":15},{"$f":"VLOOKUP($D99,'Resultados Gerais'!$B8:$R1048576,9,0)","v":5},{"$f":"VLOOKUP($D99,'Resultados Gerais'!$B8:$R1048576,10,0)","v":11},{"$f":"VLOOKUP($D99,'Resultados Gerais'!$B8:$R1048576,11,0)","v":16},{"$f":"VLOOKUP($D99,'Resultados Gerais'!$B8:$R1048576,12,0)","v":9},{"$f":"VLOOKUP($D99,'Resultados Gerais'!$B8:$R1048576,13,0)","v":3},{"$f":"VLOOKUP($D99,'Resultados Gerais'!$B8:$R1048576,14,0)","v":22},{"$f":"VLOOKUP($D99,'Resultados Gerais'!$B8:$R1048576,15,0)","v":13},{"$f":"VLOOKUP($D99,'Resultados Gerais'!$B8:$R1048576,16,0)","v":7},{"$f":"VLOOKUP($D99,'Resultados Gerais'!$B8:$R1048576,17,0)","v":14}]
[88,null,null,{"$f":"COUNT('Resultados Gerais'!B8:B1048576)-A100","v":993},{"$f":"VLOOKUP(D100,'Resultados Gerais'!B8:C1048576,2,0)","v":"2013-12-11"},{"$f":"VLOOKUP($D100,'Resultados Gerais'!$B8:$R1048576,3,0)","v":7},{"$f":"VLOOKUP($D100,'Resultados Gerais'!$B8:$R1048576,4,0)","v":5},{"$f":"VLOOKUP($D100,'Resultados Gerais'!$B8:$R1048576,5,0)","v":12},{"$f":"VLOOKUP($D100,'Resultados Gerais'!$B8:$R1048576,6,0)","v":17},{"$f":"VLOOKUP($D100,'Resultados Gerais'!$B8:$R1048576,7,0)","v":20},{"$f":"VLOOKUP($D100,'Resultados Gerais'!$B8:$R1048576,8,0)","v":4},{"$f":"VLOOKUP($D100,'Resultados Gerais'!$B8:$R1048576,9,0)","v":2},{"$f":"VLOOKUP($D100,'Resultados Gerais'!$B8:$R1048576,10,0)","v":25},{"$f":"VLOOKUP($D100,'Resultados Gerais'!$B8:$R1048576,11,0)","v":24},{"$f":"VLOOKUP($D100,'Resultados Gerais'!$B8:$R1048576,12,0)","v":9},{"$f":"VLOOKUP($D100,'Resultados Gerais'!$B8:$R1048576,13,0)","v":14},{"$f":"VLOOKUP($D100,'Resultados Gerais'!$B8:$R1048576,14,0)","v":21},{"$f":"VLOOKUP($D100,'Resultados Gerais'!$B8:$R1048576,15,0)","v":10},{"$f":"VLOOKUP($D100,'Resultados Gerais'!$B8:$R1048576,16,0)","v":23},{"$f":"VLOOKUP($D100,'Resultados Gerais'!$B8:$R1048576,17,0)","v":22}]
[89,null,null,{"$f":"COUNT('Resultados Gerais'!B8:B1048576)-A101","v":992},{"$f":"VLOOKUP(D101,'Resultados Gerais'!B8:C1048576,2,0)","v":"2013-12-09"},{"$f":"VLOOKUP($D101,'Resultados Gerais'!$B8:$R1048576,3,0)","v":5},{"$f":"VLOOKUP($D101,'Resultados Gerais'!$B8:$R1048576,4,0)","v":17},{"$f":"VLOOKUP($D101,'Resultados Gerais'!$B8:$R1048576,5,0)","v":8},{"$f":"VLOOKUP($D101,'Resultados Gerais'!$B8:$R1048576,6,0)","v":24},{"$f":"VLOOKUP($D101,'Resultados Gerais'!$B8:$R1048576,7,0)","v":20},{"$f":"VLOOKUP($D101,'Resultados Gerais'!$B8:$R1048576,8,0)","v":15},{"$f":"VLOOKUP($D101,'Resultados Gerais'!$B8:$R1048576,9,0)","v":11},{"$f":"VLOOKUP($D101,'Resultados Gerais'!$B8:$R1048576,10,0)","v":13},{"$f":"VLOOKUP($D101,'Resultados Gerais'!$B8:$R1048576,11,0)","v":9},{"$f":"VLOOKUP($D101,'Resultados Gerais'!$B8:$R1048576,12,0)","v":3},{"$f":"VLOOKUP($D101,'Resultados Gerais'!$B8:$R1048576,13,0)","v":19},{"$f":"VLOOKUP($D101,'Resultados Gerais'!$B8:$R1048576,14,0)","v":1},{"$f":"VLOOKUP($D101,'Resultados Gerais'!$B8:$R1048576,15,0)","v":7},{"$f":"VLOOKUP($D101,'Resultados Gerais'!$B8:$R1048576,16,0)","v":4},{"$f":"VLOOKUP($D101,'Resultados Gerais'!$B8:$R1048576,17,0)","v":10}]
[90,null,null,{"$f":"COUNT('Resultados Gerais'!B8:B1048576)-A102","v":991},{"$f":"VLOOKUP(D102,'Resultados Gerais'!B8:C1048576,2,0)","v":"2013-12-06"},{"$f":"VLOOKUP($D102,'Resultados Gerais'!$B8:$R1048576,3,0)","v":14},{"$f":"VLOOKUP($D102,'Resultados Gerais'!$B8:$R1048576,4,0)","v":7},{"$f":"VLOOKUP($D102,'Resultados Gerais'!$B8:$R1048576,5,0)","v":9},{"$f":"VLOOKUP($D102,'Resultados Gerais'!$B8:$R1048576,6,0)","v":2},{"$f":"VLOOKUP($D102,'Resultados Gerais'!$B8:$R1048576,7,0)","v":6},{"$f":"VLOOKUP($D102,'Resultados Gerais'!$B8:$R1048576,8,0)","v":22},{"$f":"VLOOKUP($D102,'Resultados Gerais'!$B8:$R1048576,9,0)","v":21},{"$f":"VLOOKUP($D102,'Resultados Gerais'!$B8:$R1048576,10,0)","v":24},{"$f":"VLOOKUP($D102,'Resultados Gerais'!$B8:$R1048576,11,0)","v":17},{"$f":"VLOOKUP($D102,'Resultados Gerais'!$B8:$R1048576,12,0)","v":1},{"$f":"VLOOKUP($D102,'Resultados Gerais'!$B8:$R1048576,13,0)","v":15},{"$f":"VLOOKUP($D102,'Resultados Gerais'!$B8:$R1048576,14,0)","v":12},{"$f":"VLOOKUP($D102,'Resultados Gerais'!$B8:$R1048576,15,0)","v":25},{"$f":"VLOOKUP($D102,'Resultados Gerais'!$B8:$R1048576,16,0)","v":5},{"$f":"VLOOKUP($D102,'Resultados Gerais'!$B8:$R1048576,17,0)","v":18}]
[91,null,null,{"$f":"COUNT('Resultados Gerais'!B8:B1048576)-A103","v":990},{"$f":"VLOOKUP(D103,'Resultados Gerais'!B8:C1048576,2,0)","v":"2013-12-04"},{"$f":"VLOOKUP($D103,'Resultados Gerais'!$B8:$R1048576,3,0)","v":7},{"$f":"VLOOKUP($D103,'Resultados Gerais'!$B8:$R1048576,4,0)","v":8},{"$f":"VLOOKUP($D103,'Resultados Gerais'!$B8:$R1048576,5,0)","v":13},{"$f":"VLOOKUP($D103,'Resultados Gerais'!$B8:$R1048576,6,0)","v":19},{"$f":"VLOOKUP($D103,'Resultados Gerais'!$B8:$R1048576,7,0)","v":20},{"$f":"VLOOKUP($D103,'Resultados Gerais'!$B8:$R1048576,8,0)","v":6},{"$f":"VLOOKUP($D103,'Resultados Gerais'!$B8:$R1048576,9,0)","v":24},{"$f":"VLOOKUP($D103,'Resultados Gerais'!$B8:$R1048576,10,0)","v":22},{"$f":"VLOOKUP($D103,'Resultados Gerais'!$B8:$R1048576,11,0)","v":10},{"$f":"VLOOKUP($D103,'Resultados Gerais'!$B8:$R1048576,12,0)","v":11},{"$f":"VLOOKUP($D103,'Resultados Gerais'!$B8:$R1048576,13,0)","v":12},{"$f":"VLOOKUP($D103,'Resultados Gerais'!$B8:$R1048576,14,0)","v":16},{"$f":"VLOOKUP($D103,'Resultados Gerais'!$B8:$R1048576,15,0)","v":15},{"$f":"VLOOKUP($D103,'Resultados Gerais'!$B8:$R1048576,16,0)","v":5},{"$f":"VLOOKUP($D103,'Resultados Gerais'!$B8:$R1048576,17,0)","v":1}]
[92,null,null,{"$f":"COUNT('Resultados Gerais'!B8:B1048576)-A104","v":989},{"$f":"VLOOKUP(D104,'Resultados Gerais'!B8:C1048576,2,0)","v":"2013-12-02"},{"$f":"VLOOKUP($D104,'Resultados Gerais'!$B8:$R1048576,3,0)","v":13},{"$f":"VLOOKUP($D104,'Resultados Gerais'!$B8:$R1048576,4,0)","v":15},{"$f":"VLOOKUP($D104,'Resultados Gerais'!$B8:$R1048576,5,0)","v":4},{"$f":"VLOOKUP($D104,'Resultados Gerais'!$B8:$R1048576,6,0)","v":22},{"$f":"VLOOKUP($D104,'Resultados Gerais'!$B8:$R1048576,7,0)","v":10},{"$f":"VLOOKUP($D104,'Resultados Gerais'!$B8:$R1048576,8,0)","v":9},{"$f":"VLOOKUP($D104,'Resultados Gerais'!$B8:$R1048576,9,0)","v":8},{"$f":"VLOOKUP($D104,'Resultados Gerais'!$B8:$R1048576,10,0)","v":19},{"$f":"VLOOKUP($D104,'Resultados Gerais'!$B8:$R1048576,11,0)","v":14},{"$f":"VLOOKUP($D104,'Resultados Gerais'!$B8:$R1048576,12,0)","v":3},{"$f":"VLOOKUP($D104,'Resultados Gerais'!$B8:$R1048576,13,0)","v":24},{"$f":"VLOOKUP($D104,'Resultados Gerais'!$B8:$R1048576,14,0)","v":17},{"$f":"VLOOKUP($D104,'Resultados Gerais'!$B8:$R1048576,15,0)","v":18},{"$f":"VLOOKUP($D104,'Resultados Gerais'!$B8:$R1048576,16,0)","v":6},{"$f":"VLOOKUP($D104,'Resultados Gerais'!$B8:$R1048576,17,0)","v":23}]
[93,null,null,{"$f":"COUNT('Resultados Gerais'!B8:B1048576)-A105","v":988},{"$f":"VLOOKUP(D105,'Resultados Gerais'!B8:C1048576,2,0)","v":"2013-11-29"},{"$f":"VLOOKUP($D105,'Resultados Gerais'!$B8:$R1048576,3,0)","v":15},{"$f":"VLOOKUP($D105,'Resultados Gerais'!$B8:$R1048576,4,0)","v":3},{"$f":"VLOOKUP($D105,'Resultados Gerais'!$B8:$R1048576,5,0)","v":20},{"$f":"VLOOKUP($D105,'Resultados Gerais'!$B8:$R1048576,6,0)","v":9},{"$f":"VLOOKUP($D105,'Resultados Gerais'!$B8:$R1048576,7,0)","v":13},{"$f":"VLOOKUP($D105,'Resultados Gerais'!$B8:$R1048576,8,0)","v":7},{"$f":"VLOOKUP($D105,'Resultados Gerais'!$B8:$R1048576,9,0)","v":17},{"$f":"VLOOKUP($D105,'Resultados Gerais'!$B8:$R1048576,10,0)","v":11},{"$f":"VLOOKUP($D105,'Resultados Gerais'!$B8:$R1048576,11,0)","v":1},{"$f":"VLOOKUP($D105,'Resultados Gerais'!$B8:$R1048576,12,0)","v":24},{"$f":"VLOOKUP($D105,'Resultados Gerais'!$B8:$R1048576,13,0)","v":25},{"$f":"VLOOKUP($D105,'Resultados Gerais'!$B8:$R1048576,14,0)","v":5},{"$f":"VLOOKUP($D105,'Resultados Gerais'!$B8:$R1048576,15,0)","v":12},{"$f":"VLOOKUP($D105,'Resultados Gerais'!$B8:$R1048576,16,0)","v":16},{"$f":"VLOOKUP($D105,'Resultados Gerais'!$B8:$R1048576,17,0)","v":19}]
[94,null,null,{"$f":"COUNT('Resultados Gerais'!B8:B1048576)-A106","v":987},{"$f":"VLOOKUP(D106,'Resultados Gerais'!B8:C1048576,2,0)","v":"2013-11-27"},{"$f":"VLOOKUP($D106,'Resultados Gerais'!$B8:$R1048576,3,0)","v":22},{"$f":"VLOOKUP($D106,'Resultados Gerais'!$B8:$R1048576,4,0)","v":15},{"$f":"VLOOKUP($D106,'Resultados Gerais'!$B8:$R1048576,5,0)","v":2},{"$f":"VLOOKUP($D106,'Resultados Gerais'!$B8:$R1048576,6,0)","v":20},{"$f":"VLOOKUP($D106,'Resultados Gerais'!$B8:$R1048576,7,0)","v":4},{"$f":"VLOOKUP($D106,'Resultados Gerais'!$B8:$R1048576,8,0)","v":12},{"$f":"VLOOKUP($D106,'Resultados Gerais'!$B8:$R1048576,9,0)","v":9},{"$f":"VLOOKUP($D106,'Resultados Gerais'!$B8:$R1048576,10,0)","v":19},{"$f":"VLOOKUP($D106,'Resultados Gerais'!$B8:$R1048576,11,0)","v":7},{"$f":"VLOOKUP($D106,'Resultados Gerais'!$B8:$R1048576,12,0)","v":13},{"$f":"VLOOKUP($D106,'Resultados Gerais'!$B8:$R1048576,13,0)","v":6},{"$f":"VLOOKUP($D106,'Resultados Gerais'!$B8:$R1048576,14,0)","v":5},{"$f":"VLOOKUP($D106,'Resultados Gerais'!$B8:$R1048576,15,0)","v":18},{"$f":"VLOOKUP($D106,'Resultados Gerais'!$B8:$R1048576,16,0)","v":11},{"$f":"VLOOKUP($D106,'Resultados Gerais'!$B8:$R1048576,17,0)","v":23}]
[95,null,null,{"$f":"COUNT('Resultados Gerais'!B8:B1048576)-A107","v":986},{"$f":"VLOOKUP(D107,'Resultados Gerais'!B8:C1048576,2,0)","v":"2013-11-25"},{"$f":"VLOOKUP($D107,'Resultados Gerais'!$B8:$R1048576,3,0)","v":2},{"$f":"VLOOKUP($D107,'Resultados Gerais'!$B8:$R1048576,4,0)","v":14},{"$f":"VLOOKUP($D107,'Resultados Gerais'!$B8:$R1048576,5,0)","v":7},{"$f":"VLOOKUP($D107,'Resultados Gerais'!$B8:$R1048576,6,0)","v":13},{"$f":"VLOOKUP($D107,'Resultados Gerais'!$B8:$R1048576,7,0)","v":1},{"$f":"VLOOKUP($D107,'Resultados Gerais'!$B8:$R1048576,8,0)","v":11},{"$f":"VLOOKUP($D107,'Resultados Gerais'!$B8:$R1048576,9,0)","v":22},{"$f":"VLOOKUP($D107,'Resultados Gerais'!$B8:$R1048576,10,0)","v":21},{"$f":"VLOOKUP($D107,'Resultados Gerais'!$B8:$R1048576,11,0)","v":23},{"$f":"VLOOKUP($D107,'Resultados Gerais'!$B8:$R1048576,12,0)","v":20},{"$f":"VLOOKUP($D107,'Resultados Gerais'!$B8:$R1048576,13,0)","v":15},{"$f":"VLOOKUP($D107,'Resultados Gerais'!$B8:$R1048576,14,0)","v":5},{"$f":"VLOOKUP($D107,'Resultados Gerais'!$B8:$R1048576,15,0)","v":16},{"$f":"VLOOKUP($D107,'Resultados Gerais'!$B8:$R1048576,16,0)","v":24},{"$f":"VLOOKUP($D107,'Resultados Gerais'!$B8:$R1048576,17,0)","v":18}]
[96,null,null,{"$f":"COUNT('Resultados Gerais'!B8:B1048576)-A108","v":985},{"$f":"VLOOKUP(D108,'Resultados Gerais'!B8:C1048576,2,0)","v":"2013-11-22"},{"$f":"VLOOKUP($D108,'Resultados Gerais'!$B8:$R1048576,3,0)","v":3},{"$f":"VLOOKUP($D108,'Resultados Gerais'!$B8:$R1048576,4,0)","v":21},{"$f":"VLOOKUP($D108,'Resultados Gerais'!$B8:$R1048576,5,0)","v":9},{"$f":"VLOOKUP($D108,'Resultados Gerais'!$B8:$R1048576,6,0)","v":13},{"$f":"VLOOKUP($D108,'Resultados Gerais'!$B8:$R1048576,7,0)","v":24},{"$f":"VLOOKUP($D108,'Resultados Gerais'!$B8:$R1048576,8,0)","v":6},{"$f":"VLOOKUP($D108,'Resultados Gerais'!$B8:$R1048576,9,0)","v":4},{"$f":"VLOOKUP($D108,'Resultados Gerais'!$B8:$R1048576,10,0)","v":17},{"$f":"VLOOKUP($D108,'Resultados Gerais'!$B8:$R1048576,11,0)","v":12},{"$f":"VLOOKUP($D108,'Resultados Gerais'!$B8:$R1048576,12,0)","v":7},{"$f":"VLOOKUP($D108,'Resultados Gerais'!$B8:$R1048576,13,0)","v":22},{"$f":"VLOOKUP($D108,'Resultados Gerais'!$B8:$R1048576,14,0)","v":14},{"$f":"VLOOKUP($D108,'Resultados Gerais'!$B8:$R1048576,15,0)","v":18},{"$f":"VLOOKUP($D108,'Resultados Gerais'!$B8:$R1048576,16,0)","v":23},{"$f":"VLOOKUP($D108,'Resultados Gerais'!$B8:$R1048576,17,0)","v":25}]
[97,null,null,{"$f":"COUNT('Resultados Gerais'!B8:B1048576)-A109","v":984},{"$f":"VLOOKUP(D109,'Resultados Gerais'!B8:C1048576,2,0)","v":"2013-11-20"},{"$f":"VLOOKUP($D109,'Resultados Gerais'!$B8:$R1048576,3,0)","v":25},{"$f":"VLOOKUP($D109,'Resultados Gerais'!$B8:$R1048576,4,0)","v":15},{"$f":"VLOOKUP($D109,'Resultados Gerais'!$B8:$R1048576,5,0)","v":13},{"$f":"VLOOKUP($D109,'Resultados Gerais'!$B8:$R1048576,6,0)","v":4},{"$f":"VLOOKUP($D109,'Resultados Gerais'!$B8:$R1048576,7,0)","v":2},{"$f":"VLOOKUP($D109,'Resultados Gerais'!$B8:$R1048576,8,0)","v":9},{"$f":"VLOOKUP($D109,'Resultados Gerais'!$B8:$R1048576,9,0)","v":24},{"$f":"VLOOKUP($D109,'Resultados Gerais'!$B8:$R1048576,10,0)","v":12},{"$f":"VLOOKUP($D109,'Resultados Gerais'!$B8:$R1048576,11,0)","v":23},{"$f":"VLOOKUP($D109,'Resultados Gerais'!$B8:$R1048576,12,0)","v":10},{"$f":"VLOOKUP($D109,'Resultados Gerais'!$B8:$R1048576,13,0)","v":22},{"$f":"VLOOKUP($D109,'Resultados Gerais'!$B8:$R1048576,14,0)","v":8},{"$f":"VLOOKUP($D109,'Resultados Gerais'!$B8:$R1048576,15,0)","v":11},{"$f":"VLOOKUP($D109,'Resultados Gerais'!$B8:$R1048576,16,0)","v":20},{"$f":"VLOOKUP($D109,'Resultados Gerais'!$B8:$R1048576,17,0)","v":21}]
[98,null,null,{"$f":"COUNT('Resultados Gerais'!B8:B1048576)-A110","v":983},{"$f":"VLOOKUP(D110,'Resultados Gerais'!B8:C1048576,2,0)","v":"2013-11-18"},{"$f":"VLOOKUP($D110,'Resultados Gerais'!$B8:$R1048576,3,0)","v":14},{"$f":"VLOOKUP($D110,'Resultados Gerais'!$B8:$R1048576,4,0)","v":8},{"$f":"VLOOKUP($D110,'Resultados Gerais'!$B8:$R1048576,5,0)","v":15},{"$f":"VLOOKUP($D110,'Resultados Gerais'!$B8:$R1048576,6,0)","v":2},{"$f":"VLOOKUP($D110,'Resultados Gerais'!$B8:$R1048576,7,0)","v":10},{"$f":"VLOOKUP($D110,'Resultados Gerais'!$B8:$R1048576,8,0)","v":7},{"$f":"VLOOKUP($D110,'Resultados Gerais'!$B8:$R1048576,9,0)","v":4},{"$f":"VLOOKUP($D110,'Resultados Gerais'!$B8:$R1048576,10,0)","v":18},{"$f":"VLOOKUP($D110,'Resultados Gerais'!$B8:$R1048576,11,0)","v":19},{"$f":"VLOOKUP($D110,'Resultados Gerais'!$B8:$R1048576,12,0)","v":25},{"$f":"VLOOKUP($D110,'Resultados Gerais'!$B8:$R1048576,13,0)","v":5},{"$f":"VLOOKUP($D110,'Resultados Gerais'!$B8:$R1048576,14,0)","v":21},{"$f":"VLOOKUP($D110,'Resultados Gerais'!$B8:$R1048576,15,0)","v":16},{"$f":"VLOOKUP($D110,'Resultados Gerais'!$B8:$R1048576,16,0)","v":11},{"$f":"VLOOKUP($D110,'Resultados Gerais'!$B8:$R1048576,17,0)","v":6}]
[99,null,null,{"$f":"COUNT('Resultados Gerais'!B8:B1048576)-A111","v":982},{"$f":"VLOOKUP(D111,'Resultados Gerais'!B8:C1048576,2,0)","v":"2013-11-16"},{"$f":"VLOOKUP($D111,'Resultados Gerais'!$B8:$R1048576,3,0)","v":14},{"$f":"VLOOKUP($D111,'Resultados Gerais'!$B8:$R1048576,4,0)","v":5},{"$f":"VLOOKUP($D111,'Resultados Gerais'!$B8:$R1048576,5,0)","v":23},{"$f":"VLOOKUP($D111,'Resultados Gerais'!$B8:$R1048576,6,0)","v":3},{"$f":"VLOOKUP($D111,'Resultados Gerais'!$B8:$R1048576,7,0)","v":4},{"$f":"VLOOKUP($D111,'Resultados Gerais'!$B8:$R1048576,8,0)","v":21},{"$f":"VLOOKUP($D111,'Resultados Gerais'!$B8:$R1048576,9,0)","v":9},{"$f":"VLOOKUP($D111,'Resultados Gerais'!$B8:$R1048576,10,0)","v":7},{"$f":"VLOOKUP($D111,'Resultados Gerais'!$B8:$R1048576,11,0)","v":1},{"$f":"VLOOKUP($D111,'Resultados Gerais'!$B8:$R1048576,12,0)","v":13},{"$f":"VLOOKUP($D111,'Resultados Gerais'!$B8:$R1048576,13,0)","v":17},{"$f":"VLOOKUP($D111,'Resultados Gerais'!$B8:$R1048576,14,0)","v":18},{"$f":"VLOOKUP($D111,'Resultados Gerais'!$B8:$R1048576,15,0)","v":6},{"$f":"VLOOKUP($D111,'Resultados Gerais'!$B8:$R1048576,16,0)","v":24},{"$f":"VLOOKUP($D111,'Resultados Gerais'!$B8:$R1048576,17,0)","v":20}]
[100]