{"text_format":"1","workbook":"xlsx","n_sheets":6,"sheets":["Resultados Gerais","Total de Saída de Cada Dezena","10 Últimos Sorteios","20 Últimos Sorteios","50 Últimos Sorteios","100 Últimos Sorteios"],"not_rendered":{"charts":1,"images":4,"macros":1,"external_links":0,"defined_names":6,"comments":0,"pivot_tables":0},"unopened":[],"bounds":{"document_bytes":16777216,"sheet_cells":100000,"rows_first":2000,"rows_last":500,"rows_between":2000,"halvings":0,"cell_chars":16384,"cell_head_chars":4096},"cells_cut":0,"cells_raw":0,"read":"whole","date_system":"1900"}

{"sheet":"Resultados Gerais","index":0,"n_rows":1426,"n_cols":43,"rows_kept":1426,"cut":false,"hidden":false,"merged":[[5,1,5,20],[1,1,1,19],[2,1,2,19],[3,1,3,19]]}
[]
[null,"Atenção!"]
[null,"Esta planilha é de uso pessoal, é restritamente proibida a distribuição da mesma a terceiros, sujeito a punições de acordo com as leis de direitos autorais"]
[null,"Todos os direitos reservados ao site www.ApostaEsperta.com "]
[]
[null,"Planilha de Análise Estatística Lotomania"]
[null,"Concurso","Data Sorteio","Bola1","Bola2","Bola3","Bola4","Bola5","Bola6","Bola7","Bola8","Bola9","Bola10","Bola11","Bola12","Bola13","Bola14","Bola15","Bola16","Bola17","Bola18","Bola19","Bola20","Arrecadação_Total","Ganhadores_20_Números","Ganhadores_19_Números","Ganhadores_18_Números","Ganhadores_17_Números","Ganhadores_16_Números","Ganhadores_Nenhum_Número","Valor_Rateio_20_Números","Valor_Rateio_19_Números","Valor_Rateio_18_Números","Valor_Rateio_17_Números","Valor_Rateio_16_Números","Valor_Rateio_Nenhum_Número","Acumulado_20_Números","Acumulado_19_Números","Acumulado_18_Números","Acumulado_17_Números","Acumulado_16_Números","Acumulado_Nenhum_Número","Estimativa_Prêmio"]
[null,1,"1999-10-02",16,11,88,32,25,0,70,78,73,61,90,89,46,95,6,33,34,21,14,22,"0,00",0,1,46,446,2716,0,"0,00","118.746,87","2.581,46","132,62","21,78","0,00","178.120,31","0,00","0,00","0,00","0,00","59.373,46","0,00"]
[null,2,"1999-10-09",76,63,18,44,84,11,55,93,8,29,82,62,17,64,24,14,37,97,49,51,"0,00",0,14,180,1803,10587,0,"0,00","23.661,54","1.840,34","91,53","15,59","0,00","675.012,55","0,00","0,00","0,00","0,00","225.004,22","0,00"]
[null,3,"1999-10-16",34,8,10,11,99,28,67,20,55,74,45,48,85,91,79,57,47,22,17,54,"0,00",0,25,254,2513,14756,1,"0,00","17.255,54","1.698,38","85,51","14,57","440.698,42","1.322.095,07","0,00","0,00","0,00","0,00","0,00","0,00"]
[null,4,"1999-10-23",14,67,12,55,25,60,51,30,41,35,78,83,93,64,98,39,44,49,5,63,"0,00",0,16,359,2860,17561,3,"0,00","36.264,60","1.616,25","101,06","16,46","96.705,62","2.192.445,58","0,00","0,00","0,00","0,00","0,00","0,00"]
[null,5,"1999-10-30",39,32,65,8,51,42,17,92,43,71,28,73,98,69,59,54,20,87,99,0,"0,00",0,13,254,2326,14561,1,"0,00","49.935,40","2.555,75","139,01","22,21","324.580,09","3.166.185,82","0,00","0,00","0,00","0,00","0,00","0,00"]
[null,6,"1999-11-06",48,12,24,76,33,58,27,13,93,42,35,74,17,72,73,47,75,30,20,80,"0,00",0,27,475,3469,20611,1,"0,00","26.456,81","1.503,86","102,57","17,27","357.166,93","4.237.686,59","0,00","0,00","0,00","0,00","0,00","0,00"]
[null,7,"1999-11-13",97,19,94,23,85,39,50,59,46,45,99,36,70,64,92,3,56,18,6,73,"0,00",3,38,555,4488,26487,0,"1.838.697,10","22.428,15","1.535,62","94,59","16,03","0,00","0,00","0,00","0,00","0,00","0,00","426.134,93","0,00"]
[null,8,"1999-11-20",19,41,26,65,47,75,5,94,10,0,59,33,99,57,84,11,74,83,7,53,"0,00",0,30,358,3280,19643,2,"0,00","23.309,91","1.953,35","106,20","17,74","387.891,78","1.048.945,87","0,00","0,00","0,00","0,00","0,00","0,00"]
[null,9,"1999-11-27",73,36,21,98,30,17,70,60,67,22,29,0,3,10,7,32,9,1,69,77,"0,00",2,28,505,4058,24561,2,"1.043.588,26","24.719,78","1.370,60","84,97","14,04","173.038,45","0,00","0,00","0,00","0,00","0,00","0,00","0,00"]
[null,10,"1999-12-04",47,42,51,28,25,81,34,41,8,60,86,38,65,55,63,79,9,87,95,98,"0,00",1,17,289,2836,18163,0,"1.048.263,02","41.108,35","2.418,14","122,75","19,17","0,00","0,00","0,00","0,00","0,00","0,00","349.421,03","0,00"]
[null,11,"1999-12-11",16,54,53,93,46,87,79,24,14,83,34,58,74,8,94,78,51,71,64,35,"0,00",0,32,538,4520,24728,0,"0,00","21.374,48","1.271,34","75,38","13,78","0,00","1.025.974,88","0,00","0,00","0,00","0,00","691.412,67","0,00"]
[null,12,"1999-12-18",89,81,37,16,56,63,5,21,22,49,20,36,39,32,65,10,88,28,52,43,"0,00",0,22,416,3839,23537,0,"0,00","31.192,91","1.649,62","89,05","14,53","0,00","2.055.340,71","0,00","0,00","0,00","0,00","1.034.534,63","0,00"]
[null,13,"1999-12-24",75,84,0,79,32,42,76,58,2,47,59,82,3,66,91,6,35,56,68,88,"0,00",0,18,276,2204,14521,0,"0,00","30.556,86","1.992,84","124,31","18,87","0,00","2.880.375,94","0,00","0,00","0,00","0,00","1.309.546,40","0,00"]
[null,14,"1999-12-31",83,36,85,43,3,52,30,59,97,76,13,11,29,4,37,40,86,55,81,18,"0,00",1,7,229,2291,15242,0,"3.840.753,34","91.464,52","2.795,86","139,20","20,93","0,00","0,00","0,00","0,00","0,00","0,00","1.629.672,22","0,00"]
[null,15,"2000-01-08",14,12,13,54,92,38,26,31,5,48,4,29,73,97,15,22,19,41,65,94,"0,00",0,24,337,3261,19321,1,"0,00","25.918,51","1.845,83","95,02","16,04","1.940.694,24","933.066,06","0,00","0,00","0,00","0,00","0,00","0,00"]
[null,16,"2000-01-15",91,57,59,49,94,1,45,51,73,16,13,46,48,63,10,12,78,11,22,29,"0,00",2,19,290,3001,19898,0,"938.973,74","33.153,73","2.172,14","104,57","15,77","0,00","0,00","0,00","0,00","0,00","0,00","314.960,50","0,00"]
[null,17,"2000-01-22",98,39,38,29,43,78,19,97,92,79,1,37,47,30,96,59,13,31,22,61,"0,00",1,9,209,2084,13413,2,"894.163,51","66.234,33","2.852,20","142,48","22,14","306.507,51","0,00","0,00","0,00","0,00","0,00","0,00","0,00"]
[null,18,"2000-01-29",92,34,69,85,16,97,47,46,0,60,79,96,59,91,70,78,5,40,32,76,"0,00",1,10,174,1751,11906,0,"864.459,26","57.630,62","3.312,10","163,95","24,11","0,00","0,00","0,00","0,00","0,00","0,00","288.153,11","0,00"]
[null,19,"2000-02-05",67,31,86,8,53,82,94,36,21,0,25,13,11,77,98,33,48,10,18,99,"0,00",1,30,570,4364,23812,0,"902.634,35","20.058,54","1.055,72","68,69","12,60","0,00","0,00","0,00","0,00","0,00","0,00","589.031,24","0,00"]
[null,20,"2000-02-12",84,72,59,90,97,30,75,26,42,55,31,93,71,65,61,60,70,43,51,20,"0,00",0,14,261,2415,15482,0,"0,00","43.151,83","2.314,66","124,61","19,44","0,00","906.188,27","0,00","0,00","0,00","0,00","891.094,02","0,00"]
[null,21,"2000-02-19",71,54,67,38,59,16,89,2,92,77,45,75,7,73,26,99,97,29,41,8,"0,00",2,29,451,3354,19019,1,"937.293,98","22.262,06","1.431,48","95,89","16,91","1.213.893,95","0,00","0,00","0,00","0,00","0,00","0,00","0,00"]
[null,22,"2000-02-26",13,94,0,5,37,56,84,85,93,11,38,29,41,23,33,42,49,95,45,79,"0,00",0,15,233,2488,15376,0,"0,00","38.022,82","2.447,82","114,19","18,48","0,00","855.513,46","0,00","0,00","0,00","0,00","0,00","0,00"]
[null,23,"2000-03-04",77,4,41,53,28,17,40,19,99,24,26,18,32,78,60,64,37,25,89,31,"0,00",0,15,212,2016,14318,0,"0,00","39.634,81","2.804,35","146,89","20,69","0,00","1.747.296,63","0,00","0,00","0,00","0,00","582.432,24","0,00"]
[null,24,"2000-03-11",95,42,13,66,48,46,51,75,43,49,32,1,11,50,23,94,41,45,59,86,"0,00",0,36,429,3528,21280,0,"0,00","16.289,70","1.366,97","82,80","13,73","0,00","2.626.940,08","0,00","0,00","0,00","0,00","875.646,76","0,00"]
[null,25,"2000-03-18",98,48,85,5,21,73,95,49,64,46,45,94,88,47,59,31,19,82,93,92,"0,00",1,25,453,3799,23543,2,"3.646.800,74","27.196,29","1.500,90","89,15","14,39","607.800,16","0,00","0,00","0,00","0,00","0,00","0,00","0,00"]
[null,26,"2000-03-25",33,81,42,51,66,78,19,92,13,88,53,15,3,5,27,4,30,48,32,49,"0,00",0,15,286,3233,19913,0,"0,00","38.269,10","2.007,12","88,45","14,37","0,00","861.054,65","0,00","0,00","0,00","0,00","287.018,23","0,00"]
[null,27,"2000-04-01",3,56,86,84,31,58,59,32,61,6,21,91,82,75,16,71,98,19,39,1,"0,00",0,38,520,3963,20059,0,"0,00","15.700,91","1.147,37","75,00","14,82","0,00","1.756.006,62","0,00","0,00","0,00","0,00","585.335,56","0,00"]
[null,28,"2000-04-08",85,37,96,5,89,64,24,67,68,49,54,33,73,65,57,60,45,44,56,41,"0,00",3,90,2108,7567,34651,0,"912.367,69","7.267,38","309,11","43,06","13,43","0,00","0,00","0,00","0,00","0,00","0,00","912.367,73","0,00"]
[null,29,"2000-04-15",84,11,42,96,5,29,9,27,86,87,61,68,78,69,85,1,2,53,74,93,"0,00",0,5,192,1756,11183,1,"0,00","118.678,95","3.090,60","168,32","26,43","1.209.065,13","890.092,12","0,00","0,00","0,00","0,00","0,00","0,00"]
[null,30,"2000-04-22",79,33,0,15,60,5,61,23,97,40,29,34,42,43,71,24,36,49,22,72,"0,00",0,10,205,2026,12775,0,"0,00","51.716,72","2.522,77","127,16","20,17","0,00","1.665.842,85","0,00","0,00","0,00","0,00","258.583,60","0,00"]
[null,31,"2000-04-29",15,7,52,94,24,64,73,35,14,10,53,44,0,68,48,8,1,79,13,43,"0,00",1,26,441,3820,22196,1,"2.584.623,58","23.558,48","1.388,94","79,88","13,75","564.843,85","0,00","0,00","0,00","0,00","0,00","0,00","0,00"]
[null,32,"2000-05-06",5,20,29,49,12,83,23,28,41,80,79,42,95,67,94,66,92,39,76,17,"0,00",0,9,188,1996,13668,2,"0,00","62.645,54","2.998,99","140,71","20,56","140.952,48","845.714,80","0,00","0,00","0,00","0,00","0,00","0,00"]
[null,33,"2000-05-13",49,13,82,93,14,52,34,11,6,23,90,76,60,28,71,56,39,86,33,12,"0,00",1,10,211,2289,14295,0,"1.778.696,06","62.198,75","2.947,81","135,36","21,67","0,00","0,00","0,00","0,00","0,00","0,00","310.993,77","0,00"]
[null,34,"2000-05-20",66,45,77,82,61,24,23,28,51,20,19,89,44,54,9,58,2,14,79,12,"0,00",4,14,309,2597,15985,0,"212.878,36","40.548,26","1.837,14","108,89","17,70","0,00","0,00","0,00","0,00","0,00","0,00","594.831,60","0,00"]
[null,35,"2000-05-27",23,48,85,47,88,12,11,42,99,67,22,4,14,49,28,54,53,8,36,60,"0,00",0,21,362,3336,20068,0,"0,00","25.830,80","1.498,47","81,00","13,46","0,00","813.670,20","0,00","0,00","0,00","0,00","866.055,01","0,00"]
[null,36,"2000-06-03",71,56,58,5,16,17,85,86,65,50,88,76,78,57,43,69,51,55,9,89,"0,00",0,28,248,2316,18219,2,"0,00","21.343,60","2.409,76","128,53","16,35","582.432,72","1.710.101,40","0,00","0,00","0,00","0,00","0,00","0,00"]
[null,37,"2000-06-10",44,43,74,73,99,1,20,3,82,97,98,50,9,55,17,35,38,21,52,6,"0,00",3,24,321,2666,16810,1,"892.612,72","26.881,58","2.009,84","120,55","19,12","322.578,94","0,00","0,00","0,00","0,00","0,00","0,00","0,00"]
[null,38,"2000-06-17",56,4,58,55,30,35,66,36,57,2,11,20,83,99,12,53,61,49,23,98,"0,00",1,15,244,2341,15765,1,"842.858,00","37.460,36","2.302,89","119,65","17,77","280.952,67","0,00","0,00","0,00","0,00","0,00","0,00","0,00"]
[null,39,"2000-06-24",84,24,17,26,33,57,78,70,72,2,0,5,38,30,81,52,44,9,11,18,"0,00",3,34,368,3158,17656,1,"252.787,51","14.869,85","1.373,85","79,81","14,28","252.787,54","0,00","0,00","0,00","0,00","0,00","0,00","0,00"]
[null,40,"2000-07-01",55,74,7,5,62,9,77,57,80,41,83,16,90,67,51,8,99,86,43,25,"0,00",1,11,230,2122,13037,1,"788.929,89","47.813,93","2.286,76","123,56","20,11","262.976,66","0,00","0,00","0,00","0,00","0,00","0,00","0,00"]
[null,41,"2000-07-08",98,50,37,33,47,4,86,64,26,82,29,58,11,9,71,77,22,41,52,65,"0,00",1,22,368,2936,17267,2,"850.388,26","25.769,34","1.540,56","96,27","16,38","141.731,38","0,00","0,00","0,00","0,00","0,00","0,00","0,00"]
[null,42,"2000-07-15",12,18,48,74,75,29,35,41,83,64,3,80,86,89,67,73,99,21,20,47,"0,00",1,13,251,2408,14789,0,"833.924,00","42.765,00","2.214,00","115,00","18,00","0,00","0,00","0,00","0,00","0,00","0,00","277.974,00","0,00"]
[null,43,"2000-07-22",17,54,93,31,96,32,8,94,18,39,30,53,75,77,86,90,58,84,6,19,"0,00",0,13,193,2029,12673,1,"0,00","41.744,20","2.811,79","133,33","21,35","549.311,98","814.011,83","0,00","0,00","0,00","0,00","0,00","0,00"]
[null,44,"2000-07-29",78,15,40,28,32,87,36,52,44,72,23,38,80,18,54,0,81,77,8,99,"0,00",0,26,378,3344,18796,0,"0,00","21.839,28","1.502,18","84,65","15,06","0,00","1.665.743,48","0,00","0,00","0,00","0,00","283.910,58","0,00"]
[null,45,"2000-08-05",3,33,74,80,18,70,90,24,1,30,67,69,37,68,42,57,14,41,86,0,"0,00",1,15,256,2391,17254,0,"2.616.196,83","42.242,37","2.475,14","132,12","18,32","0,00","0,00","0,00","0,00","0,00","0,00","600.728,38","0,00"]
[null,46,"2000-08-12",5,2,98,97,28,50,93,94,24,12,78,25,63,45,0,9,81,32,31,41,"0,00",0,17,224,2344,16006,0,"0,00","33.776,39","2.563,39","122,12","17,89","0,00","861.297,91","0,00","0,00","0,00","0,00","887.827,69","0,00"]
[null,47,"2000-08-19",7,21,18,95,80,75,10,78,31,96,50,11,92,42,89,97,82,70,34,39,"0,00",0,10,196,2091,15008,0,"0,00","59.434,47","3.032,37","141,70","19,75","0,00","1.752.814,91","0,00","0,00","0,00","0,00","1.185.000,04","0,00"]
[null,48,"2000-08-26",34,64,15,14,37,13,56,0,30,5,98,9,68,47,45,35,88,18,74,70,"0,00",2,27,388,3464,23967,1,"1.340.918,86","22.938,84","1.596,26","89,14","12,89","1.494.674,30","0,00","0,00","0,00","0,00","0,00","0,00","0,00"]
[null,49,"2000-09-02",29,45,50,85,86,55,21,80,61,81,79,40,44,62,37,95,83,97,88,31,"0,00",1,9,211,2031,13676,1,"819.254,00","60.685,48","2.588,48","134,06","19,92","273.084,68","0,00","0,00","0,00","0,00","0,00","0,00","0,00"]
[null,50,"2000-09-09",34,20,26,24,73,68,6,54,8,40,28,0,27,71,30,66,82,39,43,42,"0,00",1,10,313,2956,17968,1,"813.621,08","54.241,41","1.732,95","91,48","15,06","271.207,05","0,00","0,00","0,00","0,00","0,00","0,00","0,00"]
[null,51,"2000-09-16",41,21,1,53,10,83,3,98,16,89,51,82,40,46,60,75,63,47,57,4,"0,00",0,13,261,2620,14592,1,"0,00","43.690,81","2.176,17","108,07","19,41","283.990,26","851.970,69","0,00","0,00","0,00","0,00","0,00","0,00"]
[null,52,"2000-09-23",85,50,81,9,53,26,89,87,31,18,65,37,80,45,73,99,69,6,1,13,"0,00",2,46,464,3628,23112,4,"860.049,21","12.581,56","1.247,31","79,53","12,49","72.343,98","0,00","0,00","0,00","0,00","0,00","0,00","0,00"]
[null,53,"2000-09-30",56,8,28,42,82,18,12,41,10,34,86,49,59,32,62,95,21,50,39,6,"0,00",2,50,656,4732,24622,0,"396.383,94","10.570,24","805,66","55,68","10,71","0,00","0,00","0,00","0,00","0,00","0,00","264.255,97","0,00"]
[null,54,"2000-10-07",97,88,23,98,6,87,45,22,18,43,56,40,17,38,74,94,15,53,91,86,"0,00",0,23,225,2305,14474,2,"0,00","24.927,75","2.548,17","124,00","19,76","275.462,53","860.007,26","0,00","0,00","0,00","0,00","0,00","0,00"]
[null,55,"2000-10-14",97,37,5,4,96,26,44,49,40,99,50,89,54,3,64,63,32,74,67,73,"0,00",0,16,188,1903,12563,1,"0,00","35.737,89","3.041,53","149,79","22,70","285.903,08","1.717.716,48","0,00","0,00","0,00","0,00","0,00","0,00"]
[null,56,"2000-10-18",82,74,88,92,47,56,28,60,30,24,12,16,91,31,8,35,36,17,80,63,"0,00",0,9,115,1099,7533,0,"0,00","25.048,10","1.960,28","102,26","14,92","0,00","2.055.865,90","0,00","0,00","0,00","0,00","112.716,50","0,00"]
[null,57,"2000-10-21",41,67,98,58,85,79,64,44,9,78,93,83,73,97,50,5,28,2,95,25,"0,00",3,61,559,4309,22336,0,"977.754,39","9.589,05","1.046,39","67,68","13,06","0,00","0,00","0,00","0,00","0,00","0,00","405.182,26","0,00"]
[null,58,"2000-10-25",8,80,92,23,25,22,78,85,48,95,16,19,13,74,90,11,51,61,56,66,"0,00",0,6,119,1001,6143,0,"0,00","39.253,93","1.979,19","117,30","19,12","0,00","353.285,37","0,00","0,00","0,00","0,00","522.944,08","0,00"]
[null,59,"2000-10-28",27,81,92,63,14,83,35,96,7,89,45,76,56,53,52,94,20,91,16,30,"0,00",1,19,305,3248,41529,3,"1.095.137,47","26.029,90","1.621,53","75,92","8,48","256.742,71","0,00","0,00","0,00","0,00","0,00","0,00","0,00"]
[null,60,"2000-11-01",60,76,4,41,88,12,14,42,22,17,87,93,45,40,26,67,68,43,47,2,"0,00",0,6,98,1030,6654,0,"0,00","40.873,58","2.502,46","118,70","18,38","0,00","367.862,21","0,00","0,00","0,00","0,00","122.620,76","0,00"]
[null,61,"2000-11-04",64,60,84,70,68,6,0,53,40,74,88,27,26,61,30,14,35,34,55,51,"0,00",1,28,320,2653,16149,1,"1.042.542,25","16.063,81","1.405,58","84,52","13,89","347.514,12","0,00","0,00","0,00","0,00","0,00","0,00","0,00"]
[null,62,"2000-11-08",33,32,66,43,44,31,27,19,20,14,24,62,49,61,9,81,36,41,25,23,"0,00",1,19,354,2322,40466,0,"387.126,87","13.583,40","726,87","55,42","4,54","0,00","0,00","0,00","0,00","0,00","0,00","129.042,32","0,00"]
[null,63,"2000-11-11",82,52,78,24,74,91,92,41,54,47,69,1,99,36,65,48,57,33,3,18,"0,00",0,23,359,2952,17390,2,"0,00","21.671,07","1.388,40","84,17","14,29","189.129,81","747.651,81","0,00","0,00","0,00","0,00","0,00","0,00"]
[null,64,"2000-11-18",6,54,38,21,93,66,5,9,69,47,16,37,85,98,84,68,29,51,11,3,"0,00",0,15,253,2436,14885,0,"0,00","38.675,03","2.292,99","118,72","19,44","0,00","1.617.839,96","0,00","0,00","0,00","0,00","290.062,74","0,00"]
[null,65,"2000-11-22",98,83,72,23,79,7,69,14,8,58,21,39,18,1,27,45,31,86,11,92,"0,00",0,10,158,1579,9260,1,"0,00","31.151,36","1.971,60","98,35","16,77","445.819,55","2.085.110,35","0,00","0,00","0,00","0,00","0,00","0,00"]
[null,66,"2000-11-25",16,54,76,92,62,99,38,4,66,36,23,88,14,94,33,17,57,78,44,26,"0,00",2,68,842,6057,28251,5,"1.437.985,47","7.753,53","624,31","43,39","13,30","52.724,05","0,00","0,00","0,00","0,00","0,00","0,00","0,00"]
[null,67,"2000-11-29",14,64,46,62,9,18,76,7,50,25,49,91,26,89,85,3,36,98,94,75,"0,00",1,9,142,1177,7058,1,"360.509,79","26.704,43","1.692,53","101,80","16,98","120.169,95","0,00","0,00","0,00","0,00","0,00","0,00","0,00"]
[null,68,"2000-12-02",82,8,28,88,3,46,78,94,32,54,71,6,23,5,24,25,45,22,57,53,"0,00",0,20,301,2903,17910,0,"0,00","23.085,37","1.533,91","79,29","12,86","0,00","692.561,00","0,00","0,00","0,00","0,00","230.853,68","0,00"]
[null,69,"2000-12-06",55,0,95,45,94,15,72,34,76,24,69,73,98,58,86,30,29,14,1,83,"0,00",0,13,136,1355,8343,0,"0,00","24.028,34","2.296,83","114,93","18,67","0,00","1.161.113,53","0,00","0,00","0,00","0,00","387.037,88","0,00"]
[null,70,"2000-12-09",17,44,89,66,90,80,38,94,81,12,46,30,83,41,91,13,0,39,47,33,"0,00",0,15,238,2199,14166,0,"0,00","33.611,49","2.118,37","114,30","17,75","0,00","1.917.372,02","0,00","0,00","0,00","0,00","639.124,06","0,00"]
[null,71,"2000-12-13",39,30,66,69,24,81,90,61,94,59,44,53,73,36,63,46,55,50,27,11,"0,00",0,44,505,3371,15544,1,"0,00","7.988,94","693,99","51,99","11,28","814.880,89","2.444.642,43","0,00","0,00","0,00","0,00","0,00","0,00"]
[null,72,"2000-12-16",74,93,0,35,31,25,16,11,39,52,68,70,87,64,47,90,45,8,9,20,"0,00",1,17,277,2514,15030,1,"3.262.164,27","32.059,68","1.967,56","108,08","18,08","272.507,30","0,00","0,00","0,00","0,00","0,00","0,00","0,00"]
[null,73,"2000-12-20",81,39,50,94,69,18,91,92,73,11,71,99,83,59,41,98,93,74,14,30,"0,00",2,31,434,2970,14467,0,"214.624,22","9.231,15","657,40","48,04","14,08","0,00","0,00","0,00","0,00","0,00","0,00","143.082,85","0,00"]
[null,74,"2000-12-23",13,48,53,99,11,96,57,71,92,17,42,28,40,24,49,87,41,61,46,43,"0,00",1,17,217,1972,12699,1,"675.676,08","26.497,10","2.075,81","113,87","17,69","368.308,22","0,00","0,00","0,00","0,00","0,00","0,00","0,00"]
[null,75,"2000-12-27",98,64,87,78,15,73,37,85,1,95,94,76,48,26,59,57,11,27,38,39,"0,00",0,7,149,1235,7488,0,"0,00","32.950,84","1.548,03","93,10","15,36","0,00","345.983,78","0,00","0,00","0,00","0,00","115.327,94","0,00"]
[null,76,"2000-12-30",0,22,61,80,96,31,30,7,67,48,29,56,10,55,68,50,6,52,86,18,"0,00",0,15,215,2252,14078,2,"0,00","30.763,96","2.146,32","102,16","16,35","173.028,83","1.038.172,93","0,00","0,00","0,00","0,00","0,00","0,00"]
[null,77,"2001-01-03",56,98,38,83,31,85,80,28,0,2,89,16,41,76,5,7,32,27,91,49,"0,00",0,14,200,1913,20039,3,"0,00","18.056,90","1.263,98","65,89","8,99","42.132,77","1.417.367,76","0,00","0,00","0,00","0,00","0,00","0,00"]
[null,78,"2001-01-06",83,87,94,72,71,86,33,29,84,41,24,81,21,46,7,53,45,36,63,67,"0,00",0,17,216,2241,14038,0,"0,00","29.420,92","2.315,53","111,26","17,76","0,00","2.167.601,21","0,00","0,00","0,00","0,00","250.077,84","0,00"]
[null,79,"2001-01-10",30,20,51,85,15,26,86,9,87,37,7,2,67,43,47,77,4,3,55,38,"0,00",0,16,181,1761,11470,0,"0,00","24.219,58","2.140,96","109,70","16,85","0,00","2.748.871,19","0,00","0,00","0,00","0,00","443.834,51","0,00"]
[null,80,"2001-01-13",0,91,20,50,88,22,6,17,41,86,42,81,55,93,30,77,98,36,12,95,"0,00",3,31,523,4302,23828,3,"1.208.284,75","18.838,35","1.116,62","67,68","12,22","245.276,29","0,00","0,00","0,00","0,00","0,00","0,00","0,00"]
[null,81,"2001-01-17",16,83,92,39,23,97,67,14,65,74,68,87,30,63,86,94,52,43,47,33,"0,00",4,23,390,3051,15170,3,"109.348,66","12.678,10","745,44","47,65","13,68","48.599,41","0,00","0,00","0,00","0,00","0,00","0,00","0,00"]
[null,82,"2001-01-20",64,14,48,42,79,6,53,62,69,52,22,21,85,1,93,90,59,47,49,88,"0,00",0,9,126,1379,9321,0,"0,00","48.927,01","3.494,79","159,19","23,55","0,00","660.514,61","0,00","0,00","0,00","0,00","220.171,56","0,00"]
[null,83,"2001-01-24",30,83,71,13,45,44,37,40,76,74,51,11,65,4,85,50,79,0,61,43,"0,00",2,18,208,1875,10545,1,"569.187,20","17.698,51","1.531,60","84,71","15,06","379.458,17","0,00","0,00","0,00","0,00","0,00","0,00","0,00"]
[null,84,"2001-01-27",19,45,65,16,95,68,88,57,11,22,42,3,81,25,4,8,50,12,55,2,"0,00",1,19,369,2737,16181,1,"631.571,69","22.160,41","1.141,05","76,69","12,98","210.523,91","0,00","0,00","0,00","0,00","0,00","0,00","0,00"]
[null,85,"2001-01-31",92,63,31,60,45,47,84,23,25,71,58,2,4,13,44,7,30,51,36,10,"0,00",2,21,277,2104,11174,1,"206.261,87","13.095,99","992,84","65,17","12,28","137.507,93","0,00","0,00","0,00","0,00","0,00","0,00","0,00"]
[null,86,"2001-02-03",87,1,26,42,71,96,33,45,19,38,51,61,60,98,24,64,99,47,59,14,"0,00",0,8,210,1879,11105,1,"0,00","54.266,80","2.067,31","115,19","19,50","217.067,20","651.201,56","0,00","0,00","0,00","0,00","0,00","0,00"]
[null,87,"2001-02-07",17,24,87,15,47,53,43,83,51,96,54,59,99,42,85,93,30,98,67,6,"0,00",0,44,561,4177,20539,1,"0,00","7.527,00","588,59","39,54","11,48","165.595,60","1.147.988,31","0,00","0,00","0,00","0,00","0,00","0,00"]
[null,88,"2001-02-10",76,95,30,46,77,84,66,47,51,17,86,94,45,60,33,57,41,11,28,23,"0,00",0,12,268,2698,16944,0,"0,00","42.454,10","1.900,93","94,13","14,99","0,00","1.912.162,06","0,00","0,00","0,00","0,00","254.724,60","0,00"]
[null,89,"2001-02-14",17,59,67,86,83,48,44,68,50,64,88,60,63,41,1,11,76,33,25,56,"0,00",0,9,274,2607,15170,0,"0,00","44.015,33","1.445,76","75,76","13,03","0,00","2.506.369,07","0,00","0,00","0,00","0,00","452.793,61","0,00"]
[null,90,"2001-02-17",57,93,34,55,62,52,66,92,20,37,32,17,73,80,24,26,31,25,94,88,"0,00",1,19,233,2283,15026,2,"3.364.314,03","30.103,33","2.454,78","124,90","18,98","369.387,65","0,00","0,00","0,00","0,00","0,00","0,00","0,00"]
[null,91,"2001-02-21",81,25,64,23,22,67,85,34,55,91,14,8,36,27,31,26,35,66,58,0,"0,00",0,13,165,1541,10622,0,"0,00","23.067,80","1.817,46","97,01","14,08","0,00","449.821,96","0,00","0,00","0,00","0,00","149.940,67","0,00"]
[null,92,"2001-02-24",70,60,58,86,61,5,90,51,27,55,29,48,13,62,42,21,92,63,35,89,"0,00",1,12,150,1601,10463,0,"1.127.111,33","37.627,19","3.010,17","140,59","21,52","0,00","0,00","0,00","0,00","0,00","0,00","375.703,80","0,00"]
[null,93,"2001-03-03",81,20,82,94,69,74,1,53,77,28,19,49,90,43,34,7,84,14,52,54,"0,00",2,26,189,1852,11831,0,"369.801,91","18.964,20","2.608,83","132,73","20,78","0,00","0,00","0,00","0,00","0,00","0,00","622.238,43","0,00"]
[null,94,"2001-03-07",67,46,14,88,54,60,84,72,42,59,83,94,37,26,47,90,23,7,21,13,"0,00",0,5,134,1235,7953,0,"0,00","58.225,70","2.172,60","117,51","18,25","0,00","436.692,69","0,00","0,00","0,00","0,00","767.802,66","0,00"]
[null,95,"2001-03-10",69,91,86,94,23,72,85,27,16,57,87,44,84,1,79,55,41,20,53,48,"0,00",0,12,235,2012,12608,3,"0,00","40.075,11","2.046,39","119,16","19,02","336.084,43","1.158.044,58","0,00","0,00","0,00","0,00","0,00","0,00"]
[null,96,"2001-03-14",15,95,51,42,6,9,3,64,86,70,65,62,22,18,94,32,24,73,19,75,"0,00",0,18,223,1870,11895,0,"0,00","18.602,57","1.501,55","89,27","14,03","0,00","1.660.314,09","0,00","0,00","0,00","0,00","167.423,19","0,00"]
[null,97,"2001-03-17",57,39,38,55,97,44,16,92,51,1,45,5,34,49,8,85,31,43,50,63,"0,00",1,21,384,3752,18495,0,"2.433.108,89","24.533,17","1.341,66","68,46","13,89","0,00","0,00","0,00","0,00","0,00","0,00","425.021,48","0,00"]
[null,98,"2001-03-21",63,76,68,27,55,73,38,89,18,46,72,26,70,51,39,45,64,96,2,84,"0,00",0,8,129,1275,7612,0,"0,00","36.036,67","2.234,83","112,63","18,87","0,00","432.439,99","0,00","0,00","0,00","0,00","569.168,16","0,00"]
[null,99,"2001-03-24",69,92,10,42,34,82,4,32,89,26,16,62,2,6,97,28,53,90,39,38,"0,00",0,28,368,2872,16816,1,"0,00","16.898,59","1.285,76","82,06","14,02","805.748,30","1.142.180,39","0,00","0,00","0,00","0,00","0,00","0,00"]
[null,100,"2001-03-28",95,28,11,12,56,27,21,2,77,67,7,38,6,90,51,58,60,48,91,66,"0,00",0,7,165,1146,7598,0,"0,00","45.842,69","1.944,84","139,48","21,04","0,00","1.623.528,64","0,00","0,00","0,00","0,00","160.449,43","0,00"]
[null,101,"2001-03-31",16,12,20,5,80,82,33,49,68,2,83,30,1,51,74,3,19,59,27,39,"0,00",0,17,302,2352,15372,0,"0,00","30.367,60","1.709,43","109,34","16,73","0,00","2.397.902,39","0,00","0,00","0,00","0,00","418.574,03","0,00"]
[null,102,"2001-04-04",57,48,70,72,13,35,47,9,11,62,64,94,89,76,91,24,95,85,21,4,"0,00",2,15,224,2003,11804,2,"1.506.273,98","27.317,58","1.829,30","101,91","17,30","311.727,96","0,00","0,00","0,00","0,00","0,00","0,00","0,00"]
[null,103,"2001-04-07",45,35,97,85,92,25,26,61,91,99,77,32,95,58,5,29,24,72,86,30,"0,00",1,5,198,1705,11460,0,"693.115,45","92.415,40","2.333,72","135,00","20,09","0,00","0,00","0,00","0,00","0,00","0,00","231.038,50","0,00"]
[null,104,"2001-04-11",41,65,35,71,37,7,33,20,53,50,44,17,10,23,85,49,68,64,31,70,"0,00",0,30,385,2544,14909,1,"0,00","10.605,75","826,42","62,31","10,63","390.124,72","477.258,67","0,00","0,00","0,00","0,00","0,00","0,00"]
[null,105,"2001-04-14",93,15,54,23,0,10,4,86,34,1,28,2,87,25,76,9,3,48,72,41,"0,00",0,20,208,1946,11856,0,"0,00","18.301,15","1.759,73","93,69","15,39","0,00","1.026.293,29","0,00","0,00","0,00","0,00","183.011,55","0,00"]
[null,106,"2001-04-18",72,9,15,97,21,1,75,55,82,88,29,78,12,87,77,25,40,20,68,10,"0,00",0,16,237,1890,11407,1,"0,00","22.069,80","1.489,95","93,07","15,43","359.569,94","1.555.968,44","0,00","0,00","0,00","0,00","0,00","0,00"]
[null,107,"2001-04-21",40,54,13,45,26,38,61,33,64,91,6,53,75,30,62,69,22,18,36,34,"0,00",0,23,288,2820,16742,1,"0,00","18.301,15","1.461,55","74,35","12,53","210.463,21","2.187.358,02","0,00","0,00","0,00","0,00","0,00","0,00"]
[null,108,"2001-04-25",1,25,85,90,86,44,67,41,59,97,48,35,32,18,61,62,9,28,53,43,"0,00",0,6,141,1607,9864,0,"0,00","62.487,62","2.659,05","116,21","18,93","0,00","2.749.746,57","0,00","0,00","0,00","0,00","187.462,87","0,00"]
[null,109,"2001-04-28",80,16,0,77,92,98,13,89,6,19,29,1,50,79,94,49,65,39,20,40,"0,00",0,28,434,2991,16791,3,"0,00","18.346,76","1.183,66","85,55","15,25","148.105,83","3.520.310,36","0,00","0,00","0,00","0,00","0,00","0,00"]
[null,110,"2001-05-02",75,72,66,30,62,35,21,39,67,92,61,65,23,13,16,63,53,1,81,22,"0,00",0,9,160,1652,10548,0,"0,00","39.652,46","2.230,45","107,60","16,86","0,00","4.055.618,54","0,00","0,00","0,00","0,00","178.436,07","0,00"]
[null,111,"2001-05-05",25,96,30,44,32,18,58,7,82,71,41,79,86,98,61,52,56,59,72,88,"0,00",0,26,323,2978,17677,3,"0,00","22.764,82","1.832,46","99,01","16,68","158.126,27","4.943.446,69","0,00","0,00","0,00","0,00","0,00","0,00"]
[null,112,"2001-05-09",57,10,94,74,24,60,0,9,67,61,63,78,37,15,47,97,58,18,51,88,"0,00",0,14,235,2385,13978,0,"0,00","34.798,66","2.073,11","101,75","17,37","0,00","5.674.218,60","0,00","0,00","0,00","0,00","243.590,66","0,00"]
[null,113,"2001-05-12",11,34,36,84,37,27,71,81,31,83,52,13,88,41,32,87,91,17,38,4,"0,00",1,24,376,3738,22263,0,"6.642.639,29","26.900,58","1.717,06","86,04","14,45","0,00","0,00","0,00","0,00","0,00","0,00","566.397,58","0,00"]
[null,114,"2001-05-16",80,74,25,44,71,48,32,1,88,17,50,76,49,27,7,29,91,90,13,11,"0,00",2,21,337,2591,14306,4,"253.539,72","16.097,76","1.003,13","65,00","11,77","183.856,02","0,00","0,00","0,00","0,00","0,00","0,00","0,00"]
[null,115,"2001-05-19",17,26,19,63,9,31,72,10,84,47,39,32,40,30,88,92,38,2,23,56,"0,00",0,11,255,2386,14129,1,"0,00","41.570,32","1.793,23","95,47","16,12","228.636,80","685.910,32","0,00","0,00","0,00","0,00","0,00","0,00"]
[null,116,"2001-05-23",46,83,3,82,21,56,4,11,80,64,92,35,45,59,8,31,53,7,39,47,"0,00",0,13,120,1157,7894,0,"0,00","26.717,30","2.894,38","149,53","21,92","0,00","1.206.897,66","0,00","0,00","0,00","0,00","173.662,45","0,00"]
[null,117,"2001-05-26",23,65,64,42,45,14,73,25,37,99,66,74,46,30,31,0,67,2,48,36,"0,00",0,15,275,2629,16226,0,"0,00","32.687,72","1.782,97","92,90","15,06","0,00","1.942.371,39","0,00","0,00","0,00","0,00","418.820,37","0,00"]
[null,118,"2001-05-30",32,23,83,11,90,60,74,33,63,82,12,53,29,56,14,2,65,15,92,41,"0,00",1,9,194,1906,15733,0,"2.520.903,66","42.854,24","1.988,08","100,80","12,22","0,00","0,00","0,00","0,00","0,00","0,00","611.664,47","0,00"]
[null,119,"2001-06-02",41,55,5,3,38,8,87,36,69,25,29,82,81,79,45,50,64,73,52,2,"0,00",1,15,256,2153,13445,0,"702.548,12","31.224,36","1.829,55","108,36","17,36","0,00","0,00","0,00","0,00","0,00","0,00","845.847,17","0,00"]
[null,120,"2001-06-06",9,27,19,29,47,11,77,61,10,12,94,84,35,56,31,74,21,2,48,75,"0,00",0,19,208,2057,12108,0,"0,00","18.336,06","1.674,93","84,36","14,34","0,00","522.577,67","0,00","0,00","0,00","0,00","1.020.039,75","0,00"]
[null,121,"2001-06-09",73,99,35,0,2,34,70,71,75,59,15,91,27,82,69,9,89,3,10,40,"0,00",3,22,339,3273,18779,2,"430.605,24","23.310,24","1.512,76","78,05","13,60","638.226,22","0,00","0,00","0,00","0,00","0,00","0,00","0,00"]
[null,122,"2001-06-13",43,95,24,59,85,27,84,20,14,12,82,8,86,35,58,21,30,36,88,77,"0,00",0,6,137,1445,9280,0,"0,00","58.621,00","2.567,35","121,25","18,88","0,00","527.589,02","0,00","0,00","0,00","0,00","175.863,02","0,00"]
[null,123,"2001-06-16",69,8,90,50,19,45,44,65,33,6,60,58,85,81,30,54,64,26,66,76,"0,00",0,11,256,2340,14530,1,"0,00","43.050,75","1.849,84","100,81","16,23","412.642,16","1.237.926,41","0,00","0,00","0,00","0,00","0,00","0,00"]
[null,124,"2001-06-20",8,40,69,81,64,41,39,6,70,26,2,59,25,95,67,84,11,28,32,76,"0,00",0,14,178,1702,10337,0,"0,00","29.735,79","2.338,77","121,84","20,07","0,00","1.862.377,86","0,00","0,00","0,00","0,00","208.150,51","0,00"]
[null,125,"2001-06-23",86,69,62,92,68,77,51,48,34,45,8,23,26,0,52,82,66,12,71,94,"0,00",0,47,531,4165,22857,0,"0,00","12.138,70","1.074,43","68,23","12,44","0,00","2.718.156,43","0,00","0,00","0,00","0,00","493.410,05","0,00"]
[null,126,"2001-06-27",68,38,29,9,7,97,40,37,12,56,8,1,96,83,14,46,20,63,3,41,"0,00",0,20,256,2643,15978,0,"0,00","23.176,59","1.810,67","87,36","14,46","0,00","3.413.454,08","0,00","0,00","0,00","0,00","725.175,95","0,00"]
[null,127,"2001-06-30",54,45,27,7,86,62,24,39,65,59,78,3,41,48,38,22,79,29,67,71,"0,00",1,30,482,4023,22007,0,"4.357.216,97","20.972,51","1.305,34","77,91","14,25","0,00","0,00","0,00","0,00","0,00","0,00","1.039.763,60","0,00"]
[null,128,"2001-07-04",88,97,86,49,24,34,47,17,5,52,58,45,3,31,43,74,84,46,59,57,"0,00",1,10,302,2627,15060,0,"589.537,13","39.302,48","1.301,41","74,53","13,01","0,00","0,00","0,00","0,00","0,00","0,00","1.236.276,00","0,00"]
[null,129,"2001-07-07",17,10,78,76,47,60,90,44,38,13,36,28,65,84,37,80,21,26,41,43,"0,00",1,21,325,3002,17327,0,"829.613,70","26.336,94","1.701,77","91,77","15,90","0,00","0,00","0,00","0,00","0,00","0,00","1.512.813,90","0,00"]
[null,130,"2001-07-11",84,17,37,5,15,10,85,16,51,38,19,76,52,49,99,41,21,44,3,94,"0,00",0,17,278,2510,14307,0,"0,00","22.569,15","1.380,13","76,14","13,36","0,00","575.513,10","0,00","0,00","0,00","0,00","1.704.651,62","0,00"]
[null,131,"2001-07-14",27,24,98,45,47,94,48,69,23,42,55,75,10,90,62,43,70,9,12,80,"0,00",0,14,183,1854,12664,1,"0,00","39.306,13","3.007,03","147,84","21,65","1.979.794,56","1.400.941,90","0,00","0,00","0,00","0,00","0,00","0,00"]
[null,132,"2001-07-18",6,42,40,79,21,74,27,2,86,45,96,29,76,12,10,58,51,7,49,71,"0,00",0,20,249,2205,12829,0,"0,00","20.698,23","1.662,51","93,52","16,07","0,00","2.021.888,59","0,00","0,00","0,00","0,00","206.982,26","0,00"]
[null,133,"2001-07-21",66,21,42,32,34,53,79,75,38,48,86,95,62,13,52,45,57,92,2,71,"0,00",2,53,657,5048,25945,0,"1.443.191,23","10.874,14","877,22","56,87","11,07","0,00","0,00","0,00","0,00","0,00","0,00","495.146,91","0,00"]
[null,134,"2001-07-25",20,63,71,67,99,48,47,85,25,15,7,65,27,13,21,24,38,22,73,55,"0,00",0,27,337,2744,15751,0,"0,00","13.053,97","1.045,87","63,98","11,15","0,00","528.685,76","0,00","0,00","0,00","0,00","671.375,51","0,00"]
[null,135,"2001-07-28",27,13,37,97,41,95,58,68,78,53,60,86,84,49,54,59,80,5,48,33,"0,00",1,12,276,2751,17210,1,"1.295.883,90","42.622,12","1.853,14","92,61","14,81","927.108,24","0,00","0,00","0,00","0,00","0,00","0,00","0,00"]
[null,136,"2001-08-01",6,54,71,22,89,59,41,91,33,35,55,53,47,87,80,30,16,20,50,7,"0,00",1,13,198,1737,10802,0,"524.171,85","26.880,61","1.764,89","100,21","16,11","0,00","0,00","0,00","0,00","0,00","0,00","174.723,97","0,00"]
[null,137,"2001-08-04",32,54,82,87,80,64,65,81,29,18,69,50,10,74,44,19,3,42,91,55,"0,00",0,12,174,1799,11952,0,"0,00","40.641,35","2.802,85","135,04","20,33","0,00","731.544,39","0,00","0,00","0,00","0,00","418.572,12","0,00"]
[null,138,"2001-08-08",32,15,41,29,25,20,53,52,48,69,79,82,58,88,3,81,10,12,54,77,"0,00",0,15,306,2927,17169,0,"0,00","26.581,03","1.302,99","67,86","11,57","0,00","1.329.617,44","0,00","0,00","0,00","0,00","617.929,80","0,00"]
[null,139,"2001-08-11",85,75,23,24,65,10,2,33,11,89,71,93,51,43,66,13,55,6,49,8,"0,00",2,35,674,4688,25566,0,"1.078.488,65","15.759,24","818,36","58,61","10,75","0,00","0,00","0,00","0,00","0,00","0,00","893.716,42","0,00"]
[null,140,"2001-08-15",60,16,20,62,57,50,10,30,51,78,92,14,43,56,4,83,65,15,28,95,"0,00",0,13,142,1402,9052,0,"0,00","27.554,50","2.522,59","127,27","19,72","0,00","537.312,76","0,00","0,00","0,00","0,00","1.072.820,69","0,00"]
[null,141,"2001-08-18",84,30,93,19,56,10,99,92,89,90,51,14,40,87,4,79,66,24,25,46,"0,00",1,11,173,1946,12450,0,"1.310.865,11","46.881,97","2.980,93","132,00","20,64","0,00","0,00","0,00","0,00","0,00","0,00","1.330.671,49","0,00"]
[null,142,"2001-08-22",89,31,94,54,25,7,98,38,60,44,13,55,51,24,35,68,96,14,63,82,"0,00",0,25,190,1860,11022,1,"0,00","14.101,76","1.855,49","94,41","15,93","1.506.943,51","528.816,03","0,00","0,00","0,00","0,00","0,00","0,00"]
[null,143,"2001-08-25",33,78,48,22,58,82,38,83,5,26,76,32,45,80,69,54,18,47,81,53,"0,00",1,25,420,3750,21800,1,"1.245.366,15","19.108,00","1.137,39","63,46","10,92","238.850,07","0,00","0,00","0,00","0,00","0,00","0,00","0,00"]
[null,144,"2001-08-29",60,62,50,74,85,41,66,87,51,45,46,25,81,36,15,59,14,38,99,95,"0,00",0,13,167,1629,10113,1,"0,00","24.336,75","1.894,48","96,75","15,59","158.188,88","474.566,57","0,00","0,00","0,00","0,00","0,00","0,00"]
[null,145,"2001-09-01",41,64,45,34,99,46,76,33,50,57,40,3,39,22,42,85,79,70,5,43,"0,00",0,10,196,1998,13176,0,"0,00","45.311,47","2.311,81","112,96","17,14","0,00","1.154.238,61","0,00","0,00","0,00","0,00","226.557,36","0,00"]
[null,146,"2001-09-05",96,24,6,47,37,59,43,92,49,3,57,17,88,75,67,73,26,87,93,60,"0,00",1,24,270,2222,12783,2,"1.717.259,07","15.639,46","1.390,18","84,14","14,63","207.115,43","0,00","0,00","0,00","0,00","0,00","0,00","0,00"]
[null,147,"2001-09-08",6,98,81,73,35,59,40,85,23,48,88,2,56,8,21,26,4,7,82,65,"0,00",0,11,208,1896,11372,0,"0,00","35.306,74","1.867,18","102,04","17,02","0,00","582.561,21","0,00","0,00","0,00","0,00","194.187,10","0,00"]
[null,148,"2001-09-12",45,49,22,10,26,0,33,40,91,43,12,81,98,60,84,9,24,77,85,41,"0,00",0,16,265,2331,14040,1,"0,00","22.927,54","1.384,30","78,40","13,03","377.607,42","1.132.822,16","0,00","0,00","0,00","0,00","0,00","0,00"]
[null,149,"2001-09-15",24,45,29,66,25,90,82,18,50,93,43,10,63,49,39,38,55,85,70,58,"0,00",0,34,313,3042,18132,1,"0,00","14.644,17","1.590,74","81,53","13,68","248.950,92","1.879.674,82","0,00","0,00","0,00","0,00","0,00","0,00"]
[null,150,"2001-09-19",37,54,79,25,18,52,26,38,20,15,96,29,48,89,50,7,55,39,23,9,"0,00",1,14,317,2859,16101,0,"2.489.509,96","29.039,77","1.282,52","70,83","12,59","0,00","0,00","0,00","0,00","0,00","0,00","203.278,40","0,00"]
[null,151,"2001-09-22",34,11,48,73,85,25,33,39,84,56,78,12,45,4,94,7,51,81,90,50,"0,00",1,11,238,2262,14170,0,"679.457,30","41.179,23","1.903,24","99,75","15,93","0,00","0,00","0,00","0,00","0,00","0,00","429.764,19","0,00"]
[null,152,"2001-09-26",51,83,52,27,48,66,8,95,81,9,87,75,86,18,73,28,60,46,19,6,"0,00",0,11,143,1255,9539,0,"0,00","30.775,02","2.367,31","134,36","17,68","0,00","507.787,82","0,00","0,00","0,00","0,00","599.026,81","0,00"]
[null,153,"2001-09-29",97,43,11,75,9,69,51,64,79,50,63,28,76,4,36,10,12,71,67,39,"0,00",1,18,230,2212,14334,1,"1.218.194,10","26.311,35","2.059,15","106,66","16,46","835.828,91","0,00","0,00","0,00","0,00","0,00","0,00","0,00"]
[null,154,"2001-10-03",73,45,44,65,30,12,6,66,4,92,55,79,62,98,28,88,51,49,81,43,"0,00",0,11,215,2046,12158,0,"0,00","30.716,66","1.571,55","82,26","13,85","0,00","506.824,88","0,00","0,00","0,00","0,00","168.941,65","0,00"]
[null,155,"2001-10-06",33,72,18,24,15,70,5,1,50,29,93,37,42,17,26,38,32,47,34,27,"0,00",3,64,858,49178,28329,2,"413.601,32","7.645,61","568,14","7,08","8,61","206.800,68","0,00","0,00","0,00","0,00","0,00","0,00","0,00"]
[null,156,"2001-10-10",10,32,95,85,66,42,91,98,38,77,68,19,59,1,24,82,50,20,40,48,"0,00",0,16,289,2462,14063,0,"0,00","21.656,45","1.198,97","70,11","12,28","0,00","519.754,76","0,00","0,00","0,00","0,00","173.251,61","0,00"]
[null,157,"2001-10-13",59,23,86,38,81,63,17,4,16,51,54,88,90,84,44,8,62,30,57,66,"0,00",2,19,294,2564,14677,1,"568.932,24","21.688,06","1.401,61","80,06","13,99","379.288,21","0,00","0,00","0,00","0,00","0,00","0,00","0,00"]
[null,158,"2001-10-17",51,89,62,56,72,86,55,52,31,63,66,24,36,98,53,54,13,70,6,93,"0,00",1,8,148,1450,9463,0,"501.037,38","41.753,11","2.256,92","114,75","17,59","0,00","0,00","0,00","0,00","0,00","0,00","167.012,49","0,00"]
[null,159,"2001-10-20",86,11,65,45,14,48,61,75,68,35,67,74,55,8,5,79,96,29,53,73,"0,00",0,17,334,2842,16867,0,"0,00","26.081,93","1.327,53","77,72","13,10","0,00","665.089,32","0,00","0,00","0,00","0,00","388.708,93","0,00"]
[null,160,"2001-10-24",0,65,37,25,38,33,68,66,23,89,62,92,1,56,83,29,26,94,48,42,"0,00",2,17,347,2592,15275,1,"600.258,52","20.997,17","1.028,68","68,60","11,65","567.184,84","0,00","0,00","0,00","0,00","0,00","0,00","0,00"]
[null,161,"2001-10-27",58,55,13,32,16,82,4,83,98,43,61,11,69,60,92,2,73,50,33,80,"0,00",0,12,234,2034,12779,0,"0,00","35.345,40","1.812,58","103,87","16,53","0,00","636.217,20","0,00","0,00","0,00","0,00","212.072,41","0,00"]
[null,162,"2001-10-31",25,98,91,1,8,18,49,29,83,81,61,80,70,12,95,62,74,86,27,41,"0,00",3,11,189,1662,9889,2,"393.106,25","32.915,24","1.915,70","108,51","18,25","196.553,14","0,00","0,00","0,00","0,00","0,00","0,00","0,00"]
[null,163,"2001-11-03",9,53,83,69,33,26,96,13,81,52,78,30,19,59,47,18,11,15,6,85,"0,00",1,25,319,2629,15201,0,"559.669,60","14.924,52","1.169,63","70,70","12,24","0,00","0,00","0,00","0,00","0,00","0,00","186.556,55","0,00"]
[null,164,"2001-11-07",87,64,24,84,96,80,47,45,54,77,55,73,63,59,40,15,81,49,12,69,"0,00",0,14,219,1953,11346,0,"0,00","24.369,17","1.557,85","87,01","14,98","0,00","511.752,59","0,00","0,00","0,00","0,00","357.140,77","0,00"]
[null,165,"2001-11-10",60,89,39,71,61,9,49,41,67,15,82,14,92,29,46,76,1,43,45,65,"0,00",0,8,278,2608,15339,1,"0,00","57.781,75","1.662,78","88,29","15,02","588.267,78","1.205.133,60","0,00","0,00","0,00","0,00","0,00","0,00"]
[null,166,"2001-11-14",21,24,70,31,94,34,38,89,87,30,77,17,15,81,92,76,72,22,62,12,"0,00",1,11,186,1799,10861,0,"1.797.974,16","35.929,73","2.124,88","109,44","18,14","0,00","0,00","0,00","0,00","0,00","0,00","197.613,53","0,00"]
[null,167,"2001-11-17",51,43,57,30,36,65,35,23,96,76,17,59,63,52,99,1,86,82,29,95,"0,00",0,12,167,1748,10636,1,"0,00","31.865,36","2.289,73","108,97","17,91","388.805,68","573.576,40","0,00","0,00","0,00","0,00","0,00","0,00"]
[null,168,"2001-11-21",23,77,20,46,1,15,55,69,40,14,25,53,19,27,57,79,0,83,89,13,"0,00",0,22,357,2941,16147,1,"0,00","16.120,35","993,41","60,08","10,94","177.323,91","1.105.548,05","0,00","0,00","0,00","0,00","0,00","0,00"]
[null,169,"2001-11-24",96,65,75,55,42,23,53,59,25,78,43,94,68,91,54,95,11,39,4,24,"0,00",1,12,220,2113,13134,0,"1.794.750,12","38.289,00","2.088,49","108,32","17,43","0,00","0,00","0,00","0,00","0,00","0,00","229.734,03","0,00"]
[null,170,"2001-11-28",22,73,89,61,27,77,34,56,66,47,36,98,0,29,65,13,53,97,14,69,"0,00",0,17,226,2114,12204,1,"0,00","18.447,94","1.387,68","73,90","12,81","386.541,54","470.422,48","0,00","0,00","0,00","0,00","0,00","0,00"]
[null,171,"2001-12-01",51,14,41,69,91,12,76,84,62,6,10,35,92,60,48,86,81,71,57,4,"0,00",0,23,252,2385,14176,1,"0,00","18.629,03","1.700,27","89,49","15,06","214.233,78","1.113.123,81","0,00","0,00","0,00","0,00","0,00","0,00"]
[null,172,"2001-12-05",71,57,12,13,56,91,95,73,30,67,52,55,46,38,14,26,19,34,35,53,"0,00",0,26,364,3225,28360,1,"0,00","15.252,54","1.089,47","61,26","9,95","198.283,03","1.707.972,82","0,00","0,00","0,00","0,00","0,00","0,00"]
[null,173,"2001-12-08",21,32,57,47,43,88,44,52,6,22,11,4,3,84,15,51,63,73,28,1,"0,00",1,23,351,3213,19403,2,"2.471.773,20","22.139,14","1.450,71","78,94","13,08","127.300,08","0,00","0,00","0,00","0,00","0,00","0,00","0,00"]
[null,174,"2001-12-12",5,83,68,91,69,58,76,92,17,31,35,63,33,12,41,11,0,23,26,72,"0,00",0,12,211,1887,11320,0,"0,00","29.405,70","1.672,36","93,15","15,54","0,00","529.302,54","0,00","0,00","0,00","0,00","176.434,21","0,00"]
[null,175,"2001-12-15",75,98,63,45,29,64,57,82,91,77,19,2,84,25,43,92,39,51,83,56,"0,00",1,24,279,2471,15848,0,"1.239.618,50","19.731,00","1.697,29","95,46","14,89","0,00","0,00","0,00","0,00","0,00","0,00","413.206,22","0,00"]
[null,176,"2001-12-19",9,65,0,53,75,91,50,82,89,41,72,21,76,49,31,5,55,47,15,30,"0,00",0,16,233,2608,12969,0,"0,00","22.086,64","1.516,68","67,50","13,58","0,00","530.079,32","0,00","0,00","0,00","0,00","589.899,32","0,00"]
[null,177,"2001-12-22",19,83,89,42,98,5,71,22,3,34,43,1,39,29,33,88,77,80,16,54,"0,00",1,14,279,2335,14956,0,"1.248.304,64","34.201,21","1.716,19","102,15","15,95","0,00","0,00","0,00","0,00","0,00","0,00","829.307,78","0,00"]
[null,178,"2001-12-29",4,0,12,18,39,11,51,94,17,97,48,98,91,42,27,33,59,37,44,85,"0,00",0,25,422,3809,22488,0,"0,00","22.431,44","1.328,88","73,35","12,43","0,00","841.179,01","0,00","0,00","0,00","0,00","1.109.700,81","0,00"]
[null,179,"2002-01-05",30,73,99,11,2,61,50,39,65,23,48,52,35,84,64,33,38,83,58,25,"0,00",0,33,330,3069,19232,0,"0,00","17.285,01","1.728,50","92,58","14,78","0,00","1.696.787,01","0,00","0,00","0,00","0,00","1.394.903,49","0,00"]
[null,180,"2002-01-09",24,45,7,72,40,71,48,51,95,77,64,34,74,56,76,16,55,54,33,1,"0,00",2,9,182,1959,12679,0,"1.135.912,08","42.595,35","2.106,37","97,47","15,07","0,00","0,00","0,00","0,00","0,00","0,00","1.586.582,55","0,00"]
[null,181,"2002-01-12",17,72,95,93,37,78,2,26,50,41,6,82,28,19,71,25,97,49,24,63,"0,00",0,15,248,2231,13797,0,"0,00","31.759,21","1.920,92","106,37","17,21","0,00","714.582,26","0,00","0,00","0,00","0,00","1.824.776,66","0,00"]
[null,182,"2002-01-16",93,8,62,12,30,65,26,55,44,10,18,85,25,84,1,69,35,67,0,61,"0,00",0,19,269,2503,14680,0,"0,00","21.519,92","1.520,00","81,37","13,88","0,00","1.327.900,08","0,00","0,00","0,00","0,00","2.029.215,96","0,00"]
[null,183,"2002-01-19",64,33,40,65,74,48,9,84,59,42,14,73,96,41,54,28,79,97,62,24,"0,00",0,18,278,2622,15962,0,"0,00","28.555,57","1.848,92","97,65","16,04","0,00","2.098.900,53","0,00","0,00","0,00","0,00","2.286.216,12","0,00"]
[null,184,"2002-01-23",95,0,72,58,19,93,29,94,92,21,96,86,50,24,16,45,27,31,88,4,"0,00",0,12,163,1628,10507,0,"0,00","36.639,15","2.697,36","134,52","20,85","0,00","2.758.405,26","0,00","0,00","0,00","0,00","2.506.051,03","0,00"]
[null,185,"2002-01-26",19,51,58,78,73,48,94,27,98,21,56,31,83,40,47,72,37,60,66,81,"0,00",0,22,312,2560,15921,1,"0,00","23.945,06","1.688,43","102,50","16,49","2.769.446,72","3.548.592,22","0,00","0,00","0,00","0,00","0,00","0,00"]
[null,186,"2002-01-30",5,11,25,64,62,40,38,68,21,69,97,88,24,23,94,17,27,4,96,90,"0,00",0,16,179,1810,11824,1,"0,00","27.923,30","2.495,94","122,96","18,82","223.386,41","4.218.751,42","0,00","0,00","0,00","0,00","0,00","0,00"]
[null,187,"2002-02-02",27,3,12,7,80,36,31,88,20,93,28,58,42,23,83,44,79,55,84,76,"0,00",0,23,328,4923,17146,0,"0,00","24.481,52","1.716,69","56,98","16,36","0,00","5.063.363,76","0,00","0,00","0,00","0,00","281.537,45","0,00"]
[null,188,"2002-02-06",62,47,54,33,21,25,1,78,94,92,26,90,30,71,57,0,86,39,95,64,"0,00",3,28,357,3115,18245,1,"1.968.435,47","20.046,25","1.572,25","89,75","15,33","562.185,03","0,00","0,00","0,00","0,00","0,00","0,00","0,00"]
[null,189,"2002-02-09",21,47,31,48,46,52,34,83,29,77,37,32,49,86,51,81,35,74,20,79,"0,00",1,13,322,2732,14406,0,"657.387,86","33.712,19","1.361,05","79,91","15,16","0,00","0,00","0,00","0,00","0,00","0,00","219.129,26","0,00"]
[null,190,"2002-02-16",87,51,49,90,1,46,17,83,23,29,81,22,53,16,30,0,88,25,42,84,"0,00",3,25,395,2712,15710,1,"253.268,22","20.261,46","1.282,37","93,04","16,07","472.397,51","0,00","0,00","0,00","0,00","0,00","0,00","0,00"]
[null,191,"2002-02-20",36,50,27,69,47,14,2,80,6,25,68,9,53,88,7,75,18,79,13,90,"0,00",1,13,222,2009,10581,0,"515.468,68","26.434,29","1.547,96","85,21","16,18","0,00","0,00","0,00","0,00","0,00","0,00","171.822,91","0,00"]
[null,192,"2002-02-23",53,44,88,65,23,75,77,35,10,34,86,69,80,17,5,54,61,68,56,6,"0,00",0,12,206,2286,14448,0,"0,00","35.756,27","2.082,89","93,50","14,80","0,00","643.612,88","0,00","0,00","0,00","0,00","386.360,56","0,00"]
[null,193,"2002-02-27",44,97,95,59,54,96,22,49,20,86,61,74,6,15,70,24,66,28,13,11,"0,00",0,18,236,1978,11587,2,"0,00","20.363,16","1.553,12","92,31","15,76","284.814,51","1.193.418,18","0,00","0,00","0,00","0,00","0,00","0,00"]
[null,194,"2002-03-02",65,62,22,33,9,63,76,85,28,46,48,87,34,72,77,18,93,13,41,37,"0,00",0,36,430,3617,19603,1,"0,00","13.116,37","1.098,12","65,03","12,00","236.094,54","1.901.701,75","0,00","0,00","0,00","0,00","0,00","0,00"]
[null,195,"2002-03-06",45,28,51,42,12,16,48,25,61,8,92,14,49,66,81,4,52,36,53,54,"0,00",1,14,359,3028,18890,1,"2.519.374,52","29.412,99","1.147,02","67,75","10,86","205.890,95","0,00","0,00","0,00","0,00","0,00","0,00","0,00"]
[null,196,"2002-03-09",35,16,38,3,58,51,12,4,19,97,34,66,78,84,14,17,48,93,33,23,"0,00",0,23,407,3383,20086,1,"0,00","18.981,13","1.072,64","64,28","10,83","218.283,03","654.848,98","0,00","0,00","0,00","0,00","0,00","0,00"]
[null,197,"2002-03-13",26,54,42,92,11,58,14,37,38,52,13,91,90,8,36,57,99,12,61,24,"0,00",0,12,152,1586,10190,0,"0,00","31.251,45","2.467,22","117,79","18,34","0,00","1.217.375,08","0,00","0,00","0,00","0,00","187.508,71","0,00"]
[null,198,"2002-03-16",65,78,93,59,33,68,77,16,92,25,76,85,66,12,14,64,1,55,7,57,"0,00",0,19,394,3641,20860,0,"0,00","25.418,43","1.225,76","66,07","11,54","0,00","1.941.800,28","0,00","0,00","0,00","0,00","428.983,78","0,00"]
[null,199,"2002-03-20",37,70,47,91,10,43,80,85,31,89,25,19,16,68,1,83,99,38,34,8,"0,00",0,15,256,2216,12700,0,"0,00","28.324,17","1.659,62","95,50","16,67","0,00","2.579.094,21","0,00","0,00","0,00","0,00","641.415,11","0,00"]
[null,200,"2002-03-23",93,84,32,27,35,74,56,38,20,90,76,29,82,58,97,33,79,66,12,23,"0,00",3,29,526,4208,22712,1,"1.128.093,60","18.510,03","1.020,51","63,54","11,78","909.810,65","0,00","0,00","0,00","0,00","0,00","0,00","0,00"]
[null,201,"2002-03-27",40,15,64,38,96,61,88,62,82,1,74,16,59,87,19,4,83,89,75,48,"0,00",0,9,107,1062,7167,0,"0,00","36.559,10","3.075,06","154,33","22,88","0,00","493.547,88","0,00","0,00","0,00","0,00","164.515,98","0,00"]
[null,202,"2002-03-30",39,26,61,7,81,82,45,96,73,11,85,56,70,80,64,9,62,60,5,15,"0,00",1,8,195,1650,10176,1,"1.017.320,74","43.647,74","1.790,67","105,42","17,10","339.106,95","0,00","0,00","0,00","0,00","0,00","0,00","0,00"]
[null,203,"2002-04-03",71,22,40,84,74,34,39,31,91,99,29,68,83,72,14,90,88,67,1,37,"0,00",0,15,167,1482,9127,2,"0,00","22.081,84","1.983,40","111,33","18,09","82.806,89","496.841,34","0,00","0,00","0,00","0,00","0,00","0,00"]
[null,204,"2002-04-06",89,88,67,6,50,40,45,16,44,46,38,96,70,30,17,59,55,27,62,49,"0,00",2,13,179,1848,15453,1,"591.169,76","35.153,75","2.553,07","123,19","14,74","228.499,42","0,00","0,00","0,00","0,00","0,00","0,00","0,00"]
[null,205,"2002-04-10",33,57,80,10,81,28,99,44,76,85,49,71,64,86,75,47,9,48,74,41,"0,00",0,5,137,1225,8131,0,"0,00","68.109,75","2.485,76","138,48","20,87","0,00","510.823,10","0,00","0,00","0,00","0,00","170.274,39","0,00"]
[null,206,"2002-04-13",11,49,67,5,37,41,32,6,99,65,44,89,17,25,76,23,58,62,80,59,"0,00",0,26,281,2555,15210,1,"0,00","17.479,79","1.617,35","88,61","14,89","397.511,60","1.192.534,74","0,00","0,00","0,00","0,00","0,00","0,00"]
[null,207,"2002-04-17",17,46,10,81,65,74,5,80,64,14,28,32,70,90,77,33,71,39,38,11,"0,00",0,34,500,4117,16111,3,"0,00","11.179,40","757,32","45,99","11,76","63.349,93","1.762.684,00","0,00","0,00","0,00","0,00","0,00","0,00"]
[null,208,"2002-04-20",31,44,60,95,29,8,17,43,69,90,96,66,87,11,37,7,77,59,68,3,"0,00",1,12,178,1913,11554,0,"2.498.091,47","40.855,97","2.754,34","127,67","21,13","0,00","0,00","0,00","0,00","0,00","0,00","245.135,83","0,00"]
[null,209,"2002-04-24",41,64,39,90,88,38,94,85,77,50,3,53,8,97,57,32,13,76,4,55,"0,00",0,12,255,1733,9954,0,"0,00","27.249,89","1.282,35","93,99","16,37","0,00","490.498,09","0,00","0,00","0,00","0,00","408.635,22","0,00"]
[null,210,"2002-04-27",79,57,86,41,7,40,77,20,6,83,60,98,49,70,14,76,47,84,66,35,"0,00",0,14,169,1701,10758,1,"0,00","30.637,46","2.538,02","125,61","19,86","623.097,49","0,00","0,00","0,00","0,00","0,00","0,00","0,00"]
[null,211,"2002-05-04",38,32,20,44,9,64,59,13,47,97,60,61,87,26,70,41,50,3,46,15,"0,00",1,21,352,2946,18683,1,"1.965.176,83","26.390,22","1.574,42","93,71","14,78","277.097,35","0,00","0,00","0,00","0,00","0,00","0,00","0,00"]
[null,212,"2002-05-08",27,61,8,96,6,46,3,47,40,80,37,89,12,15,54,44,22,43,9,99,"0,00",0,8,135,1406,9044,1,"0,00","41.426,89","2.454,93","117,42","18,26","165.707,56","497.122,63","0,00","0,00","0,00","0,00","0,00","0,00"]
[null,213,"2002-05-11",31,71,28,78,22,44,5,1,56,57,67,23,82,47,17,41,15,54,72,55,"0,00",2,17,308,2892,16158,2,"582.057,97","26.156,60","1.443,71","76,59","13,71","111.165,56","0,00","0,00","0,00","0,00","0,00","0,00","0,00"]
[null,214,"2002-05-15",50,96,1,99,47,9,75,14,5,74,90,23,65,54,56,70,16,8,28,66,"0,00",2,13,232,2107,11867,0,"243.032,05","24.926,37","1.396,74","76,61","13,60","0,00","0,00","0,00","0,00","0,00","0,00","162.021,39","0,00"]
[null,215,"2002-05-18",64,31,74,8,65,56,69,54,42,67,62,92,85,39,73,43,55,98,14,20,"0,00",0,10,249,2328,14089,1,"0,00","40.835,20","1.639,97","87,38","14,44","366.197,42","612.528,02","0,00","0,00","0,00","0,00","0,00","0,00"]
[null,216,"2002-05-22",13,44,52,33,64,61,14,47,99,9,6,28,53,77,62,2,22,82,36,42,"0,00",0,39,452,3647,19524,0,"0,00","9.052,14","778,09","48,22","9,01","0,00","1.142.078,20","0,00","0,00","0,00","0,00","176.516,74","0,00"]
[null,217,"2002-05-25",35,77,46,95,82,52,76,60,18,96,99,9,43,59,72,74,21,75,12,22,"0,00",0,10,176,1868,11274,1,"0,00","44.992,59","2.556,40","119,98","19,88","401.479,70","1.816.967,01","0,00","0,00","0,00","0,00","0,00","0,00"]
[null,218,"2002-05-29",15,87,45,78,95,68,48,25,12,70,79,80,60,72,5,43,65,54,34,61,"0,00",0,11,245,2300,13739,2,"0,00","36.720,35","1.648,67","87,48","14,65","100.980,95","2.422.852,64","0,00","0,00","0,00","0,00","0,00","0,00"]
[null,219,"2002-06-01",7,76,32,27,33,94,18,75,23,58,77,83,78,42,91,5,39,65,72,21,"0,00",0,18,276,2593,15919,0,"0,00","25.747,54","1.679,19","89,04","14,51","0,00","3.118.036,05","0,00","0,00","0,00","0,00","231.727,81","0,00"]
[null,220,"2002-06-05",12,72,62,23,81,8,49,74,36,16,56,45,26,87,30,48,24,69,27,73,"0,00",1,16,294,2770,17554,1,"3.867.132,62","31.212,36","1.698,63","89,80","14,18","481.426,66","0,00","0,00","0,00","0,00","0,00","0,00","0,00"]
[null,221,"2002-06-08",28,91,94,55,24,78,37,51,98,45,84,49,41,66,25,48,10,46,44,34,"0,00",0,30,525,3963,21541,0,"0,00","13.343,73","759,61","50,32","9,26","0,00","600.467,71","0,00","0,00","0,00","0,00","200.155,93","0,00"]
[null,222,"2002-06-12",53,75,92,10,43,62,99,33,38,79,24,65,89,32,4,96,97,50,34,11,"0,00",0,16,152,1498,9661,0,"0,00","23.675,81","2.492,19","125,96","19,53","0,00","1.168.687,10","0,00","0,00","0,00","0,00","389.562,40","0,00"]
[null,223,"2002-06-15",97,43,6,48,16,99,26,17,32,58,25,94,5,75,52,72,39,92,83,95,"0,00",2,26,407,3152,17845,5,"932.645,52","17.861,64","1.141,04","73,40","12,97","124.352,74","0,00","0,00","0,00","0,00","0,00","0,00","0,00"]
[null,224,"2002-06-19",21,74,41,24,33,2,90,10,81,67,45,8,55,64,6,18,65,43,23,15,"0,00",0,10,217,1945,12239,0,"0,00","31.502,96","1.451,75","80,69","12,83","0,00","472.544,36","0,00","0,00","0,00","0,00","157.514,80","0,00"]
[null,225,"2002-06-22",41,34,15,64,78,14,44,54,23,49,36,33,32,3,66,65,60,29,16,99,"0,00",1,25,338,3145,18440,0,"1.083.209,79","16.284,41","1.204,47","64,49","11,00","0,00","0,00","0,00","0,00","0,00","0,00","361.069,95","0,00"]
[null,226,"2002-06-26",92,12,42,29,49,23,32,28,64,24,16,52,20,87,14,25,5,46,33,68,"0,00",1,27,469,3592,19795,1,"435.432,58","10.751,42","616,60","40,26","10,44","506.214,16","0,00","0,00","0,00","0,00","0,00","0,00","0,00"]
[null,227,"2002-06-29",58,31,78,37,69,94,42,85,97,41,28,2,45,74,68,10,26,71,61,6,"0,00",0,10,170,1580,12210,0,"0,00","39.122,48","2.301,32","123,34","15,96","0,00","586.837,13","0,00","0,00","0,00","0,00","195.612,39","0,00"]
[null,228,"2002-07-03",27,19,42,64,94,35,5,68,96,7,93,67,60,21,56,22,62,86,1,71,"0,00",0,11,168,1669,10111,0,"0,00","31.537,64","2.064,96","103,54","17,09","0,00","1.107.208,09","0,00","0,00","0,00","0,00","369.069,40","0,00"]
[null,229,"2002-07-06",92,4,40,81,59,84,49,94,33,78,98,85,91,56,52,66,1,75,20,64,"0,00",1,15,220,2048,12231,1,"1.824.848,27","31.895,12","2.174,67","116,37","19,49","608.282,80","0,00","0,00","0,00","0,00","0,00","0,00","0,00"]
[null,230,"2002-07-10",81,20,63,87,64,57,65,41,62,5,79,83,36,91,21,24,55,74,50,85,"0,00",1,12,168,1664,10507,0,"481.029,62","26.723,87","1.908,85","96,00","15,21","0,00","0,00","0,00","0,00","0,00","0,00","160.343,23","0,00"]
[null,231,"2002-07-13",48,25,19,51,26,22,53,11,38,41,34,27,0,70,69,15,80,24,87,32,"0,00",1,12,256,2269,13474,0,"625.862,14","34.770,12","1.629,85","91,60","15,43","0,00","0,00","0,00","0,00","0,00","0,00","368.963,96","0,00"]
[null,232,"2002-07-17",4,10,41,1,73,59,17,33,99,69,7,63,12,20,49,87,23,53,68,22,"0,00",0,18,207,1758,10870,0,"0,00","18.633,40","1.620,29","95,03","15,38","0,00","503.101,57","0,00","0,00","0,00","0,00","536.664,50","0,00"]
[null,233,"2002-07-20",47,79,97,64,70,72,99,94,98,56,25,36,33,34,35,45,78,12,40,57,"0,00",0,13,218,1992,13084,0,"0,00","33.917,31","2.022,59","110,25","16,79","0,00","1.164.489,03","0,00","0,00","0,00","0,00","757.126,98","0,00"]
[null,234,"2002-07-24",47,12,61,90,91,66,5,6,87,15,67,44,78,85,96,13,92,54,73,43,"0,00",0,10,201,1978,12393,0,"0,00","40.579,36","2.018,87","102,20","16,31","0,00","1.773.179,48","0,00","0,00","0,00","0,00","960.023,81","0,00"]
[null,235,"2002-07-27",35,13,47,78,83,96,19,45,16,92,15,82,67,34,50,77,95,40,70,87,"0,00",0,19,194,2148,13287,0,"0,00","26.038,53","2.550,17","114,73","18,55","0,00","2.515.277,66","0,00","0,00","0,00","0,00","1.207.389,89","0,00"]
[null,236,"2002-07-31",22,16,33,12,49,48,19,30,81,63,47,91,7,20,4,36,11,68,60,78,"0,00",0,20,280,2786,16676,0,"0,00","24.867,46","1.776,25","88,93","14,86","0,00","3.261.301,52","0,00","0,00","0,00","0,00","1.456.064,53","0,00"]
[null,237,"2002-08-03",51,20,32,45,84,50,62,12,26,14,44,83,19,93,13,58,3,92,17,6,"0,00",0,21,292,3113,19660,0,"0,00","30.499,60","2.193,47","102,49","16,23","0,00","4.222.038,87","0,00","0,00","0,00","0,00","1.776.310,34","0,00"]
[null,238,"2002-08-07",87,5,24,84,64,69,95,20,91,30,15,4,83,22,35,13,90,67,48,75,"0,00",0,33,418,3792,23826,1,"0,00","19.626,50","1.549,46","85,08","13,54","2.100.147,54","5.193.550,42","0,00","0,00","0,00","0,00","0,00","0,00"]
[null,239,"2002-08-10",85,55,58,48,52,26,99,42,9,36,54,74,20,37,84,90,98,97,32,70,"0,00",0,23,259,2618,17426,0,"0,00","31.988,87","2.840,71","139,99","21,03","0,00","6.297.166,40","0,00","0,00","0,00","0,00","367.872,01","0,00"]
[null,240,"2002-08-14",77,46,48,87,60,73,84,39,38,89,71,51,44,49,11,4,29,72,88,76,"0,00",2,17,413,3575,22054,1,"3.703.925,13","43.556,23","1.792,87","103,17","16,73","738.099,99","0,00","0,00","0,00","0,00","0,00","0,00","0,00"]
[null,241,"2002-08-17",98,73,56,7,58,34,39,83,35,88,25,10,29,55,54,28,87,32,8,24,"0,00",3,21,408,2760,16155,0,"237.611,16","22.629,63","1.164,76","85,77","14,66","0,00","0,00","0,00","0,00","0,00","0,00","237.611,18","0,00"]
[null,242,"2002-08-21",4,35,27,76,97,13,9,53,22,55,33,23,70,65,87,45,1,50,29,6,"0,00",0,21,330,2769,15970,0,"0,00","18.676,79","1.188,52","70,56","12,24","0,00","588.318,85","0,00","0,00","0,00","0,00","433.717,48","0,00"]
[null,243,"2002-08-24",90,72,27,76,78,12,77,50,86,32,61,42,94,96,68,52,92,66,49,14,"0,00",1,28,417,3743,33350,0,"1.324.761,27","17.534,35","1.177,37","65,35","10,48","0,00","0,00","0,00","0,00","0,00","0,00","679.198,29","0,00"]
[null,244,"2002-08-28",48,37,15,16,60,24,49,32,98,41,43,0,70,87,82,55,91,95,54,8,"0,00",0,16,224,1920,11356,1,"0,00","23.255,43","1.661,10","96,54","16,32","865.241,67","558.130,11","0,00","0,00","0,00","0,00","0,00","0,00"]
[null,245,"2002-08-31",69,42,4,15,55,3,9,22,68,36,75,58,95,33,48,76,18,43,93,12,"0,00",2,33,410,3633,19720,0,"632.053,42","14.262,15","1.147,93","64,54","11,89","0,00","0,00","0,00","0,00","0,00","0,00","235.325,59","0,00"]
[null,246,"2002-09-04",18,71,37,73,84,43,78,20,7,53,90,44,12,41,55,97,22,9,74,14,"0,00",0,15,189,2105,12674,0,"0,00","24.928,05","1.978,41","88,49","14,70","0,00","560.881,13","0,00","0,00","0,00","0,00","422.285,97","0,00"]
[null,247,"2002-09-07",65,20,53,40,11,62,54,39,4,29,93,86,44,82,90,13,25,0,42,96,"0,00",0,9,197,1683,10345,0,"0,00","41.369,42","1.889,98","110,19","17,93","0,00","1.119.368,23","0,00","0,00","0,00","0,00","608.448,35","0,00"]
[null,248,"2002-09-11",22,82,10,81,1,86,12,66,89,44,16,69,42,31,52,48,5,38,18,74,"0,00",1,29,383,3120,17104,0,"1.793.405,21","15.495,11","1.173,26","71,74","13,10","0,00","0,00","0,00","0,00","0,00","0,00","833.127,34","0,00"]
[null,249,"2002-09-14",4,46,47,88,30,35,94,27,71,58,78,14,56,53,60,31,80,89,48,29,"0,00",0,13,249,2026,12342,0,"0,00","35.927,81","1.875,75","114,84","18,86","0,00","700.592,27","0,00","0,00","0,00","0,00","1.066.658,12","0,00"]
[null,250,"2002-09-18",14,50,95,57,25,92,97,38,64,85,9,7,42,91,99,65,48,55,67,59,"0,00",2,27,369,3010,17641,1,"660.255,35","15.306,63","1.120,00","68,39","11,68","1.273.297,62","0,00","0,00","0,00","0,00","0,00","0,00","0,00"]
[null,251,"2002-09-21",14,0,32,98,76,43,85,65,69,66,26,49,72,53,47,62,25,15,30,94,"0,00",1,12,317,2787,16731,1,"637.623,96","35.423,55","1.340,95","75,98","12,66","212.541,34","0,00","0,00","0,00","0,00","0,00","0,00","0,00"]
[null,252,"2002-09-25",74,23,61,9,36,88,34,85,25,53,47,73,38,30,13,37,72,21,87,57,"0,00",1,15,188,2050,13039,1,"520.684,06","23.141,51","1.846,40","84,34","13,26","173.561,36","0,00","0,00","0,00","0,00","0,00","0,00","0,00"]
[null,253,"2002-09-28",10,99,24,48,76,17,22,54,21,95,66,62,77,2,4,12,6,72,52,1,"0,00",1,18,341,3081,17792,0,"615.993,78","22.814,59","1.204,29","66,39","11,50","0,00","0,00","0,00","0,00","0,00","0,00","205.331,27","0,00"]
[null,254,"2002-10-02",50,2,80,60,49,43,78,29,51,1,77,10,4,33,74,3,23,70,21,66,"0,00",0,23,283,2489,12916,0,"0,00","15.317,95","1.244,92","70,51","13,59","0,00","528.469,38","0,00","0,00","0,00","0,00","381.487,75","0,00"]
[null,255,"2002-10-05",75,97,66,0,70,68,73,47,50,56,72,33,32,15,11,71,23,34,65,77,"0,00",0,27,330,2763,16635,1,"0,00","16.789,54","1.373,69","81,73","13,58","608.146,53","1.208.445,63","0,00","0,00","0,00","0,00","0,00","0,00"]
[null,256,"2002-10-09",7,99,37,36,12,2,92,34,98,58,32,28,73,90,39,54,65,48,77,20,"0,00",2,31,378,2762,14518,6,"902.760,25","12.840,32","1.053,04","71,79","13,66","33.170,83","0,00","0,00","0,00","0,00","0,00","0,00","0,00"]
[null,257,"2002-10-12",40,14,74,93,68,91,8,67,88,32,12,52,22,86,39,66,62,4,76,89,"0,00",0,10,185,1706,10806,0,"0,00","33.492,00","1.810,38","97,79","15,45","0,00","502.379,98","0,00","0,00","0,00","0,00","167.460,00","0,00"]
[null,258,"2002-10-16",64,27,22,78,39,59,42,23,80,58,73,79,49,87,17,77,55,94,63,37,"0,00",0,25,370,3237,17185,2,"0,00","15.407,14","1.041,02","59,28","11,16","180.024,65","1.080.147,80","0,00","0,00","0,00","0,00","0,00","0,00"]
[null,259,"2002-10-19",60,84,67,46,72,9,75,0,12,68,54,11,3,82,66,29,31,32,63,25,"0,00",0,14,268,2274,13879,0,"0,00","32.605,24","1.703,26","99,99","16,39","0,00","1.764.857,83","0,00","0,00","0,00","0,00","228.236,70","0,00"]
[null,260,"2002-10-23",58,37,13,51,67,61,24,50,68,26,47,36,62,4,92,90,32,94,56,20,"0,00",0,16,202,2030,12756,0,"0,00","26.508,63","2.099,70","104,08","16,57","0,00","2.401.064,77","0,00","0,00","0,00","0,00","440.305,70","0,00"]
[null,261,"2002-10-26",0,92,11,28,37,95,44,80,93,42,64,50,47,33,24,54,16,61,34,7,"0,00",0,13,244,2315,14874,1,"0,00","38.437,59","2.047,90","107,51","16,74","690.150,07","3.150.597,83","0,00","0,00","0,00","0,00","0,00","0,00"]
[null,262,"2002-10-30",97,98,35,64,11,94,12,52,92,54,14,36,16,69,99,53,44,84,9,61,"0,00",0,21,264,2836,16281,0,"0,00","22.223,97","1.767,82","81,97","14,28","0,00","3.850.652,84","0,00","0,00","0,00","0,00","233.351,70","0,00"]
[null,263,"2002-11-02",49,41,86,78,52,26,96,85,19,57,59,32,36,48,79,0,93,83,31,53,"0,00",0,15,238,2182,13553,0,"0,00","31.476,39","1.983,80","107,78","17,36","0,00","4.558.871,52","0,00","0,00","0,00","0,00","469.424,60","0,00"]
[null,264,"2002-11-06",33,76,59,81,49,25,29,39,52,57,21,68,73,10,58,77,53,63,48,26,"0,00",0,50,610,5244,24478,1,"0,00","10.870,21","891,00","51,64","11,07","741.179,97","5.374.137,60","0,00","0,00","0,00","0,00","0,00","0,00"]
[null,265,"2002-11-09",86,58,74,29,85,18,90,88,69,76,95,33,60,53,41,30,43,4,48,9,"0,00",0,39,524,4162,21929,1,"0,00","16.131,75","1.200,64","75,30","14,30","314.569,08","6.317.844,80","0,00","0,00","0,00","0,00","0,00","0,00"]
[null,266,"2002-11-13",69,93,17,36,83,78,38,19,13,20,12,99,62,48,29,97,80,74,76,14,"0,00",1,38,415,3838,21658,0,"7.210.352,79","15.658,04","1.433,75","77,23","13,69","0,00","0,00","0,00","0,00","0,00","0,00","297.502,70","0,00"]
[null,267,"2002-11-16",89,61,57,17,48,46,10,20,71,3,96,38,22,51,50,55,69,49,72,85,"0,00",0,6,150,1638,10258,0,"0,00","65.575,13","2.623,01","119,65","19,11","0,00","590.176,16","0,00","0,00","0,00","0,00","494.228,10","0,00"]
[null,268,"2002-11-20",19,64,7,43,85,11,28,54,2,21,60,72,73,15,63,40,35,36,91,38,"0,00",0,13,165,1775,10949,0,"0,00","30.930,56","2.436,96","112,83","18,31","0,00","1.193.322,05","0,00","0,00","0,00","0,00","695.276,76","0,00"]
[null,269,"2002-11-23",54,33,59,23,69,35,38,67,48,28,95,57,32,91,27,40,10,56,83,3,"0,00",2,16,334,2852,18068,0,"969.689,31","31.085,69","1.489,14","86,87","13,72","0,00","0,00","0,00","0,00","0,00","0,00","943.962,30","0,00"]
[null,270,"2002-11-27",43,32,58,35,39,55,46,1,12,30,10,97,95,71,0,34,29,61,36,69,"0,00",0,9,202,1962,11880,0,"0,00","41.083,22","1.830,44","93,88","15,52","0,00","554.623,48","0,00","0,00","0,00","0,00","1.128.836,82","0,00"]
[null,271,"2002-11-30",4,70,26,21,65,60,57,84,89,29,92,78,40,76,42,11,35,74,39,6,"0,00",0,9,217,1942,11513,0,"0,00","51.619,26","2.140,89","119,16","20,11","0,00","1.251.483,57","0,00","0,00","0,00","0,00","1.361.123,54","0,00"]
[null,272,"2002-12-04",22,23,6,15,63,93,69,99,3,44,90,94,95,51,70,42,55,97,50,65,"0,00",2,21,266,2658,16353,0,"972.649,25","22.025,87","1.738,89","86,68","14,09","0,00","0,00","0,00","0,00","0,00","0,00","1.592.395,19","0,00"]
[null,273,"2002-12-07",59,2,6,77,42,71,96,45,20,25,22,97,85,3,5,10,74,79,65,61,"0,00",0,26,287,2616,21664,0,"0,00","18.191,21","1.647,99","90,06","10,88","0,00","709.457,28","0,00","0,00","0,00","0,00","1.828.880,97","0,00"]
[null,274,"2002-12-11",19,4,47,76,42,18,20,0,99,8,15,93,60,54,55,97,98,71,89,41,"0,00",0,15,221,1864,11779,0,"0,00","30.125,72","2.044,73","120,76","19,11","0,00","1.387.286,07","0,00","0,00","0,00","0,00","2.054.823,90","0,00"]
[null,275,"2002-12-14",32,65,22,43,34,14,90,75,42,85,71,91,87,51,10,84,33,20,25,23,"0,00",0,27,285,2889,22068,0,"0,00","19.876,91","1.883,07","92,53","12,12","0,00","2.192.300,91","0,00","0,00","0,00","0,00","2.323.162,18","0,00"]
[null,276,"2002-12-18",29,25,90,30,56,45,3,47,26,84,78,7,82,99,77,41,59,76,5,62,"0,00",0,13,237,2338,14317,0,"0,00","38.222,74","2.096,61","105,86","17,30","0,00","2.937.644,39","0,00","0,00","0,00","0,00","2.571.610,02","0,00"]
[null,277,"2002-12-21",82,55,92,33,50,8,78,6,61,71,47,4,12,87,94,60,14,67,37,72,"0,00",0,20,333,3192,18591,0,"0,00","29.173,93","1.752,19","91,06","15,64","0,00","3.812.862,28","0,00","0,00","0,00","0,00","2.863.349,34","0,00"]
[null,278,"2002-12-28",78,48,3,99,44,68,5,96,14,94,17,64,52,39,47,98,35,67,21,50,"0,00",1,31,503,4239,25813,0,"4.936.660,17","24.167,70","1.489,46","88,04","14,47","0,00","0,00","0,00","0,00","0,00","0,00","3.237.948,66","0,00"]
[null,279,"2003-01-04",86,73,81,91,36,79,1,5,59,20,62,94,30,7,51,16,87,58,35,25,"0,00",2,18,182,1835,12428,2,"396.269,42","29.353,29","2.903,07","143,43","21,18","1.751.064,14","0,00","0,00","0,00","0,00","0,00","0,00","0,00"]
[null,280,"2003-01-08",45,3,65,22,10,49,57,33,61,72,2,23,84,95,99,53,90,82,63,64,"0,00",0,21,280,2266,12881,1,"0,00","16.984,76","1.273,86","78,42","13,79","178.339,98","535.019,87","0,00","0,00","0,00","0,00","0,00","0,00"]
[null,281,"2003-01-11",1,50,21,14,32,34,17,7,64,80,76,36,61,74,53,49,71,30,52,2,"0,00",0,15,244,2410,14129,0,"0,00","29.858,10","1.835,54","92,57","15,79","0,00","1.206.827,09","0,00","0,00","0,00","0,00","223.935,77","0,00"]
[null,282,"2003-01-15",20,60,15,77,98,59,61,1,66,56,11,69,87,21,44,55,31,17,36,18,"0,00",0,11,186,1973,12250,0,"0,00","37.194,81","2.199,69","103,30","16,64","0,00","1.820.541,48","0,00","0,00","0,00","0,00","428.507,25","0,00"]
[null,283,"2003-01-18",27,19,7,30,61,49,5,39,40,91,82,47,50,64,45,51,48,54,60,81,"0,00",0,50,393,3849,15910,0,"0,00","9.735,95","1.238,67","63,00","15,25","0,00","2.550.738,00","0,00","0,00","0,00","0,00","671.906,12","0,00"]
[null,284,"2003-01-22",71,31,35,33,47,81,82,14,61,1,51,69,7,29,91,17,26,36,48,23,"0,00",2,33,492,4112,22697,1,"1.604.645,58","13.304,11","892,35","53,19","9,64","891.423,84","0,00","0,00","0,00","0,00","0,00","0,00","0,00"]
[null,285,"2003-01-25",86,38,4,75,97,10,81,61,26,63,46,5,82,52,23,98,76,85,50,49,"0,00",0,10,160,1408,8958,0,"0,00","40.647,25","2.540,45","143,80","22,61","0,00","609.708,68","0,00","0,00","0,00","0,00","203.236,25","0,00"]
[null,286,"2003-01-29",55,44,14,71,92,96,17,68,19,35,21,43,64,5,1,37,27,50,23,39,"0,00",3,88,851,5380,23687,0,"388.493,08","4.210,39","433,74","34,31","7,80","0,00","0,00","0,00","0,00","0,00","0,00","388.493,11","0,00"]
[null,287,"2003-02-01",77,3,58,73,74,22,6,78,96,93,50,15,92,70,43,64,82,16,51,31,"0,00",1,7,173,1681,10214,0,"626.413,55","59.658,44","2.413,93","123,74","20,37","0,00","0,00","0,00","0,00","0,00","0,00","597.297,64","0,00"]
[null,288,"2003-02-05",40,67,15,52,1,53,44,34,54,70,87,20,94,91,84,8,41,57,95,29,"0,00",0,5,144,1302,9121,0,"0,00","71.555,96","2.484,58","136,88","19,54","0,00","536.669,66","0,00","0,00","0,00","0,00","776.187,55","0,00"]
[null,289,"2003-02-08",33,18,43,65,15,70,16,26,3,74,27,64,5,72,6,99,25,49,39,61,"0,00",0,24,291,2925,15995,0,"0,00","19.363,87","1.597,02","79,14","14,48","0,00","1.233.768,79","0,00","0,00","0,00","0,00","1.008.553,94","0,00"]
[null,290,"2003-02-12",41,30,76,81,3,50,4,65,25,99,85,62,18,24,34,17,20,86,22,55,"0,00",0,14,199,1825,12142,0,"0,00","29.777,42","2.094,89","113,79","17,11","0,00","1.859.094,59","0,00","0,00","0,00","0,00","1.216.995,89","0,00"]
[null,291,"2003-02-15",54,70,37,49,91,12,50,3,47,82,25,52,85,24,36,59,42,8,30,44,"0,00",1,30,324,2879,17867,0,"2.618.512,66","16.875,96","1.562,59","87,59","14,12","0,00","0,00","0,00","0,00","0,00","0,00","1.470.135,24","0,00"]
[null,292,"2003-02-19",94,71,76,23,95,50,58,12,18,9,96,73,37,83,7,55,28,49,22,67,"0,00",0,12,195,1709,10948,0,"0,00","31.037,79","1.910,02","108,56","16,95","0,00","558.680,31","0,00","0,00","0,00","0,00","1.656.362,03","0,00"]
[null,293,"2003-02-22",80,72,28,96,46,93,18,6,19,89,76,45,27,29,63,78,8,54,23,77,"0,00",1,12,261,2447,14826,1,"1.251.968,23","38.516,00","1.770,85","94,09","15,54","1.887.458,02","0,00","0,00","0,00","0,00","0,00","0,00","0,00"]
[null,294,"2003-02-26",70,7,46,51,26,54,39,80,90,1,95,43,66,63,11,24,38,8,92,32,"0,00",1,5,127,1269,8009,0,"511.249,44","68.166,59","2.683,73","133,78","21,20","0,00","0,00","0,00","0,00","0,00","0,00","170.416,48","0,00"]
[null,295,"2003-03-01",95,36,18,12,61,78,37,35,23,26,65,86,63,25,73,27,79,96,34,82,"0,00",2,45,351,3076,17129,1,"289.366,31","8.573,81","1.099,21","62,49","11,22","363.327,36","0,00","0,00","0,00","0,00","0,00","0,00","0,00"]
[null,296,"2003-03-08",55,48,14,42,93,90,32,82,37,15,34,78,95,17,97,12,56,74,21,44,"0,00",2,27,477,3920,21391,0,"348.621,35","17.215,87","974,48","59,07","10,83","0,00","0,00","0,00","0,00","0,00","0,00","232.414,26","0,00"]
[null,297,"2003-03-12",30,71,31,38,88,13,34,85,27,63,8,24,66,46,39,59,67,47,12,37,"0,00",0,9,224,1770,11651,0,"0,00","39.243,83","1.576,76","99,41","15,11","0,00","529.791,74","0,00","0,00","0,00","0,00","409.011,52","0,00"]
[null,298,"2003-03-15",14,41,69,96,59,61,3,47,62,16,46,17,18,30,52,84,79,75,68,99,"0,00",1,11,172,1966,11805,1,"1.207.429,72","41.068,97","2.626,50","114,47","19,07","634.890,86","0,00","0,00","0,00","0,00","0,00","0,00","0,00"]
[null,299,"2003-03-19",48,58,12,27,24,97,54,71,49,81,90,66,13,59,62,88,7,26,57,8,"0,00",0,9,148,1400,9217,0,"0,00","37.224,52","2.263,66","119,20","18,12","0,00","502.531,03","0,00","0,00","0,00","0,00","167.510,38","0,00"]
[null,300,"2003-03-22",95,84,77,97,24,55,76,91,82,72,59,54,20,19,30,6,5,12,13,21,"0,00",0,12,242,2179,13762,0,"0,00","37.138,13","1.841,56","101,88","16,14","0,00","1.171.017,24","0,00","0,00","0,00","0,00","390.339,13","0,00"]
[null,301,"2003-03-26",85,45,64,97,94,14,70,25,61,98,96,82,88,41,65,73,72,10,55,48,"0,00",0,10,198,2033,13249,0,"0,00","39.653,55","2.002,70","97,16","14,91","0,00","1.765.820,49","0,00","0,00","0,00","0,00","588.606,90","0,00"]
[null,302,"2003-03-29",58,31,19,71,2,33,90,56,5,87,96,49,84,0,3,92,41,38,17,22,"0,00",0,21,277,2446,14004,1,"0,00","23.108,70","1.751,92","98,83","17,27","831.248,21","2.493.744,37","0,00","0,00","0,00","0,00","0,00","0,00"]
[null,303,"2003-04-02",91,0,7,4,90,38,58,95,75,85,39,15,71,94,21,27,74,54,88,55,"0,00",0,8,234,2101,13244,0,"0,00","56.473,88","1.930,73","107,12","17,00","0,00","3.171.430,88","0,00","0,00","0,00","0,00","225.895,53","0,00"]
[null,304,"2003-04-05",19,85,0,20,66,71,68,15,75,63,41,1,11,24,34,62,94,27,47,91,"0,00",2,47,650,4574,22870,1,"2.001.734,98","11.801,98","853,37","60,41","12,09","503.241,90","0,00","0,00","0,00","0,00","0,00","0,00","0,00"]
[null,305,"2003-04-09",94,91,97,79,3,98,2,1,72,53,78,52,80,27,87,32,70,24,10,62,"0,00",0,10,132,1348,8844,0,"0,00","36.585,98","2.771,67","135,20","20,61","0,00","548.789,67","0,00","0,00","0,00","0,00","182.929,91","0,00"]
[null,306,"2003-04-12",98,24,35,86,46,71,59,49,81,19,28,89,58,4,97,47,88,34,93,37,"0,00",0,12,195,1996,12243,0,"0,00","38.500,61","2.369,27","115,31","18,80","0,00","1.241.800,55","0,00","0,00","0,00","0,00","413.933,54","0,00"]
[null,307,"2003-04-16",30,76,57,15,66,73,14,74,78,79,47,9,68,81,97,91,52,60,64,88,"0,00",1,9,154,1502,10438,2,"1.887.311,87","47.815,65","2.794,43","142,72","20,54","314.552,00","0,00","0,00","0,00","0,00","0,00","0,00","0,00"]
[null,308,"2003-04-19",75,8,65,76,99,42,88,15,73,56,2,85,20,94,79,55,67,44,12,19,"0,00",0,12,197,1923,11482,0,"0,00","27.025,30","1.646,21","84,01","14,07","0,00","486.455,31","0,00","0,00","0,00","0,00","162.151,79","0,00"]
[null,309,"2003-04-23",6,60,95,52,42,9,84,43,31,7,85,24,64,90,37,82,54,65,14,74,"0,00",0,11,181,1763,10356,0,"0,00","32.453,44","1.972,31","100,87","17,18","0,00","1.021.937,01","0,00","0,00","0,00","0,00","340.645,72","0,00"]
[null,310,"2003-04-26",61,15,86,56,79,64,65,46,42,78,7,68,80,39,37,76,62,24,0,72,"0,00",0,17,273,2568,16297,1,"0,00","28.341,62","1.764,87","93,46","14,73","581.549,49","1.744.648,27","0,00","0,00","0,00","0,00","0,00","0,00"]
[null,311,"2003-04-30",89,96,25,55,88,13,70,41,36,83,72,79,52,32,48,73,31,5,19,76,"0,00",1,18,239,2255,13342,0,"2.382.382,97","23.619,80","1.778,90","93,92","15,88","0,00","0,00","0,00","0,00","0,00","0,00","212.578,27","0,00"]
[null,312,"2003-05-03",14,64,81,68,70,51,97,56,62,21,36,29,91,53,57,43,45,11,67,90,"0,00",0,11,173,1735,10810,0,"0,00","34.378,43","2.185,92","108,57","17,43","0,00","567.243,97","0,00","0,00","0,00","0,00","401.659,61","0,00"]
[null,313,"2003-05-07",91,9,60,68,20,72,25,43,45,23,26,38,92,73,56,3,27,80,11,89,"0,00",0,19,162,1955,12292,0,"0,00","21.253,81","2.492,73","102,89","16,37","0,00","1.172.977,62","0,00","0,00","0,00","0,00","603.570,85","0,00"]
[null,314,"2003-05-10",16,43,75,76,28,97,53,93,48,29,12,91,3,2,63,8,22,18,96,68,"0,00",0,30,284,2779,14640,1,"0,00","15.980,51","1.688,08","85,94","16,32","843.278,48","1.892.100,45","0,00","0,00","0,00","0,00","0,00","0,00"]
[null,315,"2003-05-14",35,68,99,76,11,55,8,53,32,40,62,2,22,65,91,39,18,45,46,17,"0,00",0,21,287,2518,14927,1,"0,00","20.877,06","1.527,59","86,73","14,63","219.209,06","2.549.727,63","0,00","0,00","0,00","0,00","0,00","0,00"]
[null,316,"2003-05-17",20,68,95,28,27,49,17,25,84,92,76,74,64,23,71,67,58,51,22,1,"0,00",0,20,274,2443,14994,0,"0,00","25.743,62","1.879,10","104,98","17,11","0,00","3.322.036,20","0,00","0,00","0,00","0,00","257.436,22","0,00"]
[null,317,"2003-05-21",19,87,71,79,54,52,35,84,56,91,96,22,99,43,3,90,83,14,67,57,"0,00",3,24,330,3358,17634,2,"1.359.717,35","21.030,99","1.529,53","74,88","14,26","254.904,09","0,00","0,00","0,00","0,00","0,00","0,00","0,00"]
[null,318,"2003-05-24",0,69,16,25,72,23,24,3,22,11,86,20,39,37,47,84,87,33,93,43,"0,00",0,9,219,2014,12483,0,"0,00","43.541,15","1.789,37","96,93","15,65","0,00","587.805,44","0,00","0,00","0,00","0,00","195.935,17","0,00"]
[null,319,"2003-05-28",2,90,36,78,71,72,21,66,94,85,70,31,23,59,34,50,52,10,1,0,"0,00",0,16,274,2592,14623,1,"0,00","23.138,41","1.351,15","71,15","12,62","381.042,41","1.143.127,12","0,00","0,00","0,00","0,00","0,00","0,00"]
[null,320,"2003-05-31",1,29,63,85,23,45,94,36,69,42,44,35,56,34,12,48,19,66,25,60,"0,00",0,20,428,3972,22924,0,"0,00","22.556,20","1.054,03","56,58","9,81","0,00","1.819.812,87","0,00","0,00","0,00","0,00","225.561,94","0,00"]
[null,321,"2003-06-04",92,30,60,1,50,32,76,79,15,62,37,59,13,94,4,93,43,21,82,57,"0,00",1,11,190,1692,10900,0,"2.472.983,42","39.586,10","2.291,83","128,20","19,91","0,00","0,00","0,00","0,00","0,00","0,00","443.285,48","0,00"]
[null,322,"2003-06-07",0,61,67,12,3,34,62,78,54,96,60,40,49,48,65,41,74,86,5,93,"0,00",0,17,323,2998,34225,0,"0,00","25.914,94","1.363,95","73,21","9,16","0,00","660.830,97","0,00","0,00","0,00","0,00","663.562,48","0,00"]
[null,323,"2003-06-11",88,56,13,48,16,64,30,6,60,75,97,66,81,55,73,61,89,65,94,41,"0,00",1,13,235,2335,13057,1,"1.270.641,33","31.272,33","1.729,96","86,73","15,52","866.832,62","0,00","0,00","0,00","0,00","0,00","0,00","0,00"]
[null,324,"2003-06-14",44,78,51,6,2,85,16,14,66,42,99,32,24,39,46,10,18,23,20,70,"0,00",2,20,406,3320,17694,0,"312.038,28","20.802,56","1.024,76","62,43","11,72","0,00","0,00","0,00","0,00","0,00","0,00","208.025,56","0,00"]
[null,325,"2003-06-18",59,32,58,61,69,10,46,36,95,74,86,83,40,7,43,80,78,39,99,1,"0,00",1,10,253,1813,10087,3,"534.401,54","35.626,77","1.408,17","97,89","17,60","128.719,81","0,00","0,00","0,00","0,00","0,00","0,00","0,00"]
[null,326,"2003-06-21",54,63,10,80,57,13,50,14,45,66,84,51,29,25,12,36,83,96,41,76,"0,00",1,8,207,1803,11084,2,"539.177,83","44.931,49","1.736,48","99,31","16,16","89.862,99","0,00","0,00","0,00","0,00","0,00","0,00","0,00"]
[null,327,"2003-06-25",51,95,90,93,76,89,22,0,14,38,79,82,49,43,32,39,33,16,13,9,"0,00",0,9,158,1401,8780,0,"0,00","37.497,53","2.135,94","119,99","19,15","0,00","506.216,72","0,00","0,00","0,00","0,00","168.738,92","0,00"]
[null,328,"2003-06-28",54,30,45,0,65,55,91,96,11,74,94,89,33,31,64,90,53,27,81,3,"0,00",0,22,227,2154,13214,1,"0,00","19.409,84","1.881,13","98,75","16,10","382.247,15","1.146.741,35","0,00","0,00","0,00","0,00","0,00","0,00"]
[null,329,"2003-07-02",61,9,95,27,29,35,98,10,26,86,32,24,48,65,2,82,33,75,16,42,"0,00",0,19,259,2320,14276,0,"0,00","22.414,03","1.644,28","91,44","14,86","0,00","1.785.541,23","0,00","0,00","0,00","0,00","212.933,31","0,00"]
[null,330,"2003-07-05",2,34,65,29,71,94,8,33,38,43,1,44,74,62,23,49,55,3,14,52,"0,00",1,24,482,4072,28346,0,"2.564.277,35","21.631,56","1.077,09","63,51","9,13","0,00","0,00","0,00","0,00","0,00","0,00","472.512,04","0,00"]
[null,331,"2003-07-09",75,2,18,59,85,46,45,53,12,1,10,82,79,50,92,77,14,40,95,47,"0,00",0,12,158,1537,9830,0,"0,00","28.477,80","2.162,87","110,75","17,33","0,00","512.600,44","0,00","0,00","0,00","0,00","643.378,88","0,00"]
[null,332,"2003-07-12",97,29,82,42,25,58,39,18,94,26,16,48,50,30,27,62,98,6,44,89,"0,00",2,12,267,2432,14890,0,"597.223,66","37.880,39","1.702,49","93,10","15,21","0,00","0,00","0,00","0,00","0,00","0,00","870.661,17","0,00"]
[null,333,"2003-07-16",81,97,4,60,98,54,70,36,46,17,57,67,95,32,83,21,58,94,61,47,"0,00",0,5,153,1525,9373,0,"0,00","76.272,39","2.492,56","124,57","20,28","0,00","572.042,91","0,00","0,00","0,00","0,00","1.061.342,16","0,00"]
[null,334,"2003-07-19",47,67,50,61,75,10,43,51,20,48,98,91,12,86,2,40,16,63,54,31,"0,00",0,26,246,2322,14299,1,"0,00","17.921,45","1.894,13","99,96","16,23","1.294.320,98","1.270.979,29","0,00","0,00","0,00","0,00","0,00","0,00"]
[null,335,"2003-07-23",54,44,55,34,72,92,83,37,49,78,85,51,19,35,23,68,90,30,22,76,"0,00",1,23,310,2736,16962,0,"1.908.162,67","18.469,08","1.370,29","77,34","12,48","0,00","0,00","0,00","0,00","0,00","0,00","212.394,49","0,00"]
[null,336,"2003-07-26",58,17,73,75,51,7,47,55,96,50,54,4,19,86,57,82,88,89,49,81,"0,00",0,24,217,2298,12815,1,"0,00","17.062,14","1.887,06","88,77","15,92","417.140,20","614.237,05","0,00","0,00","0,00","0,00","0,00","0,00"]
[null,337,"2003-07-30",42,77,64,52,13,3,43,22,80,24,32,93,51,39,15,34,92,12,11,65,"0,00",1,33,429,7617,16738,0,"1.177.246,14","11.373,92","874,92","24,55","11,17","0,00","0,00","0,00","0,00","0,00","0,00","187.669,70","0,00"]
[null,338,"2003-08-02",4,6,73,45,89,27,43,93,97,69,44,18,70,56,26,54,8,62,57,74,"0,00",3,16,237,2314,13244,1,"212.102,05","26.512,76","1.789,89","91,32","15,95","399.771,75","0,00","0,00","0,00","0,00","0,00","0,00","0,00"]
[null,339,"2003-08-06",77,99,59,78,46,64,68,22,9,7,0,15,75,37,19,35,4,63,27,87,"0,00",1,37,380,3064,16741,0,"544.792,83","9.816,09","955,78","59,05","10,81","0,00","0,00","0,00","0,00","0,00","0,00","181.597,64","0,00"]
[null,340,"2003-08-09",82,41,97,99,94,7,70,20,4,2,42,64,12,40,74,6,68,76,90,55,"0,00",0,12,337,2611,15736,3,"0,00","35.924,09","1.279,20","82,25","13,65","132.380,74","646.633,64","0,00","0,00","0,00","0,00","0,00","0,00"]
[null,341,"2003-08-13",71,25,79,63,4,73,22,1,85,80,36,48,92,33,12,15,52,26,95,41,"0,00",0,16,254,1977,12063,0,"0,00","25.080,87","1.579,90","101,11","16,58","0,00","1.248.574,47","0,00","0,00","0,00","0,00","200.646,96","0,00"]
[null,342,"2003-08-16",62,43,19,18,21,49,61,63,64,36,50,22,78,72,75,51,79,46,12,40,"0,00",0,18,272,2529,15142,0,"0,00","27.049,00","1.790,01","95,90","16,02","0,00","1.978.897,45","0,00","0,00","0,00","0,00","444.087,98","0,00"]
[null,343,"2003-08-20",39,43,18,92,41,84,71,51,53,35,77,94,56,47,46,3,45,44,9,16,"0,00",0,8,253,2245,14356,1,"0,00","57.234,83","1.809,80","101,60","15,89","673.027,31","2.665.715,39","0,00","0,00","0,00","0,00","0,00","0,00"]
[null,344,"2003-08-23",10,64,71,47,67,54,55,91,38,89,58,13,33,63,18,59,98,23,94,99,"0,00",1,16,289,2837,18708,1,"3.489.194,32","34.311,62","1.899,61","96,40","14,63","274.493,00","0,00","0,00","0,00","0,00","0,00","0,00","0,00"]
[null,345,"2003-08-27",85,92,2,39,59,51,43,86,25,45,1,28,44,95,19,70,78,56,93,6,"0,00",0,8,161,1644,10646,1,"0,00","44.360,61","2.204,26","107,53","16,61","177.442,45","532.327,28","0,00","0,00","0,00","0,00","0,00","0,00"]
[null,346,"2003-08-30",54,86,11,94,69,44,48,78,31,49,21,67,6,2,93,35,38,52,4,17,"0,00",2,14,233,2056,13011,0,"605.185,72","32.287,82","1.940,04","109,52","17,31","0,00","0,00","0,00","0,00","0,00","0,00","226.014,74","0,00"]
[null,347,"2003-09-03",96,23,84,6,79,3,42,82,9,25,33,45,83,10,75,46,5,62,13,15,"0,00",1,20,379,3394,17163,0,"563.473,43","18.782,45","991,16","55,13","10,91","0,00","0,00","0,00","0,00","0,00","0,00","413.839,24","0,00"]
[null,348,"2003-09-06",82,98,93,30,61,34,53,46,33,11,87,94,83,96,90,22,31,99,29,4,"0,00",1,13,177,1828,12314,1,"676.744,18","34.704,83","2.548,94","122,95","18,26","639.420,65","0,00","0,00","0,00","0,00","0,00","0,00","0,00"]
[null,349,"2003-09-10",25,21,99,27,80,96,67,46,85,13,65,4,28,81,49,9,16,33,51,82,"0,00",0,15,237,1891,10994,1,"0,00","24.700,07","1.563,29","97,59","16,79","185.250,53","555.751,53","0,00","0,00","0,00","0,00","0,00","0,00"]
[null,350,"2003-09-13",25,54,28,81,92,48,52,24,51,42,56,70,31,65,75,67,11,86,40,47,"0,00",0,22,361,2988,16714,0,"0,00","20.901,07","1.273,75","76,66","13,71","0,00","1.245.486,88","0,00","0,00","0,00","0,00","229.911,81","0,00"]
[null,351,"2003-09-17",50,52,84,11,13,1,56,32,9,76,25,72,83,15,65,41,75,43,80,30,"0,00",0,15,310,2683,16015,2,"0,00","28.497,07","1.378,89","79,36","13,30","221.819,95","1.886.671,07","0,00","0,00","0,00","0,00","0,00","0,00"]
[null,352,"2003-09-20",70,30,81,66,43,16,56,79,39,88,92,48,96,91,0,83,82,75,54,20,"0,00",1,9,239,2129,13041,2,"2.617.553,40","54.139,43","2.038,73","114,00","18,61","121.813,73","0,00","0,00","0,00","0,00","0,00","0,00","0,00"]
[null,353,"2003-09-24",60,15,66,65,4,63,9,39,40,99,22,27,55,21,43,74,13,18,33,61,"0,00",2,37,393,2883,15886,0,"267.032,85","9.622,81","905,97","61,52","11,16","0,00","0,00","0,00","0,00","0,00","0,00","178.021,93","0,00"]
[null,354,"2003-09-27",4,76,29,14,77,27,0,86,91,55,40,33,72,23,24,19,90,13,53,81,"0,00",0,9,197,1946,11795,0,"0,00","43.907,88","2.005,95","101,15","16,70","0,00","592.756,35","0,00","0,00","0,00","0,00","375.607,40","0,00"]
[null,355,"2003-10-01",52,24,40,28,92,89,99,19,53,56,98,7,18,39,15,6,45,72,84,88,"0,00",0,14,179,1745,10872,0,"0,00","27.127,17","2.121,68","108,41","17,41","0,00","1.162.427,05","0,00","0,00","0,00","0,00","565.497,66","0,00"]
[null,356,"2003-10-04",66,38,25,98,1,41,15,14,55,78,62,45,82,29,2,40,22,92,85,7,"0,00",3,25,335,3014,17636,3,"619.089,97","18.529,14","1.382,77","76,56","13,10","265.703,99","0,00","0,00","0,00","0,00","0,00","0,00","0,00"]
[null,357,"2003-10-08",31,34,36,29,71,11,68,85,40,35,72,79,28,88,50,22,95,80,33,58,"0,00",0,9,132,1306,8789,0,"0,00","38.343,28","2.614,32","131,62","19,56","0,00","517.634,28","0,00","0,00","0,00","0,00","172.544,78","0,00"]
[null,358,"2003-10-11",34,65,83,10,24,71,49,54,68,77,0,70,78,91,61,95,46,62,39,12,"0,00",0,9,193,1825,11375,0,"0,00","45.474,73","2.120,58","111,71","17,93","0,00","1.131.543,07","0,00","0,00","0,00","0,00","377.181,05","0,00"]
[null,359,"2003-10-15",26,33,50,77,13,9,17,82,99,20,49,68,97,4,22,28,16,57,1,93,"0,00",1,39,494,3667,19395,0,"1.702.841,18","9.765,78","768,06","51,74","9,79","0,00","0,00","0,00","0,00","0,00","0,00","567.613,76","0,00"]
[null,360,"2003-10-18",55,76,4,98,81,59,67,57,46,96,23,80,64,2,6,51,93,50,41,88,"0,00",1,18,247,2155,12982,0,"556.398,89","20.607,37","1.501,75","85,74","14,23","0,00","0,00","0,00","0,00","0,00","0,00","753.080,06","0,00"]
[null,361,"2003-10-22",68,5,43,69,88,33,57,97,58,67,29,81,64,48,40,83,70,38,15,42,"0,00",0,6,112,1101,7650,0,"0,00","50.201,97","2.689,39","136,28","19,62","0,00","451.817,79","0,00","0,00","0,00","0,00","903.686,00","0,00"]
[null,362,"2003-10-25",9,98,32,86,41,62,26,3,1,11,18,35,24,20,48,31,66,33,93,50,"0,00",1,27,315,2845,15788,1,"1.013.164,63","13.860,42","1.188,04","65,53","11,82","1.090.801,64","0,00","0,00","0,00","0,00","0,00","0,00","0,00"]
[null,363,"2003-10-29",5,83,99,80,28,89,0,53,18,49,54,40,79,11,26,82,4,92,70,33,"0,00",0,7,111,1156,7447,0,"0,00","39.695,72","2.503,34","119,74","18,59","0,00","416.805,04","0,00","0,00","0,00","0,00","138.935,03","0,00"]
[null,364,"2003-11-01",88,70,44,45,86,1,28,46,90,27,95,23,22,38,93,32,77,51,10,94,"0,00",0,6,166,1538,9935,0,"0,00","59.390,18","2.146,63","115,41","17,87","0,00","1.268.422,26","0,00","0,00","0,00","0,00","0,00","0,00"]
[null,365,"2003-11-05",11,35,69,93,6,31,29,10,18,80,77,26,28,5,50,63,97,17,38,8,"0,00",0,26,373,2510,13981,1,"0,00","13.078,15","911,61","67,49","12,12","170.016,02","1.778.470,24","0,00","0,00","0,00","0,00","0,00","0,00"]
[null,366,"2003-11-08",16,4,49,29,44,22,71,55,42,75,69,93,9,24,51,21,11,65,82,67,"0,00",2,47,764,4607,21464,0,"1.203.653,32","8.919,66","546,64","45,33","9,74","0,00","0,00","0,00","0,00","0,00","0,00","0,00","0,00"]
[null,367,"2003-11-12",43,4,17,38,22,82,16,56,54,67,62,89,40,70,87,64,35,96,42,61,"0,00",0,18,181,1589,9713,0,"0,00","16.353,95","1.626,36","92,28","15,10","0,00","798.354,24","0,00","0,00","0,00","0,00","0,00","0,00"]
[null,368,"2003-11-15",79,46,23,21,14,37,52,17,91,28,81,49,45,56,12,89,73,9,3,63,"0,00",2,24,270,2534,13204,1,"619.039,73","12.214,59","1.085,74","57,64","11,06","146.575,08","0,00","0,00","0,00","0,00","0,00","0,00","0,00"]
[null,369,"2003-11-19",29,9,95,66,68,72,30,64,3,73,5,69,19,15,6,56,17,62,84,53,"0,00",0,8,191,1627,10347,0,"0,00","35.691,69","1.494,94","87,42","13,75","0,00","571.067,04","0,00","0,00","0,00","0,00","0,00","0,00"]
[null,370,"2003-11-22",5,72,80,52,57,13,54,24,50,18,28,27,58,43,93,19,68,83,12,15,"0,00",0,17,254,2338,14034,0,"0,00","20.551,00","1.375,46","74,44","12,41","0,00","1.269.801,24","0,00","0,00","0,00","0,00","0,00","0,00"]
[null,371,"2003-11-26",67,90,58,52,8,59,62,78,37,53,7,50,41,15,66,45,87,48,23,2,"0,00",0,10,145,1433,9184,0,"0,00","31.888,88","2.199,24","110,85","17,30","0,00","1.907.578,89","0,00","0,00","0,00","0,00","0,00","0,00"]
[null,372,"2003-11-29",78,95,84,31,62,96,44,83,22,61,48,58,68,74,77,42,81,65,71,40,"0,00",0,13,237,2069,11986,1,"0,00","29.625,66","1.625,04","92,73","16,01","192.566,83","2.485.279,31","0,00","0,00","0,00","0,00","0,00","0,00"]
[null,373,"2003-12-03",77,48,1,0,89,13,50,36,78,25,29,38,71,54,53,3,87,61,85,30,"0,00",0,12,221,1991,12056,0,"0,00","32.230,30","1.750,06","96,77","15,98","0,00","3.258.806,52","0,00","0,00","0,00","0,00","0,00","0,00"]
[null,374,"2003-12-06",51,30,16,27,58,4,79,57,19,74,8,54,35,78,59,83,46,42,43,56,"0,00",0,19,351,2879,17362,2,"0,00","24.514,25","1.326,98","80,59","13,37","116.442,69","3.957.462,61","0,00","0,00","0,00","0,00","0,00","0,00"]
[null,375,"2003-12-10",2,32,56,60,86,24,75,64,68,97,26,95,78,91,44,0,74,14,22,3,"0,00",0,11,249,2277,13843,0,"0,00","39.438,70","1.742,27","94,90","15,62","0,00","4.825.114,02","0,00","0,00","0,00","0,00","0,00","0,00"]
[null,376,"2003-12-13",19,17,36,13,16,84,73,25,98,66,54,92,86,77,6,95,65,14,62,24,"0,00",4,49,584,4622,26439,0,"1.396.629,13","10.359,22","869,18","54,71","9,57","0,00","0,00","0,00","0,00","0,00","0,00","0,00","0,00"]
[null,377,"2003-12-17",68,85,32,83,14,17,98,42,16,96,5,10,77,91,6,48,58,24,35,71,"0,00",0,10,225,2184,12360,0,"0,00","33.994,13","1.510,85","77,53","13,70","0,00","933.683,52","0,00","0,00","0,00","0,00","0,00","0,00"]
[null,378,"2003-12-20",22,73,94,77,19,85,21,35,75,92,38,71,81,63,91,14,17,52,12,27,"0,00",1,35,335,3124,16830,0,"1.569.392,84","12.108,75","1.265,09","67,58","12,55","0,00","0,00","0,00","0,00","0,00","0,00","0,00","0,00"]
[null,379,"2003-12-27",77,16,97,44,63,87,24,49,86,8,5,55,94,50,73,15,90,33,69,9,"0,00",0,17,226,2369,14050,0,"0,00","23.639,23","1.778,17","84,50","14,26","0,00","1.015.636,80","0,00","0,00","0,00","0,00","0,00","0,00"]
[null,380,"2004-01-03",13,3,30,14,65,20,85,92,81,59,16,93,51,78,31,7,44,35,25,23,"0,00",1,20,242,2362,13818,0,"1.627.722,76","20.402,87","1.686,19","86,06","14,72","0,00","0,00","0,00","0,00","0,00","0,00","0,00","0,00"]
[null,381,"2004-01-07",85,77,45,8,76,66,72,98,40,96,2,70,49,84,99,62,3,16,4,14,"0,00",0,3,118,1262,7732,0,"0,00","96.631,27","2.456,73","114,42","18,68","0,00","783.816,25","0,00","0,00","0,00","0,00","0,00","0,00"]
[null,382,"2004-01-10",0,25,61,32,33,18,10,51,7,11,83,26,15,35,20,89,24,84,82,5,"0,00",0,14,223,2182,13057,1,"0,00","25.863,99","1.623,75","82,67","13,81","181.047,93","1.326.959,95","0,00","0,00","0,00","0,00","0,00","0,00"]
[null,383,"2004-01-14",72,17,62,9,93,96,48,33,47,12,21,18,91,94,78,89,61,88,68,50,"0,00",0,8,111,1287,8481,0,"0,00","41.562,22","2.995,48","128,69","19,53","0,00","1.991.955,58","0,00","0,00","0,00","0,00","0,00","0,00"]
[null,384,"2004-01-17",24,98,62,90,44,6,4,41,13,99,43,53,65,31,0,47,91,10,33,21,"0,00",0,12,251,2297,13782,1,"0,00","32.094,08","1.534,38","83,53","13,93","192.564,50","2.569.648,97","0,00","0,00","0,00","0,00","0,00","0,00"]
[null,385,"2004-01-21",64,48,40,8,22,77,47,16,34,62,53,39,52,14,54,92,6,43,89,25,"0,00",1,31,315,2940,15037,0,"3.104.025,36","11.491,97","1.130,96","60,36","11,81","0,00","0,00","0,00","0,00","0,00","0,00","0,00","0,00"]
[null,386,"2004-01-24",56,41,1,69,86,92,47,43,14,73,5,96,34,53,39,82,61,76,42,49,"0,00",0,14,248,2307,12576,0,"0,00","23.104,53","1.304,29","69,84","12,82","0,00","663.320,75","0,00","0,00","0,00","0,00","0,00","0,00"]
[null,387,"2004-01-28",78,91,73,53,56,88,92,87,4,95,24,34,15,26,10,70,19,20,85,72,"0,00",1,12,179,1278,8025,1,"1.276.772,60","25.095,56","1.682,38","117,38","18,69","150.573,38","0,00","0,00","0,00","0,00","0,00","0,00","0,00"]
[null,388,"2004-01-31",89,27,37,83,79,7,46,67,70,39,13,77,68,57,34,94,43,22,47,93,"0,00",0,15,234,2241,12365,0,"0,00","20.525,46","1.315,74","68,44","12,41","0,00","615.763,72","0,00","0,00","0,00","0,00","0,00","0,00"]
[null,389,"2004-02-04",63,68,34,40,26,73,28,32,91,38,75,41,66,45,11,80,19,39,24,0,"0,00",0,17,234,1876,11142,0,"0,00","17.509,60","1.272,07","79,04","13,31","0,00","1.211.090,12","0,00","0,00","0,00","0,00","0,00","0,00"]
[null,390,"2004-02-07",15,71,8,47,80,16,36,56,24,60,51,33,87,91,27,22,25,21,90,2,"0,00",1,16,282,2202,12787,1,"1.780.256,74","23.715,28","1.345,55","85,84","14,79","189.722,24","0,00","0,00","0,00","0,00","0,00","0,00","0,00"]
[null,391,"2004-02-11",63,58,71,19,41,0,13,66,29,73,20,30,69,32,91,45,53,61,88,1,"0,00",0,14,261,2055,11707,1,"0,00","20.350,12","1.091,58","69,06","12,13","142.450,82","427.352,38","0,00","0,00","0,00","0,00","0,00","0,00"]
[null,392,"2004-02-14",65,27,73,41,44,78,46,82,12,3,87,32,31,36,68,7,94,72,19,59,"0,00",2,20,202,1786,10897,3,"473.551,12","17.325,00","1.715,35","96,64","15,84","57.749,99","0,00","0,00","0,00","0,00","0,00","0,00","0,00"]
[null,393,"2004-02-18",15,97,43,89,24,95,60,81,46,7,47,38,3,25,75,57,2,90,45,87,"0,00",2,7,123,1214,8103,1,"198.951,44","37.895,51","2.156,66","108,84","16,31","132.634,32","0,00","0,00","0,00","0,00","0,00","0,00","0,00"]
[null,394,"2004-02-21",30,11,4,39,97,94,48,95,88,79,73,82,69,74,71,47,46,41,57,16,"0,00",0,9,125,1145,7135,0,"0,00","30.902,27","2.224,96","120,99","19,42","0,00","556.240,98","0,00","0,00","0,00","0,00","0,00","0,00"]
[null,395,"2004-02-28",54,8,60,42,17,81,56,30,24,14,65,47,80,7,4,63,89,39,26,71,"0,00",1,22,224,1964,11341,0,"1.090.846,71","16.200,17","1.591,09","90,40","15,66","0,00","0,00","0,00","0,00","0,00","0,00","0,00","0,00"]
[null,396,"2004-03-03",13,19,69,49,59,28,22,60,96,20,26,42,52,16,11,43,86,58,55,93,"0,00",0,6,168,1399,9189,0,"0,00","42.754,47","1.526,95","91,34","13,91","0,00","691.255,58","0,00","0,00","0,00","0,00","0,00","0,00"]
[null,397,"2004-03-06",27,20,70,74,59,71,19,63,15,85,17,80,34,69,37,36,2,88,32,72,"0,00",0,13,179,1622,9904,0,"0,00","25.478,82","1.850,42","101,73","16,66","0,00","1.353.704,91","0,00","0,00","0,00","0,00","0,00","0,00"]
[null,398,"2004-03-10",21,89,10,55,39,94,99,6,17,76,81,14,71,43,5,8,64,2,47,93,"0,00",1,9,177,1567,9575,1,"1.826.453,91","35.018,45","1.780,60","100,19","16,40","157.583,03","0,00","0,00","0,00","0,00","0,00","0,00","0,00"]
[null,399,"2004-03-13",52,77,73,29,4,20,96,49,1,10,57,0,3,64,89,61,88,30,18,63,"0,00",1,11,135,1435,9057,2,"457.740,52","27.741,85","2.260,45","105,93","16,79","76.290,10","0,00","0,00","0,00","0,00","0,00","0,00","0,00"]
[null,400,"2004-03-17",44,50,21,40,65,12,8,73,18,39,91,41,10,7,61,20,67,78,52,99,"0,00",0,18,189,1657,9917,0,"0,00","14.269,17","1.358,97","77,21","12,91","0,00","513.690,15","0,00","0,00","0,00","0,00","0,00","0,00"]
[null,401,"2004-03-20",45,36,22,56,97,73,93,48,76,19,87,47,51,75,25,40,0,43,46,31,"0,00",0,11,197,1807,11685,0,"0,00","28.404,91","1.586,06","86,13","13,32","0,00","1.138.598,17","0,00","0,00","0,00","0,00","0,00","0,00"]
[null,402,"2004-03-24",46,63,33,3,22,70,72,79,53,27,20,95,61,6,75,68,84,37,64,14,"0,00",2,19,261,1990,11131,1,"797.335,35","16.002,54","1.164,94","76,11","13,61","152.024,19","0,00","0,00","0,00","0,00","0,00","0,00","0,00"]
[null,403,"2004-03-27",17,25,73,55,62,40,37,42,72,71,57,79,92,50,80,48,93,36,38,82,"0,00",0,10,139,1253,8042,0,"0,00","28.242,09","2.031,80","112,28","17,50","0,00","564.841,87","0,00","0,00","0,00","0,00","0,00","0,00"]
[null,404,"2004-03-31",7,90,77,19,27,12,3,78,4,35,43,20,24,88,38,30,5,44,31,81,"0,00",2,10,239,2174,11982,0,"488.552,43","27.484,20","1.149,96","62,97","11,43","0,00","0,00","0,00","0,00","0,00","0,00","0,00","0,00"]
[null,405,"2004-04-03",26,43,37,39,58,44,38,59,7,81,89,61,92,68,83,5,16,70,33,22,"0,00",0,10,181,1468,9139,0,"0,00","29.820,17","1.647,52","101,19","16,25","0,00","733.824,31","0,00","0,00","0,00","0,00","0,00","0,00"]
[null,406,"2004-04-07",51,37,84,80,47,7,38,1,81,17,97,67,90,22,61,93,40,43,49,99,"0,00",1,9,170,1607,9298,0,"1.169.076,51","32.240,91","1.706,87","89,94","15,56","0,00","0,00","0,00","0,00","0,00","0,00","0,00","0,00"]
[null,407,"2004-04-10",29,94,45,6,93,72,10,40,5,87,7,98,89,99,24,34,44,75,74,15,"0,00",0,3,92,943,6246,0,"0,00","80.445,27","2.623,22","127,48","19,25","0,00","627.755,76","0,00","0,00","0,00","0,00","0,00","0,00"]
[null,408,"2004-04-14",18,43,78,20,93,34,85,2,26,70,88,17,74,5,4,27,23,40,66,28,"0,00",0,11,177,1463,9391,0,"0,00","27.490,97","1.708,48","102,96","16,04","0,00","1.232.557,04","0,00","0,00","0,00","0,00","0,00","0,00"]
[null,409,"2004-04-17",21,40,61,77,19,66,55,97,22,11,92,80,60,67,95,35,31,5,46,84,"0,00",0,19,200,2050,12254,0,"0,00","18.593,58","1.766,39","85,85","14,37","0,00","1.939.113,16","0,00","0,00","0,00","0,00","0,00","0,00"]
[null,410,"2004-04-21",76,0,85,84,36,93,17,96,23,73,55,92,62,60,31,88,3,79,11,94,"0,00",1,9,112,1101,6151,0,"2.240.262,39","22.307,35","1.792,56","90,83","16,26","0,00","0,00","0,00","0,00","0,00","0,00","0,00","0,00"]
[null,411,"2004-04-24",47,92,18,98,19,17,22,95,51,43,14,1,61,93,32,28,73,87,70,46,"0,00",0,2,120,1245,8196,0,"0,00","149.061,56","2.484,36","119,28","18,13","0,00","696.629,36","0,00","0,00","0,00","0,00","0,00","0,00"]
[null,412,"2004-04-28",34,68,22,49,45,14,71,81,18,10,27,56,99,4,50,37,89,5,48,63,"0,00",0,16,129,1383,8604,0,"0,00","17.188,85","2.131,95","99,06","15,93","0,00","1.246.672,66","0,00","0,00","0,00","0,00","0,00","0,00"]
[null,413,"2004-05-01",30,18,44,76,20,64,77,96,85,23,34,46,71,11,9,86,88,45,42,14,"0,00",0,10,103,1136,7237,0,"0,00","24.995,38","2.426,74","109,61","17,21","0,00","1.746.580,22","0,00","0,00","0,00","0,00","0,00","0,00"]
[null,414,"2004-05-05",25,31,99,85,8,81,92,56,7,64,21,66,49,94,54,73,53,61,50,78,"0,00",0,11,151,1415,8928,0,"0,00","30.352,24","2.211,09","117,54","18,63","0,00","2.414.329,59","0,00","0,00","0,00","0,00","0,00","0,00"]
[null,415,"2004-05-08",79,44,18,43,31,55,92,0,69,72,6,14,98,90,82,17,62,49,16,64,"0,00",0,14,157,1590,10341,0,"0,00","27.603,15","2.461,43","121,06","18,62","0,00","3.187.217,72","0,00","0,00","0,00","0,00","0,00","0,00"]
[null,416,"2004-05-12",34,24,25,62,15,47,57,63,40,70,35,41,0,23,54,80,92,17,13,95,"0,00",1,10,187,1567,10521,1,"3.753.443,91","37.748,41","2.018,63","120,00","17,88","188.742,09","0,00","0,00","0,00","0,00","0,00","0,00","0,00"]
[null,417,"2004-05-15",41,61,6,82,22,90,40,55,16,83,96,46,73,97,51,57,19,50,47,15,"0,00",0,10,104,1093,6929,0,"0,00","29.014,65","2.789,87","132,23","20,87","0,00","580.293,06","0,00","0,00","0,00","0,00","0,00","0,00"]
[null,418,"2004-05-19",88,77,0,3,38,28,41,36,39,56,46,82,49,27,62,1,23,17,12,98,"0,00",1,10,198,1782,10527,0,"1.005.043,41","28.316,69","1.430,14","79,15","13,40","0,00","0,00","0,00","0,00","0,00","0,00","0,00","0,00"]
[null,419,"2004-05-22",80,78,76,39,90,84,93,31,40,89,27,58,18,17,0,71,2,38,48,52,"0,00",0,7,124,1041,6907,1,"0,00","40.625,34","2.293,37","136,08","20,51","142.188,72","568.149,54","0,00","0,00","0,00","0,00","0,00","0,00"]
[null,420,"2004-05-26",88,68,27,21,24,14,54,58,85,84,82,23,4,55,60,32,41,2,90,91,"0,00",0,16,196,1297,8210,0,"0,00","17.050,61","1.391,88","104,78","16,56","0,00","1.113.769,14","0,00","0,00","0,00","0,00","0,00","0,00"]
[null,421,"2004-05-29",83,67,15,11,95,34,74,96,45,33,99,46,3,58,32,51,18,84,12,0,"0,00",0,11,157,1516,9059,0,"0,00","28.752,67","2.014,52","103,92","17,40","0,00","1.746.327,88","0,00","0,00","0,00","0,00","0,00","0,00"]
[null,422,"2004-06-02",74,17,37,68,64,25,6,84,45,22,23,82,99,51,11,26,85,94,66,43,"0,00",1,18,324,2602,13773,1,"2.241.022,66","18.322,03","1.017,89","63,14","11,93","164.898,28","0,00","0,00","0,00","0,00","0,00","0,00","0,00"]
[null,423,"2004-06-05",91,88,69,67,54,80,95,5,73,92,12,17,28,79,82,57,97,34,94,77,"0,00",0,12,180,1834,10885,0,"0,00","26.518,03","1.767,87","86,44","14,57","0,00","636.432,85","0,00","0,00","0,00","0,00","0,00","0,00"]
[null,424,"2004-06-09",11,25,69,48,23,83,98,26,58,35,85,59,71,79,28,19,46,34,40,72,"0,00",1,10,138,1443,8455,0,"1.073.023,42","29.106,04","2.109,13","100,47","17,15","0,00","0,00","0,00","0,00","0,00","0,00","0,00","0,00"]
[null,425,"2004-06-12",64,35,70,15,82,68,78,36,12,90,51,76,31,98,3,42,27,44,85,37,"0,00",0,13,189,1514,8718,0,"0,00","20.004,52","1.375,97","85,57","14,86","0,00","665.647,77","0,00","0,00","0,00","0,00","0,00","0,00"]
[null,426,"2004-06-16",5,46,42,29,83,64,96,62,94,2,11,54,0,53,86,93,9,74,15,82,"0,00",0,9,204,1842,10999,0,"0,00","34.674,18","1.529,74","84,39","14,14","0,00","1.289.783,00","0,00","0,00","0,00","0,00","0,00","0,00"]
[null,427,"2004-06-19",61,89,54,41,47,55,14,39,44,72,93,64,38,83,1,92,10,78,40,45,"0,00",1,10,196,1780,11300,0,"1.812.606,58","34.854,91","1.778,31","97,54","15,38","0,00","0,00","0,00","0,00","0,00","0,00","0,00","0,00"]
[null,428,"2004-06-23",57,22,25,18,13,29,63,53,11,5,81,45,89,52,72,86,99,27,31,84,"0,00",0,27,252,2096,10795,0,"0,00","9.206,43","986,40","59,08","11,47","0,00","671.421,34","0,00","0,00","0,00","0,00","0,00","0,00"]
[null,429,"2004-06-26",28,85,98,23,9,77,83,55,96,50,42,41,57,86,78,35,27,88,74,51,"0,00",0,13,208,1784,10885,0,"0,00","22.612,57","1.413,28","82,08","13,46","0,00","1.259.348,10","0,00","0,00","0,00","0,00","0,00","0,00"]
[null,430,"2004-06-30",2,72,93,88,83,22,23,5,92,34,20,15,68,31,21,28,53,43,40,55,"0,00",0,12,265,2155,11518,0,"0,00","24.636,69","1.115,62","68,34","12,80","0,00","1.850.628,72","0,00","0,00","0,00","0,00","0,00","0,00"]
[null,431,"2004-07-03",89,26,49,25,96,72,54,52,58,47,2,82,51,56,73,20,17,29,5,88,"0,00",0,19,227,1976,11832,1,"0,00","18.829,49","1.576,03","90,19","15,07","178.880,12","2.387.268,96","0,00","0,00","0,00","0,00","0,00","0,00"]
[null,432,"2004-07-07",59,43,71,86,24,18,73,19,75,7,12,42,6,60,45,67,2,26,72,32,"0,00",0,19,199,1916,11799,0,"0,00","18.932,80","1.807,66","93,52","15,19","0,00","3.106.715,19","0,00","0,00","0,00","0,00","0,00","0,00"]
[null,433,"2004-07-10",1,44,40,89,92,9,88,43,95,74,68,18,14,34,45,17,27,24,48,22,"0,00",0,16,331,3044,16429,0,"0,00","25.137,33","1.215,10","65,81","12,20","0,00","3.911.109,51","0,00","0,00","0,00","0,00","0,00","0,00"]
[null,434,"2004-07-14",75,11,61,73,69,35,22,14,55,92,28,68,94,31,80,41,20,76,7,70,"0,00",1,13,171,1691,11125,1,"4.532.891,62","31.886,26","2.424,10","122,11","18,56","207.260,73","0,00","0,00","0,00","0,00","0,00","0,00","0,00"]
[null,435,"2004-07-17",14,30,44,43,66,27,10,45,47,25,95,4,34,51,0,31,3,99,62,41,"0,00",0,11,219,2035,12339,0,"0,00","27.038,95","1.358,12","72,81","12,01","0,00","594.856,94","0,00","0,00","0,00","0,00","0,00","0,00"]
[null,436,"2004-07-21",34,50,92,44,17,20,75,53,81,78,79,63,27,7,85,46,24,98,93,2,"0,00",3,9,161,1313,8233,6,"349.592,92","33.623,84","1.879,60","114,81","18,32","25.217,88","0,00","0,00","0,00","0,00","0,00","0,00","0,00"]
[null,437,"2004-07-24",95,36,41,30,97,53,6,55,75,49,43,32,76,59,66,28,68,26,78,73,"0,00",2,34,325,2362,12317,4,"213.134,77","8.358,23","874,40","59,94","11,50","35.522,46","0,00","0,00","0,00","0,00","0,00","0,00","0,00"]
[null,438,"2004-07-28",68,54,37,5,47,38,66,89,82,49,40,71,36,67,27,14,30,20,46,28,"0,00",0,11,115,1106,6899,0,"0,00","22.305,13","2.133,53","110,50","17,72","0,00","490.712,97","0,00","0,00","0,00","0,00","0,00","0,00"]
[null,439,"2004-07-31",41,14,43,77,48,20,5,71,98,87,46,76,13,72,47,78,75,11,68,4,"0,00",0,16,391,1767,8920,0,"0,00","18.522,80","755,08","83,55","16,56","0,00","1.083.442,67","0,00","0,00","0,00","0,00","0,00","0,00"]
[null,440,"2004-08-04",96,84,54,43,83,35,76,74,91,92,46,52,87,14,24,82,86,42,10,70,"0,00",1,5,197,1787,10838,1,"1.563.183,20","63.965,38","1.623,49","89,15","14,70","159.913,46","0,00","0,00","0,00","0,00","0,00","0,00","0,00"]
[null,441,"2004-08-07",48,86,5,58,67,96,78,41,3,19,28,10,64,23,79,76,38,71,24,75,"0,00",0,10,155,1615,9977,0,"0,00","30.689,64","1.979,98","94,66","15,33","0,00","613.792,77","0,00","0,00","0,00","0,00","0,00","0,00"]
[null,442,"2004-08-11",34,39,42,97,87,41,56,92,46,24,33,82,99,21,9,1,85,63,45,36,"0,00",0,7,149,1422,8945,0,"0,00","43.349,35","2.036,55","106,30","16,91","0,00","1.220.683,57","0,00","0,00","0,00","0,00","0,00","0,00"]
[null,443,"2004-08-14",37,95,14,32,67,61,54,6,51,8,4,57,29,17,49,97,55,92,85,64,"0,00",2,20,421,2224,12336,1,"870.825,48","17.365,58","824,97","77,79","14,03","173.655,81","0,00","0,00","0,00","0,00","0,00","0,00","0,00"]
[null,444,"2004-08-18",60,14,90,83,62,59,81,65,96,80,19,42,68,11,27,29,47,22,98,93,"0,00",0,7,155,1415,8693,1,"0,00","36.872,05","1.665,19","90,86","14,79","129.052,19","387.156,52","0,00","0,00","0,00","0,00","0,00","0,00"]
[null,445,"2004-08-21",19,96,55,31,41,3,73,57,22,59,30,25,34,43,35,26,68,99,7,46,"0,00",1,11,267,2411,13561,0,"835.107,52","27.148,55","1.118,48","61,70","10,97","0,00","0,00","0,00","0,00","0,00","0,00","0,00","0,00"]
[null,446,"2004-08-25",17,62,3,46,91,24,7,53,6,63,21,13,41,20,72,98,88,34,79,97,"0,00",0,7,124,1106,7257,0,"0,00","34.877,58","1.968,89","109,96","16,77","0,00","637.603,12","0,00","0,00","0,00","0,00","0,00","0,00"]
[null,447,"2004-08-28",48,34,6,92,12,60,24,28,79,64,27,97,47,49,63,35,55,39,58,93,"0,00",1,15,170,1476,9367,0,"1.070.464,00","19.238,27","1.697,50","97,39","15,35","0,00","0,00","0,00","0,00","0,00","0,00","0,00","0,00"]
[null,448,"2004-09-01",75,6,47,40,91,95,31,85,3,10,44,25,76,9,69,98,68,43,48,41,"0,00",0,7,130,1276,7222,0,"0,00","35.503,89","1.911,75","97,02","17,15","0,00","641.341,45","0,00","0,00","0,00","0,00","0,00","0,00"]
[null,449,"2004-09-04",14,27,13,89,31,54,77,88,65,66,45,40,20,78,96,47,24,98,83,93,"0,00",1,18,260,2231,12706,2,"1.108.265,62","17.293,49","1.197,24","69,51","12,21","77.820,71","0,00","0,00","0,00","0,00","0,00","0,00","0,00"]
[null,450,"2004-09-08",34,98,89,24,42,13,20,63,14,11,22,31,76,82,47,8,18,37,12,75,"0,00",1,6,154,1404,8450,0,"312.040,92","34.671,21","1.350,83","73,81","12,27","0,00","0,00","0,00","0,00","0,00","0,00","0,00","0,00"]
[null,451,"2004-09-11",78,31,29,28,94,25,35,11,41,19,53,79,16,58,63,37,74,17,1,91,"0,00",0,7,136,1347,8346,0,"0,00","41.397,77","2.130,77","107,17","17,30","0,00","683.582,33","0,00","0,00","0,00","0,00","0,00","0,00"]
[null,452,"2004-09-15",83,56,17,92,60,68,57,11,0,95,52,91,70,34,93,67,23,98,78,29,"0,00",1,8,122,1105,7306,1,"1.114.741,57","35.929,94","2.356,06","129,57","19,60","143.719,78","0,00","0,00","0,00","0,00","0,00","0,00","0,00"]
[null,453,"2004-09-18",59,72,54,20,74,36,24,16,43,68,31,56,99,96,11,6,52,5,0,47,"0,00",0,17,212,1840,10914,0,"0,00","15.299,85","1.226,87","70,42","11,88","0,00","520.194,85","0,00","0,00","0,00","0,00","0,00","0,00"]
[null,454,"2004-09-22",96,47,68,89,30,42,34,12,49,84,8,14,11,5,80,82,62,73,90,21,"0,00",0,13,141,1303,7823,0,"0,00","19.676,33","1.814,13","97,79","16,29","0,00","1.031.779,44","0,00","0,00","0,00","0,00","0,00","0,00"]
[null,455,"2004-09-25",92,82,63,74,54,42,60,62,87,66,49,26,99,48,86,38,52,85,51,24,"0,00",0,24,243,1793,10468,1,"0,00","11.744,53","1.159,95","78,31","13,42","140.934,46","1.454.582,74","0,00","0,00","0,00","0,00","0,00","0,00"]
[null,456,"2004-09-29",60,76,75,63,99,40,43,70,6,91,10,49,95,80,3,44,9,8,17,97,"0,00",3,8,232,2123,10712,3,"617.245,19","33.096,07","1.141,24","62,13","12,32","44.128,10","0,00","0,00","0,00","0,00","0,00","0,00","0,00"]
[null,457,"2004-10-02",32,19,21,52,28,61,30,14,67,18,13,66,22,5,94,3,6,1,81,43,"0,00",0,8,169,1782,10285,0,"0,00","31.915,14","1.510,78","71,37","12,38","0,00","510.642,22","0,00","0,00","0,00","0,00","0,00","0,00"]
[null,458,"2004-10-06",72,83,4,12,8,27,21,14,84,71,87,46,7,93,62,22,1,17,44,97,"0,00",0,10,235,1840,10019,1,"0,00","27.665,89","1.177,27","74,90","13,76","138.329,46","925.630,53","0,00","0,00","0,00","0,00","0,00","0,00"]
[null,459,"2004-10-09",92,22,42,98,60,53,41,20,39,86,64,69,74,18,89,72,2,36,62,59,"0,00",1,21,283,2027,11824,0,"1.401.356,39","15.102,41","1.120,68","77,94","13,36","0,00","0,00","0,00","0,00","0,00","0,00","0,00","0,00"]
[null,460,"2004-10-13",27,63,92,66,77,34,96,87,8,16,62,39,48,36,47,99,67,10,21,76,"0,00",0,7,102,1153,6809,1,"0,00","30.686,28","2.105,92","92,80","15,73","107.401,99","480.781,23","0,00","0,00","0,00","0,00","0,00","0,00"]
[null,461,"2004-10-16",32,61,30,87,11,16,96,41,4,44,7,6,9,1,13,43,56,81,25,0,"0,00",0,22,291,2568,13962,3,"0,00","13.626,79","1.030,21","58,15","10,70","49.964,92","930.465,39","0,00","0,00","0,00","0,00","0,00","0,00"]
[null,462,"2004-10-20",30,89,69,95,66,19,34,41,3,44,99,58,91,80,26,47,43,6,82,8,"0,00",1,22,287,2167,11732,0,"1.364.234,97","13.144,53","1.007,60","66,47","12,28","0,00","0,00","0,00","0,00","0,00","0,00","0,00","0,00"]
[null,463,"2004-10-23",80,22,79,84,91,76,1,68,39,48,90,41,55,29,7,65,72,12,15,54,"0,00",0,10,148,1154,6907,0,"0,00","27.115,95","1.832,16","117,05","19,56","0,00","686.908,74","0,00","0,00","0,00","0,00","0,00","0,00"]
[null,464,"2004-10-27",70,76,40,41,65,54,73,92,26,81,53,63,15,8,6,39,88,57,59,21,"0,00",0,17,156,1289,7439,0,"0,00","15.392,32","1.677,37","101,12","17,53","0,00","1.210.247,53","0,00","0,00","0,00","0,00","0,00","0,00"]
[null,465,"2004-10-30",49,77,94,71,26,96,47,99,40,43,98,62,65,80,59,0,55,8,95,39,"0,00",2,13,154,1489,9261,0,"829.156,81","22.977,75","1.939,68","99,93","16,07","0,00","0,00","0,00","0,00","0,00","0,00","0,00","0,00"]
[null,466,"2004-11-03",62,37,46,1,41,39,38,99,65,27,87,11,29,91,33,53,35,6,34,5,"0,00",0,4,110,982,6407,0,"0,00","51.524,95","1.873,64","104,55","16,02","0,00","561.554,96","0,00","0,00","0,00","0,00","0,00","0,00"]
[null,467,"2004-11-06",78,5,72,49,57,11,86,87,65,92,10,9,14,90,31,58,62,44,46,99,"0,00",1,5,126,1278,8186,0,"1.010.763,98","59.894,54","2.376,77","116,72","18,24","0,00","0,00","0,00","0,00","0,00","0,00","0,00","0,00"]
[null,468,"2004-11-10",32,2,84,17,72,8,59,15,42,80,86,43,88,97,91,49,21,67,71,73,"0,00",1,4,139,1276,7462,0,"531.169,99","63.572,28","1.829,42","99,27","16,98","0,00","0,00","0,00","0,00","0,00","0,00","0,00","0,00"]
[null,469,"2004-11-13",61,38,68,63,11,45,23,2,85,10,3,39,25,83,53,84,6,7,77,32,"0,00",0,6,173,1498,8961,0,"0,00","45.713,18","1.585,43","91,21","15,26","0,00","675.702,76","0,00","0,00","0,00","0,00","0,00","0,00"]
[null,470,"2004-11-17",42,58,13,92,51,39,17,38,43,23,10,28,45,6,68,97,18,11,9,46,"0,00",0,16,197,1809,11649,0,"0,00","15.119,75","1.228,00","66,62","10,36","0,00","1.159.534,60","0,00","0,00","0,00","0,00","0,00","0,00"]
[null,471,"2004-11-20",11,44,66,28,7,15,69,21,35,31,12,86,5,18,32,95,20,0,23,90,"0,00",1,11,225,2003,11608,1,"1.629.657,57","28.492,30","1.392,96","77,95","13,45","156.707,68","0,00","0,00","0,00","0,00","0,00","0,00","0,00"]
[null,472,"2004-11-24",48,67,21,35,98,78,4,96,12,1,68,40,25,22,45,24,86,97,92,60,"0,00",0,10,89,1610,6139,0,"0,00","23.648,24","2.657,11","73,17","19,19","0,00","472.964,69","0,00","0,00","0,00","0,00","0,00","0,00"]
[null,473,"2004-11-27",9,33,13,28,79,31,97,71,27,69,62,14,94,11,17,68,92,46,73,86,"0,00",0,14,256,2113,14936,1,"0,00","19.877,87","1.087,07","65,60","9,28","139.145,12","890.399,98","0,00","0,00","0,00","0,00","0,00","0,00"]
[null,474,"2004-12-01",4,92,21,41,18,25,24,48,39,85,83,57,98,93,44,55,88,45,5,16,"0,00",0,15,248,2132,12097,0,"0,00","18.717,44","1.132,11","65,60","11,56","0,00","1.451.923,24","0,00","0,00","0,00","0,00","0,00","0,00"]
[null,475,"2004-12-04",74,42,82,90,26,97,20,63,16,88,12,76,6,29,75,18,59,40,9,89,"0,00",0,14,148,1439,9120,0,"0,00","24.360,63","2.304,38","118,05","18,63","0,00","2.134.021,04","0,00","0,00","0,00","0,00","0,00","0,00"]
[null,476,"2004-12-08",19,73,6,52,76,48,41,69,61,98,38,72,82,8,27,35,20,32,45,59,"0,00",0,6,182,1556,9838,2,"0,00","53.198,57","1.753,80","102,19","16,16","79.797,86","2.612.808,15","0,00","0,00","0,00","0,00","0,00","0,00"]
[null,477,"2004-12-11",5,68,43,44,32,72,95,67,71,87,96,46,20,55,56,97,14,25,3,21,"0,00",1,18,215,2099,12863,1,"3.175.385,74","20.836,20","1.744,43","89,01","14,53","187.525,90","0,00","0,00","0,00","0,00","0,00","0,00","0,00"]
[null,478,"2004-12-15",19,62,30,45,71,46,51,84,20,89,63,88,64,9,48,67,74,21,25,23,"0,00",0,5,103,981,6844,0,"0,00","51.688,38","2.509,15","131,22","18,81","0,00","516.883,77","0,00","0,00","0,00","0,00","0,00","0,00"]
[null,479,"2004-12-18",91,3,43,28,65,6,36,7,20,48,50,14,15,72,96,63,47,78,60,80,"0,00",0,8,165,1507,9174,0,"0,00","37.505,75","1.818,46","99,18","16,30","0,00","1.116.975,78","0,00","0,00","0,00","0,00","0,00","0,00"]
[null,480,"2004-12-22",31,4,3,43,51,26,55,34,8,36,22,16,32,40,23,33,82,61,28,79,"0,00",2,22,273,2367,12716,0,"789.668,78","14.010,97","1.129,09","64,87","12,08","0,00","0,00","0,00","0,00","0,00","0,00","0,00","0,00"]
[null,481,"2004-12-29",79,12,92,45,54,74,56,20,19,39,22,33,42,88,57,83,2,95,21,99,"0,00",0,22,271,2193,12625,0,"0,00","15.411,48","1.251,11","77,02","13,38","0,00","832.225,85","0,00","0,00","0,00","0,00","0,00","0,00"]
[null,482,"2005-01-05",17,86,72,5,87,70,96,8,26,4,62,97,23,75,57,59,3,47,71,14,"0,00",0,10,206,1824,10675,2,"0,00","33.896,61","1.645,47","92,57","15,82","84.741,54","1.340.674,98","0,00","0,00","0,00","0,00","0,00","0,00"]
[null,483,"2005-01-08",97,17,92,22,1,43,16,57,45,66,84,51,65,61,19,62,31,50,4,91,"0,00",2,5,194,1561,9798,0,"916.865,63","65.740,84","1.694,35","104,98","16,72","0,00","0,00","0,00","0,00","0,00","0,00","0,00","0,00"]
[null,484,"2005-01-12",17,56,89,71,49,99,90,65,27,64,50,97,81,2,41,85,58,42,15,44,"0,00",0,7,115,1168,7194,2,"0,00","37.313,25","2.271,24","111,40","18,10","65.298,19","556.141,18","0,00","0,00","0,00","0,00","0,00","0,00"]
[null,485,"2005-01-15",15,99,28,14,23,94,43,74,26,40,32,24,8,48,16,7,68,53,64,1,"0,00",1,9,211,1826,11188,0,"990.907,90","32.204,95","1.373,67","79,06","12,91","0,00","0,00","0,00","0,00","0,00","0,00","0,00","0,00"]
[null,486,"2005-01-19",9,52,56,71,97,91,58,14,38,25,28,61,81,64,95,4,3,35,46,63,"0,00",0,9,116,1027,6869,0,"0,00","27.779,64","2.155,32","121,26","18,14","0,00","644.955,91","0,00","0,00","0,00","0,00","0,00","0,00"]
[null,487,"2005-01-22",28,50,4,48,0,20,17,92,54,36,43,26,70,82,31,39,47,57,94,34,"0,00",1,15,282,2211,12391,2,"1.071.682,00","18.965,61","1.008,81","64,09","11,44","71.121,03","0,00","0,00","0,00","0,00","0,00","0,00","0,00"]
[null,488,"2005-01-26",92,48,63,69,60,25,94,51,97,35,31,53,10,81,28,77,19,1,52,98,"0,00",0,13,114,1105,7102,0,"0,00","17.817,28","2.031,80","104,42","16,25","0,00","463.249,37","0,00","0,00","0,00","0,00","0,00","0,00"]
[null,489,"2005-01-29",28,40,64,6,86,47,45,90,53,67,23,27,7,79,92,24,14,77,62,50,"0,00",0,13,144,1349,8487,0,"0,00","21.199,92","1.913,88","101,77","16,18","0,00","1.014.447,16","0,00","0,00","0,00","0,00","0,00","0,00"]
[null,490,"2005-02-02",89,31,44,12,62,43,13,9,67,21,65,32,54,16,1,94,80,48,2,82,"0,00",0,12,148,1282,8232,0,"0,00","23.400,78","1.897,36","109,11","17,00","0,00","1.576.065,81","0,00","0,00","0,00","0,00","0,00","0,00"]
[null,491,"2005-02-05",79,19,25,10,81,51,17,33,58,55,23,59,48,21,83,27,11,92,61,53,"0,00",0,17,372,3009,21917,1,"0,00","18.100,32","827,17","50,94","9,99","153.852,75","2.037.624,01","0,00","0,00","0,00","0,00","0,00","0,00"]
[null,492,"2005-02-12",79,8,39,40,16,36,35,77,83,96,95,63,23,58,87,52,86,73,7,22,"0,00",0,20,218,1725,11043,0,"0,00","19.760,92","1.812,93","114,13","17,84","0,00","2.828.060,86","0,00","0,00","0,00","0,00","0,00","0,00"]
[null,493,"2005-02-16",73,41,98,30,10,50,26,45,78,88,77,62,55,0,12,75,11,67,71,54,"0,00",0,13,225,2010,12493,1,"0,00","25.970,68","1.500,53","83,67","13,46","168.809,41","3.334.488,98","0,00","0,00","0,00","0,00","0,00","0,00"]
[null,494,"2005-02-19",54,79,76,27,19,47,57,25,35,91,13,41,86,61,50,51,63,62,74,73,"0,00",1,15,189,1973,11940,0,"3.906.566,92","25.425,68","2.017,92","96,29","15,91","0,00","0,00","0,00","0,00","0,00","0,00","0,00","0,00"]
[null,495,"2005-02-23",18,42,93,68,67,44,95,3,27,84,99,79,54,70,98,92,20,89,74,78,"0,00",0,10,134,1292,7637,1,"0,00","25.638,04","1.913,29","98,85","16,72","128.190,26","575.263,36","0,00","0,00","0,00","0,00","0,00","0,00"]
[null,496,"2005-02-26",68,49,99,18,8,36,1,42,25,57,64,62,85,97,47,66,37,88,33,27,"0,00",0,27,354,2789,14025,0,"0,00","10.684,15","814,90","51,53","10,26","0,00","1.152.207,61","0,00","0,00","0,00","0,00","0,00","0,00"]
[null,497,"2005-03-02",2,31,94,90,70,51,74,93,59,91,53,55,99,32,56,82,27,5,20,15,"0,00",0,11,192,1693,9698,1,"0,00","27.124,72","1.554,02","87,79","15,33","149.186,00","1.599.765,56","0,00","0,00","0,00","0,00","0,00","0,00"]
[null,498,"2005-03-05",54,61,6,81,88,22,0,35,72,26,34,10,66,59,21,92,33,15,16,74,"0,00",0,12,211,1800,11358,0,"0,00","28.838,79","1.640,12","95,77","15,19","0,00","2.291.896,46","0,00","0,00","0,00","0,00","0,00","0,00"]
[null,499,"2005-03-09",33,63,73,3,66,61,47,70,1,39,71,14,30,90,72,51,84,53,69,93,"0,00",0,10,178,1713,10823,1,"0,00","33.920,63","1.905,66","98,64","15,62","169.603,14","2.800.705,84","0,00","0,00","0,00","0,00","0,00","0,00"]
[null,500,"2005-03-12",59,88,54,56,68,81,28,12,9,16,99,13,27,1,43,45,47,33,80,63,"0,00",0,36,360,2649,15524,0,"0,00","10.136,90","1.013,69","68,62","11,72","0,00","3.530.562,55","0,00","0,00","0,00","0,00","0,00","0,00"]
[null,501,"2005-03-16",69,84,16,50,28,34,18,44,20,12,97,55,68,67,80,77,74,42,15,41,"0,00",0,7,170,1759,11109,0,"0,00","53.087,26","2.185,94","105,23","16,67","0,00","4.273.784,13","0,00","0,00","0,00","0,00","0,00","0,00"]
[null,502,"2005-03-19",91,51,54,29,31,23,22,62,52,86,49,4,63,82,5,12,28,33,58,26,"0,00",0,19,291,2750,16765,0,"0,00","23.276,59","1.519,78","80,11","13,14","0,00","5.158.294,65","0,00","0,00","0,00","0,00","0,00","0,00"]
[null,503,"2005-03-23",47,52,82,64,89,58,5,88,3,38,83,72,79,71,29,6,70,62,91,54,"0,00",1,22,243,2329,14394,1,"5.872.574,72","21.644,85","1.959,62","101,85","16,49","238.093,39","0,00","0,00","0,00","0,00","0,00","0,00","0,00"]
[null,504,"2005-03-26",36,7,16,49,27,40,97,37,81,60,38,66,58,23,34,70,0,13,19,64,"0,00",0,6,136,1232,7477,1,"0,00","35.880,16","1.582,95","87,04","14,35","107.640,53","322.921,49","0,00","0,00","0,00","0,00","0,00","0,00"]
[null,505,"2005-03-30",98,17,84,10,11,59,27,95,58,7,4,29,30,60,37,62,20,32,97,25,"0,00",0,12,134,1259,7731,0,"0,00","22.723,77","2.034,97","107,88","17,58","0,00","868.292,00","0,00","0,00","0,00","0,00","0,00","0,00"]
[null,506,"2005-04-02",91,71,27,10,86,26,72,32,77,48,29,14,7,85,62,18,57,1,67,23,"0,00",0,12,209,1788,10541,0,"0,00","26.260,83","1.507,80","87,80","14,90","0,00","1.498.551,80","0,00","0,00","0,00","0,00","0,00","0,00"]
[null,507,"2005-04-06",73,80,37,63,61,41,20,50,47,42,15,52,8,84,27,76,13,26,96,74,"0,00",0,7,151,1659,10076,0,"0,00","46.635,02","2.161,89","98,02","16,14","0,00","2.151.442,08","0,00","0,00","0,00","0,00","0,00","0,00"]
[null,508,"2005-04-09",18,91,68,25,11,98,29,26,53,90,78,74,79,45,59,65,21,28,52,36,"0,00",1,6,131,1311,8977,0,"2.696.550,58","60.567,62","2.774,09","138,08","20,17","0,00","0,00","0,00","0,00","0,00","0,00","0,00","0,00"]
[null,509,"2005-04-13",26,20,38,16,2,42,8,49,63,7,56,86,5,94,4,75,71,6,44,78,"0,00",0,12,210,1490,9024,0,"0,00","22.041,73","1.259,53","88,43","14,61","0,00","710.704,42","0,00","0,00","0,00","0,00","0,00","0,00"]
[null,510,"2005-04-16",7,44,82,4,61,34,47,38,87,29,52,58,48,75,41,17,6,81,8,30,"0,00",1,7,137,1288,8582,0,"1.165.350,50","43.299,63","2.212,39","117,22","17,60","0,00","0,00","0,00","0,00","0,00","0,00","0,00","0,00"]
[null,511,"2005-04-20",74,72,3,11,6,99,42,39,50,57,87,13,94,25,33,55,38,45,26,79,"0,00",0,7,218,1713,9533,0,"0,00","36.627,71","1.176,12","74,56","13,40","0,00","664.336,65","0,00","0,00","0,00","0,00","0,00","0,00"]
[null,512,"2005-04-23",90,31,6,12,62,93,5,14,56,87,67,18,8,85,50,36,81,24,26,83,"0,00",0,11,164,1286,7962,0,"0,00","24.635,27","1.652,37","104,96","16,96","0,00","1.206.312,48","0,00","0,00","0,00","0,00","0,00","0,00"]
[null,513,"2005-04-27",0,93,44,42,64,16,28,19,48,87,2,33,83,45,38,58,70,72,56,1,"0,00",2,14,182,1595,9355,1,"818.340,77","20.493,76","1.576,45","89,60","15,28","143.456,38","0,00","0,00","0,00","0,00","0,00","0,00","0,00"]
[null,514,"2005-04-30",1,10,33,30,19,11,8,48,25,84,95,73,52,4,68,78,96,15,65,47,"0,00",0,8,191,1795,10111,0,"0,00","33.515,34","1.403,78","74,41","13,21","0,00","536.245,45","0,00","0,00","0,00","0,00","0,00","0,00"]
[null,515,"2005-05-04",89,65,11,99,92,97,93,44,39,42,80,95,54,66,30,23,67,98,58,43,"0,00",0,9,102,1208,7373,0,"0,00","31.653,95","2.793,00","117,48","19,25","0,00","1.106.016,46","0,00","0,00","0,00","0,00","0,00","0,00"]
[null,516,"2005-05-07",21,32,26,7,95,33,35,46,49,8,99,52,94,58,12,13,91,86,55,44,"0,00",0,25,294,2305,16358,0,"0,00","13.089,10","1.113,02","70,72","9,97","0,00","1.760.471,55","0,00","0,00","0,00","0,00","0,00","0,00"]
[null,517,"2005-05-11",38,40,81,39,71,45,34,54,57,6,76,9,93,92,46,65,8,7,67,28,"0,00",0,7,134,1259,7858,0,"0,00","45.887,99","2.397,13","127,09","20,37","0,00","2.402.903,40","0,00","0,00","0,00","0,00","0,00","0,00"]
[null,518,"2005-05-14",21,16,99,68,37,49,61,64,94,31,4,69,10,80,12,33,20,91,83,73,"0,00",3,15,278,2096,11551,2,"976.819,11","23.446,84","1.265,12","83,59","15,17","87.925,66","0,00","0,00","0,00","0,00","0,00","0,00","0,00"]
[null,519,"2005-05-18",6,86,91,98,18,34,3,73,27,65,48,9,69,82,45,46,51,40,4,49,"0,00",0,4,151,1356,8275,0,"0,00","63.270,66","1.676,04","92,97","15,24","0,00","506.165,27","0,00","0,00","0,00","0,00","0,00","0,00"]
[null,520,"2005-05-21",19,63,85,83,52,93,15,22,50,92,18,34,65,14,90,25,44,45,56,11,"0,00",0,16,219,1861,11568,1,"0,00","18.507,57","1.352,15","79,26","12,76","148.060,56","950.346,93","0,00","0,00","0,00","0,00","0,00","0,00"]
[null,521,"2005-05-25",7,47,18,85,34,11,35,42,40,12,76,6,92,10,46,16,45,0,66,57,"0,00",0,13,202,1569,9774,1,"0,00","21.930,51","1.411,37","90,51","14,54","142.548,38","1.377.991,98","0,00","0,00","0,00","0,00","0,00","0,00"]
[null,522,"2005-05-28",26,28,16,43,49,96,17,3,95,9,92,41,13,47,24,89,55,6,8,5,"0,00",1,37,424,3026,15998,1,"1.808.472,71","7.756,41","674,29","47,24","8,94","143.493,61","0,00","0,00","0,00","0,00","0,00","0,00","0,00"]
[null,523,"2005-06-01",43,58,51,10,13,78,63,38,11,88,94,76,70,17,21,18,61,75,19,49,"0,00",1,10,110,1119,7218,0,"390.879,73","26.058,65","2.368,97","116,00","17,99","0,00","0,00","0,00","0,00","0,00","0,00","0,00","0,00"]
[null,524,"2005-06-04",16,4,40,47,65,81,2,89,97,44,82,93,19,56,50,73,61,76,33,30,"0,00",1,11,158,1436,8612,0,"565.068,59","26.350,02","1.834,49","100,54","16,77","0,00","0,00","0,00","0,00","0,00","0,00","0,00","0,00"]
[null,525,"2005-06-08",76,9,38,56,39,73,36,49,79,91,23,87,37,94,90,45,59,41,34,27,"0,00",0,13,154,1620,9346,0,"0,00","21.155,89","1.785,89","84,57","14,66","0,00","694.978,16","0,00","0,00","0,00","0,00","0,00","0,00"]
[null,526,"2005-06-11",73,93,49,27,88,64,68,67,8,0,76,97,84,33,57,70,36,31,58,95,"0,00",2,22,276,2200,11775,0,"577.119,20","13.916,98","1.109,32","69,32","12,96","0,00","0,00","0,00","0,00","0,00","0,00","0,00","0,00"]
[null,527,"2005-06-15",33,64,38,44,76,74,48,36,47,87,16,84,18,67,73,72,81,65,75,42,"0,00",2,109,847,5264,17946,2,"267.662,58","2.337,85","299,72","24,11","10,11","63.706,42","0,00","0,00","0,00","0,00","0,00","0,00","0,00"]
[null,528,"2005-06-18",41,32,9,48,34,57,53,8,89,3,78,27,45,95,83,17,52,55,99,23,"0,00",0,18,262,2303,11842,0,"0,00","15.091,05","1.036,79","58,76","11,43","0,00","543.277,90","0,00","0,00","0,00","0,00","0,00","0,00"]
[null,529,"2005-06-22",18,45,24,41,40,31,92,30,78,11,53,64,21,13,56,14,91,19,72,84,"0,00",0,11,113,1218,7223,0,"0,00","23.681,65","2.305,29","106,54","17,98","0,00","1.064.274,13","0,00","0,00","0,00","0,00","0,00","0,00"]
[null,530,"2005-06-25",35,62,33,72,8,57,54,11,31,40,1,96,12,87,13,34,71,89,18,51,"0,00",1,9,114,1277,8358,1,"1.477.405,51","30.602,32","2.415,97","107,44","16,42","137.710,49","0,00","0,00","0,00","0,00","0,00","0,00","0,00"]
[null,531,"2005-06-29",62,87,50,56,15,49,74,5,95,37,88,16,14,97,2,68,13,25,24,32,"0,00",1,9,134,1253,7683,0,"350.918,12","25.993,94","1.745,86","93,01","15,17","0,00","0,00","0,00","0,00","0,00","0,00","0,00","0,00"]
[null,532,"2005-07-02",28,5,31,72,16,15,14,89,92,96,59,27,52,40,86,69,7,3,71,81,"0,00",0,6,100,1201,7378,0,"0,00","45.745,62","2.744,74","113,84","18,53","0,00","665.920,17","0,00","0,00","0,00","0,00","0,00","0,00"]
[null,533,"2005-07-06",99,40,23,35,28,37,30,20,31,63,21,5,64,67,95,6,18,8,49,25,"0,00",0,6,192,1865,10942,0,"0,00","49.406,42","1.543,95","79,18","13,50","0,00","1.258.797,29","0,00","0,00","0,00","0,00","0,00","0,00"]
[null,534,"2005-07-09",91,53,71,60,95,12,87,96,61,76,51,82,36,72,63,48,23,75,98,38,"0,00",1,14,171,1505,9352,0,"1.720.102,75","21.966,93","1.798,47","101,79","16,38","0,00","0,00","0,00","0,00","0,00","0,00","0,00","0,00"]
[null,535,"2005-07-13",28,1,13,49,80,54,22,65,51,31,90,6,27,4,98,62,56,23,93,17,"0,00",0,8,170,1394,8118,0,"0,00","33.578,30","1.580,16","95,99","16,49","0,00","691.021,29","0,00","0,00","0,00","0,00","0,00","0,00"]
[null,536,"2005-07-16",17,93,87,6,64,82,95,72,76,70,60,97,19,89,40,92,45,62,1,90,"0,00",1,9,168,1585,9296,2,"1.131.760,84","32.647,37","1.748,97","92,34","15,74","73.456,60","0,00","0,00","0,00","0,00","0,00","0,00","0,00"]
[null,537,"2005-07-20",61,5,93,51,76,24,84,60,21,17,74,88,72,98,36,66,31,38,53,29,"0,00",0,13,183,1473,8314,0,"0,00","19.508,54","1.385,85","85,77","15,20","0,00","507.222,03","0,00","0,00","0,00","0,00","0,00","0,00"]
[null,538,"2005-07-23",4,76,94,16,70,3,30,48,81,22,41,37,18,28,80,17,82,35,9,47,"0,00",0,7,143,1156,7533,0,"0,00","40.865,54","2.000,42","123,26","18,92","0,00","1.079.339,67","0,00","0,00","0,00","0,00","0,00","0,00"]
[null,539,"2005-07-27",37,38,75,72,26,31,45,30,20,6,61,39,86,79,42,51,70,25,95,67,"0,00",2,5,134,1255,7713,1,"750.314,86","56.172,01","2.095,97","111,48","18,14","140.430,04","0,00","0,00","0,00","0,00","0,00","0,00","0,00"]
[null,540,"2005-07-30",11,13,61,8,54,38,85,44,77,90,35,86,74,30,17,88,26,80,63,81,"0,00",0,15,241,1819,9495,1,"0,00","17.266,75","1.074,69","70,92","13,59","129.500,62","388.501,80","0,00","0,00","0,00","0,00","0,00","0,00"]
[null,541,"2005-08-03",52,73,9,15,75,72,47,57,79,87,5,90,83,21,25,89,91,92,29,13,"0,00",0,14,201,1881,16025,0,"0,00","18.850,14","1.312,95","69,89","8,21","0,00","916.305,69","0,00","0,00","0,00","0,00","0,00","0,00"]
[null,542,"2005-08-06",45,87,56,39,22,81,68,99,47,86,50,16,6,93,91,77,21,54,1,51,"0,00",0,4,153,1563,9513,0,"0,00","77.821,01","2.034,54","99,21","16,30","0,00","1.538.873,73","0,00","0,00","0,00","0,00","0,00","0,00"]
[null,543,"2005-08-10",92,86,73,67,58,37,2,81,50,25,96,52,4,41,51,8,95,59,1,71,"0,00",0,10,131,1349,8623,1,"0,00","31.306,92","2.389,84","115,60","18,10","156.534,63","2.008.477,55","0,00","0,00","0,00","0,00","0,00","0,00"]
[null,544,"2005-08-13",58,30,43,71,13,36,68,22,61,64,16,80,23,41,70,12,49,19,92,6,"0,00",0,14,145,1433,9084,1,"0,00","23.925,22","2.310,03","116,43","18,37","167.476,54","2.510.907,17","0,00","0,00","0,00","0,00","0,00","0,00"]
[null,545,"2005-08-17",15,49,75,40,13,59,71,42,45,1,5,39,61,38,77,90,50,91,34,85,"0,00",1,18,170,1687,10030,1,"2.977.880,43","17.295,31","1.831,27","91,92","15,47","155.657,76","0,00","0,00","0,00","0,00","0,00","0,00","0,00"]
[null,546,"2005-08-20",83,94,18,57,0,34,35,47,12,45,7,84,58,37,24,46,89,85,68,44,"0,00",2,13,190,1700,10523,0,"196.446,68","20.148,38","1.378,58","76,75","12,40","0,00","0,00","0,00","0,00","0,00","0,00","0,00","0,00"]
[null,547,"2005-08-24",40,0,86,96,7,90,91,92,32,27,45,38,35,97,48,17,37,25,26,15,"0,00",1,15,142,1217,7127,0,"490.143,88","15.963,53","1.686,29","98,01","16,74","0,00","0,00","0,00","0,00","0,00","0,00","0,00","0,00"]
[null,548,"2005-08-27",26,20,7,82,41,25,32,24,18,14,91,23,50,30,59,93,36,49,40,79,"0,00",0,4,117,1149,7871,0,"0,00","62.737,45","2.144,87","108,79","15,88","0,00","621.626,05","0,00","0,00","0,00","0,00","0,00","0,00"]
[null,549,"2005-08-31",11,54,46,92,93,30,31,52,44,80,73,74,87,14,49,40,50,20,63,58,"0,00",0,6,118,1071,7019,0,"0,00","43.499,95","2.211,86","121,39","18,53","0,00","1.143.625,46","0,00","0,00","0,00","0,00","0,00","0,00"]
[null,550,"2005-09-03",93,99,95,97,89,7,69,49,79,28,59,8,22,88,55,44,61,60,26,81,"0,00",0,15,233,1751,11079,0,"0,00","20.651,26","1.329,48","88,13","13,93","0,00","1.763.163,07","0,00","0,00","0,00","0,00","0,00","0,00"]
[null,551,"2005-09-10",38,57,44,54,10,52,51,19,48,61,84,11,94,87,47,55,17,79,42,39,"0,00",1,14,263,2166,13505,1,"2.378.071,14","29.281,34","1.558,70","94,28","15,13","204.969,38","0,00","0,00","0,00","0,00","0,00","0,00","0,00"]
[null,552,"2005-09-14",15,78,73,98,35,47,22,72,62,54,3,71,94,58,48,68,41,53,92,25,"0,00",0,17,224,1848,9988,0,"0,00","14.459,62","1.097,38","66,26","12,26","0,00","491.627,26","0,00","0,00","0,00","0,00","0,00","0,00"]
[null,553,"2005-09-19",71,94,14,45,63,69,90,93,83,5,29,2,70,62,92,53,10,12,56,97,"0,00",1,8,117,1075,7223,0,"916.641,91","35.417,89","2.421,74","131,29","19,54","0,00","0,00","0,00","0,00","0,00","0,00","0,00","0,00"]
[null,554,"2005-09-21",4,2,68,37,55,34,20,79,0,92,73,94,93,77,84,57,50,18,86,11,"0,00",0,14,200,1600,9130,0,"0,00","17.351,00","1.214,57","75,63","13,25","0,00","627.499,37","0,00","0,00","0,00","0,00","0,00","0,00"]
[null,555,"2005-09-24",16,65,5,25,28,86,64,87,11,21,1,40,82,49,41,61,73,4,84,94,"0,00",1,12,157,1517,9489,1,"1.063.865,40","24.242,56","1.852,93","95,52","15,28","145.455,35","0,00","0,00","0,00","0,00","0,00","0,00","0,00"]
[null,556,"2005-09-28",19,1,87,17,86,8,84,49,25,29,75,70,31,64,24,90,59,61,50,51,"0,00",0,9,147,1369,8261,0,"0,00","27.516,22","1.684,67","90,11","14,94","0,00","495.291,97","0,00","0,00","0,00","0,00","0,00","0,00"]
[null,557,"2005-10-01",75,43,47,27,9,12,5,16,18,81,22,85,23,24,91,95,35,28,21,70,"0,00",0,8,242,1933,11426,0,"0,00","37.588,39","1.242,60","77,49","13,11","0,00","1.096.706,26","0,00","0,00","0,00","0,00","0,00","0,00"]
[null,558,"2005-10-05",57,2,60,89,5,19,49,97,48,39,34,61,44,45,87,63,83,64,52,50,"0,00",0,8,162,1586,9740,0,"0,00","38.454,08","1.898,96","96,62","15,74","0,00","1.711.971,52","0,00","0,00","0,00","0,00","0,00","0,00"]
[null,559,"2005-10-08",12,8,23,82,43,62,36,20,97,10,29,54,90,67,34,11,33,91,32,73,"0,00",1,10,220,2030,12581,1,"2.244.151,07","35.478,64","1.612,66","87,06","14,05","177.393,21","0,00","0,00","0,00","0,00","0,00","0,00","0,00"]
[null,560,"2005-10-15",88,71,50,41,90,25,38,5,52,23,81,74,15,63,37,85,94,61,42,12,"0,00",1,17,172,1820,11582,0,"516.671,97","20.261,64","2.002,61","94,28","14,82","0,00","0,00","0,00","0,00","0,00","0,00","0,00","0,00"]
[null,561,"2005-10-19",54,16,48,94,15,79,37,21,47,65,56,2,49,80,81,44,13,41,34,17,"0,00",0,8,134,1165,8121,1,"0,00","31.356,49","1.872,03","107,26","15,40","125.425,97","548.501,89","0,00","0,00","0,00","0,00","0,00","0,00"]
[null,562,"2005-10-22",54,65,64,89,74,17,68,55,58,26,11,19,22,33,45,92,51,0,46,24,"0,00",0,11,200,2212,12779,0,"0,00","26.327,17","1.448,00","65,22","11,29","0,00","1.127.699,58","0,00","0,00","0,00","0,00","0,00","0,00"]
[null,563,"2005-10-26",16,4,66,6,71,85,3,45,13,35,21,28,7,41,60,40,33,59,30,27,"0,00",0,15,202,2162,11547,0,"0,00","18.405,53","1.366,75","63,61","11,91","0,00","1.679.865,42","0,00","0,00","0,00","0,00","0,00","0,00"]
[null,564,"2005-10-29",75,85,21,13,14,42,17,44,26,29,62,97,96,33,7,58,11,39,63,52,"0,00",0,12,147,1628,10228,0,"0,00","25.754,68","2.102,43","94,56","15,06","0,00","2.297.977,59","0,00","0,00","0,00","0,00","0,00","0,00"]
[null,565,"2005-11-05",45,41,8,79,51,57,76,17,25,83,59,80,32,26,19,55,86,44,56,97,"0,00",0,9,211,1941,12704,0,"0,00","46.593,88","1.987,42","107,61","16,44","0,00","3.136.667,47","0,00","0,00","0,00","0,00","0,00","0,00"]
[null,566,"2005-11-09",79,47,46,24,39,40,98,32,84,19,61,81,21,36,97,34,35,25,13,66,"0,00",1,6,149,1575,9524,0,"3.675.761,08","59.899,29","2.412,05","113,67","18,80","0,00","0,00","0,00","0,00","0,00","0,00","0,00","0,00"]
[null,567,"2005-11-12",83,32,76,66,30,59,89,43,28,7,77,13,18,54,8,4,86,31,35,55,"0,00",0,10,161,1481,9403,0,"0,00","28.437,95","1.766,34","95,65","15,07","0,00","748.456,99","0,00","0,00","0,00","0,00","0,00","0,00"]
[null,568,"2005-11-16",30,61,82,25,20,2,47,33,76,11,36,85,93,50,95,78,81,21,94,77,"0,00",0,6,113,896,6087,0,"0,00","39.601,46","2.102,73","132,10","19,45","0,00","1.223.674,51","0,00","0,00","0,00","0,00","0,00","0,00"]
[null,569,"2005-11-19",38,13,61,32,12,34,30,6,87,15,64,81,85,51,74,62,78,70,35,47,"0,00",0,8,146,1461,9745,0,"0,00","38.715,93","2.121,42","105,60","15,83","0,00","1.843.129,29","0,00","0,00","0,00","0,00","0,00","0,00"]
[null,570,"2005-11-23",66,26,5,59,0,35,69,77,68,25,9,15,96,23,84,8,57,24,22,37,"0,00",0,16,220,1951,11660,1,"0,00","18.877,44","1.372,91","77,12","12,91","151.019,50","2.296.187,72","0,00","0,00","0,00","0,00","0,00","0,00"]
[null,571,"2005-11-26",0,6,23,21,17,74,51,4,8,69,53,31,41,75,65,56,9,42,3,85,"0,00",0,7,157,1567,9592,0,"0,00","48.320,72","2.154,43","107,52","17,57","0,00","2.972.677,71","0,00","0,00","0,00","0,00","0,00","0,00"]
[null,572,"2005-11-30",73,79,6,87,95,67,13,43,16,83,60,52,81,47,90,32,51,58,91,72,"0,00",0,22,270,2214,11869,3,"0,00","14.774,41","1.203,84","73,14","13,65","54.172,84","3.460.233,14","0,00","0,00","0,00","0,00","0,00","0,00"]
[null,573,"2005-12-03",61,60,89,47,21,43,70,68,36,88,52,94,98,45,55,15,62,42,53,37,"0,00",0,15,179,1447,10038,0,"0,00","26.943,40","2.257,83","139,12","20,06","0,00","4.268.534,97","0,00","0,00","0,00","0,00","0,00","0,00"]
[null,574,"2005-12-07",96,16,48,76,94,73,64,32,9,30,85,45,3,31,25,14,6,56,4,71,"0,00",1,21,334,2926,16658,1,"4.883.162,30","19.511,98","1.226,80","69,76","12,26","204.875,79","0,00","0,00","0,00","0,00","0,00","0,00","0,00"]
[null,575,"2005-12-10",19,41,80,84,64,10,93,0,70,13,59,17,82,37,7,98,53,61,77,54,"0,00",1,21,233,1855,10600,1,"436.919,38","13.870,46","1.250,13","78,23","13,69","145.639,83","0,00","0,00","0,00","0,00","0,00","0,00","0,00"]
[null,576,"2005-12-14",15,32,30,44,54,52,20,99,56,60,19,37,9,68,95,74,84,45,69,28,"0,00",0,6,135,1224,7742,1,"0,00","45.086,03","2.003,82","110,10","17,41","135.258,11","405.774,25","0,00","0,00","0,00","0,00","0,00","0,00"]
[null,577,"2005-12-17",87,59,55,94,52,22,70,96,10,1,89,34,32,48,67,24,23,86,85,29,"0,00",0,10,142,1393,8849,0,"0,00","30.439,96","2.143,66","108,85","17,14","0,00","1.014.573,40","0,00","0,00","0,00","0,00","0,00","0,00"]
[null,578,"2005-12-21",20,94,77,48,8,92,57,84,87,44,34,50,64,51,60,9,39,53,67,97,"0,00",1,15,187,1755,9965,2,"1.485.820,99","20.944,34","1.680,03","89,17","15,71","78.541,28","0,00","0,00","0,00","0,00","0,00","0,00","0,00"]
[null,579,"2005-12-24",48,46,90,52,64,50,69,47,89,31,51,2,35,59,21,1,71,6,3,12,"0,00",0,7,108,1050,6230,0,"0,00","31.471,77","2.039,84","104,52","17,62","0,00","440.604,71","0,00","0,00","0,00","0,00","0,00","0,00"]
[null,580,"2005-12-28",59,51,21,16,27,95,20,78,34,8,71,7,88,80,85,12,56,37,3,33,"0,00",0,13,138,1335,8403,0,"0,00","21.300,13","2.006,53","103,32","16,42","0,00","994.407,98","0,00","0,00","0,00","0,00","0,00","0,00"]
[null,581,"2005-12-31",91,84,46,12,64,57,29,6,83,2,55,71,27,78,38,65,37,28,52,62,"0,00",0,7,133,1221,8226,0,"0,00","36.507,99","1.921,48","104,26","15,49","0,00","1.505.519,77","0,00","0,00","0,00","0,00","0,00","0,00"]
[null,582,"2006-01-04",22,27,16,78,40,93,70,47,20,0,25,97,18,3,85,56,6,32,19,94,"0,00",1,12,192,1634,9920,0,"1.978.562,18","26.280,13","1.642,51","96,14","15,83","0,00","0,00","0,00","0,00","0,00","0,00","0,00","0,00"]
[null,583,"2006-01-07",45,39,91,9,58,38,56,69,76,87,71,27,54,16,98,1,99,28,83,46,"0,00",0,12,183,1536,9458,0,"0,00","23.797,41","1.560,49","92,61","15,05","0,00","728.818,72","0,00","0,00","0,00","0,00","0,00","0,00"]
[null,584,"2006-01-11",92,91,31,71,45,59,1,42,61,90,44,78,11,40,94,83,37,47,18,76,"0,00",0,4,140,1416,8674,0,"0,00","71.765,71","2.050,45","100,98","16,49","0,00","1.302.944,41","0,00","0,00","0,00","0,00","0,00","0,00"]
[null,585,"2006-01-14",34,19,98,54,62,47,44,51,79,26,94,91,92,74,28,40,60,37,15,66,"0,00",0,11,243,1993,10971,1,"0,00","28.935,69","1.309,84","79,55","14,46","159.146,31","1.780.383,29","0,00","0,00","0,00","0,00","0,00","0,00"]
[null,586,"2006-01-18",62,92,80,21,64,5,97,45,36,56,6,27,76,14,89,72,39,50,81,48,"0,00",1,22,260,2108,11683,1,"2.247.996,51","14.170,10","1.199,01","73,67","13,29","155.871,10","0,00","0,00","0,00","0,00","0,00","0,00","0,00"]
[null,587,"2006-01-21",52,53,48,93,11,10,89,86,37,47,15,91,60,28,78,51,25,44,94,74,"0,00",0,11,209,1692,10468,0,"0,00","23.962,22","1.261,17","77,60","12,55","0,00","527.168,65","0,00","0,00","0,00","0,00","0,00","0,00"]
[null,588,"2006-01-25",88,95,53,71,75,89,28,50,98,91,35,59,10,25,73,84,82,2,54,61,"0,00",0,15,206,1712,10040,0,"0,00","17.156,04","1.249,22","74,88","12,77","0,00","1.041.849,88","0,00","0,00","0,00","0,00","0,00","0,00"]
[null,589,"2006-01-28",50,83,41,23,25,52,96,73,68,26,88,13,43,28,58,47,76,15,63,11,"0,00",2,27,305,2503,13490,1,"737.347,10","10.687,51","946,11","57,43","10,65","144.281,47","0,00","0,00","0,00","0,00","0,00","0,00","0,00"]
[null,590,"2006-02-01",47,28,67,16,92,86,70,0,13,84,39,71,97,17,65,14,80,44,27,18,"0,00",0,4,116,1023,6752,0,"0,00","62.207,64","2.145,09","121,16","18,36","0,00","497.661,13","0,00","0,00","0,00","0,00","0,00","0,00"]
[null,591,"2006-02-04",43,0,34,84,42,6,14,29,89,54,64,99,58,51,82,68,94,17,61,81,"0,00",0,7,143,1431,8347,3,"0,00","41.869,87","2.049,58","102,03","17,50","48.848,20","937.294,82","0,00","0,00","0,00","0,00","0,00","0,00"]
[null,592,"2006-02-08",64,70,91,38,5,99,57,11,44,15,27,24,7,73,28,62,32,29,1,18,"0,00",0,18,244,1996,11810,0,"0,00","16.235,76","1.197,72","72,94","12,33","0,00","1.521.782,20","0,00","0,00","0,00","0,00","0,00","0,00"]
[null,593,"2006-02-11",18,88,34,98,94,74,51,90,81,54,95,77,86,36,72,44,62,76,52,80,"0,00",0,24,384,2953,45097,0,"0,00","14.053,48","878,34","56,90","5,32","0,00","2.196.349,45","0,00","0,00","0,00","0,00","0,00","0,00"]
[null,594,"2006-02-15",89,20,29,10,76,7,70,45,72,98,38,86,52,87,67,71,25,54,58,5,"0,00",1,27,357,3262,26773,1,"2.725.911,28","13.075,60","988,91","53,91","9,38","176.520,61","0,00","0,00","0,00","0,00","0,00","0,00","0,00"]
[null,595,"2006-02-18",48,43,28,66,24,77,82,5,49,51,76,0,87,8,47,45,18,6,99,64,"0,00",1,10,167,1599,9672,0,"431.244,94","28.749,66","1.721,54","89,56","14,82","0,00","0,00","0,00","0,00","0,00","0,00","0,00","0,00"]
[null,596,"2006-02-22",90,31,18,80,99,60,88,46,20,22,50,54,81,73,63,2,66,51,86,70,"0,00",1,23,223,1884,10533,1,"550.502,36","11.789,97","1.216,01","71,69","12,83","135.584,68","0,00","0,00","0,00","0,00","0,00","0,00","0,00"]
[null,597,"2006-02-25",26,63,13,97,64,45,62,9,4,77,1,65,57,86,33,27,53,78,94,16,"0,00",0,10,166,1591,10139,0,"0,00","24.543,82","1.478,54","76,85","12,07","0,00","490.876,39","0,00","0,00","0,00","0,00","0,00","0,00"]
[null,598,"2006-03-01",60,79,75,90,78,6,82,40,57,63,89,54,9,73,67,65,80,23,22,38,"0,00",0,4,67,583,3862,0,"0,00","35.829,74","2.139,09","122,46","18,48","0,00","777.514,30","0,00","0,00","0,00","0,00","0,00","0,00"]
[null,599,"2006-03-04",3,89,39,49,85,24,43,41,31,53,90,94,10,76,80,59,28,95,97,55,"0,00",0,4,93,1061,7162,0,"0,00","74.763,69","3.215,64","140,40","20,81","0,00","1.375.623,78","0,00","0,00","0,00","0,00","0,00","0,00"]
[null,600,"2006-03-08",4,38,3,11,93,17,28,75,90,29,65,5,30,87,7,42,78,55,36,12,"0,00",1,8,146,1442,8978,0,"1.835.350,93","38.310,60","2.099,21","105,87","17,01","0,00","0,00","0,00","0,00","0,00","0,00","0,00","0,00"]
[null,601,"2006-03-11",28,2,88,90,13,86,3,30,97,75,79,8,71,72,18,42,92,44,51,82,"0,00",0,13,199,2114,21374,0,"0,00","21.708,69","1.418,16","66,50","9,40","0,00","717.668,26","0,00","0,00","0,00","0,00","0,00","0,00"]
[null,602,"2006-03-15",99,45,86,0,22,19,33,39,80,13,88,42,71,53,18,41,28,46,55,31,"0,00",1,14,275,2495,14066,0,"1.148.213,52","20.502,16","1.043,75","57,31","10,17","0,00","0,00","0,00","0,00","0,00","0,00","0,00","0,00"]
[null,603,"2006-03-18",31,81,53,67,19,91,17,52,76,57,89,75,62,64,13,24,39,74,95,44,"0,00",0,4,200,1604,9961,0,"0,00","67.689,75","1.353,80","84,08","13,54","0,00","685.033,08","0,00","0,00","0,00","0,00","0,00","0,00"]
[null,604,"2006-03-22",76,2,90,75,24,73,48,29,61,72,8,57,50,68,52,88,67,15,12,97,"0,00",0,12,160,1423,8371,0,"0,00","23.285,46","1.746,41","97,81","16,63","0,00","1.243.883,94","0,00","0,00","0,00","0,00","0,00","0,00"]
[null,605,"2006-03-25",66,34,72,13,11,75,40,91,76,64,3,22,29,74,0,57,26,4,14,51,"0,00",0,13,142,1317,8740,0,"0,00","23.058,71","2.111,01","113,37","17,09","0,00","1.843.410,35","0,00","0,00","0,00","0,00","0,00","0,00"]
[null,606,"2006-03-29",70,51,75,19,12,77,85,52,57,28,72,58,35,5,60,94,98,11,26,83,"0,00",0,9,148,1433,8811,0,"0,00","32.654,83","1.985,76","102,17","16,62","0,00","2.431.197,21","0,00","0,00","0,00","0,00","0,00","0,00"]
[null,607,"2006-04-01",47,59,30,72,2,82,29,92,89,35,64,37,11,94,84,20,79,75,99,78,"0,00",0,9,168,1530,9663,1,"0,00","37.261,58","1.996,16","109,19","17,29","167.677,12","2.934.228,53","0,00","0,00","0,00","0,00","0,00","0,00"]
[null,608,"2006-04-05",25,80,91,64,53,29,16,67,58,61,50,77,55,43,82,18,79,52,13,54,"0,00",0,10,232,1974,12476,0,"0,00","35.238,45","1.518,90","88,92","14,07","0,00","3.638.997,59","0,00","0,00","0,00","0,00","0,00","0,00"]
[null,609,"2006-04-08",72,1,90,71,78,50,24,3,35,69,89,59,29,84,57,68,9,27,60,83,"0,00",0,13,200,1832,11079,0,"0,00","30.976,90","2.013,50","109,50","18,12","0,00","4.444.396,92","0,00","0,00","0,00","0,00","0,00","0,00"]
[null,610,"2006-04-12",50,16,64,96,12,1,57,20,58,62,0,13,15,48,18,85,59,40,17,52,"0,00",1,9,252,2246,13376,0,"5.093.186,91","48.058,52","1.716,38","95,93","16,11","0,00","0,00","0,00","0,00","0,00","0,00","0,00","0,00"]
[null,611,"2006-04-15",49,58,48,74,23,43,0,20,57,96,10,24,8,36,39,47,99,13,41,46,"0,00",0,7,126,1067,6848,0,"0,00","32.774,32","1.820,80","107,11","16,69","0,00","675.103,78","0,00","0,00","0,00","0,00","0,00","0,00"]
[null,612,"2006-04-19",17,87,9,67,0,27,10,25,80,59,66,38,75,85,50,34,98,13,60,89,"0,00",1,18,221,1734,10078,0,"1.120.161,68","16.483,63","1.342,56","85,24","14,67","0,00","0,00","0,00","0,00","0,00","0,00","0,00","0,00"]
[null,613,"2006-04-22",17,13,94,9,45,66,57,34,43,3,11,32,78,49,95,67,21,63,85,31,"0,00",0,9,149,1435,8665,0,"0,00","26.863,07","1.622,60","83,92","13,90","0,00","631.887,96","0,00","0,00","0,00","0,00","0,00","0,00"]
[null,614,"2006-04-26",44,85,13,24,86,75,10,46,21,11,90,19,36,77,50,12,69,62,31,47,"0,00",1,8,139,1396,8741,0,"1.051.839,57","34.995,97","2.014,16","99,89","15,95","0,00","0,00","0,00","0,00","0,00","0,00","0,00","0,00"]
[null,615,"2006-04-29",72,64,74,92,52,58,41,14,2,77,47,60,28,57,46,65,75,71,43,69,"0,00",1,15,212,1852,12486,0,"538.768,75","17.723,77","1.254,04","71,51","10,60","0,00","0,00","0,00","0,00","0,00","0,00","0,00","0,00"]
[null,616,"2006-05-03",23,85,73,66,26,11,75,0,82,51,47,16,43,69,27,59,17,67,45,74,"0,00",0,8,179,1586,9487,0,"0,00","28.835,92","1.288,76","72,46","12,12","0,00","594.303,08","0,00","0,00","0,00","0,00","0,00","0,00"]
[null,617,"2006-05-06",62,55,58,9,56,96,43,41,85,32,54,61,89,27,36,26,95,84,37,91,"0,00",1,7,157,1420,8567,1,"1.042.252,80","42.661,88","1.902,12","104,76","17,37","149.316,60","0,00","0,00","0,00","0,00","0,00","0,00","0,00"]
[null,618,"2006-05-10",13,27,14,49,43,98,57,24,31,76,96,58,8,59,86,87,80,71,30,32,"0,00",0,12,109,1078,7024,0,"0,00","21.662,35","2.384,85","120,12","18,44","0,00","519.896,44","0,00","0,00","0,00","0,00","0,00","0,00"]
[null,619,"2006-05-13",81,70,54,49,39,61,58,4,15,99,44,26,89,7,75,10,66,91,38,22,"0,00",1,9,159,1455,8571,1,"959.988,18","32.599,39","1.845,25","100,45","17,06","146.697,27","0,00","0,00","0,00","0,00","0,00","0,00","0,00"]
[null,620,"2006-05-17",8,58,91,14,32,29,70,63,57,55,80,35,88,89,42,76,28,92,30,0,"0,00",0,6,97,985,5852,0,"0,00","39.772,63","2.460,16","120,67","20,32","0,00","477.271,54","0,00","0,00","0,00","0,00","0,00","0,00"]
[null,621,"2006-05-21",31,23,42,3,89,18,25,0,58,83,87,77,1,7,33,65,37,41,48,36,"0,00",0,15,216,1573,9532,0,"0,00","17.411,93","1.209,16","82,71","13,65","0,00","999.629,35","0,00","0,00","0,00","0,00","0,00","0,00"]
[null,622,"2006-05-24",78,98,54,66,97,32,37,87,0,20,7,11,25,42,13,5,91,2,35,52,"0,00",0,11,173,1477,8881,0,"0,00","23.253,44","1.478,54","86,27","14,35","0,00","1.511.205,06","0,00","0,00","0,00","0,00","0,00","0,00"]
[null,623,"2006-05-27",92,87,76,12,40,42,14,32,77,66,36,15,72,90,56,75,85,53,82,96,"0,00",0,11,181,1587,9257,1,"0,00","25.935,69","1.576,20","89,54","15,36","142.646,33","1.939.143,97","0,00","0,00","0,00","0,00","0,00","0,00"]
[null,624,"2006-05-31",23,47,21,49,74,52,9,62,93,10,56,41,66,77,22,64,8,96,60,45,"0,00",1,6,164,1612,9362,0,"2.373.904,68","48.306,75","1.767,32","89,56","15,43","0,00","0,00","0,00","0,00","0,00","0,00","0,00","0,00"]
[null,625,"2006-06-03",2,26,68,33,17,23,24,61,74,35,9,42,76,58,85,52,62,31,20,4,"0,00",0,14,187,1672,9701,0,"0,00","18.876,90","1.413,25","78,73","13,57","0,00","673.473,55","0,00","0,00","0,00","0,00","0,00","0,00"]
[null,626,"2006-06-07",91,6,72,17,34,30,16,75,22,67,7,35,20,27,56,0,52,21,31,68,"0,00",1,12,136,1199,7797,1,"1.096.707,71","23.513,01","2.074,68","117,23","18,03","141.078,09","0,00","0,00","0,00","0,00","0,00","0,00","0,00"]
[null,627,"2006-06-10",92,37,83,86,81,78,24,30,9,61,72,27,31,93,28,0,47,84,87,53,"0,00",0,6,109,1003,6704,0,"0,00","42.598,18","2.344,86","126,93","19,00","0,00","511.178,25","0,00","0,00","0,00","0,00","0,00","0,00"]
[null,628,"2006-06-14",62,31,55,47,37,18,17,43,72,59,88,70,71,35,81,77,45,14,21,79,"0,00",0,9,157,1342,7830,1,"0,00","25.485,94","1.460,98","85,14","14,60","114.686,74","855.238,40","0,00","0,00","0,00","0,00","0,00","0,00"]
[null,629,"2006-06-17",5,63,94,28,39,35,81,8,78,12,27,10,82,44,33,51,59,69,38,65,"0,00",0,10,167,1519,8791,0,"0,00","24.401,09","1.461,14","80,02","13,83","0,00","1.343.260,11","0,00","0,00","0,00","0,00","0,00","0,00"]
[null,630,"2006-06-21",44,57,72,0,18,10,87,50,64,78,5,31,71,47,26,40,59,4,61,92,"0,00",0,15,142,1360,8161,0,"0,00","18.206,74","1.923,25","100,03","16,67","0,00","1.889.462,32","0,00","0,00","0,00","0,00","0,00","0,00"]
[null,631,"2006-06-24",39,18,71,98,66,38,75,4,21,82,99,42,1,62,55,67,31,20,93,79,"0,00",0,10,146,1293,7889,0,"0,00","26.735,88","1.831,23","103,00","16,88","0,00","2.424.179,89","0,00","0,00","0,00","0,00","0,00","0,00"]
[null,632,"2006-06-28",35,94,95,3,43,36,42,32,38,9,64,28,62,97,78,68,89,8,59,88,"0,00",0,10,172,1510,8832,0,"0,00","27.164,27","1.579,32","89,61","15,33","0,00","2.967.465,44","0,00","0,00","0,00","0,00","0,00","0,00"]
[null,633,"2006-07-01",12,16,24,23,37,15,96,73,57,88,97,56,69,91,61,64,45,11,27,68,"0,00",1,18,214,1788,9869,1,"3.392.829,14","15.754,21","1.325,12","79,00","14,32","141.787,94","0,00","0,00","0,00","0,00","0,00","0,00","0,00"]
[null,634,"2006-07-05",31,28,21,94,85,52,19,13,89,47,36,83,16,12,48,51,70,4,11,59,"0,00",0,14,136,1290,7803,0,"0,00","16.509,69","1.699,53","89,25","14,76","0,00","462.271,35","0,00","0,00","0,00","0,00","0,00","0,00"]
[null,635,"2006-07-08",27,7,4,80,5,69,76,26,71,61,65,41,92,33,8,56,24,3,82,1,"0,00",0,11,145,1350,8313,0,"0,00","23.716,45","1.799,18","96,27","15,64","0,00","984.033,24","0,00","0,00","0,00","0,00","0,00","0,00"]
[null,636,"2006-07-12",33,65,50,37,2,58,35,91,19,85,34,17,42,13,86,11,3,66,6,63,"0,00",1,16,216,1843,10932,0,"1.384.660,14","16.692,79","1.236,51","72,19","12,18","0,00","0,00","0,00","0,00","0,00","0,00","0,00","0,00"]
[null,637,"2006-07-15",60,77,95,71,97,59,80,91,25,26,32,6,92,18,84,83,68,17,55,10,"0,00",0,16,122,1216,7139,0,"0,00","15.607,76","2.046,92","102,29","17,43","0,00","632.990,52","0,00","0,00","0,00","0,00","0,00","0,00"]
[null,638,"2006-07-19",77,56,15,71,55,62,81,12,4,46,83,79,34,38,87,88,17,13,7,96,"0,00",0,7,161,1310,8333,0,"0,00","37.551,59","1.632,68","99,95","15,73","0,00","1.158.712,79","0,00","0,00","0,00","0,00","0,00","0,00"]
[null,639,"2006-07-22",62,19,0,28,91,12,18,65,73,50,46,30,66,33,23,37,76,58,98,99,"0,00",0,11,186,1657,10185,0,"0,00","25.584,17","1.513,04","84,60","13,77","0,00","1.721.564,59","0,00","0,00","0,00","0,00","0,00","0,00"]
[null,640,"2006-07-26",39,4,17,37,88,71,15,3,0,13,24,57,16,36,7,58,41,33,62,89,"0,00",0,19,222,2203,12644,0,"0,00","15.378,98","1.316,22","66,07","11,51","0,00","2.305.965,68","0,00","0,00","0,00","0,00","0,00","0,00"]
[null,641,"2006-07-29",51,88,93,89,39,73,36,31,13,99,16,42,96,67,58,43,38,21,9,95,"0,00",0,8,204,1907,10521,0,"0,00","39.105,55","1.533,55","81,71","14,82","0,00","2.931.654,38","0,00","0,00","0,00","0,00","0,00","0,00"]
[null,642,"2006-08-02",92,97,45,75,88,56,36,79,99,61,93,83,44,46,14,95,64,25,40,26,"0,00",0,12,200,1802,10606,2,"0,00","26.726,10","1.603,56","88,66","15,07","80.178,32","3.412.724,21","0,00","0,00","0,00","0,00","0,00","0,00"]
[null,643,"2006-08-05",54,57,52,64,10,45,15,3,91,74,85,66,30,14,38,39,69,96,19,75,"0,00",2,18,226,2107,12566,0,"1.995.092,19","21.387,41","1.703,43","91,01","15,27","0,00","0,00","0,00","0,00","0,00","0,00","0,00","0,00"]
[null,644,"2006-08-09",4,11,82,13,16,62,92,51,37,57,47,68,95,33,96,84,90,72,94,56,"0,00",0,8,176,1346,8439,0,"0,00","32.409,04","1.473,14","95,95","15,31","0,00","711.031,36","0,00","0,00","0,00","0,00","0,00","0,00"]
[null,645,"2006-08-12",3,32,37,40,95,35,43,9,82,49,22,54,21,78,73,58,15,86,83,90,"0,00",0,10,151,1445,8507,0,"0,00","28.830,53","1.909,31","99,39","16,88","0,00","1.287.642,09","0,00","0,00","0,00","0,00","0,00","0,00"]
[null,646,"2006-08-16",61,7,23,11,0,91,94,72,12,45,41,1,87,59,26,48,36,25,30,21,"0,00",0,14,236,2040,11346,0,"0,00","19.803,54","1.174,79","67,70","12,18","0,00","1.842.140,99","0,00","0,00","0,00","0,00","0,00","0,00"]
[null,647,"2006-08-19",25,69,1,52,91,34,82,92,38,51,50,78,68,89,90,45,13,47,3,18,"0,00",0,15,184,1862,10824,0,"0,00","20.355,48","1.659,42","81,68","14,05","0,00","2.452.805,32","0,00","0,00","0,00","0,00","0,00","0,00"]
[null,648,"2006-08-23",56,50,20,73,81,30,98,3,61,57,28,91,89,26,62,36,88,35,10,1,"0,00",0,8,164,1446,9117,0,"0,00","40.817,00","1.991,07","112,49","17,85","0,00","3.105.877,28","0,00","0,00","0,00","0,00","0,00","0,00"]
[null,649,"2006-08-26",34,81,72,49,19,71,28,77,37,40,11,56,99,25,48,14,74,52,18,46,"0,00",0,16,197,1887,11722,0,"0,00","21.741,82","1.765,83","91,82","14,79","0,00","3.801.615,68","0,00","0,00","0,00","0,00","0,00","0,00"]
[null,650,"2006-08-30",24,70,78,53,42,5,97,71,43,57,60,44,27,85,81,99,51,64,2,94,"0,00",0,14,232,2061,12434,0,"0,00","23.896,03","1.442,00","80,86","13,40","0,00","4.470.704,42","0,00","0,00","0,00","0,00","0,00","0,00"]
[null,651,"2006-09-02",56,77,55,25,10,60,43,59,1,39,37,93,74,78,63,53,30,51,0,45,"0,00",1,21,391,3164,16846,0,"5.054.622,57","18.537,08","995,60","61,29","11,51","0,00","0,00","0,00","0,00","0,00","0,00","0,00","0,00"]
[null,652,"2006-09-06",4,95,72,25,58,53,8,68,37,28,90,6,3,35,61,12,70,48,17,18,"0,00",2,7,130,1325,8142,0,"273.377,67","33.534,86","1.805,72","88,25","14,37","0,00","0,00","0,00","0,00","0,00","0,00","0,00","0,00"]
[null,653,"2006-09-09",94,72,38,24,39,59,84,31,88,2,8,68,49,3,18,5,61,91,50,34,"0,00",0,3,111,1047,6274,0,"0,00","76.629,57","2.071,07","109,38","18,26","0,00","577.149,42","0,00","0,00","0,00","0,00","0,00","0,00"]
[null,654,"2006-09-13",78,56,90,34,36,69,79,81,74,70,51,4,65,82,23,61,97,98,13,55,"0,00",0,4,121,922,6328,0,"0,00","66.886,67","2.211,13","144,54","21,06","0,00","1.112.242,79","0,00","0,00","0,00","0,00","0,00","0,00"]
[null,655,"2006-09-16",43,98,74,18,6,72,33,15,19,95,27,94,1,78,73,57,99,23,59,79,"0,00",0,7,158,1421,8737,0,"0,00","40.855,53","1.810,06","100,25","16,31","0,00","1.684.220,15","0,00","0,00","0,00","0,00","0,00","0,00"]
[null,656,"2006-09-20",12,15,59,56,1,75,81,64,73,76,79,21,23,3,78,95,48,52,6,4,"0,00",1,26,309,2420,13175,1,"2.102.598,15","10.727,64","902,65","57,42","10,55","139.459,35","0,00","0,00","0,00","0,00","0,00","0,00","0,00"]
[null,657,"2006-09-23",88,24,83,54,28,99,81,66,90,16,76,25,6,72,8,87,21,26,84,38,"0,00",0,10,100,1011,6924,1,"0,00","25.180,41","2.518,04","124,06","18,12","125.902,07","377.706,17","0,00","0,00","0,00","0,00","0,00","0,00"]
[null,658,"2006-09-27",67,20,55,1,34,93,44,91,77,2,43,13,63,61,32,45,24,96,76,16,"0,00",0,11,123,1317,7908,0,"0,00","22.003,52","1.967,80","91,55","15,26","0,00","861.783,52","0,00","0,00","0,00","0,00","0,00","0,00"]
[null,659,"2006-09-30",96,32,58,7,29,86,49,6,65,80,57,74,22,95,63,47,42,76,92,23,"0,00",0,8,180,1477,9163,0,"0,00","33.908,69","1.507,06","91,49","14,75","0,00","1.404.322,51","0,00","0,00","0,00","0,00","0,00","0,00"]
[null,660,"2006-10-04",30,32,88,34,79,45,11,92,60,51,6,2,97,67,83,36,71,23,57,12,"0,00",0,11,219,1583,8857,1,"0,00","25.421,13","1.276,86","87,99","15,73","139.816,23","1.823.771,16","0,00","0,00","0,00","0,00","0,00","0,00"]
[null,661,"2006-10-07",65,4,17,20,3,72,43,98,97,75,52,7,46,31,76,29,70,64,73,40,"0,00",0,10,121,1211,7620,0,"0,00","28.957,44","2.393,18","119,11","18,93","0,00","2.402.919,93","0,00","0,00","0,00","0,00","0,00","0,00"]
[null,662,"2006-10-11",89,25,47,21,12,66,18,43,32,37,26,73,35,14,23,49,83,54,93,65,"0,00",0,28,411,3139,16537,1,"0,00","10.112,00","686,29","44,93","8,53","141.568,01","2.827.623,89","0,00","0,00","0,00","0,00","0,00","0,00"]
[null,663,"2006-10-14",23,49,43,45,2,38,47,33,31,30,86,8,71,72,85,74,66,11,24,12,"0,00",0,12,180,1734,10446,0,"0,00","22.785,05","1.519,00","78,55","13,05","0,00","3.374.464,93","0,00","0,00","0,00","0,00","0,00","0,00"]
[null,664,"2006-10-18",30,20,44,57,0,60,54,46,35,51,3,91,11,55,32,53,70,50,93,64,"0,00",1,22,299,2484,13567,0,"3.839.315,11","14.086,37","1.036,46","62,15","11,38","0,00","0,00","0,00","0,00","0,00","0,00","0,00","0,00"]
[null,665,"2006-10-21",22,44,88,57,8,38,1,99,24,5,54,40,10,81,0,30,72,64,60,59,"0,00",0,15,226,1797,9480,0,"0,00","13.579,03","901,26","56,47","10,70","0,00","562.321,06","0,00","0,00","0,00","0,00","0,00","0,00"]
[null,666,"2006-10-25",0,77,22,92,17,5,31,18,68,32,47,85,1,16,84,43,15,91,58,42,"0,00",0,12,105,1082,6857,0,"0,00","19.886,09","2.272,69","109,87","17,34","0,00","1.039.587,29","0,00","0,00","0,00","0,00","0,00","1.500.000,00"]
[null,667,"2006-10-28",2,45,5,75,58,80,71,10,62,79,42,20,59,69,86,7,29,52,91,67,"0,00",1,10,152,1257,7791,0,"1.427.092,59","25.833,69","1.699,58","102,37","16,52","0,00","0,00","0,00","0,00","0,00","0,00","0,00","0,00"]
[null,668,"2006-11-01",42,80,81,40,76,83,71,12,62,37,49,57,46,23,63,53,51,9,47,10,"0,00",0,9,88,945,5956,0,"0,00","22.980,90","2.350,32","109,03","17,30","0,00","542.824,60","0,00","0,00","0,00","0,00","0,00","0,00"]
[null,669,"2006-11-04",97,16,11,37,75,8,44,77,95,27,48,66,84,70,9,30,74,69,85,13,"0,00",0,6,118,1223,7146,1,"0,00","36.463,21","1.854,06","89,11","15,26","109.389,68","870.993,55","0,00","0,00","0,00","0,00","0,00","0,00"]
[null,670,"2006-11-08",19,85,62,12,66,77,70,67,23,94,36,83,34,74,95,5,47,96,78,54,"0,00",1,17,211,1788,10230,0,"1.236.094,67","14.317,69","1.153,56","67,82","11,86","0,00","0,00","0,00","0,00","0,00","0,00","0,00","0,00"]
[null,671,"2006-11-11",38,5,90,37,98,74,97,41,67,75,39,3,18,58,80,43,88,10,12,14,"0,00",0,5,101,896,6231,0,"0,00","47.396,05","2.346,34","131,74","18,95","0,00","595.660,85","0,00","0,00","0,00","0,00","0,00","0,00"]
[null,672,"2006-11-18",72,79,46,68,58,34,82,19,29,91,52,12,83,57,95,3,50,40,70,17,"0,00",0,13,160,1554,9407,1,"0,00","24.369,72","1.980,04","101,55","16,78","158.403,19","1.070.870,34","0,00","0,00","0,00","0,00","0,00","0,00"]
[null,673,"2006-11-22",89,49,29,79,19,17,65,61,22,91,58,60,8,43,57,36,11,12,28,21,"0,00",0,9,118,1150,7523,0,"0,00","25.282,00","1.928,29","98,56","15,07","0,00","1.525.946,24","0,00","0,00","0,00","0,00","0,00","0,00"]
[null,674,"2006-11-25",82,49,42,11,92,29,87,25,98,73,36,71,74,56,23,78,26,53,83,12,"0,00",2,16,190,1754,10001,2,"955.002,35","16.002,44","1.347,57","72,72","12,76","64.009,76","0,00","0,00","0,00","0,00","0,00","0,00","0,00"]
[null,675,"2006-11-29",70,9,10,84,43,50,78,51,93,25,37,98,16,17,19,20,24,14,80,18,"0,00",0,7,114,990,6076,0,"0,00","28.350,07","1.740,79","99,85","16,27","0,00","396.901,07","0,00","0,00","0,00","0,00","0,00","0,00"]
[null,676,"2006-12-02",90,76,0,68,42,69,28,58,9,99,64,96,34,88,3,7,65,79,84,91,"0,00",0,7,127,1258,7711,0,"0,00","34.239,29","1.887,20","94,90","15,49","0,00","876.251,16","0,00","0,00","0,00","0,00","0,00","0,00"]
[null,677,"2006-12-06",2,79,83,35,36,49,91,51,25,80,48,98,21,53,89,33,54,68,6,90,"0,00",1,5,77,913,5437,0,"1.230.462,36","47.228,16","3.066,77","128,83","21,64","0,00","0,00","0,00","0,00","0,00","0,00","0,00","0,00"]
[null,678,"2006-12-09",69,79,61,49,10,23,52,35,20,51,62,0,93,76,67,19,78,81,59,85,"0,00",0,4,91,900,5813,0,"0,00","56.729,16","2.493,59","125,60","19,45","0,00","571.903,68","0,00","0,00","0,00","0,00","0,00","0,00"]
[null,679,"2006-12-13",11,53,8,32,67,98,61,59,76,4,17,25,63,23,0,85,86,26,14,37,"0,00",0,18,196,1461,8674,0,"0,00","13.238,96","1.215,82","81,25","13,69","0,00","1.048.506,18","0,00","0,00","0,00","0,00","0,00","0,00"]
[null,680,"2006-12-16",4,65,28,79,42,35,17,33,22,10,48,12,9,47,99,78,45,13,69,54,"0,00",0,16,249,2112,11655,0,"0,00","15.801,48","1.015,35","59,63","10,81","0,00","1.554.153,66","0,00","0,00","0,00","0,00","0,00","0,00"]
[null,681,"2006-12-20",16,70,89,14,58,57,43,1,63,79,47,39,18,33,75,93,31,83,34,54,"0,00",0,12,153,1472,8830,0,"0,00","21.854,81","1.714,10","88,76","14,80","0,00","2.078.669,04","0,00","0,00","0,00","0,00","0,00","0,00"]
[null,682,"2006-12-23",4,88,30,66,41,52,10,58,50,91,18,26,2,62,70,73,72,99,45,64,"0,00",0,17,218,1690,9759,1,"0,00","15.801,55","1.232,23","79,18","13,72","134.313,17","2.481.608,51","0,00","0,00","0,00","0,00","0,00","0,00"]
[null,683,"2006-12-27",6,83,92,1,59,60,95,68,16,91,55,70,34,14,87,45,2,97,89,58,"0,00",0,10,118,1161,7011,0,"0,00","25.125,52","2.129,29","107,80","17,86","0,00","2.984.119,05","0,00","0,00","0,00","0,00","0,00","0,00"]
[null,684,"2006-12-30",52,27,59,79,35,17,48,21,37,69,1,0,77,87,40,54,93,64,99,13,"0,00",0,20,264,2074,10979,0,"0,00","14.734,02","1.116,22","70,78","13,37","0,00","3.573.480,12","0,00","0,00","0,00","0,00","0,00","0,00"]
[null,685,"2007-01-03",65,30,27,19,96,76,50,24,28,23,38,2,75,99,42,98,88,87,6,54,"0,00",0,4,117,1082,7041,0,"0,00","67.139,88","2.295,38","123,64","19,00","0,00","4.110.599,17","0,00","0,00","0,00","0,00","0,00","0,00"]
[null,686,"2007-01-06",24,47,70,27,82,19,68,7,11,44,3,61,65,41,86,83,39,2,21,20,"0,00",2,19,191,2091,15597,2,"2.332.289,22","19.437,87","1.933,61","87,98","11,80","92.329,89","0,00","0,00","0,00","0,00","0,00","0,00","0,00"]
[null,687,"2007-01-10",78,30,89,41,95,75,9,72,24,92,76,11,19,36,25,97,53,63,20,80,"0,00",0,6,105,1112,6929,1,"0,00","44.131,75","2.521,82","118,61","19,04","132.395,27","397.185,72","0,00","0,00","0,00","0,00","0,00","0,00"]
[null,688,"2007-01-13",34,15,37,77,8,40,72,65,99,33,94,53,78,19,0,52,96,31,89,29,"0,00",0,7,118,1260,10948,0,"0,00","36.810,35","2.183,67","101,87","11,73","0,00","912.530,67","0,00","0,00","0,00","0,00","0,00","0,00"]
[null,689,"2007-01-17",55,26,22,70,32,85,86,68,20,23,94,69,77,63,38,44,96,89,12,8,"0,00",0,11,135,1368,8392,0,"0,00","24.679,24","2.010,90","98,85","16,11","0,00","1.455.473,93","0,00","0,00","0,00","0,00","0,00","0,00"]
[null,690,"2007-01-20",91,55,63,87,5,67,47,4,14,93,11,65,7,43,73,92,52,77,18,84,"0,00",0,17,196,1638,9924,0,"0,00","16.519,59","1.432,82","85,41","14,10","0,00","2.017.140,04","0,00","0,00","0,00","0,00","0,00","0,00"]
[null,691,"2007-01-24",47,59,58,52,31,43,92,42,9,98,60,68,82,18,38,45,99,85,29,44,"0,00",0,7,160,1481,8900,0,"0,00","40.547,62","1.773,96","95,47","15,88","0,00","2.584.806,61","0,00","0,00","0,00","0,00","0,00","0,00"]
[null,692,"2007-01-27",61,75,14,65,78,28,51,35,21,88,52,45,18,3,68,4,82,12,50,34,"0,00",0,17,207,1676,10065,0,"0,00","17.579,18","1.443,70","88,83","14,79","0,00","3.182.498,75","0,00","0,00","0,00","0,00","0,00","0,00"]
[null,693,"2007-01-31",97,69,4,19,67,68,14,3,90,43,47,26,22,24,51,62,13,72,38,65,"0,00",0,12,169,1581,10211,0,"0,00","28.131,29","1.997,49","106,36","16,47","0,00","3.857.649,74","0,00","0,00","0,00","0,00","0,00","0,00"]
[null,694,"2007-02-03",86,41,17,24,58,69,19,64,97,75,14,67,42,9,72,71,68,47,6,87,"0,00",1,20,275,2394,14126,1,"4.424.339,43","18.889,66","1.373,80","78,62","13,32","188.896,59","0,00","0,00","0,00","0,00","0,00","0,00","0,00"]
[null,695,"2007-02-07",46,22,66,54,2,70,88,51,33,60,7,76,77,80,78,61,74,65,17,37,"0,00",0,5,134,1110,7236,0,"0,00","49.300,65","1.839,58","110,62","16,98","0,00","493.006,46","0,00","0,00","0,00","0,00","0,00","0,00"]
[null,696,"2007-02-10",72,80,13,75,87,64,61,22,84,77,94,71,79,25,70,23,44,31,37,11,"0,00",1,18,181,1450,9183,0,"905.809,48","15.289,01","1.520,45","94,54","14,93","0,00","0,00","0,00","0,00","0,00","0,00","0,00","0,00"]
[null,697,"2007-02-14",26,53,54,94,68,48,46,75,40,78,1,89,39,11,6,17,44,65,5,80,"0,00",0,8,108,1022,6193,0,"0,00","29.780,53","2.205,96","116,12","19,16","0,00","614.089,54","0,00","0,00","0,00","0,00","0,00","0,00"]
[null,698,"2007-02-17",27,48,39,75,94,14,41,8,44,88,87,15,26,86,74,82,91,67,30,16,"0,00",0,6,130,1021,6654,0,"0,00","41.674,55","1.923,44","122,00","18,72","0,00","1.114.184,19","0,00","0,00","0,00","0,00","0,00","0,00"]
[null,699,"2007-02-21",28,93,74,46,44,7,67,55,10,3,27,81,23,95,17,77,96,22,88,47,"0,00",0,5,110,883,5427,0,"0,00","28.205,76","1.282,08","79,56","12,96","0,00","1.396.241,77","0,00","0,00","0,00","0,00","0,00","0,00"]
[null,700,"2007-02-24",84,90,11,25,96,91,53,27,6,47,26,63,76,89,39,51,37,16,69,29,"0,00",0,6,119,1144,7104,0,"0,00","45.247,06","2.281,37","118,20","19,04","0,00","1.939.206,48","0,00","0,00","0,00","0,00","0,00","0,00"]
[null,701,"2007-02-28",54,97,70,77,67,81,39,63,95,84,92,26,1,79,48,0,51,88,64,91,"0,00",0,23,211,1955,27665,0,"0,00","11.942,03","1.301,74","69,99","7,07","0,00","2.488.539,72","0,00","0,00","0,00","0,00","0,00","0,00"]
[null,702,"2007-03-03",69,32,22,81,99,79,17,75,18,1,66,97,38,84,33,53,76,77,57,72,"0,00",1,15,244,2044,12492,1,"2.961.520,94","21.021,39","1.292,30","76,85","12,58","157.660,42","0,00","0,00","0,00","0,00","0,00","0,00","0,00"]
[null,703,"2007-03-07",43,7,72,92,66,32,56,84,33,30,8,96,79,71,49,16,70,39,87,12,"0,00",0,5,105,986,6038,1,"0,00","47.728,22","2.272,77","120,56","19,70","119.320,56","357.961,59","0,00","0,00","0,00","0,00","0,00","0,00"]
[null,704,"2007-03-10",24,91,89,99,10,15,53,46,49,38,75,96,92,57,14,42,64,60,95,68,"0,00",1,11,158,1307,8309,1,"749.883,59","23.752,85","1.653,68","99,59","15,68","130.640,68","0,00","0,00","0,00","0,00","0,00","0,00","0,00"]
[null,705,"2007-03-14",13,16,96,84,57,73,18,51,72,70,75,58,38,37,19,5,50,45,43,36,"0,00",1,8,150,1505,8912,0,"342.227,26","28.518,94","1.521,01","75,52","12,76","0,00","0,00","0,00","0,00","0,00","0,00","0,00","0,00"]
[null,706,"2007-03-17",14,82,55,33,81,87,8,77,62,46,84,65,92,98,51,32,63,66,15,37,"0,00",1,10,147,1351,8232,1,"468.882,54","23.653,79","1.609,10","87,21","14,32","118.268,95","0,00","0,00","0,00","0,00","0,00","0,00","0,00"]
[null,707,"2007-03-21",52,13,99,7,3,72,82,26,21,76,86,93,28,34,65,42,80,47,25,5,"0,00",0,9,165,1329,7860,0,"0,00","24.579,25","1.340,69","82,92","14,02","0,00","442.426,51","0,00","0,00","0,00","0,00","0,00","0,00"]
[null,708,"2007-03-24",49,64,99,65,46,42,24,74,91,86,82,31,93,85,28,50,18,1,19,27,"0,00",0,12,108,1126,7221,1,"0,00","19.306,54","2.145,18","102,49","15,98","115.839,29","789.944,31","0,00","0,00","0,00","0,00","0,00","0,00"]
[null,709,"2007-03-28",93,7,13,37,76,11,45,2,42,68,36,53,67,20,88,4,74,41,81,12,"0,00",0,6,106,1072,6816,0,"0,00","39.158,88","2.216,54","109,18","17,18","0,00","1.259.850,82","0,00","0,00","0,00","0,00","0,00","0,00"]
[null,710,"2007-03-31",66,60,58,75,38,24,46,96,62,69,72,6,3,95,52,18,42,28,59,50,"0,00",0,11,180,1459,9246,0,"0,00","23.619,47","1.443,41","88,71","14,00","0,00","1.779.479,20","0,00","0,00","0,00","0,00","0,00","0,00"]
[null,711,"2007-04-04",6,86,51,66,13,32,49,82,87,88,68,35,20,19,55,12,45,95,99,5,"0,00",0,7,156,1380,8245,0,"0,00","36.019,62","1.616,26","91,01","15,24","0,00","2.283.753,86","0,00","0,00","0,00","0,00","0,00","0,00"]
[null,712,"2007-04-07",38,85,14,48,17,22,93,80,40,10,76,33,31,97,29,57,96,94,47,2,"0,00",0,12,151,1366,7749,1,"0,00","19.335,91","1.536,63","84,61","14,92","116.015,48","2.631.800,22","0,00","0,00","0,00","0,00","0,00","0,00"]
[null,713,"2007-04-11",54,60,78,22,25,80,2,87,31,12,6,28,27,57,84,82,46,59,64,15,"0,00",2,7,193,1602,9475,1,"1.538.661,04","42.430,66","1.538,93","92,36","15,63","148.507,29","0,00","0,00","0,00","0,00","0,00","0,00","0,00"]
[null,714,"2007-04-14",15,93,98,55,35,69,48,49,91,90,34,29,71,60,32,66,61,87,97,9,"0,00",0,6,112,1153,8849,1,"0,00","39.272,45","2.103,88","101,80","13,27","117.817,35","353.451,99","0,00","0,00","0,00","0,00","0,00","0,00"]
[null,715,"2007-04-18",76,14,53,34,27,2,64,10,80,56,69,82,54,71,8,38,86,99,66,57,"0,00",0,11,124,1293,8100,0,"0,00","21.546,90","1.911,42","91,32","14,58","0,00","827.483,80","0,00","0,00","0,00","0,00","0,00","0,00"]
[null,716,"2007-04-23",18,85,98,84,40,11,28,25,43,60,62,31,13,73,9,96,81,75,74,87,"0,00",0,3,102,975,6184,0,"0,00","73.846,32","2.171,95","113,18","17,85","0,00","1.270.561,72","0,00","0,00","0,00","0,00","0,00","0,00"]
[null,717,"2007-04-25",20,26,43,64,23,60,21,5,73,42,15,24,1,31,6,97,77,69,28,39,"0,00",0,4,144,1198,7002,0,"0,00","54.064,92","1.501,81","89,92","15,40","0,00","1.703.081,10","0,00","0,00","0,00","0,00","0,00","0,00"]
[null,718,"2007-04-28",95,68,31,94,52,46,59,42,70,72,81,75,2,82,9,21,98,41,71,48,"0,00",0,7,125,1126,7288,0,"0,00","38.155,31","2.136,70","118,15","18,26","0,00","2.237.255,49","0,00","0,00","0,00","0,00","0,00","0,00"]
[null,719,"2007-05-02",21,27,13,36,85,51,12,45,25,58,34,3,95,41,91,84,62,47,28,18,"0,00",1,19,273,2673,12966,1,"2.607.956,17","13.007,04","905,25","46,06","9,50","123.566,92","0,00","0,00","0,00","0,00","0,00","0,00","0,00"]
[null,720,"2007-05-05",38,25,89,41,0,96,58,74,75,40,45,19,92,44,35,15,34,80,10,68,"0,00",0,7,107,1098,6982,0,"0,00","33.483,38","2.190,50","106,33","16,72","0,00","468.767,42","0,00","0,00","0,00","0,00","0,00","0,00"]
[null,721,"2007-05-09",51,60,98,37,36,54,42,18,12,22,74,8,49,72,1,64,90,83,20,87,"0,00",0,11,127,1123,7050,1,"0,00","22.111,86","1.915,20","107,88","17,19","121.615,23","833.613,03","0,00","0,00","0,00","0,00","0,00","0,00"]
[null,722,"2007-05-12",98,97,57,36,30,56,59,31,48,64,23,80,95,67,61,50,54,0,22,34,"0,00",0,11,174,1364,8063,0,"0,00","23.464,78","1.483,41","94,27","15,95","0,00","1.349.838,24","0,00","0,00","0,00","0,00","0,00","0,00"]
[null,723,"2007-05-16",81,61,27,34,45,31,95,40,88,63,37,18,77,68,67,93,33,12,39,13,"0,00",0,24,186,1659,9760,1,"0,00","10.881,99","1.404,13","78,42","13,33","130.583,93","1.741.589,95","0,00","0,00","0,00","0,00","0,00","0,00"]
[null,724,"2007-05-19",76,82,36,27,34,32,98,86,87,51,12,88,29,81,17,15,78,79,16,52,"0,00",0,12,193,1712,9108,1,"0,00","22.918,70","1.424,99","80,02","15,05","137.512,24","2.154.126,57","0,00","0,00","0,00","0,00","0,00","2.600.000,00"]
[null,725,"2007-05-23",26,66,74,84,99,62,10,98,46,47,79,75,1,36,4,40,95,3,54,85,"0,00",0,8,137,1154,6736,0,"0,00","34.086,53","1.990,45","117,71","20,17","0,00","2.699.511,00","0,00","0,00","0,00","0,00","0,00","3.200.000,00"]
[null,726,"2007-05-26",59,44,76,62,35,58,46,43,68,17,90,75,11,30,15,66,50,92,4,6,"0,00",0,10,210,2059,18515,0,"0,00","29.225,97","1.391,72","70,71","7,87","0,00","3.284.030,43","0,00","0,00","0,00","0,00","0,00","3.800.000,00"]
[null,727,"2007-05-30",92,72,67,5,99,87,20,94,36,90,24,17,41,3,10,58,9,89,91,23,"0,00",0,6,181,1624,9708,0,"0,00","51.920,09","1.721,11","95,55","15,99","0,00","3.907.071,51","0,00","0,00","0,00","0,00","0,00","4.500.000,00"]
[null,728,"2007-06-02",26,9,63,44,66,35,87,20,50,65,48,0,1,51,27,7,15,4,55,46,"0,00",1,36,420,3323,16996,1,"4.438.450,07","9.840,35","843,46","53,10","10,39","177.126,19","0,00","0,00","0,00","0,00","0,00","0,00","350.000,00"]
[null,729,"2007-06-06",20,24,27,60,75,79,42,3,99,26,89,40,33,46,4,0,30,56,62,8,"0,00",0,7,124,1093,6922,0,"0,00","33.729,52","1.904,09","107,60","17,00","0,00","472.213,20","0,00","0,00","0,00","0,00","0,00","1.000.000,00"]
[null,730,"2007-06-09",13,82,97,41,36,88,42,83,91,60,98,26,52,23,77,76,66,47,54,37,"0,00",0,8,144,1146,7116,0,"0,00","29.687,17","1.649,29","103,23","16,63","0,00","947.208,00","0,00","0,00","0,00","0,00","0,00","1.400.000,00"]
[null,731,"2007-06-13",44,20,63,45,27,32,94,3,78,64,84,50,82,39,30,92,99,2,13,89,"0,00",0,11,168,1191,7503,0,"0,00","24.546,17","1.607,19","112,93","17,93","0,00","1.487.223,74","0,00","0,00","0,00","0,00","0,00","2.000.000,00"]
[null,732,"2007-06-16",6,46,75,35,63,18,65,87,99,16,56,24,14,97,93,48,5,89,70,95,"0,00",0,16,273,2291,12908,0,"0,00","18.278,96","1.071,30","63,59","11,29","0,00","2.072.150,63","0,00","0,00","0,00","0,00","0,00","2.500.000,00"]
[null,733,"2007-06-20",30,73,40,1,63,74,54,29,38,7,66,46,89,83,48,12,13,41,24,76,"0,00",1,10,147,1224,8195,1,"2.518.821,89","29.778,09","2.025,72","121,18","18,11","148.890,45","0,00","0,00","0,00","0,00","0,00","0,00","350.000,00"]
[null,734,"2007-06-23",26,51,83,1,99,70,38,0,79,66,10,11,42,27,71,61,60,69,9,78,"0,00",0,10,161,1240,7759,1,"0,00","23.179,82","1.439,74","93,12","14,89","115.899,09","347.697,22","0,00","0,00","0,00","0,00","0,00","700.000,00"]
[null,735,"2007-06-27",68,44,72,58,65,90,98,97,42,37,53,73,18,99,71,75,11,39,0,29,"0,00",0,8,121,1150,7089,0,"0,00","29.740,36","1.966,30","103,05","16,72","0,00","823.542,95","0,00","0,00","0,00","0,00","0,00","1.300.000,00"]
[null,736,"2007-06-30",48,33,37,56,55,73,62,47,41,14,72,78,82,8,27,13,66,17,39,0,"0,00",0,13,196,1734,10430,1,"0,00","19.960,40","1.323,91","74,54","12,40","129.742,61","1.212.770,68","0,00","0,00","0,00","0,00","0,00","1.600.000,00"]
[null,737,"2007-07-04",37,59,44,18,73,99,2,93,34,54,25,15,92,71,24,69,39,89,77,3,"0,00",0,11,174,1544,9183,0,"0,00","25.507,05","1.612,52","90,52","15,23","0,00","1.773.925,89","0,00","0,00","0,00","0,00","0,00","2.200.000,00"]
[null,738,"2007-07-07",33,72,64,13,78,69,38,57,74,58,5,37,89,84,49,1,66,88,80,17,"0,00",1,18,281,2466,15161,1,"2.235.670,83","17.101,66","1.095,48","62,19","10,12","153.914,98","0,00","0,00","0,00","0,00","0,00","0,00","350.000,00"]
[null,739,"2007-07-11",86,78,68,64,72,19,7,93,96,88,73,0,14,39,41,92,49,30,84,48,"0,00",0,11,152,1163,7254,0,"0,00","20.749,40","1.501,60","97,76","15,68","0,00","456.486,68","0,00","0,00","0,00","0,00","0,00","1.000.000,00"]
[null,740,"2007-07-14",69,57,37,44,82,87,16,47,32,98,91,36,81,75,20,93,19,68,86,59,"0,00",0,8,125,1233,7473,0,"0,00","32.640,40","2.088,99","105,49","17,41","0,00","978.732,96","0,00","0,00","0,00","0,00","0,00","1.500.000,00"]
[null,741,"2007-07-18",91,90,40,10,50,62,11,66,15,16,95,17,46,98,86,20,35,55,19,81,"0,00",0,15,304,2156,11227,1,"0,00","16.814,78","829,68","58,28","11,19","126.110,91","1.357.065,60","0,00","0,00","0,00","0,00","0,00","1.800.000,00"]
[null,742,"2007-07-21",23,71,39,82,46,28,79,9,69,2,44,80,81,34,87,41,6,83,97,47,"0,00",0,6,101,963,6282,0,"0,00","45.489,11","2.702,33","141,18","21,65","0,00","1.902.934,91","0,00","0,00","0,00","0,00","0,00","2.500.000,00"]
[null,743,"2007-07-25",60,31,95,9,18,89,37,13,24,80,76,20,88,69,62,34,57,42,46,92,"0,00",0,25,230,1761,9645,1,"0,00","10.881,39","1.182,76","76,95","14,05","136.017,38","2.310.986,97","0,00","0,00","0,00","0,00","0,00","2.800.000,00"]
[null,744,"2007-07-28",27,83,19,61,63,77,29,35,1,3,5,64,26,56,66,0,53,49,91,76,"0,00",0,14,198,1883,10697,0,"0,00","20.290,68","1.434,70","75,15","13,23","0,00","2.879.126,11","0,00","0,00","0,00","0,00","0,00","3.300.000,00"]
[null,745,"2007-08-01",28,75,22,73,39,74,10,70,85,48,59,19,90,58,78,44,4,68,91,2,"0,00",0,12,264,2469,22426,1,"0,00","27.465,37","1.248,43","66,49","10,46","164.792,25","3.373.502,80","0,00","0,00","0,00","0,00","0,00","4.000.000,00"]
[null,746,"2007-08-04",37,46,59,33,67,90,62,54,7,2,1,34,13,71,80,45,6,74,47,85,"0,00",0,9,187,1617,10186,1,"0,00","40.929,88","1.969,89","113,48","18,03","184.184,48","3.926.056,17","0,00","0,00","0,00","0,00","0,00","4.500.000,00"]
[null,747,"2007-08-08",40,30,48,94,41,65,10,45,6,98,81,42,54,5,3,92,97,18,88,7,"0,00",0,19,283,2326,14132,2,"0,00","21.436,49","1.439,20","87,22","14,36","101.823,34","4.536.996,15","0,00","0,00","0,00","0,00","0,00","5.300.000,00"]
[null,748,"2007-08-11",46,88,52,29,98,60,11,32,31,35,69,13,26,75,93,83,34,49,76,43,"0,00",0,34,333,2684,15629,0,"0,00","12.725,43","1.299,30","80,30","13,79","0,00","5.402.325,33","0,00","0,00","0,00","0,00","0,00","6.200.000,00"]
[null,749,"2007-08-15",75,32,18,29,23,74,36,79,93,6,97,46,3,72,15,34,11,47,94,70,"0,00",0,12,250,2542,15142,1,"0,00","37.495,21","1.799,77","88,18","14,81","224.971,27","6.077.239,10","0,00","0,00","0,00","0,00","0,00","7.000.000,00"]
[null,750,"2007-08-18",22,57,75,77,92,19,94,7,80,30,53,66,72,38,83,68,45,4,41,24,"0,00",5,66,595,4489,21493,3,"1.364.031,89","7.504,25","832,40","54,96","11,48","82.546,71","0,00","0,00","0,00","0,00","0,00","0,00","350.000,00"]
[null,751,"2007-08-22",43,10,56,60,82,63,37,90,86,58,95,51,92,11,78,77,18,65,74,44,"0,00",0,11,162,1508,8695,0,"0,00","24.488,05","1.662,77","88,99","15,44","0,00","538.737,12","0,00","0,00","0,00","0,00","0,00","1.000.000,00"]
[null,752,"2007-08-25",48,71,75,91,46,31,93,56,4,2,54,36,86,37,42,19,12,0,88,63,"0,00",0,17,254,1986,10908,0,"0,00","17.428,44","1.166,47","74,32","13,53","0,00","1.131.304,00","0,00","0,00","0,00","0,00","0,00","1.600.000,00"]
[null,753,"2007-08-29",60,36,67,59,41,22,47,72,12,9,53,78,13,34,17,99,38,19,61,7,"0,00",1,22,255,2332,12961,1,"1.578.823,13","13.561,19","1.169,98","63,73","11,47","149.173,06","0,00","0,00","0,00","0,00","0,00","0,00","500.000,00"]
[null,754,"2007-09-01",90,49,24,46,60,27,40,76,15,61,13,18,50,33,83,94,5,16,39,36,"0,00",0,10,147,1335,8391,1,"0,00","28.047,93","1.908,02","104,66","16,65","140.239,66","420.718,87","0,00","0,00","0,00","0,00","0,00","900.000,00"]
[null,755,"2007-09-05",68,53,96,34,85,43,30,99,35,31,23,45,46,75,49,48,83,55,95,88,"0,00",1,22,295,2223,12124,1,"847.098,59","12.920,60","963,57","63,70","11,68","142.126,60","0,00","0,00","0,00","0,00","0,00","0,00","350.000,00"]
[null,756,"2007-09-08",77,4,19,99,12,7,89,47,21,44,18,88,63,5,81,93,36,96,23,76,"0,00",0,11,149,1360,8268,0,"0,00","20.632,72","1.523,23","83,13","13,67","0,00","453.919,93","0,00","0,00","0,00","0,00","0,00","850.000,00"]
[null,757,"2007-09-12",27,18,79,28,86,83,7,82,88,23,70,14,29,74,46,17,42,71,59,92,"0,00",0,11,177,1597,9712,0,"0,00","27.313,27","1.697,43","93,71","15,42","0,00","1.054.811,85","0,00","0,00","0,00","0,00","0,00","1.600.000,00"]
[null,758,"2007-09-15",81,93,94,49,95,54,65,92,67,27,88,45,35,13,79,47,22,96,0,70,"0,00",0,15,216,1833,10748,0,"0,00","21.065,69","1.462,89","85,88","14,65","0,00","1.686.782,29","0,00","0,00","0,00","0,00","0,00","2.200.000,00"]
[null,759,"2007-09-19",63,48,31,23,6,27,91,11,41,58,93,25,57,87,43,17,60,53,96,1,"0,00",0,15,235,1888,10973,0,"0,00","21.410,42","1.366,62","84,73","14,58","0,00","2.329.094,82","0,00","0,00","0,00","0,00","0,00","3.000.000,00"]
[null,760,"2007-09-22",85,32,41,73,14,11,30,66,38,65,93,16,72,92,55,35,19,54,17,84,"0,00",0,13,186,1707,10686,0,"0,00","25.892,16","1.809,67","98,22","15,70","0,00","3.002.290,89","0,00","0,00","0,00","0,00","0,00","3.600.000,00"]
[null,761,"2007-09-26",46,50,15,45,71,3,55,56,48,39,42,34,90,4,7,9,85,21,10,63,"0,00",1,16,233,2100,12464,1,"3.511.483,25","21.216,35","1.456,91","80,53","13,57","169.730,80","0,00","0,00","0,00","0,00","0,00","0,00","400.000,00"]
[null,762,"2007-09-29",20,98,90,52,88,37,6,99,35,75,91,29,50,92,95,66,83,64,38,51,"0,00",0,12,153,1451,8463,0,"0,00","21.984,83","1.724,30","90,57","15,54","0,00","527.635,80","0,00","0,00","0,00","0,00","0,00","1.000.000,00"]
[null,763,"2007-10-03",44,41,80,56,92,82,99,46,72,81,26,29,33,11,86,79,89,63,49,1,"0,00",0,12,144,1549,8823,0,"0,00","23.953,93","1.996,16","92,43","16,23","0,00","1.102.530,21","0,00","0,00","0,00","0,00","0,00","1.600.000,00"]
[null,764,"2007-10-06",71,23,42,89,61,24,66,48,76,58,78,86,11,82,93,63,99,73,2,83,"0,00",0,14,211,1747,10940,0,"0,00","22.325,34","1.481,30","89,13","14,23","0,00","1.727.639,62","0,00","0,00","0,00","0,00","0,00","2.300.000,00"]
[null,765,"2007-10-10",64,53,1,73,10,38,78,56,8,94,85,11,33,80,27,24,2,15,98,47,"0,00",0,27,310,2632,13400,1,"0,00","11.500,77","1.001,68","58,77","11,55","155.260,32","2.193.420,49","0,00","0,00","0,00","0,00","0,00","2.800.000,00"]
[null,766,"2007-10-13",86,69,43,91,34,41,23,14,26,82,76,60,38,68,5,84,45,59,31,97,"0,00",0,13,186,1643,9821,0,"0,00","20.823,83","1.455,43","82,07","13,73","0,00","2.734.839,98","0,00","0,00","0,00","0,00","0,00","3.300.000,00"]
[null,767,"2007-10-17",39,46,49,76,51,36,12,7,18,94,73,60,8,59,52,15,89,91,34,6,"0,00",1,11,165,1425,9102,0,"3.216.780,60","29.208,53","1.947,24","112,31","17,59","0,00","160.646,89","0,00","0,00","0,00","0,00","0,00","550.000,00"]
[null,768,"2007-10-20",83,9,45,28,96,51,61,54,59,1,34,47,18,17,71,41,97,95,6,50,"0,00",2,5,129,1155,7328,1,"270.690,84","50.764,64","1.967,62","109,47","17,26","126.911,61","0,00","0,00","0,00","0,00","0,00","0,00","350.000,00"]
[null,769,"2007-10-24",63,19,26,17,66,81,10,38,95,32,76,42,98,33,97,88,80,2,57,52,"0,00",0,7,106,1112,6393,0,"0,00","32.899,02","2.172,58","103,16","17,96","0,00","460.586,22","0,00","0,00","0,00","0,00","0,00","900.000,00"]
[null,770,"2007-10-27",17,84,31,78,48,62,14,18,40,98,58,72,57,59,9,13,80,67,97,83,"0,00",0,4,135,1047,6936,0,"0,00","65.356,72","1.936,50","124,38","18,78","0,00","983.440,02","0,00","0,00","0,00","0,00","0,00","1.500.000,00"]
[null,771,"2007-10-31",22,18,47,9,86,31,6,35,12,81,40,57,25,49,11,20,88,19,27,71,"0,00",0,14,173,1640,9755,0,"0,00","18.508,14","1.497,77","78,70","13,23","0,00","1.501.667,98","0,00","0,00","0,00","0,00","0,00","2.000.000,00"]
[null,772,"2007-11-03",23,76,47,38,29,82,50,52,39,44,37,61,98,1,96,89,54,33,55,9,"0,00",1,6,137,1252,8120,0,"1.890.031,48","43.151,50","1.889,85","103,01","15,88","0,00","129.454,53","0,00","0,00","0,00","0,00","0,00","500.000,00"]
[null,773,"2007-11-07",0,98,16,67,77,61,17,59,87,92,37,76,58,41,69,60,26,27,93,78,"0,00",0,10,136,1210,9611,0,"0,00","25.829,03","1.899,20","106,33","13,39","0,00","646.035,21","0,00","0,00","0,00","0,00","0,00","1.000.000,00"]
[null,774,"2007-11-10",68,88,61,34,85,99,66,67,75,27,72,23,96,77,59,31,43,13,0,1,"0,00",3,30,318,2345,12507,0,"358.343,66","9.533,24","899,36","60,75","11,40","0,00","142.998,61","0,00","0,00","0,00","0,00","0,00","500.000,00"]
[null,775,"2007-11-14",86,6,17,79,51,25,50,76,44,19,57,45,40,32,99,5,27,97,48,47,"0,00",0,11,171,1479,8600,0,"0,00","22.466,12","1.445,19","83,24","14,32","0,00","637.253,25","0,00","0,00","0,00","0,00","0,00","1.100.000,00"]
[null,776,"2007-11-17",83,26,11,24,5,49,57,51,43,30,31,16,95,17,22,38,55,35,70,20,"0,00",0,22,235,1952,11707,0,"0,00","11.043,25","1.033,83","62,00","10,35","0,00","1.123.156,00","0,00","0,00","0,00","0,00","0,00","1.500.000,00"]
[null,777,"2007-11-21",3,80,27,19,78,6,96,70,55,53,68,66,73,25,31,4,77,20,72,28,"0,00",0,15,130,1190,7587,0,"0,00","17.697,50","2.042,02","111,12","17,44","0,00","1.654.081,06","0,00","0,00","0,00","0,00","0,00","2.200.000,00"]
[null,778,"2007-11-24",30,72,16,68,19,63,8,37,99,62,55,74,79,56,13,25,18,71,94,28,"0,00",1,8,129,1440,8890,0,"2.089.213,57","36.261,04","2.248,75","100,35","16,25","0,00","145.044,20","0,00","0,00","0,00","0,00","0,00","500.000,00"]
[null,779,"2007-11-28",4,45,64,94,75,14,93,7,74,30,22,57,20,49,15,40,79,99,68,81,"0,00",1,7,102,1018,6085,0,"498.086,22","33.623,05","2.307,46","115,17","19,27","0,00","117.680,69","0,00","0,00","0,00","0,00","0,00","500.000,00"]
[null,780,"2007-12-01",39,35,84,73,3,99,7,59,78,46,48,25,41,76,27,71,0,93,68,34,"0,00",1,10,252,1967,10160,0,"492.131,76","24.963,40","990,61","63,22","12,25","0,00","124.817,04","0,00","0,00","0,00","0,00","0,00","500.000,00"]
[null,781,"2007-12-05",17,53,65,22,9,48,46,72,67,58,16,93,38,78,40,45,91,0,20,99,"0,00",0,10,167,1383,8515,3,"0,00","25.575,81","1.531,49","92,12","14,97","42.626,36","508.454,27","0,00","0,00","0,00","0,00","0,00","1.000.000,00"]
[null,782,"2007-12-08",84,0,86,40,38,24,31,29,18,13,2,79,4,89,34,65,27,23,63,52,"0,00",2,9,252,1672,9616,0,"461.431,67","30.696,97","1.096,32","82,31","14,32","0,00","138.136,37","0,00","0,00","0,00","0,00","0,00","500.000,00"]
[null,783,"2007-12-12",48,36,83,56,51,68,86,6,4,1,75,73,98,2,7,14,52,64,67,92,"0,00",2,10,135,1338,8041,0,"257.218,08","25.086,65","1.858,27","93,40","15,55","0,00","125.433,28","0,00","0,00","0,00","0,00","0,00","500.000,00"]
[null,784,"2007-12-15",58,19,36,68,49,99,79,23,69,27,71,66,18,62,44,1,8,22,98,3,"0,00",0,16,156,1590,9310,0,"0,00","15.941,15","1.634,99","79,91","13,65","0,00","635.550,18","0,00","0,00","0,00","0,00","0,00","1.100.000,00"]
[null,785,"2007-12-19",47,97,30,22,79,55,20,25,89,3,38,51,28,8,23,73,98,14,80,11,"0,00",0,11,157,1472,8490,0,"0,00","24.190,72","1.694,89","90,05","15,62","0,00","1.167.745,98","0,00","0,00","0,00","0,00","0,00","1.600.000,00"]
[null,786,"2007-12-22",14,97,32,20,67,65,91,52,38,63,43,53,75,81,93,62,66,64,89,37,"0,00",0,8,134,1312,8299,0,"0,00","35.921,52","2.144,57","109,11","17,26","0,00","1.742.490,27","0,00","0,00","0,00","0,00","0,00","2.100.000,00"]
[null,787,"2007-12-26",32,1,21,8,29,22,23,90,64,27,80,34,68,58,50,94,69,15,10,39,"0,00",0,9,127,1176,6943,0,"0,00","25.408,33","1.800,59","96,87","16,41","0,00","2.199.840,20","0,00","0,00","0,00","0,00","0,00","2.700.000,00"]
[null,788,"2007-12-29",2,76,79,29,81,43,66,37,80,5,75,1,64,22,39,4,18,41,0,99,"0,00",0,10,219,4635,9411,0,"0,00","29.442,38","1.344,40","31,64","15,59","0,00","2.788.687,65","0,00","0,00","0,00","0,00","0,00","3.200.000,00"]
[null,789,"2008-01-02",78,26,69,23,50,15,88,86,72,32,16,28,48,47,93,1,95,73,12,2,"0,00",0,9,117,1188,7329,0,"0,00","25.394,18","1.953,40","96,19","15,59","0,00","3.245.782,82","0,00","0,00","0,00","0,00","0,00","3.700.000,00"]
[null,790,"2008-01-05",84,76,65,47,38,91,16,68,57,44,28,81,82,56,6,61,15,85,9,17,"0,00",2,4,140,1511,9529,2,"1.868.447,49","81.852,03","2.338,63","108,34","17,18","81.852,04","0,00","0,00","0,00","0,00","0,00","0,00","400.000,00"]
[null,791,"2008-01-09",1,43,35,23,32,41,76,84,95,39,61,7,63,5,56,33,67,37,14,53,"0,00",3,18,266,2178,11368,2,"120.705,69","13.411,75","907,56","55,42","10,62","60.352,86","0,00","0,00","0,00","0,00","0,00","0,00","400.000,00"]
[null,792,"2008-01-12",58,42,85,31,26,4,19,9,5,68,37,90,10,88,52,86,47,14,75,87,"0,00",0,7,102,858,5532,0,"0,00","35.345,06","2.425,64","144,18","22,36","0,00","494.830,75","0,00","0,00","0,00","0,00","0,00","1.000.000,00"]
[null,793,"2008-01-16",48,83,66,49,41,53,67,58,42,77,97,86,39,34,11,91,7,17,0,28,"0,00",0,17,178,1542,9017,0,"0,00","15.128,86","1.444,89","83,40","14,26","0,00","1.009.211,84","0,00","0,00","0,00","0,00","0,00","1.500.000,00"]
[null,794,"2008-01-19",62,54,77,34,17,36,50,75,39,0,49,2,48,66,18,90,16,79,15,43,"0,00",0,14,177,1664,9927,0,"0,00","19.532,63","1.544,95","82,17","13,77","0,00","1.556.125,34","0,00","0,00","0,00","0,00","0,00","2.000.000,00"]
[null,795,"2008-01-23",95,50,47,49,45,91,18,56,29,4,65,59,70,74,87,72,30,55,52,93,"0,00",1,13,210,1683,9589,0,"1.990.307,19","22.265,74","1.378,35","85,99","15,10","0,00","144.727,30","0,00","0,00","0,00","0,00","0,00","500.000,00"]
[null,796,"2008-01-26",99,53,50,3,32,44,79,41,33,63,59,96,61,31,19,80,13,5,75,35,"0,00",1,7,156,1535,9062,0,"499.927,15","33.828,56","1.517,95","77,14","13,07","0,00","118.399,97","0,00","0,00","0,00","0,00","0,00","400.000,00"]
[null,797,"2008-01-30",78,68,85,17,98,65,79,38,84,6,21,43,9,37,87,40,45,46,29,95,"0,00",0,5,160,1397,8184,0,"0,00","46.351,62","1.448,49","82,95","14,16","0,00","581.916,16","0,00","0,00","0,00","0,00","0,00","1.000.000,00"]
[null,798,"2008-02-02",15,44,77,13,81,58,16,50,86,14,33,66,49,88,55,99,74,23,80,27,"0,00",3,41,385,3058,14493,3,"318.943,76","6.096,18","649,21","40,87","8,62","41.657,24","0,00","0,00","0,00","0,00","0,00","0,00","300.000,00"]
[null,799,"2008-02-06",93,37,48,4,44,56,60,1,89,92,12,13,31,33,43,35,69,74,82,19,"0,00",0,7,84,714,4473,0,"0,00","19.108,02","1.592,34","93,66","14,95","0,00","267.512,30","0,00","0,00","0,00","0,00","0,00","700.000,00"]
[null,800,"2008-02-09",8,25,20,0,42,97,90,86,15,22,75,37,2,19,70,35,44,53,82,65,"0,00",0,14,215,2253,19761,0,"0,00","18.648,19","1.214,30","57,94","9,43","0,00","789.661,58","0,00","0,00","0,00","0,00","0,00","1.200.000,00"]
[null,801,"2008-02-13",19,71,55,67,36,93,86,9,0,22,41,14,53,43,34,4,61,83,11,76,"0,00",0,14,195,1738,9545,1,"0,00","19.202,58","1.378,65","77,34","14,08","134.418,07","1.192.915,72","0,00","0,00","0,00","0,00","0,00","1.700.000,00"]
[null,802,"2008-02-16",21,50,74,27,68,12,78,59,44,36,25,69,42,1,51,87,53,91,4,6,"0,00",1,11,237,2049,10865,0,"1.624.504,26","26.156,88","1.214,04","70,21","13,24","0,00","143.862,87","0,00","0,00","0,00","0,00","0,00","500.000,00"]
[null,803,"2008-02-20",78,26,88,74,17,68,43,56,31,57,8,19,99,41,32,66,37,22,25,89,"0,00",1,7,124,1238,7668,0,"490.735,06","33.035,45","1.864,90","93,40","15,08","0,00","115.624,08","0,00","0,00","0,00","0,00","0,00","500.000,00"]
[null,804,"2008-02-23",31,37,23,17,5,12,83,20,7,52,61,38,93,0,6,76,51,47,69,35,"0,00",1,7,103,1118,7072,1,"472.101,08","33.950,19","2.307,30","106,29","16,80","118.825,68","0,00","0,00","0,00","0,00","0,00","0,00","350.000,00"]
[null,805,"2008-02-27",11,78,16,63,34,70,23,33,79,68,83,59,18,41,24,20,17,47,77,69,"0,00",0,6,123,989,6484,0,"0,00","36.338,47","1.772,61","110,23","16,81","0,00","436.061,57","0,00","0,00","0,00","0,00","0,00","800.000,00"]
[null,806,"2008-03-01",38,42,90,61,28,98,4,17,52,60,8,14,95,88,43,72,26,44,79,34,"0,00",0,8,127,1147,6885,0,"0,00","31.219,12","1.966,56","108,88","18,14","0,00","935.567,56","0,00","0,00","0,00","0,00","0,00","1.300.000,00"]
[null,807,"2008-03-05",10,30,18,58,76,31,56,86,15,40,6,0,29,91,73,72,53,93,36,9,"0,00",0,10,180,1500,9294,0,"0,00","25.780,57","1.432,25","85,94","13,87","0,00","1.451.178,99","0,00","0,00","0,00","0,00","0,00","2.000.000,00"]
[null,808,"2008-03-08",30,85,62,20,12,39,41,97,32,87,1,35,13,2,76,42,58,6,57,96,"0,00",0,3,127,1087,7062,1,"0,00","94.223,03","2.225,74","130,02","20,02","141.334,57","1.875.182,62","0,00","0,00","0,00","0,00","0,00","2.300.000,00"]
[null,809,"2008-03-12",72,23,32,83,96,98,19,29,84,66,75,90,11,49,86,54,35,55,88,82,"0,00",0,11,218,1732,11393,0,"0,00","26.063,25","1.315,12","82,77","12,58","0,00","2.448.574,21","0,00","0,00","0,00","0,00","0,00","3.000.000,00"]
[null,810,"2008-03-15",27,42,49,67,5,55,98,16,4,15,6,72,70,56,68,1,79,36,8,24,"0,00",0,11,171,1523,9858,0,"0,00","27.327,91","1.757,94","98,69","15,25","0,00","3.049.788,07","0,00","0,00","0,00","0,00","0,00","3.500.000,00"]
[null,811,"2008-03-19",91,46,43,94,71,75,15,81,31,99,89,0,88,24,26,36,25,1,29,60,"0,00",0,12,105,1139,7617,0,"0,00","24.898,89","2.845,59","131,16","19,61","0,00","3.647.361,52","0,00","0,00","0,00","0,00","0,00","4.000.000,00"]
[null,812,"2008-03-22",9,81,96,56,62,27,50,66,55,90,31,38,54,52,60,69,8,72,89,73,"0,00",0,6,102,898,6306,0,"0,00","44.534,33","2.619,67","148,78","21,19","0,00","4.181.773,43","0,00","0,00","0,00","0,00","0,00","4.500.000,00"]
[null,813,"2008-03-26",8,1,89,72,28,73,54,51,42,77,49,9,95,91,20,87,45,68,23,26,"0,00",0,16,222,1777,11082,0,"0,00","21.628,86","1.558,83","97,37","15,61","0,00","4.873.897,05","0,00","0,00","0,00","0,00","0,00","5.500.000,00"]
[null,814,"2008-03-29",61,56,96,66,39,77,36,67,95,17,83,13,5,30,97,19,70,22,49,46,"0,00",1,12,201,1795,11068,2,"5.454.476,99","32.254,44","1.925,64","107,82","17,48","96.763,34","0,00","0,00","0,00","0,00","0,00","0,00","350.000,00"]
[null,815,"2008-04-02",23,96,73,85,91,26,51,37,99,48,67,69,28,31,24,63,13,75,27,77,"0,00",0,11,187,1684,10291,0,"0,00","21.962,99","1.291,94","71,73","11,74","0,00","483.185,87","0,00","0,00","0,00","0,00","0,00","900.000,00"]
[null,816,"2008-04-05",61,67,73,2,72,65,93,31,19,40,17,1,3,98,18,42,58,39,69,20,"0,00",1,8,149,1357,8182,0,"899.371,56","34.682,14","1.862,13","102,23","16,96","0,00","138.728,59","0,00","0,00","0,00","0,00","0,00","500.000,00"]
[null,817,"2008-04-09",60,44,52,6,91,13,28,7,12,93,83,86,59,54,47,20,49,29,5,55,"0,00",0,8,128,1201,7599,0,"0,00","31.265,16","1.954,08","104,13","16,46","0,00","638.971,14","0,00","0,00","0,00","0,00","0,00","1.000.000,00"]
[null,818,"2008-04-12",98,81,22,69,50,47,13,51,74,7,65,67,36,60,42,89,84,92,90,83,"0,00",1,13,160,1412,8478,0,"1.041.007,10","20.617,23","1.675,15","94,91","15,81","0,00","134.012,02","0,00","0,00","0,00","0,00","0,00","450.000,00"]
[null,819,"2008-04-16",46,62,23,43,48,10,96,82,2,85,42,35,99,55,73,54,37,12,27,39,"0,00",3,20,337,2449,12854,1,"162.007,40","11.733,68","696,36","47,91","9,13","117.336,75","0,00","0,00","0,00","0,00","0,00","0,00","350.000,00"]
[null,820,"2008-04-19",90,44,43,97,12,45,66,83,59,7,98,55,58,23,16,71,91,15,82,1,"0,00",1,8,90,993,6260,0,"348.245,76","29.020,48","2.579,60","116,90","18,55","0,00","116.081,94","0,00","0,00","0,00","0,00","0,00","450.000,00"]
[null,821,"2008-04-23",50,25,0,69,62,63,20,90,55,66,89,30,48,12,23,45,39,91,93,47,"0,00",0,9,136,1300,7517,1,"0,00","21.049,33","1.392,97","72,87","12,60","94.722,04","400.247,97","0,00","0,00","0,00","0,00","0,00","800.000,00"]
[null,822,"2008-04-26",28,86,98,19,17,25,88,61,62,39,55,37,75,92,35,41,72,27,76,4,"0,00",1,12,199,1567,9336,1,"764.335,58","20.227,09","1.219,73","77,45","13,00","121.362,54","0,00","0,00","0,00","0,00","0,00","0,00","350.000,00"]
[null,823,"2008-04-30",6,93,32,18,67,46,27,44,59,57,66,0,83,17,38,47,33,97,25,58,"0,00",2,21,246,1814,10312,1,"160.085,10","10.164,14","867,67","58,83","10,35","106.723,43","0,00","0,00","0,00","0,00","0,00","0,00","350.000,00"]
[null,824,"2008-05-03",24,47,91,76,92,79,8,3,83,82,17,57,21,15,70,44,38,19,68,26,"0,00",2,7,151,1251,7019,0,"155.469,42","29.613,22","1.372,80","82,85","14,77","0,00","103.646,30","0,00","0,00","0,00","0,00","0,00","450.000,00"]
[null,825,"2008-05-07",81,67,26,4,60,42,88,72,0,62,29,68,92,32,90,15,17,91,59,20,"0,00",1,9,116,1165,7086,0,"448.635,30","25.554,74","1.982,70","98,71","16,23","0,00","114.996,35","0,00","0,00","0,00","0,00","0,00","500.000,00"]
[null,826,"2008-05-10",25,36,71,9,4,63,77,12,59,68,23,52,98,53,22,69,67,66,88,28,"0,00",2,9,121,1321,8027,0,"235.636,98","26.390,94","1.962,97","89,90","14,80","0,00","118.759,23","0,00","0,00","0,00","0,00","0,00","350.000,00"]
[null,827,"2008-05-14",50,85,14,71,15,75,30,3,48,59,26,60,74,31,49,46,19,72,78,18,"0,00",0,7,118,964,5741,0,"0,00","31.963,87","1.896,16","116,05","19,49","0,00","566.253,31","0,00","0,00","0,00","0,00","0,00","1.000.000,00"]
[null,828,"2008-05-17",8,56,65,50,79,53,96,58,85,29,19,0,88,9,42,93,51,64,33,20,"0,00",0,5,147,1343,7924,0,"0,00","49.076,70","1.669,27","91,35","15,48","0,00","1.057.020,26","0,00","0,00","0,00","0,00","0,00","1.500.000,00"]
[null,829,"2008-05-21",42,88,12,98,21,54,61,78,37,55,6,43,57,84,66,70,32,49,51,58,"0,00",1,10,119,1185,7551,1,"1.446.517,73","25.966,50","2.182,06","109,56","17,20","129.832,51","0,00","0,00","0,00","0,00","0,00","0,00","340.000,00"]
[null,830,"2008-05-24",74,90,92,59,5,8,91,11,29,0,35,34,89,51,69,18,76,39,30,23,"0,00",0,5,110,869,5463,0,"0,00","39.690,01","1.804,09","114,18","18,16","0,00","396.900,10","0,00","0,00","0,00","0,00","0,00","800.000,00"]
[null,831,"2008-05-28",91,10,50,17,43,99,54,19,56,22,16,94,87,47,64,38,83,40,20,0,"0,00",2,11,164,1366,7920,2,"372.805,33","21.133,97","1.417,53","85,10","14,68","58.118,44","0,00","0,00","0,00","0,00","0,00","0,00","350.000,00"]
[null,832,"2008-05-31",88,73,47,56,52,28,20,11,79,59,10,62,35,33,76,7,37,97,4,1,"0,00",0,9,207,1454,8272,1,"0,00","25.555,13","1.111,09","79,09","13,91","114.998,11","344.994,27","0,00","0,00","0,00","0,00","0,00","750.000,00"]
[null,833,"2008-06-04",40,79,36,32,12,62,80,66,7,74,54,8,42,34,38,71,14,83,98,72,"0,00",0,18,208,1688,15599,1,"0,00","14.674,19","1.269,88","78,24","8,47","132.067,67","741.197,26","0,00","0,00","0,00","0,00","0,00","1.300.000,00"]
[null,834,"2008-06-07",64,46,55,25,41,67,17,96,34,19,1,85,42,3,35,70,78,10,89,71,"0,00",3,93,798,4065,15085,0,"390.101,63","3.076,04","358,49","35,19","9,48","0,00","143.035,90","0,00","0,00","0,00","0,00","0,00","500.000,00"]
[null,835,"2008-06-11",37,80,38,75,12,91,35,45,97,57,7,13,11,31,56,71,79,36,24,90,"0,00",0,7,109,1133,9504,1,"0,00","35.192,46","2.260,07","108,71","12,96","123.173,61","512.556,68","0,00","0,00","0,00","0,00","0,00","900.000,00"]
[null,836,"2008-06-14",58,5,49,65,81,8,25,99,15,7,92,33,72,80,16,91,19,10,39,42,"0,00",0,6,159,1439,8751,0,"0,00","43.938,14","1.658,05","91,60","15,06","0,00","1.039.814,33","0,00","0,00","0,00","0,00","0,00","1.500.000,00"]
[null,837,"2008-06-18",21,8,16,13,97,81,42,73,72,96,36,65,55,26,85,80,83,90,86,53,"0,00",0,7,122,1116,6833,1,"0,00","38.540,25","2.211,33","120,87","19,74","134.890,90","1.444.486,97","0,00","0,00","0,00","0,00","0,00","1.800.000,00"]
[null,838,"2008-06-21",27,83,65,24,94,69,89,3,34,47,46,93,67,81,98,84,22,49,16,73,"0,00",0,11,218,1787,10346,0,"0,00","25.940,11","1.308,91","79,84","13,79","0,00","2.015.169,31","0,00","0,00","0,00","0,00","0,00","2.500.000,00"]
[null,839,"2008-06-25",12,24,14,30,95,89,70,21,6,72,25,32,74,55,80,43,85,18,97,16,"0,00",0,21,210,1732,9450,2,"0,00","13.521,45","1.352,15","81,97","15,03","70.987,61","2.441.094,87","0,00","0,00","0,00","0,00","0,00","3.000.000,00"]
[null,840,"2008-06-28",28,66,63,42,17,95,22,87,46,72,9,59,43,99,55,98,33,94,54,14,"0,00",4,18,287,2334,12579,2,"726.215,26","17.176,53","1.077,28","66,23","12,29","77.294,36","0,00","0,00","0,00","0,00","0,00","0,00","350.000,00"]
[null,841,"2008-07-02",94,2,9,95,90,81,91,43,11,87,28,78,35,74,70,82,85,25,49,97,"0,00",0,7,134,1202,7033,0,"0,00","34.257,65","1.789,58","99,75","17,05","0,00","479.607,21","0,00","0,00","0,00","0,00","0,00","900.000,00"]
[null,842,"2008-07-05",38,37,28,40,62,49,10,8,11,95,55,79,91,85,46,31,45,81,18,86,"0,00",0,6,122,1171,7195,0,"0,00","45.800,02","2.252,46","117,34","19,10","0,00","1.029.207,41","0,00","0,00","0,00","0,00","0,00","1.500.000,00"]
[null,843,"2008-07-09",32,19,59,14,90,7,71,47,31,1,57,41,98,25,11,92,42,33,37,17,"0,00",1,18,197,1859,11319,0,"1.426.901,08","14.729,40","1.345,83","71,31","11,72","0,00","132.564,58","0,00","0,00","0,00","0,00","0,00","500.000,00"]
[null,844,"2008-07-12",68,15,44,79,91,49,29,24,11,13,25,77,35,82,26,34,86,33,90,6,"0,00",0,13,267,2182,20480,0,"0,00","19.827,67","965,40","59,06","8,98","0,00","648.083,80","0,00","0,00","0,00","0,00","0,00","1.100.000,00"]
[null,845,"2008-07-16",66,21,40,55,41,19,99,1,42,88,6,85,5,89,22,9,18,67,52,48,"0,00",0,17,145,1321,8438,0,"0,00","15.975,26","1.872,96","102,79","16,09","0,00","1.191.242,77","0,00","0,00","0,00","0,00","0,00","1.700.000,00"]
[null,846,"2008-07-19",28,90,53,38,70,4,30,3,41,56,66,71,43,11,5,50,82,64,51,52,"0,00",0,8,112,1244,8052,0,"0,00","35.549,97","2.539,28","114,31","17,66","0,00","1.760.042,17","0,00","0,00","0,00","0,00","0,00","2.200.000,00"]
[null,847,"2008-07-23",30,61,6,12,47,7,97,19,88,79,86,53,8,77,58,65,25,85,45,71,"0,00",1,10,179,1644,10116,1,"2.210.117,08","30.004,99","1.676,26","91,26","14,83","150.025,00","0,00","0,00","0,00","0,00","0,00","0,00","380.000,00"]
[null,848,"2008-07-26",61,20,70,88,75,40,10,51,26,81,73,63,76,93,16,65,96,74,62,60,"0,00",0,15,231,1641,7785,2,"0,00","16.667,32","1.082,30","76,18","16,06","62.502,47","375.014,68","0,00","0,00","0,00","0,00","0,00","800.000,00"]
[null,849,"2008-07-30",35,1,8,12,16,47,63,53,23,51,18,75,65,57,74,43,55,42,5,70,"0,00",1,33,312,2603,13489,1,"755.423,43","7.685,02","812,84","48,72","9,40","126.802,94","0,00","0,00","0,00","0,00","0,00","0,00","350.000,00"]
[null,850,"2008-08-02",43,78,54,1,11,82,14,7,62,86,23,42,88,92,97,90,3,94,18,45,"0,00",2,21,219,1890,12337,2,"191.456,43","12.155,97","1.165,64","67,53","10,34","63.818,82","0,00","0,00","0,00","0,00","0,00","0,00","350.000,00"]
[null,851,"2008-08-06",2,10,96,20,29,19,91,11,58,78,98,73,87,12,49,28,7,0,47,82,"0,00",0,21,249,2124,11485,2,"0,00","12.091,58","1.019,77","59,78","11,06","63.480,79","380.884,73","0,00","0,00","0,00","0,00","0,00","850.000,00"]
[null,852,"2008-08-09",67,95,75,78,47,57,27,19,28,76,70,46,37,92,36,15,45,56,41,52,"0,00",0,19,211,2410,12515,0,"0,00","14.619,93","1.316,49","57,63","11,10","0,00","936.442,01","0,00","0,00","0,00","0,00","0,00","1.400.000,00"]
[null,853,"2008-08-13",29,64,99,46,85,74,78,86,4,49,11,39,25,19,71,5,82,36,51,42,"0,00",1,14,136,1340,8518,1,"1.357.056,24","20.029,25","2.061,83","104,63","16,46","140.204,77","0,00","0,00","0,00","0,00","0,00","0,00","350.000,00"]
[null,854,"2008-08-16",99,69,84,88,31,17,4,59,16,49,47,81,95,10,94,38,28,54,26,32,"0,00",0,6,114,961,6145,0,"0,00","40.409,48","2.126,81","126,15","19,73","0,00","484.913,77","0,00","0,00","0,00","0,00","0,00","900.000,00"]
[null,855,"2008-08-20",92,32,88,70,96,25,97,23,4,7,82,9,52,17,16,50,58,30,75,77,"0,00",0,9,176,1516,8807,1,"0,00","28.403,98","1.452,48","84,31","14,52","127.817,93","868.367,50","0,00","0,00","0,00","0,00","0,00","1.300.000,00"]
[null,856,"2008-08-23",65,13,31,47,6,57,45,27,10,64,96,4,62,22,44,55,78,17,24,5,"0,00",2,11,241,2277,12897,1,"635.521,72","24.404,60","1.113,90","58,95","10,41","134.225,33","0,00","0,00","0,00","0,00","0,00","0,00","350.000,00"]
[null,857,"2008-08-27",3,37,46,0,30,88,47,51,35,50,36,41,62,58,27,28,11,77,72,12,"0,00",0,5,120,1153,7057,0,"0,00","45.979,69","1.915,82","99,70","16,29","0,00","459.796,90","0,00","0,00","0,00","0,00","0,00","850.000,00"]
[null,858,"2008-08-30",98,88,8,29,26,58,75,39,6,5,50,37,91,80,41,48,55,7,2,32,"0,00",0,7,122,1229,7634,0,"0,00","37.128,75","2.130,34","105,74","17,02","0,00","979.599,44","0,00","0,00","0,00","0,00","0,00","1.400.000,00"]
[null,859,"2008-09-03",9,8,68,31,51,78,97,36,59,94,69,85,34,47,74,48,73,17,24,30,"0,00",0,5,146,1412,8368,0,"0,00","57.071,84","1.954,52","101,05","17,05","0,00","1.550.317,91","0,00","0,00","0,00","0,00","0,00","2.000.000,00"]
[null,860,"2008-09-06",17,68,5,37,78,47,56,31,49,40,65,38,13,43,8,44,20,66,29,71,"0,00",2,21,341,2174,12440,0,"1.002.640,62","14.443,28","889,47","69,76","12,19","0,00","151.654,47","0,00","0,00","0,00","0,00","0,00","500.000,00"]
[null,861,"2008-09-10",50,93,59,79,99,7,84,68,71,37,12,40,56,66,76,85,22,3,98,41,"0,00",0,5,114,947,6125,0,"0,00","49.600,14","2.175,44","130,94","20,25","0,00","647.655,86","0,00","0,00","0,00","0,00","0,00","1.100.000,00"]
[null,862,"2008-09-13",54,69,72,91,70,18,53,9,87,48,92,58,97,36,98,74,61,38,99,24,"0,00",0,6,148,1330,8526,0,"0,00","45.130,99","1.829,64","101,80","15,88","0,00","1.189.227,81","0,00","0,00","0,00","0,00","0,00","1.600.000,00"]
[null,863,"2008-09-17",94,75,4,22,49,60,40,82,46,71,3,0,17,56,89,83,62,52,41,53,"0,00",0,13,110,1159,7609,1,"0,00","21.268,17","2.513,51","119,28","18,17","138.243,12","1.603.957,11","0,00","0,00","0,00","0,00","0,00","2.000.000,00"]
[null,864,"2008-09-20",69,56,12,49,14,97,18,27,66,28,40,5,63,88,81,92,59,10,22,80,"0,00",0,13,153,1361,8244,1,"0,00","22.530,14","1.914,33","107,60","17,76","146.445,93","2.043.294,81","0,00","0,00","0,00","0,00","0,00","2.500.000,00"]
[null,865,"2008-09-24",64,48,62,7,56,1,35,11,79,25,67,55,98,43,68,38,26,10,4,85,"0,00",0,14,202,1849,10945,0,"0,00","21.948,25","1.521,17","83,09","14,04","0,00","2.657.845,70","0,00","0,00","0,00","0,00","0,00","3.200.000,00"]
[null,866,"2008-09-27",89,30,39,48,14,6,80,44,52,99,37,32,50,45,8,40,31,23,91,97,"0,00",0,11,171,1657,10150,0,"0,00","29.249,07","1.881,52","97,09","15,85","0,00","3.301.325,32","0,00","0,00","0,00","0,00","0,00","3.800.000,00"]
[null,867,"2008-10-01",31,86,16,42,25,94,43,37,21,32,79,12,67,53,22,99,92,10,76,85,"0,00",0,11,142,1366,8841,2,"0,00","30.701,91","2.378,32","123,62","19,10","84.430,28","3.807.906,88","0,00","0,00","0,00","0,00","0,00","4.400.000,00"]
[null,868,"2008-10-04",53,22,86,39,30,58,34,42,62,0,26,71,59,14,1,83,99,81,87,77,"0,00",1,14,193,1687,10743,4,"4.352.975,65","25.955,65","1.882,79","107,70","16,92","45.422,40","0,00","0,00","0,00","0,00","0,00","0,00","400.000,00"]
[null,869,"2008-10-08",23,24,96,74,13,60,65,81,6,80,22,5,25,97,36,29,76,3,45,4,"0,00",0,11,131,1266,10798,0,"0,00","22.748,02","1.910,14","98,83","11,59","0,00","500.456,41","0,00","0,00","0,00","0,00","0,00","1.000.000,00"]
[null,870,"2008-10-11",64,50,40,90,23,59,39,24,91,46,98,77,57,41,85,84,56,31,83,52,"0,00",0,5,107,1070,6740,1,"0,00","54.500,75","2.546,77","127,34","20,21","136.251,90","909.212,04","0,00","0,00","0,00","0,00","0,00","1.400.000,00"]
[null,871,"2008-10-15",0,49,53,80,9,94,56,62,68,40,36,12,26,2,18,90,93,64,47,4,"0,00",0,15,151,1241,7526,1,"0,00","17.639,96","1.752,31","106,61","17,58","132.299,75","1.306.111,19","0,00","0,00","0,00","0,00","0,00","1.800.000,00"]
[null,872,"2008-10-18",45,59,85,34,96,74,70,76,38,72,8,65,47,0,87,14,94,31,81,41,"0,00",1,50,508,3759,24006,3,"1.748.347,26","5.896,48","580,36","39,22","8,77","49.137,35","0,00","0,00","0,00","0,00","0,00","0,00","380.000,00"]
[null,873,"2008-10-22",28,38,21,77,46,71,32,42,39,4,2,19,29,27,60,10,63,51,97,87,"0,00",0,4,94,994,6435,0,"0,00","57.619,83","2.451,91","115,94","17,91","0,00","460.958,68","0,00","0,00","0,00","0,00","0,00","900.000,00"]
[null,874,"2008-10-25",35,56,88,82,40,59,63,83,52,10,89,9,90,21,61,73,96,41,5,49,"0,00",1,4,99,1092,6436,0,"840.301,69","63.223,84","2.554,50","115,80","19,65","0,00","126.447,70","0,00","0,00","0,00","0,00","0,00","500.000,00"]
[null,875,"2008-10-29",43,84,70,52,38,7,17,90,57,55,58,85,24,4,27,54,82,61,14,78,"0,00",0,5,108,1046,7008,0,"0,00","45.321,38","2.098,21","108,32","16,17","0,00","579.661,49","0,00","0,00","0,00","0,00","0,00","1.000.000,00"]
[null,876,"2008-11-01",38,37,94,69,30,42,90,41,81,31,16,6,45,72,43,17,2,93,95,77,"0,00",0,5,96,803,5669,0,"0,00","53.037,14","2.762,35","165,12","23,39","0,00","1.110.032,90","0,00","0,00","0,00","0,00","0,00","1.600.000,00"]
[null,877,"2008-11-05",19,7,76,93,94,54,71,32,3,98,52,21,43,75,87,22,48,83,50,25,"0,00",0,8,203,1701,8864,0,"0,00","34.816,12","1.372,07","81,88","15,71","0,00","1.667.090,79","0,00","0,00","0,00","0,00","0,00","1.800.000,00"]
[null,878,"2008-11-08",87,24,0,73,26,56,16,52,75,94,47,53,32,55,35,14,37,51,3,81,"0,00",0,13,196,1881,11090,1,"0,00","23.712,37","1.572,76","81,94","13,90","154.130,45","2.129.482,07","0,00","0,00","0,00","0,00","0,00","2.700.000,00"]
[null,879,"2008-11-12",34,64,26,96,2,75,60,48,17,21,7,77,43,89,33,42,98,39,49,0,"0,00",0,7,170,1428,9176,0,"0,00","44.934,75","1.850,26","110,14","17,14","0,00","2.758.568,63","0,00","0,00","0,00","0,00","0,00","3.300.000,00"]
[null,880,"2008-11-16",29,50,86,47,28,2,38,0,64,49,54,96,25,6,4,73,52,30,72,76,"0,00",0,10,110,1158,7194,0,"0,00","24.566,67","2.233,33","106,08","17,08","0,00","3.249.901,91","0,00","0,00","0,00","0,00","0,00","3.700.000,00"]
[null,881,"2008-11-19",39,13,22,49,44,7,96,92,26,58,3,78,66,67,37,71,80,82,9,62,"0,00",0,30,292,2444,13468,1,"0,00","12.169,25","1.250,27","74,69","13,56","182.538,77","3.797.518,14","0,00","0,00","0,00","0,00","0,00","4.500.000,00"]
[null,882,"2008-11-22",57,12,78,83,53,79,23,17,46,24,52,38,42,21,84,99,27,68,75,30,"0,00",0,15,288,2576,14679,0,"0,00","24.875,43","1.295,60","72,43","12,71","0,00","4.543.780,90","0,00","0,00","0,00","0,00","0,00","5.000.000,00"]
[null,883,"2008-11-26",63,94,49,37,97,0,74,6,88,42,78,1,10,98,4,2,19,89,7,23,"0,00",1,23,296,2999,16363,0,"5.156.085,48","17.747,96","1.379,07","68,06","12,47","0,00","204.101,55","0,00","0,00","0,00","0,00","0,00","600.000,00"]
[null,884,"2008-11-29",3,64,14,57,88,31,70,20,6,32,30,38,19,95,86,11,58,55,61,47,"0,00",0,3,140,1341,7784,0,"0,00","90.902,77","1.947,92","101,68","17,52","0,00","749.518,15","0,00","0,00","0,00","0,00","0,00","1.200.000,00"]
[null,885,"2008-12-03",33,57,71,38,56,84,41,26,7,62,63,11,97,36,77,78,10,19,50,45,"0,00",0,14,193,1584,9713,0,"0,00","21.794,08","1.580,92","96,31","15,71","0,00","1.359.752,45","0,00","0,00","0,00","0,00","0,00","2.000.000,00"]
[null,886,"2008-12-06",11,51,50,70,38,47,3,72,5,7,32,36,14,37,15,79,97,45,98,71,"0,00",1,18,246,2172,13088,2,"1.854.719,56","18.332,12","1.341,37","75,96","12,60","82.494,53","0,00","0,00","0,00","0,00","0,00","0,00","350.000,00"]
[null,887,"2008-12-10",82,14,6,19,66,41,42,55,62,90,57,4,56,27,49,53,2,80,75,30,"0,00",1,12,165,1516,9060,1,"387.799,91","21.544,44","1.566,87","85,27","14,27","129.266,64","0,00","0,00","0,00","0,00","0,00","0,00","400.000,00"]
[null,888,"2008-12-13",25,84,30,0,28,9,51,76,42,53,66,71,68,52,98,77,56,4,86,61,"0,00",1,9,121,1112,7161,1,"400.799,58","29.688,86","2.208,27","120,15","18,66","133.599,88","0,00","0,00","0,00","0,00","0,00","0,00","400.000,00"]
[null,889,"2008-12-17",3,77,6,10,79,35,62,20,40,93,96,46,38,56,94,0,68,43,27,55,"0,00",0,17,156,1388,7990,0,"0,00","15.193,64","1.655,72","93,05","16,17","0,00","516.584,02","0,00","0,00","0,00","0,00","0,00","1.000.000,00"]
[null,890,"2008-12-20",80,76,71,29,23,85,90,95,4,72,25,21,9,6,1,22,55,81,68,49,"0,00",0,11,127,1275,7806,2,"0,00","26.229,96","2.271,89","113,15","18,48","72.132,41","949.378,34","0,00","0,00","0,00","0,00","0,00","1.400.000,00"]
[null,891,"2008-12-24",17,15,93,18,31,66,95,13,73,96,26,74,1,79,24,46,55,63,90,22,"0,00",0,15,178,1683,9684,0,"0,00","16.532,00","1.393,14","73,67","12,81","0,00","1.445.338,21","0,00","0,00","0,00","0,00","0,00","2.000.000,00"]
[null,892,"2008-12-27",30,82,15,12,63,72,69,39,52,88,74,47,2,83,90,10,60,66,23,70,"0,00",0,6,142,1255,7771,0,"0,00","43.046,04","1.818,85","102,90","16,62","0,00","1.961.890,66","0,00","0,00","0,00","0,00","0,00","2.400.000,00"]
[null,893,"2008-12-31",39,53,3,71,40,67,82,60,10,42,79,18,5,73,47,86,36,78,44,1,"0,00",0,23,258,2069,11379,0,"0,00","13.850,48","1.234,73","76,98","14,00","0,00","2.599.012,62","0,00","0,00","0,00","0,00","0,00","3.200.000,00"]
[null,894,"2009-01-03",84,26,39,36,28,63,31,65,33,41,49,21,81,6,0,40,29,37,53,77,"0,00",0,9,137,1233,8291,0,"0,00","32.766,48","2.152,55","119,59","17,78","0,00","3.188.809,26","0,00","0,00","0,00","0,00","0,00","3.800.000,00"]
[null,895,"2009-01-07",89,14,17,44,23,81,21,49,74,28,61,85,59,26,45,2,88,4,58,11,"0,00",1,10,208,1991,12255,0,"3.776.756,13","39.196,46","1.884,45","98,44","15,99","0,00","195.982,29","0,00","0,00","0,00","0,00","0,00","600.000,00"]
[null,896,"2009-01-10",45,25,67,88,2,37,39,43,27,33,71,13,52,93,36,70,51,92,28,74,"0,00",1,17,192,1556,9299,1,"622.590,06","16.729,72","1.481,27","91,39","15,29","142.202,62","0,00","0,00","0,00","0,00","0,00","0,00","400.000,00"]
[null,897,"2009-01-14",73,92,68,82,0,96,25,74,15,20,8,23,54,91,99,4,81,32,97,58,"0,00",0,11,129,1145,6860,0,"0,00","23.489,75","2.003,01","112,83","18,83","0,00","516.774,44","0,00","0,00","0,00","0,00","0,00","1.000.000,00"]
[null,898,"2009-01-17",19,95,77,64,3,30,18,34,74,94,60,29,47,63,83,56,16,81,65,85,"0,00",0,18,179,2035,10253,0,"0,00","15.639,63","1.572,70","69,17","13,73","0,00","1.079.801,14","0,00","0,00","0,00","0,00","0,00","1.500.000,00"]
[null,899,"2009-01-21",76,2,22,8,82,6,49,1,21,88,19,57,40,23,68,86,29,14,89,11,"0,00",0,14,212,1693,10135,0,"0,00","20.371,24","1.345,27","84,23","14,07","0,00","1.650.195,70","0,00","0,00","0,00","0,00","0,00","2.100.000,00"]
[null,900,"2009-01-24",18,65,93,19,81,38,85,97,87,99,95,61,15,78,13,7,53,60,6,31,"0,00",1,12,232,1965,11509,1,"2.135.067,04","26.937,30","1.393,31","82,25","14,05","161.623,80","0,00","0,00","0,00","0,00","0,00","0,00","400.000,00"]
[null,901,"2009-01-28",51,28,8,13,9,93,24,55,12,43,38,21,31,56,40,52,87,45,16,46,"0,00",0,5,191,1546,9527,0,"0,00","49.961,53","1.307,89","80,79","13,11","0,00","499.615,33","0,00","0,00","0,00","0,00","0,00","1.000.000,00"]
[null,902,"2009-01-31",7,3,28,10,82,99,26,39,12,15,75,78,93,73,69,43,5,49,19,21,"0,00",3,60,503,3394,15628,3,"307.113,01","4.685,82","558,95","41,42","9,00","46.858,19","0,00","0,00","0,00","0,00","0,00","0,00","400.000,00"]
[null,903,"2009-02-04",92,7,77,69,96,37,62,99,9,5,66,87,25,51,12,22,61,32,48,73,"0,00",0,7,201,1675,9418,1,"0,00","36.967,61","1.287,43","77,25","13,74","129.386,63","388.159,87","0,00","0,00","0,00","0,00","0,00","800.000,00"]
[null,904,"2009-02-07",31,85,38,19,62,67,29,65,0,44,18,90,43,22,70,27,20,4,64,48,"0,00",0,9,130,1292,8138,0,"0,00","32.010,77","2.216,13","111,49","17,70","0,00","964.353,61","0,00","0,00","0,00","0,00","0,00","1.500.000,00"]
[null,905,"2009-02-11",4,3,60,27,93,68,33,44,36,83,94,49,55,35,7,8,11,1,78,70,"0,00",0,9,128,1311,8314,0,"0,00","32.780,49","2.304,88","112,52","17,74","0,00","1.554.402,30","0,00","0,00","0,00","0,00","0,00","2.100.000,00"]
[null,906,"2009-02-14",44,59,7,82,96,62,40,6,16,67,77,30,99,18,51,92,13,88,37,53,"0,00",0,12,215,1885,10882,0,"0,00","26.535,89","1.481,07","84,47","14,63","0,00","2.191.263,69","0,00","0,00","0,00","0,00","0,00","2.600.000,00"]
[null,907,"2009-02-18",77,8,47,67,39,80,0,81,7,85,95,72,51,71,35,17,5,94,98,69,"0,00",1,14,171,1681,10457,0,"2.688.244,42","23.665,75","1.937,55","98,55","15,85","0,00","165.660,27","0,00","0,00","0,00","0,00","0,00","500.000,00"]
[null,908,"2009-02-21",89,38,75,67,44,60,24,19,30,34,58,82,70,76,63,49,33,21,48,81,"0,00",0,7,116,927,5762,0,"0,00","34.809,96","2.100,60","131,43","21,14","0,00","652.999,79","0,00","0,00","0,00","0,00","0,00","1.000.000,00"]
[null,909,"2009-02-25",31,4,36,44,13,83,48,10,15,18,38,9,78,7,93,53,34,47,92,99,"0,00",0,14,163,1391,7530,0,"0,00","11.277,70","968,64","56,75","10,48","0,00","968.775,23","0,00","0,00","0,00","0,00","0,00","1.400.000,00"]
[null,910,"2009-02-28",42,43,13,59,11,4,16,83,68,14,28,46,21,58,5,7,65,36,20,37,"0,00",0,21,220,2028,11216,0,"0,00","13.792,10","1.316,52","71,41","12,91","0,00","1.548.043,43","0,00","0,00","0,00","0,00","0,00","2.000.000,00"]
[null,911,"2009-03-04",53,62,76,80,45,12,31,64,37,46,79,48,74,83,24,0,20,14,52,86,"0,00",0,8,165,1378,9013,0,"0,00","39.766,65","1.928,08","115,43","17,65","0,00","2.184.309,77","0,00","0,00","0,00","0,00","0,00","2.700.000,00"]
[null,912,"2009-03-07",97,66,70,49,28,69,55,98,62,91,79,0,54,71,58,67,12,1,45,44,"0,00",0,20,242,2464,13369,0,"0,00","17.694,39","1.462,35","71,81","13,23","0,00","2.892.085,36","0,00","0,00","0,00","0,00","0,00","3.500.000,00"]
[null,913,"2009-03-11",6,48,18,36,56,2,83,13,8,10,65,57,90,53,88,14,41,82,29,30,"0,00",0,23,278,2434,13521,1,"0,00","16.029,77","1.326,20","75,74","13,63","184.342,38","3.445.112,40","0,00","0,00","0,00","0,00","0,00","4.100.000,00"]
[null,914,"2009-03-14",2,78,69,15,64,16,1,9,32,76,57,73,11,63,59,27,39,75,52,93,"0,00",2,23,289,2444,14675,2,"2.037.512,87","18.258,36","1.453,09","85,92","14,31","104.985,56","0,00","0,00","0,00","0,00","0,00","0,00","400.000,00"]
[null,915,"2009-03-18",44,90,86,50,78,16,38,13,58,41,95,30,19,64,17,69,28,11,26,2,"0,00",2,17,211,1694,9192,0,"197.057,38","15.455,48","1.245,23","77,55","14,29","0,00","131.371,62","0,00","0,00","0,00","0,00","0,00","500.000,00"]
[null,916,"2009-03-21",76,3,84,44,82,7,72,46,17,23,83,39,56,31,58,30,27,22,75,81,"0,00",2,8,117,1210,7607,1,"268.738,17","33.842,06","2.313,99","111,88","17,80","135.368,26","0,00","0,00","0,00","0,00","0,00","0,00","400.000,00"]
[null,917,"2009-03-25",55,62,84,35,73,72,96,34,10,43,21,80,91,87,3,85,78,53,44,28,"0,00",1,7,150,1389,8094,1,"380.890,09","36.275,25","1.692,84","91,41","15,68","126.963,39","0,00","0,00","0,00","0,00","0,00","0,00","400.000,00"]
[null,918,"2009-03-28",30,97,48,50,61,89,84,51,85,74,18,13,8,41,31,33,87,76,94,9,"0,00",0,6,115,1007,6565,0,"0,00","42.712,74","2.228,49","127,25","19,52","0,00","512.552,88","0,00","0,00","0,00","0,00","0,00","900.000,00"]
[null,919,"2009-04-01",33,51,25,65,72,83,41,77,29,90,82,99,48,69,54,0,5,46,8,79,"0,00",0,12,166,1446,8886,0,"0,00","23.441,03","1.694,54","97,27","15,83","0,00","1.075.137,59","0,00","0,00","0,00","0,00","0,00","1.500.000,00"]
[null,920,"2009-04-04",99,15,56,81,79,34,31,92,42,51,11,54,47,18,90,57,39,33,77,10,"0,00",1,19,252,2216,12022,1,"1.542.152,17","16.386,48","1.235,49","70,25","12,95","155.671,55","0,00","0,00","0,00","0,00","0,00","0,00","400.000,00"]
[null,921,"2009-04-08",22,55,2,4,66,99,26,51,95,12,80,17,49,20,30,36,44,93,91,56,"0,00",0,12,196,1646,10021,0,"0,00","22.056,98","1.350,43","80,41","13,21","0,00","529.367,37","0,00","0,00","0,00","0,00","0,00","900.000,00"]
[null,922,"2009-04-11",78,80,35,62,30,59,4,69,82,2,11,90,81,85,76,56,74,18,51,58,"0,00",0,9,236,1417,8482,1,"0,00","25.760,42","982,39","81,81","13,67","115.921,93","877.133,09","0,00","0,00","0,00","0,00","0,00","1.300.000,00"]
[null,923,"2009-04-15",51,29,69,90,46,85,65,84,30,0,22,74,21,1,93,81,66,47,89,52,"0,00",0,9,116,1129,7590,0,"0,00","30.932,96","2.399,97","123,30","18,34","0,00","1.433.926,35","0,00","0,00","0,00","0,00","0,00","1.900.000,00"]
[null,924,"2009-04-18",12,66,10,3,74,43,52,0,24,97,41,26,65,1,27,28,38,18,37,93,"0,00",0,20,203,1905,11494,1,"0,00","15.328,00","1.510,15","80,46","13,34","153.280,06","1.893.766,46","0,00","0,00","0,00","0,00","0,00","2.400.000,00"]
[null,925,"2009-04-22",12,89,55,98,23,80,73,77,70,53,81,2,24,87,52,20,17,31,34,40,"0,00",0,15,123,1111,7120,0,"0,00","18.396,59","2.243,48","177,41","27,68","0,00","2.445.663,97","0,00","0,00","0,00","0,00","0,00","2.900.000,00"]
[null,926,"2009-04-25",18,80,4,49,64,71,88,22,3,38,20,79,29,15,7,51,8,82,99,19,"0,00",1,15,262,2338,13860,0,"2.946.820,96","22.273,65","1.275,21","102,07","17,21","0,00","167.052,37","0,00","0,00","0,00","0,00","0,00","600.000,00"]
[null,927,"2009-04-29",87,21,69,22,92,30,80,94,19,4,24,70,26,82,2,84,33,5,60,63,"0,00",0,6,121,1102,7091,0,"0,00","42.574,06","2.111,11","165,57","25,73","0,00","677.941,09","0,00","0,00","0,00","0,00","0,00","1.100.000,00"]
[null,928,"2009-05-02",44,12,15,35,81,73,83,32,43,59,31,22,86,91,78,61,17,75,76,87,"0,00",0,18,162,1344,7819,0,"0,00","13.370,31","1.485,59","127,90","21,98","0,00","1.159.271,98","0,00","0,00","0,00","0,00","0,00","1.600.000,00"]
[null,929,"2009-05-06",42,61,30,92,73,53,35,15,63,3,13,19,62,71,12,90,77,88,4,69,"0,00",0,12,169,1642,9830,0,"0,00","25.973,58","1.844,28","135,58","22,64","0,00","1.782.637,97","0,00","0,00","0,00","0,00","0,00","2.300.000,00"]
[null,930,"2009-05-09",28,95,69,81,56,40,82,96,5,45,21,4,84,3,48,26,62,54,43,66,"0,00",0,15,196,1670,10148,0,"0,00","22.465,66","1.719,31","144,13","23,71","0,00","2.456.607,80","0,00","0,00","0,00","0,00","0,00","3.100.000,00"]
[null,931,"2009-05-13",74,12,73,65,39,90,87,1,6,49,2,8,45,10,13,43,72,27,3,36,"0,00",1,19,199,2136,12661,0,"2.980.653,27","18.387,56","1.755,60","116,82","19,70","0,00","174.681,83","0,00","0,00","0,00","0,00","0,00","600.000,00"]
[null,932,"2009-05-16",61,38,25,22,19,28,89,74,57,90,52,95,12,67,66,47,41,87,69,49,"0,00",0,10,174,1537,9004,0,"0,00","27.273,77","1.567,46","126,74","21,63","0,00","720.157,21","0,00","0,00","0,00","0,00","0,00","1.200.000,00"]
[null,933,"2009-05-20",96,29,89,58,85,27,19,54,98,23,12,18,59,74,83,20,26,80,35,37,"0,00",0,14,199,1878,10892,0,"0,00","20.546,01","1.445,45","109,40","18,86","0,00","1.295.445,43","0,00","0,00","0,00","0,00","0,00","1.800.000,00"]
[null,934,"2009-05-23",21,96,23,73,74,87,85,14,20,90,0,98,67,12,76,37,48,58,55,44,"0,00",0,36,398,2941,14402,0,"0,00","8.514,48","770,16","74,44","15,20","0,00","1.908.488,31","0,00","0,00","0,00","0,00","0,00","2.500.000,00"]
[null,935,"2009-05-27",62,42,91,13,38,73,67,44,17,21,36,6,47,34,74,75,50,80,97,85,"5.121.214,00",0,12,186,1742,10037,0,"0,00","26.300,33","1.696,80","129,40","22,46","0,00","2.539.696,30","0,00","0,00","0,00","0,00","0,00","3.000.000,00"]
[null,936,"2009-05-30",0,92,77,56,83,72,29,37,67,58,26,60,68,34,53,99,21,79,81,50,"5.544.962,00",1,17,242,2130,11789,2,"3.052.273,63","20.101,07","1.412,06","114,59","20,70","85.429,57","0,00","0,00","0,00","0,00","0,00","0,00","450.000,00"]
[null,937,"2009-06-03",89,90,46,23,49,3,30,1,16,34,68,47,63,7,61,5,45,37,40,87,"4.314.469,00",0,14,138,1600,13113,0,"0,00","18.991,92","1.926,72","118,69","14,48","0,00","531.773,79","0,00","0,00","0,00","0,00","0,00","1.000.000,00"]
[null,938,"2009-06-06",11,33,12,4,35,98,36,76,55,9,69,94,58,56,38,95,51,87,5,96,"4.741.553,00",0,6,215,1896,10593,0,"0,00","48.701,12","1.359,10","110,08","19,70","0,00","1.116.187,20","0,00","0,00","0,00","0,00","0,00","1.600.000,00"]
[null,939,"2009-06-10",44,35,16,82,6,47,48,59,0,43,66,40,11,38,46,76,42,1,33,4,"5.006.074,00",0,6,181,1884,12097,0,"0,00","51.418,05","1.704,47","116,96","18,21","0,00","1.733.203,76","0,00","0,00","0,00","0,00","0,00","2.200.000,00"]
[null,940,"2009-06-13",36,87,73,77,66,23,97,38,78,59,19,75,20,35,25,2,24,33,49,65,"4.768.290,00",0,10,200,1817,10923,0,"0,00","29.385,44","1.469,28","115,51","19,21","0,00","2.320.912,61","0,00","0,00","0,00","0,00","0,00","2.800.000,00"]
[null,941,"2009-06-17",89,43,26,65,55,67,4,41,7,80,35,22,78,77,29,16,66,21,70,32,"5.605.813,00",0,10,126,1298,8786,0,"0,00","34.546,83","2.741,81","190,11","28,08","0,00","3.011.849,17","0,00","0,00","0,00","0,00","0,00","3.600.000,00"]
[null,942,"2009-06-20",24,76,64,90,36,63,34,10,74,0,9,41,81,96,3,6,5,27,29,13,"5.782.639,00",0,10,215,1867,11658,1,"0,00","35.636,55","1.657,51","136,34","21,83","178.182,76","3.546.397,40","0,00","0,00","0,00","0,00","0,00","4.200.000,00"]
[null,943,"2009-06-24",39,60,62,79,13,70,19,82,42,69,32,45,21,85,87,63,66,41,3,14,"5.923.836,00",0,3,145,1544,9839,0,"0,00","121.689,01","2.517,70","168,88","26,50","0,00","4.276.531,44","0,00","0,00","0,00","0,00","0,00","5.000.000,00"]
[null,944,"2009-06-27",52,76,18,11,6,2,71,86,37,33,26,17,25,5,56,55,44,9,28,65,"6.894.808,00",3,44,546,4215,22436,1,"1.637.962,93","9.656,93","1.111,73","72,00","13,52","212.452,48","0,00","0,00","0,00","0,00","0,00","0,00","400.000,00"]
[null,945,"2009-07-01",36,57,80,18,41,21,7,60,64,98,54,3,26,94,66,74,55,67,32,31,"4.601.567,00",1,8,123,1049,6949,1,"425.369,73","35.447,48","2.305,52","193,09","29,14","141.789,91","0,00","0,00","0,00","0,00","0,00","0,00","400.000,00"]
[null,946,"2009-07-04",21,64,6,4,36,79,74,3,43,0,25,24,20,91,8,31,26,98,52,75,"4.909.088,00",0,14,141,1388,8913,0,"0,00","21.609,38","2.145,62","155,68","24,24","0,00","605.062,70","0,00","0,00","0,00","0,00","0,00","1.000.000,00"]
[null,947,"2009-07-08",69,46,4,30,18,29,54,23,8,25,93,81,83,10,35,37,77,72,7,1,"5.197.806,00",0,15,283,2355,12816,0,"0,00","21.354,94","1.131,89","97,15","17,85","0,00","1.245.710,93","0,00","0,00","0,00","0,00","0,00","1.800.000,00"]
[null,948,"2009-07-11",34,68,44,94,80,1,6,74,30,9,21,90,95,3,88,79,8,46,82,41,"5.363.376,00",0,10,160,1479,9759,0,"0,00","33.052,77","2.065,80","159,62","24,19","0,00","1.906.766,26","0,00","0,00","0,00","0,00","0,00","2.500.000,00"]
[null,949,"2009-07-15",76,77,29,96,66,5,87,9,57,60,68,36,50,34,61,28,94,43,63,4,"5.659.834,00",0,9,184,1592,10574,0,"0,00","38.755,27","1.895,64","156,49","23,56","0,00","2.604.361,10","0,00","0,00","0,00","0,00","0,00","3.200.000,00"]
[null,950,"2009-07-18",58,50,63,45,22,0,68,80,21,8,3,87,77,53,85,59,1,69,90,76,"6.024.246,00",0,5,161,1586,10578,1,"0,00","74.250,99","2.305,93","167,20","25,06","185.627,50","3.161.243,54","0,00","0,00","0,00","0,00","0,00","3.800.000,00"]
[null,951,"2009-07-22",99,91,80,73,49,55,21,11,5,3,90,4,0,2,16,94,42,43,56,19,"6.455.421,00",2,12,330,2564,15802,1,"1.878.991,94","33.152,24","1.205,54","110,82","17,98","198.913,47","0,00","0,00","0,00","0,00","0,00","0,00","450.000,00"]
[null,952,"2009-07-25",52,75,70,8,85,88,13,68,38,92,11,62,28,55,43,76,95,18,41,46,"4.949.256,00",0,16,208,1744,9378,1,"0,00","19.062,92","1.466,38","124,92","23,23","152.503,40","457.510,16","0,00","0,00","0,00","0,00","0,00","1.000.000,00"]
[null,953,"2009-07-29",97,86,91,62,70,74,67,18,20,79,44,63,89,32,28,13,30,37,96,69,"4.872.690,00",0,9,105,1161,7551,0,"0,00","33.365,36","2.859,89","184,74","28,40","0,00","1.058.086,68","0,00","0,00","0,00","0,00","0,00","1.500.000,00"]
[null,954,"2009-08-01",9,57,78,0,43,31,58,24,16,12,71,41,29,87,23,49,8,73,64,25,"5.458.131,00",0,10,273,1925,11701,0,"0,00","33.636,71","1.232,12","124,81","20,53","0,00","1.730.820,89","0,00","0,00","0,00","0,00","0,00","2.300.000,00"]
[null,955,"2009-08-05",44,10,54,39,22,41,29,32,60,56,57,16,74,70,85,92,65,26,36,45,"5.776.349,00",1,13,209,1851,11045,0,"2.264.787,68","27.382,91","1.703,24","137,36","23,02","0,00","0,00","0,00","0,00","0,00","0,00","0,00","600.000,00"]
[null,956,"2009-08-08",23,4,5,66,84,69,62,95,42,0,16,1,64,81,24,97,90,46,60,12,"5.056.734,00",1,14,191,1719,10102,2,"645.434,40","22.259,30","1.631,57","129,48","22,03","77.907,59","0,00","0,00","0,00","0,00","0,00","0,00","500.000,00"]
[null,957,"2009-08-12",99,27,81,89,13,68,17,7,75,2,76,74,60,69,54,61,43,95,23,63,"4.880.764,00",0,15,130,1497,8813,0,"0,00","20.052,39","2.313,74","143,51","24,37","0,00","601.571,67","0,00","0,00","0,00","0,00","0,00","1.000.000,00"]
[null,958,"2009-08-15",91,50,31,23,40,45,92,49,90,70,71,15,19,48,93,38,64,34,37,32,"5.147.804,00",0,11,216,1622,10232,1,"0,00","28.840,24","1.468,72","139,70","22,14","158.621,33","1.077.435,64","0,00","0,00","0,00","0,00","0,00","1.700.000,00"]
[null,959,"2009-08-19",11,21,10,97,80,78,7,74,86,87,52,16,27,54,92,19,62,9,93,60,"5.333.435,00",2,8,140,1171,8155,1,"785.229,69","41.085,31","2.347,73","200,48","28,78","164.341,28","0,00","0,00","0,00","0,00","0,00","0,00","400.000,00"]
[null,960,"2009-08-22",70,27,92,90,19,54,93,2,83,6,52,5,82,42,38,1,74,86,56,65,"4.700.273,00",0,9,147,1440,8882,0,"0,00","32.184,75","1.970,50","143,68","23,29","0,00","579.325,51","0,00","0,00","0,00","0,00","0,00","1.000.000,00"]
[null,961,"2009-08-26",8,6,72,97,58,73,37,75,46,79,1,82,36,43,3,94,59,74,51,18,"4.936.810,00",0,8,139,1550,9935,0,"0,00","38.029,97","2.188,78","140,20","21,87","0,00","1.187.805,06","0,00","0,00","0,00","0,00","0,00","1.700.000,00"]
[null,962,"2009-08-29",74,11,15,26,21,51,82,49,47,1,99,88,2,96,91,36,95,73,20,67,"5.403.541,00",0,9,181,1623,9351,1,"0,00","37.000,32","1.839,79","146,55","25,43","166.501,47","1.687.309,40","0,00","0,00","0,00","0,00","0,00","2.300.000,00"]
[null,963,"2009-09-02",54,91,27,77,6,37,14,9,65,11,28,72,95,64,4,1,33,30,78,82,"5.709.856,00",0,15,175,1641,10467,0,"0,00","23.458,68","2.010,75","153,16","24,01","0,00","2.391.069,64","0,00","0,00","0,00","0,00","0,00","3.000.000,00"]
[null,964,"2009-09-05",10,81,98,92,42,28,95,89,25,7,23,72,82,49,24,36,80,20,51,71,"6.323.677,00",0,12,189,1612,9842,0,"0,00","32.475,66","2.061,95","172,68","28,28","0,00","3.170.485,53","0,00","0,00","0,00","0,00","0,00","4.000.000,00"]
[null,965,"2009-09-09",74,98,19,23,38,13,92,14,40,64,29,81,79,82,30,80,42,39,78,4,"5.862.361,00",0,14,245,1829,10119,0,"0,00","25.805,61","1.474,61","141,09","25,50","0,00","3.893.042,56","0,00","0,00","0,00","0,00","0,00","4.600.000,00"]
[null,966,"2009-09-12",17,90,6,1,13,12,98,35,68,40,46,56,50,59,43,72,60,91,67,53,"7.015.774,00",0,11,192,1746,11117,0,"0,00","39.305,42","2.251,88","176,87","27,77","0,00","4.757.761,87","0,00","0,00","0,00","0,00","0,00","5.500.000,00"]
[null,967,"2009-09-16",80,56,99,55,28,24,76,92,14,64,42,79,21,36,63,30,20,46,1,95,"7.397.993,00",1,9,238,2338,15139,0,"5.441.633,75","50.657,18","1.915,61","139,28","21,51","0,00","0,00","0,00","0,00","0,00","0,00","227.957,31","700.000,00"]
[null,968,"2009-09-19",97,8,23,81,16,25,45,70,74,49,1,68,48,61,3,78,7,19,41,91,"4.930.614,00",2,18,227,2132,12366,0,"341.872,10","16.880,99","1.338,58","101,80","17,55","0,00","0,00","0,00","0,00","0,00","0,00","0,00","600.000,00"]
[null,969,"2009-09-23",29,36,82,20,60,99,13,41,51,47,35,25,72,85,73,5,91,57,56,74,"4.654.985,00",0,5,106,1162,7944,0,"0,00","57.374,36","2.706,34","176,34","25,79","0,00","725.672,58","0,00","0,00","0,00","0,00","0,00","1.300.000,00"]
[null,970,"2009-09-26",9,80,32,57,7,48,17,88,92,8,77,26,21,14,2,37,68,46,6,39,"5.019.056,00",2,27,366,2745,14295,4,"594.817,53","11.455,86","1.207,29","80,48","15,45","38.663,55","0,00","0,00","0,00","0,00","0,00","0,00","450.000,00"]
[null,971,"2009-09-30",11,26,61,10,63,64,67,84,44,79,27,22,32,70,94,54,8,59,5,23,"4.443.174,00",0,5,108,1061,7003,0,"0,00","54.763,71","2.535,36","184,33","27,92","0,00","547.637,14","0,00","0,00","0,00","0,00","0,00","1.000.000,00"]
[null,972,"2009-10-03",58,50,84,94,0,23,17,34,8,20,3,1,92,53,24,55,77,85,62,32,"5.165.678,00",2,25,238,2090,12042,0,"512.576,69","12.733,77","1.337,58","108,79","18,88","0,00","0,00","0,00","0,00","0,00","0,00","0,00","600.000,00"]
[null,973,"2009-10-07",65,86,87,32,88,6,28,38,95,30,98,92,55,91,42,80,9,72,19,82,"4.515.005,00",0,21,210,1836,10405,0,"0,00","13.249,78","1.324,98","108,24","19,10","0,00","715.662,65","0,00","0,00","0,00","0,00","0,00","1.000.000,00"]
[null,974,"2009-10-10",17,80,27,61,45,26,87,23,36,24,55,56,1,49,29,66,10,25,78,96,"4.910.676,00",0,11,139,1575,10102,1,"0,00","27.511,75","2.177,19","137,24","21,39","151.314,62","1.169.606,46","0,00","0,00","0,00","0,00","0,00","1.600.000,00"]
[null,975,"2009-10-14",92,3,8,83,35,5,30,89,49,11,18,2,93,46,42,48,0,78,45,14,"4.435.474,00",0,11,160,1517,8622,0,"0,00","24.849,46","1.708,40","128,70","22,64","0,00","1.716.294,56","0,00","0,00","0,00","0,00","0,00","2.100.000,00"]
[null,976,"2009-10-17",98,23,65,70,26,64,53,40,49,45,88,93,92,59,47,22,41,79,1,9,"5.248.652,00",0,7,144,1317,8276,0,"0,00","46.208,23","2.246,23","175,42","27,91","0,00","2.363.209,75","0,00","0,00","0,00","0,00","0,00","3.000.000,00"]
[null,977,"2009-10-21",44,77,74,15,28,65,21,47,4,49,22,94,24,25,40,82,85,7,14,11,"5.190.131,00",0,18,286,2441,13825,0,"0,00","17.769,51","1.118,36","93,59","16,52","0,00","3.002.912,00","0,00","0,00","0,00","0,00","0,00","3.500.000,00"]
[null,978,"2009-10-24",70,41,89,77,51,60,93,78,21,23,49,19,74,40,27,58,6,82,48,81,"5.567.445,00",0,16,188,1598,10230,0,"0,00","21.443,99","1.825,02","153,36","23,95","0,00","3.689.119,56","0,00","0,00","0,00","0,00","0,00","4.200.000,00"]
[null,979,"2009-10-28",59,15,47,96,71,17,77,94,16,73,84,87,95,0,8,48,54,42,52,9,"5.632.711,00",0,6,134,1437,9506,0,"0,00","57.854,32","2.590,49","172,54","26,08","0,00","4.383.371,40","0,00","0,00","0,00","0,00","0,00","5.000.000,00"]
[null,980,"2009-10-31",80,52,97,83,12,66,45,23,99,75,61,48,24,46,19,14,26,85,16,21,"6.659.827,00",0,18,268,2476,14279,0,"0,00","22.801,32","1.531,44","118,40","20,53","0,00","5.204.218,96","0,00","0,00","0,00","0,00","0,00","6.000.000,00"]
[null,981,"2009-11-04",56,39,69,88,78,3,0,97,31,41,28,89,2,85,40,51,15,77,90,1,"6.538.780,00",1,13,203,1809,10998,0,"5.808.665,02","30.997,24","1.985,04","159,11","26,17","0,00","0,00","0,00","0,00","0,00","0,00","0,00","500.000,00"]
[null,982,"2009-11-07",48,13,73,46,40,77,32,2,38,18,66,26,10,3,75,83,42,44,16,28,"4.688.836,00",3,34,446,4024,15014,1,"211.639,64","8.498,76","925,55","51,29","13,74","144.478,98","0,00","0,00","0,00","0,00","0,00","0,00","500.000,00"]
[null,983,"2009-11-11",3,69,87,24,41,10,17,54,72,60,2,15,93,55,91,19,78,27,58,33,"4.433.811,00",0,16,232,1960,11138,0,"0,00","17.077,60","1.177,77","99,57","17,52","0,00","546.483,12","0,00","0,00","0,00","0,00","0,00","1.000.000,00"]
[null,984,"2009-11-14",43,24,0,9,52,14,13,18,6,5,80,75,53,30,62,98,45,38,86,56,"4.803.154,00",0,15,213,1646,10115,0,"0,00","19.733,53","1.389,69","128,45","20,90","0,00","1.138.489,08","0,00","0,00","0,00","0,00","0,00","1.600.000,00"]
[null,985,"2009-11-18",72,92,0,7,95,57,1,88,80,97,38,90,15,50,43,89,12,67,76,93,"4.772.729,00",1,10,165,1496,8941,0,"1.579.681,04","29.412,80","1.782,60","140,43","23,49","0,00","0,00","0,00","0,00","0,00","0,00","0,00","500.000,00"]
[null,986,"2009-11-21",92,88,23,16,83,68,91,31,18,52,43,49,21,57,62,26,63,34,38,41,"4.169.919,00",2,15,181,1568,9119,0,"266.266,05","17.131,92","1.419,77","117,06","20,12","0,00","0,00","0,00","0,00","0,00","0,00","0,00","500.000,00"]
[null,987,"2009-11-25",32,90,39,36,68,38,60,64,80,11,20,21,66,40,15,88,77,87,52,98,"4.082.389,00",0,8,128,1293,8395,1,"0,00","31.448,07","1.965,51","138,98","21,40","125.792,28","505.866,19","0,00","0,00","0,00","0,00","0,00","1.000.000,00"]
[null,988,"2009-11-28",30,11,92,21,50,64,99,51,15,6,85,2,44,54,67,73,70,5,49,89,"4.613.377,00",0,9,147,1280,8082,0,"0,00","31.589,74","1.934,07","158,65","25,12","0,00","1.074.481,45","0,00","0,00","0,00","0,00","0,00","1.600.000,00"]
[null,989,"2009-12-02",10,0,76,87,48,44,71,72,89,80,66,39,9,91,32,54,63,96,47,95,"4.945.675,00",0,7,163,1555,9178,0,"0,00","43.540,87","1.869,85","140,00","23,72","0,00","1.684.053,65","0,00","0,00","0,00","0,00","0,00","2.200.000,00"]
[null,990,"2009-12-05",73,83,7,31,6,88,43,30,48,14,65,89,81,99,64,46,70,27,25,56,"5.371.688,00",1,12,184,1361,8555,0,"2.180.613,50","27.586,66","1.799,13","173,73","27,63","0,00","0,00","0,00","0,00","0,00","0,00","0,00","600.000,00"]
[null,991,"2009-12-09",26,68,47,65,72,28,6,58,10,22,16,8,67,66,92,61,18,97,78,48,"4.152.680,00",0,15,194,1514,8631,0,"0,00","17.061,09","1.319,15","120,73","21,17","0,00","677.352,67","0,00","0,00","0,00","0,00","0,00","1.200.000,00"]
[null,992,"2009-12-12",27,76,6,81,86,52,24,74,55,46,18,90,8,40,15,87,63,97,80,36,"4.642.738,00",0,7,154,1290,8139,1,"0,00","40.873,87","1.857,90","158,42","25,10","143.058,55","1.106.528,25","0,00","0,00","0,00","0,00","0,00","1.500.000,00"]
[null,993,"2009-12-16",22,57,49,16,8,42,70,0,43,69,46,9,38,75,64,50,58,59,4,84,"4.646.597,00",0,9,165,1424,8811,0,"0,00","31.817,21","1.735,49","143,63","23,21","0,00","1.679.237,98","0,00","0,00","0,00","0,00","0,00","2.200.000,00"]
[null,994,"2009-12-19",36,41,83,99,15,42,4,98,0,7,46,18,60,20,19,95,31,84,77,63,"5.034.905,00",0,7,138,1371,8490,0,"0,00","44.326,43","2.248,45","161,65","26,10","0,00","2.299.808,09","0,00","0,00","0,00","0,00","0,00","2.800.000,00"]
[null,995,"2009-12-23",17,75,78,36,66,76,43,99,91,70,0,87,33,47,80,13,72,37,19,3,"5.068.588,00",0,14,224,2037,11933,0,"0,00","22.311,49","1.394,47","109,53","18,69","0,00","2.924.529,75","0,00","0,00","0,00","0,00","0,00","3.300.000,00"]
[null,996,"2009-12-26",38,71,50,23,61,74,2,72,51,90,54,1,4,10,83,60,3,59,29,91,"3.595.133,00",0,10,189,1565,8221,0,"0,00","22.155,66","1.172,26","101,12","19,25","0,00","3.367.642,78","0,00","0,00","0,00","0,00","0,00","3.700.000,00"]
[null,997,"2009-12-30",3,82,0,29,87,41,57,36,8,4,66,60,86,33,38,90,50,48,59,88,"5.239.391,00",0,13,174,1729,10548,0,"0,00","24.837,45","1.855,67","133,39","21,86","0,00","4.013.416,51","0,00","0,00","0,00","0,00","0,00","4.400.000,00"]
[null,998,"2010-01-02",89,18,99,30,43,47,92,88,56,54,5,21,34,51,57,1,80,35,22,39,"2.962.582,00",0,9,112,915,5444,0,"0,00","20.286,05","1.630,13","142,52","23,95","0,00","4.378.565,36","0,00","0,00","0,00","0,00","0,00","4.800.000,00"]
[null,999,"2010-01-06",4,3,60,62,66,10,13,30,99,68,9,20,77,39,25,78,83,18,1,89,"6.275.291,00",1,20,287,2569,15581,0,"4.958.654,45","19.336,30","1.347,48","107,52","17,72","0,00","0,00","0,00","0,00","0,00","0,00","0,00","600.000,00"]
[null,1000,"2010-01-09",49,3,63,43,95,30,41,53,37,40,25,50,70,64,62,15,34,38,26,12,"4.645.188,00",1,8,151,1488,10092,0,"622.765,11","35.783,51","1.895,81","137,41","20,26","0,00","0,00","0,00","0,00","0,00","0,00","0,00","500.000,00"]
[null,1001,"2010-01-13",58,92,97,64,42,67,19,3,16,35,88,47,37,25,8,68,11,36,34,23,"4.216.831,00",0,17,204,1634,9691,0,"0,00","15.286,46","1.273,87","113,59","19,15","0,00","662.873,60","0,00","0,00","0,00","0,00","0,00","1.000.000,00"]
[null,1002,"2010-01-16",62,90,40,73,42,17,15,16,83,74,97,27,44,9,67,49,22,3,10,30,"4.733.297,00",1,8,147,1278,8445,0,"1.100.420,47","36.462,24","1.984,34","163,03","24,67","0,00","0,00","0,00","0,00","0,00","0,00","0,00","500.000,00"]
[null,1003,"2010-01-20",19,11,28,88,72,90,12,93,61,87,39,98,49,67,7,55,75,16,31,81,"4.080.113,00",1,9,144,1266,7874,0,"523.015,38","27.938,26","1.746,14","141,86","22,80","0,00","0,00","0,00","0,00","0,00","0,00","0,00","500.000,00"]
[null,1004,"2010-01-23",48,9,0,63,34,81,50,98,54,78,42,10,37,69,64,30,29,56,97,3,"4.312.542,00",0,13,141,1385,8181,0,"0,00","20.443,70","1.884,88","137,06","23,20","0,00","657.258,42","0,00","0,00","0,00","0,00","0,00","1.000.000,00"]
[null,1005,"2010-01-27",15,47,8,34,36,3,29,77,78,65,68,17,97,93,72,87,33,5,59,90,"4.330.131,00",1,13,203,1634,9938,1,"1.057.536,55","20.527,08","1.314,54","116,65","19,17","133.426,05","0,00","0,00","0,00","0,00","0,00","0,00","350.000,00"]
[null,1006,"2010-01-30",97,1,94,81,19,56,77,99,29,69,55,90,65,32,14,25,91,78,38,92,"4.285.166,00",0,13,135,1349,8228,0,"0,00","20.313,93","1.956,15","139,82","22,92","0,00","528.162,07","0,00","0,00","0,00","0,00","0,00","1.000.000,00"]
[null,1007,"2010-02-03",99,16,8,20,81,37,58,88,55,79,15,33,24,87,4,70,74,2,72,53,"4.448.712,00",0,19,195,1715,9434,0,"0,00","14.429,47","1.405,95","114,18","20,75","0,00","1.076.481,79","0,00","0,00","0,00","0,00","0,00","1.600.000,00"]
[null,1008,"2010-02-06",6,50,36,20,40,72,84,73,87,77,10,51,70,83,99,7,3,39,34,65,"4.886.248,00",1,6,121,1136,7903,0,"1.528.167,47","50.187,30","2.488,63","189,33","27,21","0,00","0,00","0,00","0,00","0,00","0,00","150.561,91","500.000,00"]
[null,1009,"2010-02-10",50,54,38,66,14,89,40,36,56,65,11,10,78,98,37,70,52,33,67,86,"4.147.684,00",0,12,127,1200,7759,1,"0,00","21.300,70","2.012,67","152,14","23,53","127.804,24","533.974,59","0,00","0,00","0,00","0,00","0,00","1.000.000,00"]
[null,1010,"2010-02-13",2,18,51,21,42,94,17,19,78,71,99,44,72,73,22,29,26,60,52,69,"4.266.236,00",0,7,126,1299,7921,0,"0,00","37.559,20","2.086,62","144,56","23,70","0,00","1.059.803,50","0,00","0,00","0,00","0,00","0,00","1.300.000,00"]
[null,1011,"2010-02-17",92,30,16,93,2,12,50,3,54,55,90,71,25,4,17,47,15,60,21,78,"2.682.146,00",0,5,98,862,5253,0,"0,00","33.058,41","1.686,65","136,96","22,47","0,00","1.390.387,60","0,00","0,00","0,00","0,00","0,00","1.800.000,00"]
[null,1012,"2010-02-20",7,59,50,9,65,53,90,4,42,11,89,44,97,0,81,45,13,70,74,67,"4.828.103,00",1,14,231,1891,10694,2,"1.836.698,34","21.252,89","1.288,05","112,38","19,87","74.385,14","0,00","0,00","0,00","0,00","0,00","0,00","300.000,00"]
[null,1013,"2010-02-24",88,30,60,80,69,11,59,0,99,22,47,8,63,87,55,84,3,48,72,26,"3.960.798,00",0,18,199,1613,9750,1,"0,00","13.560,63","1.226,59","108,09","17,88","122.045,67","366.136,91","0,00","0,00","0,00","0,00","0,00","800.000,00"]
[null,1014,"2010-02-27",96,1,12,38,75,18,9,60,39,37,91,58,17,11,33,72,61,5,32,27,"4.579.778,00",0,9,129,1554,9959,0,"0,00","31.359,67","2.187,88","129,72","20,24","0,00","930.610,97","0,00","0,00","0,00","0,00","0,00","1.400.000,00"]
[null,1015,"2010-03-03",73,72,35,81,93,17,42,20,92,11,46,24,58,96,8,66,31,0,2,52,"4.796.478,00",0,12,199,1654,9893,0,"0,00","24.632,63","1.485,38","127,65","21,34","0,00","1.521.794,10","0,00","0,00","0,00","0,00","0,00","2.000.000,00"]
[null,1016,"2010-03-06",57,1,90,29,20,5,50,62,8,77,76,23,70,4,11,6,36,87,49,86,"5.520.657,00",0,7,208,1604,9762,0,"0,00","48.602,92","1.635,67","151,50","24,89","0,00","2.202.234,86","0,00","0,00","0,00","0,00","0,00","2.800.000,00"]
[null,1017,"2010-03-10",93,86,37,35,91,7,44,19,42,16,83,17,4,45,11,12,76,66,50,41,"5.520.545,00",0,12,203,1767,11334,1,"0,00","28.351,12","1.675,93","137,52","21,44","170.106,75","2.712.555,09","0,00","0,00","0,00","0,00","0,00","3.300.000,00"]
[null,1018,"2010-03-13",65,15,49,50,80,40,73,39,26,0,86,28,12,31,79,32,61,2,82,8,"5.950.681,00",1,14,166,1543,9606,3,"3.262.637,16","26.194,38","2.209,16","169,76","27,26","61.120,24","0,00","0,00","0,00","0,00","0,00","0,00","400.000,00"]
[null,1019,"2010-03-17",69,99,85,55,9,86,0,59,21,27,53,50,44,25,35,34,8,1,75,48,"4.320.222,00",1,18,178,1566,9588,1,"399.362,14","14.791,19","1.495,74","121,43","19,83","133.120,73","0,00","0,00","0,00","0,00","0,00","0,00","400.000,00"]
[null,1020,"2010-03-20",31,57,93,44,20,13,50,19,34,98,30,37,47,51,79,88,59,23,2,9,"4.421.315,00",0,8,168,1532,9062,0,"0,00","34.058,93","1.621,86","127,03","21,47","0,00","544.942,94","0,00","0,00","0,00","0,00","0,00","1.000.000,00"]
[null,1021,"2010-03-24",45,42,85,40,23,33,19,27,74,8,50,26,41,69,25,96,2,89,1,52,"4.429.800,00",0,10,129,1250,7915,0,"0,00","27.299,44","2.116,24","155,99","24,63","0,00","1.090.931,69","0,00","0,00","0,00","0,00","0,00","1.500.000,00"]
[null,1022,"2010-03-27",13,53,80,46,3,41,78,89,60,6,15,28,55,79,42,48,74,62,31,29,"4.801.802,00",0,9,141,1375,8375,0,"0,00","32.879,96","2.098,72","153,72","25,23","0,00","1.682.771,01","0,00","0,00","0,00","0,00","0,00","2.200.000,00"]
[null,1023,"2010-03-31",25,32,80,59,48,13,93,69,76,49,39,18,95,6,90,19,70,73,79,75,"4.904.639,00",0,11,114,1186,7876,1,"0,00","27.477,92","2.651,38","182,03","27,41","151.128,62","2.136.156,76","0,00","0,00","0,00","0,00","0,00","2.600.000,00"]
[null,1024,"2010-04-03",98,99,40,74,6,26,41,20,13,97,16,49,38,91,45,51,21,4,69,55,"4.466.472,00",0,11,144,1305,8115,0,"0,00","25.023,12","1.911,49","150,65","24,22","0,00","2.686.665,46","0,00","0,00","0,00","0,00","0,00","3.000.000,00"]
[null,1025,"2010-04-07",21,43,90,36,71,6,16,77,87,32,40,68,92,49,85,54,38,30,27,82,"5.551.002,00",1,18,352,2529,12677,3,"3.199.801,13","19.005,03","1.388,35","96,61","19,27","57.015,08","0,00","0,00","0,00","0,00","0,00","0,00","400.000,00"]
[null,1026,"2010-04-10",69,47,2,32,26,56,25,44,53,78,10,51,45,77,64,93,11,80,9,43,"4.621.573,00",0,10,166,1499,9220,0,"0,00","28.481,28","1.715,74","135,71","22,06","0,00","569.625,46","0,00","0,00","0,00","0,00","0,00","1.000.000,00"]
[null,1027,"2010-04-14",74,21,47,68,7,11,91,48,78,5,24,56,10,38,30,44,15,95,73,31,"4.636.989,00",0,12,145,1452,8943,0,"0,00","23.813,56","1.970,78","140,57","22,82","0,00","1.141.150,98","0,00","0,00","0,00","0,00","0,00","1.700.000,00"]
[null,1028,"2010-04-17",19,1,74,81,75,95,35,40,44,72,62,76,6,82,66,20,29,15,8,56,"5.071.175,00",0,9,129,1245,8027,0,"0,00","34.724,47","2.422,64","179,30","27,80","0,00","1.766.191,50","0,00","0,00","0,00","0,00","0,00","2.400.000,00"]
[null,1029,"2010-04-22",95,34,5,81,74,16,85,48,94,44,27,14,76,59,3,93,21,29,6,98,"4.348.131,00",0,12,167,1463,8847,1,"0,00","22.330,12","1.604,56","130,82","21,63","133.980,70","2.168.133,55","0,00","0,00","0,00","0,00","0,00","2.700.000,00"]
[null,1030,"2010-04-24",63,47,2,45,49,90,60,53,78,83,17,89,13,91,64,74,86,0,92,39,"4.639.176,00",2,14,206,1673,9921,0,"1.298.489,92","20.421,25","1.387,85","122,06","20,58","0,00","0,00","0,00","0,00","0,00","0,00","0,00","400.000,00"]
[null,1031,"2010-04-28",74,91,88,44,40,45,41,25,22,37,19,82,65,83,15,0,32,9,87,27,"4.072.086,00",0,6,161,1422,8626,0,"0,00","41.824,93","1.558,69","126,05","20,78","0,00","644.847,98","0,00","0,00","0,00","0,00","0,00","1.000.000,00"]
[null,1032,"2010-04-30",0,21,22,64,79,11,2,7,97,55,77,9,17,73,12,94,31,84,87,99,"3.345.125,00",0,12,229,1535,9206,0,"0,00","17.179,11","1.286,02","95,92","15,99","0,00","1.057.146,63","0,00","0,00","0,00","0,00","0,00","1.500.000,00"]
[null,1033,"2010-05-05",33,71,36,10,55,4,57,41,8,1,67,9,20,61,54,89,38,51,87,94,"5.060.202,00",1,8,203,1849,10485,0,"1.524.912,66","38.980,51","1.536,18","120,46","21,24","0,00","0,00","0,00","0,00","0,00","0,00","155.922,03","600.000,00"]
[null,1034,"2010-05-08",61,24,3,29,54,0,64,36,8,34,90,79,60,4,80,9,87,43,58,12,"4.531.333,00",1,18,188,1471,8713,0,"574.799,31","15.513,97","1.485,38","135,59","22,89","0,00","0,00","0,00","0,00","0,00","0,00","139.625,76","500.000,00"]
[null,1035,"2010-05-12",29,47,39,66,71,46,26,30,3,69,0,14,92,82,85,8,5,35,81,73,"4.243.166,00",0,5,137,1272,7757,0,"0,00","52.298,54","1.908,71","146,84","24,07","0,00","662.611,20","0,00","0,00","0,00","0,00","0,00","1.200.000,00"]
[null,1036,"2010-05-15",93,6,36,69,40,37,34,86,18,20,62,49,1,42,63,80,12,60,78,71,"4.710.122,00",0,9,184,1677,9345,0,"0,00","32.252,19","1.577,55","123,63","22,18","0,00","1.243.150,64","0,00","0,00","0,00","0,00","0,00","1.800.000,00"]
[null,1037,"2010-05-19",10,59,41,75,72,94,96,5,49,50,13,46,47,62,29,69,32,7,21,26,"4.754.527,00",0,14,173,1578,9387,0,"0,00","20.929,02","1.693,68","132,63","22,29","0,00","1.829.163,15","0,00","0,00","0,00","0,00","0,00","2.300.000,00"]
[null,1038,"2010-05-22",67,22,18,6,0,98,35,7,36,85,10,39,3,84,23,64,21,82,57,17,"5.171.890,00",0,13,269,1748,10287,0,"0,00","24.517,46","1.184,86","130,24","22,13","0,00","2.466.617,15","0,00","0,00","0,00","0,00","0,00","3.000.000,00"]
[null,1039,"2010-05-26",17,2,81,54,22,86,73,23,48,79,38,36,6,95,26,12,31,10,82,60,"5.246.617,00",0,7,165,1439,9414,0,"0,00","46.190,31","1.959,59","160,49","24,53","0,00","3.113.281,51","0,00","0,00","0,00","0,00","0,00","3.800.000,00"]
[null,1040,"2010-05-29",70,72,86,15,61,17,44,95,74,9,68,5,83,26,37,71,22,46,79,7,"5.747.823,00",0,22,298,2377,13346,2,"0,00","16.100,91","1.188,66","106,44","18,95","88.554,97","3.644.611,35","0,00","0,00","0,00","0,00","0,00","4.300.000,00"]
[null,1041,"2010-06-02",44,59,40,55,11,81,4,95,79,90,25,38,52,42,29,84,22,93,53,19,"6.357.994,00",0,21,291,2672,14314,0,"0,00","18.658,23","1.346,47","104,74","19,55","0,00","4.428.256,92","0,00","0,00","0,00","0,00","0,00","5.000.000,00"]
[null,1042,"2010-06-05",42,10,14,34,73,60,64,5,92,12,89,25,65,35,48,11,45,15,20,86,"6.223.814,00",0,12,222,2222,13223,2,"0,00","31.962,81","1.727,72","123,29","20,71","95.888,43","5.003.587,46","0,00","0,00","0,00","0,00","0,00","5.600.000,00"]
[null,1043,"2010-06-09",48,44,49,59,96,31,0,3,90,38,4,41,16,11,91,55,17,28,72,94,"7.357.585,00",1,12,246,2478,15933,1,"5.683.724,01","37.785,37","1.843,19","130,69","20,32","226.712,22","0,00","0,00","0,00","0,00","0,00","0,00","500.000,00"]
[null,1044,"2010-06-12",29,25,61,41,23,46,82,37,44,77,11,6,22,55,81,98,7,80,49,31,"4.460.416,00",0,11,180,1849,11318,0,"0,00","24.989,19","1.527,12","106,18","17,34","0,00","549.762,27","0,00","0,00","0,00","0,00","0,00","1.000.000,00"]
[null,1045,"2010-06-16",80,90,28,47,44,14,27,76,95,99,20,32,8,37,79,48,58,97,11,25,"4.341.312,00",1,7,129,1216,7839,0,"951.073,97","38.220,17","2.073,96","157,15","24,37","0,00","0,00","0,00","0,00","0,00","0,00","0,00","500.000,00"]
[null,1046,"2010-06-19",47,37,31,53,88,70,30,89,93,13,58,36,34,17,76,60,23,38,63,77,"4.330.805,00",2,15,149,1292,7964,1,"267.055,51","17.792,91","1.791,23","147,55","23,93","133.446,84","0,00","0,00","0,00","0,00","0,00","0,00","400.000,00"]
[null,1047,"2010-06-23",96,31,73,91,53,38,41,50,69,88,97,29,55,40,76,34,32,90,27,15,"3.964.394,00",0,9,129,1261,7584,0,"0,00","27.145,88","1.893,90","138,38","23,01","0,00","488.625,79","0,00","0,00","0,00","0,00","0,00","1.000.000,00"]
[null,1048,"2010-06-26",37,16,41,78,45,86,47,11,95,3,63,56,34,26,99,52,51,42,89,76,"4.064.855,00",0,6,120,1273,8017,0,"0,00","41.750,66","2.087,54","140,55","22,31","0,00","989.633,73","0,00","0,00","0,00","0,00","0,00","1.500.000,00"]
[null,1049,"2010-06-30",70,14,76,7,0,22,3,58,67,95,89,48,80,51,13,42,41,18,31,85,"4.260.941,00",0,7,135,1202,7509,0,"0,00","37.512,59","1.945,10","156,04","24,97","0,00","1.514.809,99","0,00","0,00","0,00","0,00","0,00","2.000.000,00"]
[null,1050,"2010-07-03",1,28,3,53,4,33,97,71,43,47,2,69,86,19,17,6,89,84,78,54,"4.568.621,00",0,9,148,1508,9025,0,"0,00","31.283,28","1.902,36","133,35","22,28","0,00","2.077.908,92","0,00","0,00","0,00","0,00","0,00","2.500.000,00"]
[null,1051,"2010-07-07",79,67,0,43,84,97,87,37,22,44,98,68,72,48,61,91,93,54,55,99,"5.198.536,00",1,24,322,2633,13782,0,"2.558.462,57","13.348,71","1.421,33","86,91","16,60","0,00","0,00","0,00","0,00","0,00","0,00","160.184,56","600.000,00"]
[null,1052,"2010-07-10",34,92,66,60,23,35,39,53,90,68,2,57,3,29,40,0,6,16,79,97,"4.386.908,00",0,12,134,1185,7358,1,"0,00","22.529,26","2.017,54","162,96","26,24","135.175,56","565.711,16","0,00","0,00","0,00","0,00","0,00","1.000.000,00"]
[null,1053,"2010-07-14",23,6,26,13,2,9,97,29,43,3,66,34,87,60,68,1,7,55,81,86,"4.494.399,00",2,31,404,3248,15343,1,"490.587,12","8.934,69","979,40","60,91","12,89","138.487,72","0,00","0,00","0,00","0,00","0,00","0,00","400.000,00"]
[null,1054,"2010-07-17",47,18,10,99,24,5,49,98,21,45,77,87,40,14,41,34,17,4,57,79,"4.296.192,00",1,15,167,1506,9162,0,"397.140,80","17.650,70","1.585,39","125,57","20,64","0,00","0,00","0,00","0,00","0,00","0,00","0,00","500.000,00"]
[null,1055,"2010-07-21",70,58,7,38,87,5,85,36,86,28,72,63,98,3,96,97,14,23,13,16,"4.205.452,00",0,15,191,1758,9983,0,"0,00","17.277,90","1.356,91","105,30","18,54","0,00","650.717,33","0,00","0,00","0,00","0,00","0,00","1.000.000,00"]
[null,1056,"2010-07-24",46,31,6,1,36,95,13,71,66,2,19,98,8,23,89,67,86,26,30,84,"4.537.480,00",0,14,185,1688,9892,1,"0,00","19.973,59","1.511,51","118,32","20,19","139.815,19","1.070.162,83","0,00","0,00","0,00","0,00","0,00","1.500.000,00"]
[null,1057,"2010-07-28",96,44,68,62,57,34,81,83,90,65,12,38,41,21,86,37,23,84,93,35,"4.561.051,00",0,10,148,1322,8101,0,"0,00","28.108,29","1.899,21","151,87","24,78","0,00","1.632.328,72","0,00","0,00","0,00","0,00","0,00","2.200.000,00"]
[null,1058,"2010-07-31",43,66,54,53,12,34,98,27,79,45,55,58,8,28,47,38,86,51,99,5,"4.928.719,00",0,19,281,2297,12994,0,"0,00","15.986,37","1.080,93","94,45","16,69","0,00","2.239.811,03","0,00","0,00","0,00","0,00","0,00","3.000.000,00"]
[null,1059,"2010-08-04",52,85,39,88,92,41,57,58,53,97,78,30,38,48,63,4,5,95,15,65,"5.274.967,00",0,10,143,1377,8771,0,"0,00","32.507,93","2.273,28","168,62","26,47","0,00","2.889.969,65","0,00","0,00","0,00","0,00","0,00","3.500.000,00"]
[null,1060,"2010-08-07",69,81,74,70,95,39,26,41,42,3,30,13,67,32,29,82,78,2,19,37,"5.686.832,00",0,20,196,2102,10867,1,"0,00","17.523,06","1.788,07","119,09","23,03","175.230,62","3.415.661,48","0,00","0,00","0,00","0,00","0,00","4.000.000,00"]
[null,1061,"2010-08-11",2,20,48,39,26,25,51,94,90,7,72,71,30,43,91,53,65,70,82,16,"5.861.005,00",1,20,162,1504,9063,0,"3.957.453,88","18.059,75","2.229,60","171,54","28,46","0,00","0,00","0,00","0,00","0,00","0,00","0,00","600.000,00"]
[null,1062,"2010-08-14",47,19,20,75,29,53,88,30,12,95,48,8,76,64,99,38,17,3,4,73,"4.541.360,00",0,5,166,1511,9501,0,"0,00","55.973,89","1.685,96","132,30","21,04","0,00","740.336,41","0,00","0,00","0,00","0,00","0,00","1.200.000,00"]
[null,1063,"2010-08-18",65,35,85,21,11,91,53,31,48,74,6,37,2,36,73,87,64,97,86,54,"4.622.487,00",0,3,132,1120,7174,0,"0,00","94.956,35","2.158,10","181,67","28,36","0,00","1.310.074,51","0,00","0,00","0,00","0,00","0,00","1.800.000,00"]
[null,1064,"2010-08-21",46,91,56,92,87,79,8,66,53,50,48,93,2,68,85,55,32,15,1,9,"4.971.808,00",0,6,183,1469,9539,0,"0,00","51.066,10","1.674,30","148,98","22,94","0,00","1.922.867,67","0,00","0,00","0,00","0,00","0,00","2.500.000,00"]
[null,1065,"2010-08-25",42,31,19,23,89,24,7,33,81,21,85,58,18,96,78,76,47,84,45,53,"5.027.802,00",1,12,197,1793,10810,1,"2.387.638,63","25.820,61","1.572,83","123,43","20,47","154.923,68","0,00","0,00","0,00","0,00","0,00","0,00","400.000,00"]
[null,1066,"2010-08-28",79,91,89,43,73,3,61,85,34,59,74,39,95,19,70,64,44,77,63,48,"4.306.167,00",1,5,204,1489,9308,0,"398.062,89","53.075,05","1.300,86","127,30","20,36","0,00","0,00","0,00","0,00","0,00","0,00","132.687,65","600.000,00"]
[null,1067,"2010-09-01",58,12,9,57,60,43,87,15,67,45,86,11,75,46,80,93,55,6,79,0,"4.348.218,00",1,14,137,1251,7844,1,"534.637,74","19.140,48","1.955,97","153,00","24,40","133.983,39","0,00","0,00","0,00","0,00","0,00","0,00","400.000,00"]
[null,1068,"2010-09-04",32,75,34,28,44,86,52,0,51,84,36,24,72,97,55,9,60,2,85,67,"4.744.677,00",0,11,133,1501,9032,1,"0,00","26.581,75","2.198,49","139,14","23,12","146.199,64","438.598,84","0,00","0,00","0,00","0,00","0,00","1.000.000,00"]
[null,1069,"2010-09-08",10,51,86,91,33,28,19,41,70,93,34,58,75,78,14,17,42,92,13,77,"3.789.891,00",0,10,102,1075,6969,0,"0,00","23.355,88","2.289,80","155,18","23,93","0,00","905.716,49","0,00","0,00","0,00","0,00","0,00","1.300.000,00"]
[null,1070,"2010-09-11",62,15,88,30,54,42,51,61,71,84,96,7,10,5,73,39,76,98,83,12,"5.012.127,00",0,9,140,1312,7927,1,"0,00","34.320,14","2.206,30","168,16","27,83","154.440,68","1.369.038,45","0,00","0,00","0,00","0,00","0,00","1.900.000,00"]
[null,1071,"2010-09-15",98,42,1,84,45,61,17,46,30,74,72,22,81,83,97,50,63,62,79,23,"5.005.962,00",0,11,127,1359,8463,0,"0,00","28.045,58","2.429,14","162,14","26,03","0,00","1.986.041,24","0,00","0,00","0,00","0,00","0,00","2.500.000,00"]
[null,1072,"2010-09-18",64,43,86,75,46,68,49,18,10,39,15,67,92,21,7,42,55,41,81,84,"5.421.538,00",0,5,200,1774,10697,0,"0,00","66.822,40","1.670,56","134,52","22,31","0,00","2.654.265,24","0,00","0,00","0,00","0,00","0,00","3.200.000,00"]
[null,1073,"2010-09-22",86,0,27,70,29,64,24,14,12,58,35,49,53,54,7,73,21,13,67,32,"5.571.277,00",1,27,271,2431,13648,1,"3.169.275,13","12.716,30","1.266,94","100,88","17,96","171.669,99","0,00","0,00","0,00","0,00","0,00","0,00","400.000,00"]
[null,1074,"2010-09-25",40,59,58,89,12,41,47,66,28,17,92,27,49,69,10,7,4,75,44,32,"4.390.274,00",0,12,211,1721,10203,0,"0,00","22.546,54","1.282,27","112,29","18,94","0,00","541.117,02","0,00","0,00","0,00","0,00","0,00","1.000.000,00"]
[null,1075,"2010-09-29",7,15,3,10,38,71,62,57,25,50,27,83,75,35,68,80,63,70,13,98,"4.604.214,00",1,19,246,1945,11401,3,"966.731,43","14.933,84","1.153,43","104,20","17,77","47.290,50","0,00","0,00","0,00","0,00","0,00","0,00","400.000,00"]
[null,1076,"2010-10-02",82,7,83,33,75,88,4,19,53,27,48,38,86,35,0,84,40,65,74,95,"4.492.223,00",1,14,157,1651,9686,0,"415.261,94","19.774,38","1.763,32","119,77","20,41","0,00","0,00","0,00","0,00","0,00","0,00","138.420,66","500.000,00"]
[null,1077,"2010-10-06",47,6,52,81,75,88,15,70,40,92,98,76,71,2,38,33,17,63,77,11,"4.406.927,00",0,16,161,1559,8933,0,"0,00","16.974,05","1.686,86","124,43","21,71","0,00","681.590,23","0,00","0,00","0,00","0,00","0,00","1.200.000,00"]
[null,1078,"2010-10-09",68,67,48,37,44,5,18,16,41,56,15,20,50,10,52,6,74,71,54,23,"4.685.564,00",0,22,220,1880,10607,0,"0,00","13.125,28","1.312,53","109,70","19,44","0,00","1.259.102,79","0,00","0,00","0,00","0,00","0,00","1.800.000,00"]
[null,1079,"2010-10-13",78,94,28,44,42,92,12,75,84,83,4,1,9,32,77,13,93,69,79,54,"4.198.314,00",0,8,116,1422,7738,0,"0,00","32.341,08","2.230,42","129,96","23,88","0,00","1.776.560,05","0,00","0,00","0,00","0,00","0,00","2.300.000,00"]
[null,1080,"2010-10-16",71,49,69,72,51,97,67,34,63,99,41,15,61,37,84,81,86,4,70,68,"5.284.294,00",0,12,198,1644,9990,1,"0,00","27.137,84","1.644,72","141,49","23,28","162.827,07","2.265.041,18","0,00","0,00","0,00","0,00","0,00","2.800.000,00"]
[null,1081,"2010-10-20",62,89,98,23,42,36,25,58,45,73,54,39,19,29,35,31,47,24,74,11,"5.147.282,00",4,61,481,3521,17933,1,"685.214,23","5.200,17","942,11","64,35","12,63","158.605,26","0,00","0,00","0,00","0,00","0,00","0,00","400.000,00"]
[null,1082,"2010-10-23",68,66,67,25,78,1,48,9,94,29,21,96,39,76,99,3,51,84,81,60,"4.418.724,00",0,10,119,1183,7050,0,"0,00","27.231,18","2.288,33","164,41","27,58","0,00","544.623,59","0,00","0,00","0,00","0,00","0,00","1.100.000,00"]
[null,1083,"2010-10-27",13,22,40,39,80,67,49,21,92,64,0,85,48,2,54,63,72,84,25,61,"4.482.203,00",1,12,109,1173,7311,0,"958.959,28","23.018,65","2.534,17","168,20","26,98","0,00","0,00","0,00","0,00","0,00","0,00","0,00","500.000,00"]
[null,1084,"2010-10-30",56,11,45,26,38,59,91,72,93,35,75,77,42,52,53,64,57,81,46,85,"4.334.111,00",0,17,260,1935,11017,0,"0,00","15.711,61","1.467,56","98,59","17,31","0,00","672.306,65","0,00","0,00","0,00","0,00","0,00","1.000.000,00"]
[null,1085,"2010-11-03",17,82,11,96,61,34,9,33,7,93,27,83,42,63,44,38,56,86,64,92,"3.980.002,00",0,6,130,1259,7791,0,"0,00","40.879,13","1.886,73","139,15","22,48","0,00","1.162.856,17","0,00","0,00","0,00","0,00","0,00","1.600.000,00"]
[null,1086,"2010-11-06",16,74,72,58,66,96,98,20,78,44,83,15,38,69,99,19,27,3,25,57,"5.161.042,00",1,19,241,2225,13063,1,"1.639.943,87","16.739,92","1.319,74","102,10","17,39","159.029,25","0,00","0,00","0,00","0,00","0,00","0,00","400.000,00"]
[null,1087,"2010-11-10",19,91,41,89,76,62,26,7,46,72,57,5,45,55,16,90,30,87,40,52,"4.301.757,00",1,11,128,1160,7613,1,"397.655,23","24.100,32","2.071,12","163,24","24,87","132.551,76","0,00","0,00","0,00","0,00","0,00","0,00","400.000,00"]
[null,1088,"2010-11-13",29,57,47,92,35,61,42,43,40,1,56,19,0,38,58,84,80,95,21,7,"4.351.944,00",0,14,154,1318,8159,0,"0,00","19.156,88","1.741,53","145,34","23,47","0,00","536.392,72","0,00","0,00","0,00","0,00","0,00","1.000.000,00"]
[null,1089,"2010-11-17",83,61,35,64,99,49,93,38,43,89,4,22,55,34,7,28,76,74,84,85,"3.952.194,00",0,7,140,1289,8162,0,"0,00","34.794,44","1.739,72","134,96","21,31","0,00","1.023.514,80","0,00","0,00","0,00","0,00","0,00","1.400.000,00"]
[null,1090,"2010-11-20",47,94,8,50,3,63,19,59,89,9,0,82,1,92,35,68,28,16,61,51,"4.448.790,00",1,11,168,1481,8362,0,"1.434.761,78","24.924,06","1.631,94","132,22","23,41","0,00","0,00","0,00","0,00","0,00","0,00","0,00","500.000,00"]
[null,1091,"2010-11-24",86,28,87,53,95,78,27,79,61,96,80,57,44,59,74,63,83,54,65,42,"4.015.324,00",1,26,306,2263,27586,0,"508.259,65","9.517,37","1.155,23","78,10","6,40","0,00","0,00","0,00","0,00","0,00","0,00","0,00","500.000,00"]
[null,1092,"2010-11-27",58,54,52,29,46,6,90,47,79,68,48,2,27,14,55,87,22,5,49,75,"4.156.680,00",0,21,134,1389,8767,0,"0,00","12.198,23","1.911,66","131,73","20,87","0,00","636.051,53","0,00","0,00","0,00","0,00","0,00","1.000.000,00"]
[null,1093,"2010-12-01",99,98,2,44,77,82,73,78,69,87,1,43,83,93,8,21,63,39,60,25,"4.490.466,00",0,13,150,1283,7752,0,"0,00","21.287,16","1.844,89","154,06","25,49","0,00","1.189.517,56","0,00","0,00","0,00","0,00","0,00","1.700.000,00"]
[null,1094,"2010-12-04",64,88,20,85,25,65,49,5,77,67,78,79,15,84,57,73,29,50,23,45,"5.069.134,00",0,22,237,2056,11853,1,"0,00","14.199,75","1.318,12","108,53","18,82","156.197,26","1.658.109,26","0,00","0,00","0,00","0,00","0,00","2.200.000,00"]
[null,1095,"2010-12-08",13,26,89,66,86,51,35,23,73,81,64,44,21,9,32,75,92,56,50,34,"4.922.820,00",0,18,236,2102,11561,1,"0,00","16.854,31","1.285,50","103,09","18,74","151.688,81","2.113.175,67","0,00","0,00","0,00","0,00","0,00","2.600.000,00"]
[null,1096,"2010-12-11",65,4,5,8,99,48,0,12,10,66,9,90,76,86,46,6,58,50,40,27,"5.514.572,00",0,13,254,2186,14210,1,"0,00","26.141,95","1.337,98","111,04","17,08","169.922,72","2.622.943,75","0,00","0,00","0,00","0,00","0,00","3.200.000,00"]
[null,1097,"2010-12-15",20,41,89,21,61,13,78,97,65,79,44,92,51,9,37,39,1,10,91,40,"5.609.498,00",0,20,270,2277,13405,1,"0,00","17.284,77","1.280,35","108,44","18,42","172.847,71","3.141.486,79","0,00","0,00","0,00","0,00","0,00","3.750.000,00"]
[null,1098,"2010-12-18",17,94,91,87,67,82,53,10,6,29,32,95,4,46,37,45,1,42,68,71,"5.915.258,00",0,8,234,1856,11548,1,"0,00","45.567,30","1.557,85","140,29","22,54","182.269,21","3.688.294,36","0,00","0,00","0,00","0,00","0,00","4.400.000,00"]
[null,1099,"2010-12-22",23,59,81,64,17,73,2,37,54,33,10,4,7,16,48,38,14,79,0,13,"5.837.734,00",1,16,231,2153,13113,0,"4.227.935,58","22.485,05","1.557,41","119,35","19,59","0,00","0,00","0,00","0,00","0,00","0,00","0,00","400.000,00"]
[null,1100,"2010-12-24",32,76,98,15,60,36,96,28,70,7,31,52,44,37,68,13,26,73,33,3,"2.663.323,00",0,7,91,852,5128,0,"0,00","23.447,44","1.803,65","137,60","22,86","0,00","508.144,54","0,00","0,00","0,00","0,00","0,00","850.000,00"]
[null,1101,"2010-12-29",27,23,21,73,48,84,26,47,31,22,46,70,33,56,87,64,94,98,10,57,"4.675.436,00",0,7,107,1155,7181,0,"0,00","41.161,73","2.692,83","178,18","28,66","0,00","1.084.408,79","0,00","0,00","0,00","0,00","0,00","1.400.000,00"]
[null,1102,"2010-12-31",1,89,70,51,56,82,33,64,21,75,30,57,25,15,99,60,12,80,40,14,"2.933.176,00",0,7,94,967,5522,0,"0,00","25.823,17","1.923,00","133,52","23,38","0,00","1.445.933,26","0,00","0,00","0,00","0,00","0,00","1.800.000,00"]
[null,1103,"2011-01-05",84,93,89,8,82,64,17,67,73,98,12,97,10,83,69,26,72,3,54,47,"5.098.812,00",0,15,242,2069,11778,0,"0,00","20.948,23","1.298,44","108,48","19,05","0,00","2.074.380,12","0,00","0,00","0,00","0,00","0,00","2.600.000,00"]
[null,1104,"2011-01-08",36,54,1,58,64,51,4,35,84,53,15,56,76,17,94,81,82,48,77,45,"5.597.664,00",0,13,249,2018,13208,0,"0,00","26.535,86","1.385,41","122,10","18,65","0,00","2.764.312,28","0,00","0,00","0,00","0,00","0,00","3.400.000,00"]
[null,1105,"2011-01-12",50,99,3,88,95,41,13,80,84,92,14,22,27,40,97,56,37,83,62,61,"6.049.905,00",1,15,145,1529,10019,1,"3.323.566,64","24.855,75","2.571,29","174,17","26,58","186.418,13","0,00","0,00","0,00","0,00","0,00","0,00","500.000,00"]
[null,1106,"2011-01-15",26,99,64,85,43,54,22,48,33,86,46,65,50,49,47,70,63,8,13,35,"4.459.005,00",0,9,175,1584,9690,0,"0,00","30.532,69","1.570,25","123,91","20,25","0,00","549.588,37","0,00","0,00","0,00","0,00","0,00","1.000.000,00"]
[null,1107,"2011-01-19",6,14,16,24,29,30,36,38,42,43,55,58,63,66,73,82,85,88,89,95,"4.622.303,00",0,15,208,1772,10455,0,"0,00","18.990,51","1.369,51","114,82","19,46","0,00","1.119.303,78","0,00","0,00","0,00","0,00","0,00","1.600.000,00"]
[null,1108,"2011-01-22",4,38,41,55,45,31,52,12,53,83,96,95,48,69,59,8,74,85,39,5,"4.933.421,00",0,10,132,1381,8759,0,"0,00","30.403,09","2.303,26","157,25","24,79","0,00","1.727.365,62","0,00","0,00","0,00","0,00","0,00","2.300.000,00"]
[null,1109,"2011-01-26",78,45,47,90,44,43,0,33,24,68,69,91,38,53,77,81,17,7,32,23,"4.945.404,00",0,11,193,1653,9933,0,"0,00","27.706,31","1.579,11","131,69","21,91","0,00","2.336.904,41","0,00","0,00","0,00","0,00","0,00","2.800.000,00"]
[null,1110,"2011-01-29",7,8,69,57,35,85,82,76,72,93,9,14,84,68,70,12,49,6,4,2,"6.032.761,50",0,11,145,1215,7585,0,"0,00","33.798,16","2.564,00","218,56","35,01","0,00","3.080.463,92","0,00","0,00","0,00","0,00","0,00","3.700.000,00"]
[null,1111,"2011-02-02",58,75,20,99,74,7,34,13,27,17,11,44,59,80,94,53,83,45,88,39,"7.045.606,50",0,13,217,1842,10317,0,"0,00","33.399,86","2.000,91","168,37","30,06","0,00","3.948.860,20","0,00","0,00","0,00","0,00","0,00","4.800.000,00"]
[null,1112,"2011-02-05",47,95,70,24,92,75,25,19,28,3,41,56,96,1,87,78,54,33,5,91,"7.649.422,50",0,19,277,2227,11965,0,"0,00","24.811,02","1.701,84","151,19","28,14","0,00","4.891.678,97","0,00","0,00","0,00","0,00","0,00","5.700.000,00"]
[null,1113,"2011-02-09",30,9,36,7,33,90,22,89,24,29,12,2,75,80,60,63,37,62,46,71,"8.128.863,00",1,6,168,1657,9163,1,"5.643.112,61","83.492,63","2.981,88","215,94","39,05","250.477,90","0,00","0,00","0,00","0,00","0,00","0,00","400.000,00"]
[null,1114,"2011-02-12",77,33,27,67,15,1,43,53,83,75,19,71,24,79,81,16,76,41,74,40,"5.342.905,50",0,12,107,975,6425,0,"0,00","27.438,84","3.077,25","241,22","36,60","0,00","658.532,27","0,00","0,00","0,00","0,00","0,00","1.200.000,00"]
[null,1115,"2011-02-16",80,66,72,31,55,30,50,88,69,0,75,29,71,14,45,20,61,76,7,67,"5.269.312,50",1,5,114,988,5920,1,"1.145.628,51","64.946,17","2.848,51","234,76","39,18","162.365,42","0,00","0,00","0,00","0,00","0,00","0,00","400.000,00"]
[null,1116,"2011-02-19",77,7,63,3,0,29,48,81,54,52,87,70,72,59,80,8,31,76,11,18,"5.080.846,50",0,6,124,1108,6456,0,"0,00","52.186,05","2.525,14","201,85","34,64","0,00","626.232,56","0,00","0,00","0,00","0,00","0,00","1.000.000,00"]
[null,1117,"2011-02-23",87,55,36,82,69,97,62,80,48,40,96,35,15,71,41,91,23,10,66,95,"5.228.196,00",1,6,98,1095,6321,0,"1.109.527,98","53.699,49","3.287,72","210,17","36,40","0,00","0,00","0,00","0,00","0,00","0,00","0,00","600.000,00"]
[null,1118,"2011-02-26",17,74,24,20,14,50,69,19,35,78,44,42,58,8,37,54,11,64,76,0,"5.044.710,00",0,20,175,1717,9966,0,"0,00","15.544,46","1.776,51","129,33","22,28","0,00","782.877,11","0,00","0,00","0,00","0,00","0,00","1.400.000,00"]
[null,1119,"2011-03-02",32,3,63,65,96,15,10,55,60,48,45,82,36,18,46,91,50,74,28,98,"5.532.438,00",0,10,148,1360,7959,0,"0,00","34.094,65","2.303,69","179,06","30,59","0,00","1.464.769,93","0,00","0,00","0,00","0,00","0,00","2.000.000,00"]
[null,1120,"2011-03-05",56,40,86,7,12,17,48,44,87,99,43,94,3,20,84,65,25,32,73,78,"5.866.701,00",0,11,165,1395,8360,1,"0,00","32.867,82","2.191,19","185,12","30,89","180.773,01","2.007.088,87","0,00","0,00","0,00","0,00","0,00","2.500.000,00"]
[null,1121,"2011-03-09",66,95,90,57,2,7,29,38,15,55,43,54,53,1,60,35,6,46,37,52,"3.628.024,50",0,4,85,834,4978,0,"0,00","55.895,88","2.630,39","191,48","32,08","0,00","2.454.255,91","0,00","0,00","0,00","0,00","0,00","2.800.000,00"]
[null,1122,"2011-03-12",54,32,28,14,45,48,68,79,2,70,17,23,9,13,0,57,71,3,58,11,"6.415.047,00",0,8,178,1702,10235,0,"0,00","49.417,34","2.221,01","165,91","27,59","0,00","3.244.933,47","0,00","0,00","0,00","0,00","0,00","4.000.000,00"]
[null,1123,"2011-03-16",40,61,16,53,79,23,41,38,51,68,7,37,10,84,45,0,26,33,25,69,"6.684.630,00",0,4,139,1257,8157,0,"0,00","102.988,08","2.963,69","234,09","36,07","0,00","4.068.838,09","0,00","0,00","0,00","0,00","0,00","4.700.000,00"]
[null,1124,"2011-03-19",56,38,65,96,78,15,68,41,13,36,8,53,44,20,29,9,30,93,32,62,"7.096.839,00",1,5,210,1729,9871,1,"4.724.871,22","87.471,09","2.082,64","180,68","31,64","218.677,74","0,00","0,00","0,00","0,00","0,00","0,00","250.000,00"]
[null,1125,"2011-03-23",12,84,31,15,7,96,63,57,82,14,3,5,40,92,54,22,70,60,62,53,"4.812.411,00",0,6,95,808,5541,1,"0,00","49.428,91","3.121,83","262,17","38,23","148.286,73","444.860,18","0,00","0,00","0,00","0,00","0,00","1.000.000,00"]
[null,1126,"2011-03-26",10,36,17,19,11,72,64,79,73,93,20,75,47,29,66,85,16,26,94,1,"5.235.915,00",1,8,138,1085,6818,1,"928.869,15","40.334,08","2.338,21","212,42","33,80","161.336,34","0,00","0,00","0,00","0,00","0,00","0,00","400.000,00"]
[null,1127,"2011-03-30",14,31,85,72,1,64,39,58,44,13,84,25,0,67,15,75,90,46,57,20,"4.499.008,50",1,7,81,785,5123,0,"415.889,19","39.608,50","3.422,96","252,28","38,65","0,00","0,00","0,00","0,00","0,00","0,00","0,00","500.000,00"]
[null,1128,"2011-04-02",84,59,29,64,52,27,19,73,35,76,72,3,48,44,8,55,88,16,46,61,"5.085.634,50",1,31,297,2182,11260,1,"608.746,75","10.110,04","1.507,51","102,59","19,88","156.705,69","0,00","0,00","0,00","0,00","0,00","0,00","400.000,00"]
[null,1129,"2011-04-06",53,58,85,68,89,20,48,55,1,15,87,97,28,21,18,62,98,43,3,7,"4.960.603,50",0,14,134,1300,7232,0,"0,00","21.836,15","2.281,39","167,97","30,19","0,00","611.412,18","0,00","0,00","0,00","0,00","0,00","1.100.000,00"]
[null,1130,"2011-04-09",18,81,79,76,14,34,22,5,86,60,39,44,23,93,98,17,66,65,50,94,"5.518.807,50",0,9,74,833,5452,0,"0,00","37.789,60","4.596,04","291,63","44,55","0,00","1.291.625,01","0,00","0,00","0,00","0,00","0,00","2.000.000,00"]
[null,1131,"2011-04-13",19,64,90,81,31,86,13,70,55,66,82,41,34,2,57,44,54,39,95,28,"5.589.141,00",1,7,135,1305,13901,0,"1.808.286,25","49.205,83","2.551,41","188,52","17,69","0,00","0,00","0,00","0,00","0,00","0,00","0,00","600.000,00"]
[null,1132,"2011-04-16",8,65,13,72,5,29,21,53,78,44,40,88,22,57,12,60,75,3,36,20,"5.059.731,00",2,57,617,2334,10199,1,"319.971,46","5.470,44","721,96","95,42","21,83","155.907,52","0,00","0,00","0,00","0,00","0,00","0,00","400.000,00"]
[null,1133,"2011-04-20",67,80,59,57,24,36,61,28,52,86,89,70,99,0,6,1,95,56,29,17,"4.615.422,00",0,5,99,769,4931,0,"0,00","56.886,73","2.873,07","264,19","41,20","0,00","568.867,32","0,00","0,00","0,00","0,00","0,00","1.000.000,00"]
[null,1134,"2011-04-23",75,84,79,46,41,1,23,34,89,9,17,52,49,42,5,58,24,60,22,55,"2.774.700,00",0,6,56,640,3822,0,"0,00","28.499,31","3.053,50","190,84","31,95","0,00","910.859,06","0,00","0,00","0,00","0,00","0,00","1.300.000,00"]
[null,1135,"2011-04-27",17,58,45,35,43,16,68,36,19,42,47,93,97,29,1,30,74,38,81,52,"5.046.778,50",1,6,95,984,6392,0,"1.377.384,21","51.836,13","3.273,86","225,76","34,75","0,00","0,00","0,00","0,00","0,00","0,00","0,00","500.000,00"]
[null,1136,"2011-04-30",96,18,32,90,9,94,40,48,63,2,44,57,21,81,62,92,14,88,15,71,"4.903.941,00",0,12,205,2061,7896,1,"0,00","25.184,51","1.474,22","104,73","27,33","151.107,10","608.829,63","0,00","0,00","0,00","0,00","0,00","1.100.000,00"]
[null,1137,"2011-05-04",13,76,54,91,85,94,20,19,67,53,88,81,50,27,17,49,46,42,74,31,"5.300.778,00",0,6,93,1036,6474,0,"0,00","54.444,99","3.512,58","225,22","36,04","0,00","1.262.169,53","0,00","0,00","0,00","0,00","0,00","1.800.000,00"]
[null,1138,"2011-05-07",65,31,72,12,47,86,20,21,22,28,79,78,88,39,1,73,57,25,98,17,"5.936.902,50",0,17,199,1771,8757,0,"0,00","21.521,90","1.838,55","147,56","29,84","0,00","1.993.914,07","0,00","0,00","0,00","0,00","0,00","2.600.000,00"]
[null,1139,"2011-05-11",97,12,77,7,87,18,67,44,66,27,5,51,99,1,50,15,20,80,32,9,"6.200.050,50",0,23,267,2264,11922,0,"0,00","16.612,58","1.431,05","120,54","22,89","0,00","2.758.092,54","0,00","0,00","0,00","0,00","0,00","3.400.000,00"]
[null,1140,"2011-05-14",89,26,59,38,62,24,16,74,99,10,29,53,20,97,47,35,71,94,48,69,"6.897.328,50",1,19,181,1603,9497,1,"3.395.682,89","22.371,59","2.348,40","189,40","31,96","212.530,13","0,00","0,00","0,00","0,00","0,00","0,00","300.000,00"]
[null,1141,"2011-05-18",86,72,49,83,22,26,84,11,15,45,38,20,28,44,2,64,87,74,18,82,"4.734.865,50",0,12,104,1120,6210,0,"0,00","24.316,21","2.805,72","186,09","33,56","0,00","583.589,16","0,00","0,00","0,00","0,00","0,00","1.100.000,00"]
[null,1142,"2011-05-21",51,63,91,86,23,49,15,45,83,71,31,70,50,9,94,1,75,79,44,37,"5.413.824,00",1,22,218,1620,8700,0,"1.084.044,08","15.165,30","1.530,44","147,10","27,39","0,00","0,00","0,00","0,00","0,00","0,00","0,00","500.000,00"]
[null,1143,"2011-05-25",97,26,34,15,87,63,36,43,23,81,10,8,33,35,60,20,91,49,51,40,"4.659.838,50",0,3,73,774,5067,0,"0,00","95.723,63","3.933,85","265,01","40,48","0,00","741.160,13","0,00","0,00","0,00","0,00","0,00","1.200.000,00"]
[null,1144,"2011-05-28",88,82,40,43,26,3,77,99,79,24,78,13,58,97,45,28,64,18,49,73,"5.295.945,00",0,12,222,1762,9456,0,"0,00","27.197,68","1.470,14","132,30","24,65","0,00","1.393.904,34","0,00","0,00","0,00","0,00","0,00","1.900.000,00"]
[null,1145,"2011-06-01",30,91,13,40,36,35,7,24,50,75,95,82,41,57,58,14,45,28,15,71,"5.615.740,50",0,17,149,1391,8321,0,"0,00","20.357,65","2.322,69","177,71","29,70","0,00","2.086.064,50","0,00","0,00","0,00","0,00","0,00","2.700.000,00"]
[null,1146,"2011-06-04",42,99,27,80,73,20,51,90,37,33,13,66,4,57,75,39,96,40,85,64,"6.423.457,50",0,19,198,1730,9722,0,"0,00","20.834,59","1.999,28","163,44","29,08","0,00","2.877.778,67","0,00","0,00","0,00","0,00","0,00","3.500.000,00"]
[null,1147,"2011-06-08",88,74,58,8,47,86,39,19,78,79,55,6,84,96,72,97,38,37,48,90,"6.612.934,50",1,11,203,1645,11342,0,"3.489.079,58","37.048,54","2.007,56","176,95","25,66","0,00","0,00","0,00","0,00","0,00","0,00","0,00","600.000,00"]
[null,1148,"2011-06-11",63,1,67,76,35,68,5,87,4,85,99,26,30,50,83,81,92,71,0,51,"5.207.785,50",0,17,152,1387,7546,2,"0,00","18.878,77","2.111,44","165,27","30,37","80.234,79","685.175,66","0,00","0,00","0,00","0,00","0,00","1.200.000,00"]
[null,1149,"2011-06-15",2,86,80,51,19,27,14,84,25,46,53,26,15,9,77,16,88,42,29,49,"5.292.346,50",0,7,123,1356,7936,1,"0,00","46.592,91","2.651,63","171,80","29,35","163.075,20","1.174.401,16","0,00","0,00","0,00","0,00","0,00","1.700.000,00"]
[null,1150,"2011-06-18",91,42,93,21,71,2,70,31,55,63,83,43,89,39,36,57,13,0,41,40,"5.689.960,50",1,6,136,1433,7816,0,"1.700.382,18","58.442,34","2.578,34","174,78","32,04","0,00","0,00","0,00","0,00","0,00","0,00","0,00","600.000,00"]
[null,1151,"2011-06-22",32,50,58,30,16,91,92,2,65,26,78,77,22,93,24,36,66,53,87,68,"4.765.740,00",0,6,71,762,4916,0,"0,00","48.949,55","4.136,58","275,30","42,67","0,00","762.721,59","0,00","0,00","0,00","0,00","0,00","1.200.000,00"]
[null,1152,"2011-06-25",20,34,87,19,40,47,8,21,52,16,39,33,1,99,25,71,88,17,3,79,"4.407.634,50",0,10,130,1190,6916,0,"0,00","27.162,84","2.089,45","163,04","28,05","0,00","1.305.978,36","0,00","0,00","0,00","0,00","0,00","2.000.000,00"]
[null,1153,"2011-06-29",45,70,46,86,71,14,79,27,87,12,72,98,42,84,38,92,4,96,97,40,"5.098.440,00",0,6,102,942,5778,0,"0,00","52.366,75","3.080,40","238,24","38,84","0,00","1.934.379,37","0,00","0,00","0,00","0,00","0,00","2.500.000,00"]
[null,1154,"2011-07-02",31,11,94,61,35,91,9,47,0,80,7,29,4,88,81,37,73,32,89,48,"6.082.495,50",0,17,193,1684,9606,0,"0,00","22.049,69","1.942,20","158,99","27,87","0,00","2.684.068,77","0,00","0,00","0,00","0,00","0,00","3.300.000,00"]
[null,1155,"2011-07-06",66,61,47,89,15,52,53,78,26,57,65,11,85,36,13,30,29,97,49,86,"6.547.152,00",1,10,187,1421,9125,2,"3.289.288,73","40.348,00","2.157,65","202,81","31,58","100.870,00","0,00","0,00","0,00","0,00","0,00","0,00","400.000,00"]
[null,1156,"2011-07-09",32,6,8,77,27,29,23,46,21,83,65,50,41,81,85,5,28,56,9,45,"4.876.480,50",0,7,196,3524,7683,0,"0,00","42.931,70","1.533,28","60,91","27,93","0,00","601.043,72","0,00","0,00","0,00","0,00","0,00","1.100.000,00"]
[null,1157,"2011-07-13",82,86,51,5,38,29,4,50,1,67,9,69,8,87,84,17,60,98,85,43,"5.381.268,00",0,0,88,881,5696,0,"0,00","0,00","3.768,52","268,87","41,58","0,00","1.264.304,31","331.630,29","0,00","0,00","0,00","0,00","1.800.000,00"]
[null,1158,"2011-07-16",13,45,54,32,97,56,61,92,12,0,30,49,60,36,42,87,91,47,1,75,"6.083.265,00",0,16,126,1429,8450,0,"0,00","44.157,65","2.975,33","187,38","31,68","0,00","2.014.088,55","0,00","0,00","0,00","0,00","0,00","2.600.000,00"]
[null,1159,"2011-07-20",89,11,15,24,20,59,53,10,73,40,63,98,46,93,34,39,17,3,86,38,"6.033.171,00",1,17,193,1664,8941,1,"2.571.796,01","21.870,88","1.926,45","159,60","29,70","185.902,51","0,00","0,00","0,00","0,00","0,00","0,00","400.000,00"]
[null,1160,"2011-07-23",69,51,43,38,75,33,12,70,19,24,57,83,8,1,37,35,42,55,7,27,"4.969.695,00",0,13,230,1805,9869,0,"0,00","23.558,95","1.331,59","121,19","22,16","0,00","612.532,75","0,00","0,00","0,00","0,00","0,00","1.200.000,00"]
[null,1161,"2011-07-27",42,45,95,78,27,90,50,39,87,79,99,63,26,54,73,91,0,55,96,67,"5.095.449,00",0,7,146,1249,7810,0,"0,00","44.859,46","2.150,80","179,58","28,71","0,00","1.240.565,13","0,00","0,00","0,00","0,00","0,00","1.600.000,00"]
[null,1162,"2011-07-30",97,33,50,16,10,6,37,82,35,65,12,29,83,58,38,56,14,22,24,4,"5.721.003,00",0,15,266,2066,10634,0,"0,00","23.504,47","1.325,44","121,89","23,68","0,00","1.945.699,28","0,00","0,00","0,00","0,00","0,00","2.500.000,00"]
[null,1163,"2011-08-03",33,82,4,69,23,8,70,19,66,54,9,79,30,25,89,42,12,29,31,74,"6.115.933,50",2,11,158,1375,8050,0,"1.255.528,66","34.264,12","2.385,48","195,79","33,44","0,00","0,00","0,00","0,00","0,00","0,00","0,00","600.000,00"]
[null,1164,"2011-08-06",23,92,54,34,55,94,39,51,56,20,46,38,27,31,64,2,32,89,25,78,"5.237.640,00",0,8,126,1108,7170,0,"0,00","40.347,37","2.561,74","208,08","32,15","0,00","834.010,63","0,00","0,00","0,00","0,00","0,00","1.400.000,00"]
[null,1165,"2011-08-10",64,24,89,12,49,32,48,60,68,62,79,42,5,57,28,21,59,33,43,92,"5.339.739,00",1,9,129,1254,7851,0,"1.327.617,11","36.563,44","2.550,94","187,44","29,93","0,00","0,00","0,00","0,00","0,00","0,00","0,00","600.000,00"]
[null,1166,"2011-08-13",2,11,68,29,97,18,98,78,45,59,58,48,94,44,88,66,6,30,54,20,"5.076.732,00",0,4,90,910,5762,0,"0,00","78.215,68","3.476,25","245,57","38,78","0,00","790.260,94","0,00","0,00","0,00","0,00","0,00","1.400.000,00"]
[null,1167,"2011-08-17",99,50,0,55,2,54,43,63,73,4,15,72,41,22,40,38,86,36,92,85,"5.061.853,50",0,7,118,1129,6981,0,"0,00","44.563,68","2.643,61","197,35","31,91","0,00","1.414.152,55","0,00","0,00","0,00","0,00","0,00","2.000.000,00"]
[null,1168,"2011-08-20",67,49,90,53,85,58,39,65,12,93,91,97,63,14,82,29,96,6,95,57,"5.572.483,50",0,8,153,1448,8145,0,"0,00","42.926,78","2.244,54","169,40","30,11","0,00","2.100.981,14","0,00","0,00","0,00","0,00","0,00","2.700.000,00"]
[null,1169,"2011-08-24",22,60,46,11,68,77,58,0,40,48,50,17,21,92,41,80,8,75,34,54,"5.669.817,00",0,9,128,1396,8109,1,"0,00","38.823,63","2.729,79","178,78","30,77","174.706,33","2.625.100,09","0,00","0,00","0,00","0,00","0,00","3.200.000,00"]
[null,1170,"2011-08-27",50,15,92,48,74,10,99,58,61,78,65,14,35,77,1,85,69,40,87,53,"6.153.961,50",0,5,136,1315,8016,0,"0,00","75.849,79","2.788,59","206,00","33,79","0,00","3.383.597,93","0,00","0,00","0,00","0,00","0,00","4.000.000,00"]
[null,1171,"2011-08-31",86,18,80,98,11,52,83,12,29,38,3,51,44,64,63,76,85,9,84,55,"6.654.319,50",0,9,183,1540,8841,1,"0,00","45.564,93","2.240,90","190,20","33,13","205.042,22","3.998.724,48","0,00","0,00","0,00","0,00","0,00","4.700.000,00"]
[null,1172,"2011-09-03",81,90,72,38,29,97,12,43,54,69,0,41,40,8,44,42,47,2,95,26,"7.784.842,50",2,13,164,1609,9981,1,"2.359.178,40","36.904,22","2.925,33","212,97","34,33","239.877,46","0,00","0,00","0,00","0,00","0,00","0,00","400.000,00"]
[null,1173,"2011-09-08",61,43,98,11,36,40,79,75,6,20,88,68,19,50,39,48,63,2,33,44,"4.230.211,50",0,6,119,1022,6148,0,"0,00","43.449,06","2.190,71","182,20","30,28","0,00","521.388,73","0,00","0,00","0,00","0,00","0,00","1.000.000,00"]
[null,1174,"2011-09-10",16,70,23,83,50,6,81,24,48,66,27,28,56,4,39,41,9,58,78,65,"4.885.347,00",0,7,146,1128,6911,0,"0,00","43.009,75","2.062,11","190,64","31,11","0,00","1.123.525,26","0,00","0,00","0,00","0,00","0,00","1.600.000,00"]
[null,1175,"2011-09-14",27,10,20,92,50,18,93,15,74,31,91,13,76,22,24,12,88,48,42,85,"5.453.580,00",0,8,202,1549,8422,1,"0,00","42.010,83","1.663,80","154,97","28,50","168.043,34","1.627.655,22","0,00","0,00","0,00","0,00","0,00","2.200.000,00"]
[null,1176,"2011-09-17",24,94,73,17,14,22,64,88,67,66,76,59,50,33,79,87,9,11,82,46,"6.070.662,00",0,15,186,1745,9306,0,"0,00","24.941,03","2.011,38","153,13","28,71","0,00","2.375.886,09","0,00","0,00","0,00","0,00","0,00","3.000.000,00"]
[null,1177,"2011-09-21",43,62,58,29,27,45,64,23,50,16,59,8,60,97,85,79,48,2,95,93,"6.254.079,00",1,15,155,1498,8381,0,"2.954.014,33","25.694,59","2.486,57","183,77","32,84","0,00","0,00","0,00","0,00","0,00","0,00","0,00","600.000,00"]
[null,1178,"2011-09-24",95,70,59,85,27,11,8,73,15,33,81,66,68,96,82,26,53,64,22,47,"5.044.441,50",1,8,162,1388,8247,4,"659.018,56","38.859,10","1.918,97","159,97","26,92","38.859,10","0,00","0,00","0,00","0,00","0,00","0,00","450.000,00"]
[null,1179,"2011-09-28",91,51,66,27,67,33,73,70,63,11,68,4,83,16,57,26,5,50,18,38,"4.762.632,00",0,8,107,988,6486,0,"0,00","36.688,22","2.743,05","212,19","32,32","0,00","587.011,47","0,00","0,00","0,00","0,00","0,00","1.000.000,00"]
[null,1180,"2011-10-01",98,57,37,92,11,20,44,42,50,65,85,97,29,5,70,83,3,82,52,39,"5.372.374,50",0,5,101,1035,6652,0,"0,00","66.216,44","3.278,04","228,49","35,55","0,00","1.249.175,90","0,00","0,00","0,00","0,00","0,00","1.800.000,00"]
[null,1181,"2011-10-05",33,0,36,86,17,31,26,21,16,39,57,2,50,38,42,49,92,32,46,12,"5.664.247,50",0,19,179,1596,29380,0,"0,00","18.372,07","1.950,11","156,22","8,48","0,00","1.947.314,73","0,00","0,00","0,00","0,00","0,00","2.500.000,00"]
[null,1182,"2011-10-08",77,44,70,49,20,37,13,88,17,92,10,58,73,6,50,69,55,23,43,0,"6.326.382,00",0,24,302,2450,12413,0,"0,00","16.244,78","1.290,98","113,66","22,43","0,00","2.727.064,00","0,00","0,00","0,00","0,00","0,00","3.500.000,00"]
[null,1183,"2011-10-13",96,89,87,62,2,43,16,88,85,93,15,73,71,32,65,97,17,34,76,74,"5.956.884,00",0,10,175,1463,8479,0,"0,00","36.710,36","2.097,74","179,23","30,92","0,00","3.461.271,33","0,00","0,00","0,00","0,00","0,00","4.200.000,00"]
[null,1184,"2011-10-15",43,94,61,42,64,19,62,5,50,87,20,6,36,13,59,96,8,22,16,85,"6.302.280,00",0,9,148,1350,8384,0,"0,00","43.154,37","2.624,26","205,49","33,08","0,00","4.238.049,95","0,00","0,00","0,00","0,00","0,00","4.700.000,00"]
[null,1185,"2011-10-19",16,88,54,60,71,10,63,61,67,36,14,47,29,3,55,58,25,81,68,33,"7.771.810,50",1,9,170,1656,10176,1,"4.956.477,58","53.216,86","2.817,36","206,58","33,61","239.475,91","0,00","0,00","0,00","0,00","0,00","0,00","400.000,00"]
[null,1186,"2011-10-22",46,67,52,51,68,93,61,78,3,14,57,24,1,73,28,7,87,63,88,64,"5.409.280,50",0,8,128,995,6558,0,"0,00","41.669,58","2.604,35","239,30","36,30","0,00","666.713,23","0,00","0,00","0,00","0,00","0,00","1.200.000,00"]
[null,1187,"2011-10-26",14,48,30,95,7,3,43,62,78,67,22,6,26,42,0,32,86,59,24,94,"5.470.435,50",0,6,115,1111,6965,0,"0,00","56.187,57","2.931,53","216,74","34,57","0,00","1.340.964,02","0,00","0,00","0,00","0,00","0,00","2.000.000,00"]
[null,1188,"2011-10-29",87,9,85,83,93,42,97,11,44,98,4,78,67,23,2,71,63,41,96,27,"6.080.506,50",0,9,184,1537,9385,0,"0,00","41.635,79","2.036,54","174,14","28,51","0,00","2.090.408,26","0,00","0,00","0,00","0,00","0,00","2.700.000,00"]
[null,1189,"2011-11-03",85,53,69,40,51,32,9,44,36,22,94,71,0,72,5,59,92,26,50,81,"5.743.629,00",0,7,146,1224,7416,0,"0,00","50.565,92","2.424,39","206,56","34,09","0,00","2.798.331,13","0,00","0,00","0,00","0,00","0,00","3.400.000,00"]
[null,1190,"2011-11-05",20,82,44,53,97,70,48,76,33,62,1,72,74,77,52,78,41,14,64,87,"6.366.112,50",0,8,141,1368,8213,0,"0,00","49.040,39","2.782,43","204,84","34,12","0,00","3.582.977,33","0,00","0,00","0,00","0,00","0,00","4.200.000,00"]
[null,1191,"2011-11-09",45,54,16,23,90,92,81,24,48,47,28,80,40,66,17,87,18,73,2,75,"7.396.026,00",0,12,144,1347,8220,0,"0,00","37.982,78","3.165,23","241,69","39,60","0,00","4.494.564,07","0,00","0,00","0,00","0,00","0,00","5.300.000,00"]
[null,1192,"2011-11-12",90,80,64,2,73,59,97,70,12,38,16,11,65,39,10,89,19,26,37,81,"8.706.061,50",0,11,145,1487,8974,0,"0,00","48.775,15","3.700,18","257,72","42,70","0,00","5.567.617,38","0,00","0,00","0,00","0,00","0,00","6.200.000,00"]
[null,1193,"2011-11-16",18,87,89,73,84,15,93,76,78,81,66,37,8,79,62,42,86,0,25,33,"8.233.873,50",0,21,191,1863,11322,0,"0,00","24.163,20","2.656,69","194,55","32,01","0,00","6.582.471,84","0,00","0,00","0,00","0,00","0,00","7.500.000,00"]
[null,1194,"2011-11-19",9,11,78,59,19,51,29,63,70,40,72,95,4,92,91,26,32,87,61,6,"10.325.268,00",1,22,265,2330,13714,2,"7.536.941,57","28.923,33","2.401,18","195,06","33,14","159.078,31","0,00","0,00","0,00","0,00","0,00","0,00","400.000,00"]
[null,1195,"2011-11-23",79,39,60,47,56,51,1,26,29,12,6,0,41,73,59,20,70,14,18,3,"5.259.195,00",0,10,164,1423,8225,1,"0,00","32.410,73","1.976,27","162,68","28,14","162.053,68","486.160,98","0,00","0,00","0,00","0,00","0,00","1.000.000,00"]
[null,1196,"2011-11-26",9,73,87,31,80,92,35,66,89,14,69,4,78,49,65,55,23,99,71,22,"5.642.020,50",0,15,143,1212,7286,0,"0,00","23.179,98","2.431,47","204,91","34,08","0,00","1.181.560,25","0,00","0,00","0,00","0,00","0,00","1.800.000,00"]
[null,1197,"2011-11-30",61,95,2,58,12,82,93,80,76,38,14,18,72,30,67,8,33,51,50,64,"5.940.397,50",1,7,152,1323,7468,0,"1.730.691,72","52.298,24","2.408,47","197,65","35,01","0,00","0,00","0,00","0,00","0,00","0,00","0,00","600.000,00"]
[null,1198,"2011-12-03",96,97,62,73,64,79,92,21,6,4,37,27,85,24,2,29,68,8,25,72,"5.874.199,50",0,8,173,1597,8927,0,"0,00","45.251,01","2.092,54","161,91","28,96","0,00","907.060,01","0,00","0,00","0,00","0,00","0,00","1.500.000,00"]
[null,1199,"2011-12-07",72,8,34,77,89,39,70,36,28,87,63,24,59,81,94,1,32,80,26,48,"6.015.025,50",0,22,204,1541,8449,1,"0,00","16.849,40","1.817,09","171,82","31,33","185.343,38","1.463.090,10","0,00","0,00","0,00","0,00","0,00","2.000.000,00"]
[null,1200,"2011-12-10",80,67,17,83,9,1,34,44,78,14,43,56,55,40,92,31,42,11,49,61,"6.452.383,50",0,7,149,1317,8274,0,"0,00","56.805,67","2.668,73","215,66","34,32","0,00","2.258.369,52","0,00","0,00","0,00","0,00","0,00","2.900.000,00"]
[null,1201,"2011-12-14",11,26,39,15,63,72,75,41,4,24,73,86,33,48,34,79,77,62,87,91,"6.334.942,50",0,6,175,1530,10061,1,"0,00","65.067,03","2.230,87","182,26","27,71","195.201,12","2.843.972,81","0,00","0,00","0,00","0,00","0,00","3.500.000,00"]
[null,1202,"2011-12-17",76,29,62,63,46,48,34,42,30,12,32,70,4,43,37,56,13,54,18,6,"6.754.630,50",2,24,302,2322,12306,0,"1.734.186,07","17.344,43","1.378,37","128,05","24,16","0,00","0,00","0,00","0,00","0,00","0,00","0,00","600.000,00"]
[null,1203,"2011-12-21",91,62,76,69,78,68,83,89,6,67,71,53,41,88,0,49,81,29,55,34,"5.144.482,50",0,16,161,1164,7450,1,"0,00","19.814,88","1.969,18","194,54","30,39","158.518,99","683.690,05","0,00","0,00","0,00","0,00","0,00","1.000.000,00"]
[null,1204,"2011-12-24",51,15,53,57,78,35,22,36,27,83,29,5,20,65,73,46,55,85,68,25,"5.030.082,00",0,24,308,2279,11894,0,"0,00","12.916,16","1.437,79","97,15","18,61","0,00","1.303.665,68","0,00","0,00","0,00","0,00","0,00","1.800.000,00"]
[null,1205,"2011-12-28",42,27,40,1,31,32,71,25,8,2,65,19,28,16,83,66,11,0,13,90,"5.993.736,00",0,17,141,1609,8963,1,"0,00","21.727,93","2.619,68","163,97","29,43","184.687,37","1.857.727,77","0,00","0,00","0,00","0,00","0,00","2.500.000,00"]
[null,1206,"2011-12-31",10,71,90,60,55,54,7,29,88,19,94,62,86,28,35,57,33,96,1,67,"5.684.811,00",0,9,186,1377,7125,0,"0,00","38.926,30","1.883,53","181,72","35,12","0,00","2.558.401,12","0,00","0,00","0,00","0,00","0,00","3.100.000,00"]
[null,1207,"2012-01-04",72,85,39,38,8,53,65,86,91,42,23,67,14,89,4,54,73,78,45,46,"6.347.790,00",1,25,247,2080,11392,1,"3.145.192,03","15.647,76","1.583,78","134,33","24,52","195.596,99","0,00","0,00","0,00","0,00","0,00","0,00","400.000,00"]
[null,1208,"2012-01-07",95,77,11,9,51,96,8,46,92,32,99,58,89,49,93,73,71,7,45,60,"5.495.641,50",0,8,105,988,6381,0,"0,00","42.334,85","3.225,51","244,85","37,91","0,00","677.357,52","0,00","0,00","0,00","0,00","0,00","1.300.000,00"]
[null,1209,"2012-01-11",17,24,50,51,6,7,5,92,61,86,57,91,62,13,54,27,90,94,64,89,"5.809.177,50",0,11,107,936,6051,0,"0,00","32.545,55","3.345,80","273,19","42,25","0,00","1.393.359,50","0,00","0,00","0,00","0,00","0,00","2.000.000,00"]
[null,1210,"2012-01-14",11,32,72,79,68,49,50,65,90,9,7,17,4,42,86,67,96,21,15,8,"6.450.556,50",0,4,136,1458,10396,2,"0,00","99.381,78","2.922,99","194,75","27,31","99.381,78","1.989.650,16","0,00","0,00","0,00","0,00","0,00","2.600.000,00"]
[null,1211,"2012-01-18",53,19,36,13,91,58,26,44,56,50,92,59,45,48,89,27,11,25,39,66,"6.308.077,50",0,16,171,1736,11107,0,"0,00","24.296,66","2.273,37","159,95","25,00","0,00","2.767.143,33","0,00","0,00","0,00","0,00","0,00","3.500.000,00"]
[null,1212,"2012-01-21",15,69,70,95,16,12,35,93,99,87,26,39,83,37,41,82,46,47,76,36,"6.752.754,00",0,14,200,1578,9721,0,"0,00","29.725,04","2.080,75","188,37","30,57","0,00","3.599.444,50","0,00","0,00","0,00","0,00","0,00","4.300.000,00"]
[null,1213,"2012-01-25",44,20,67,6,4,0,34,23,45,92,86,58,56,72,82,37,35,79,15,30,"6.703.215,00",0,11,143,1297,8402,0,"0,00","37.554,33","2.888,79","227,50","35,11","0,00","4.425.639,80","0,00","0,00","0,00","0,00","0,00","5.200.000,00"]
[null,1214,"2012-01-28",48,37,11,39,74,62,66,76,7,50,8,54,41,79,52,33,92,44,67,55,"7.614.057,00",2,12,224,2052,13198,1,"2.564.742,33","39.102,49","2.094,78","163,33","25,39","234.614,97","0,00","0,00","0,00","0,00","0,00","0,00","400.000,00"]
[null,1215,"2012-02-01",41,84,34,64,97,62,75,8,6,67,27,78,49,11,73,71,91,1,10,65,"5.300.424,00",1,16,211,1678,9383,0,"489.972,19","20.415,51","1.548,10","139,04","24,86","0,00","0,00","0,00","0,00","0,00","0,00","0,00","600.000,00"]
[null,1216,"2012-02-04",8,56,11,60,77,18,43,92,95,96,50,12,3,70,83,76,51,67,63,78,"5.585.277,00",0,6,118,1004,6262,0,"0,00","57.367,12","2.916,97","244,87","39,26","0,00","851.729,51","0,00","0,00","0,00","0,00","0,00","1.400.000,00"]
[null,1217,"2012-02-08",47,26,53,41,45,67,40,72,35,94,64,90,16,24,1,7,54,17,55,71,"5.581.075,50",0,12,119,1239,7289,0,"0,00","28.661,98","2.890,28","198,28","33,70","0,00","1.539.617,09","0,00","0,00","0,00","0,00","0,00","2.100.000,00"]
[null,1218,"2012-02-11",69,18,2,58,86,47,36,4,67,16,5,88,57,73,60,97,81,95,72,30,"6.099.450,00",0,7,119,1160,7148,1,"0,00","53.698,51","3.158,73","231,45","37,56","187.944,80","2.103.451,40","0,00","0,00","0,00","0,00","0,00","2.600.000,00"]
[null,1219,"2012-02-15",41,1,43,24,19,52,80,84,2,99,75,92,86,18,83,55,44,95,14,37,"5.821.461,00",0,8,144,1239,7564,1,"0,00","44.844,75","2.491,37","206,82","33,87","179.379,00","2.641.588,35","0,00","0,00","0,00","0,00","0,00","3.300.000,00"]
[null,1220,"2012-02-18",79,65,97,74,69,5,33,63,60,53,54,32,6,87,64,34,22,10,82,55,"6.075.642,00",0,5,108,951,6140,1,"0,00","74.884,46","3.466,87","281,22","43,55","187.211,18","3.203.221,84","0,00","0,00","0,00","0,00","0,00","3.500.000,00"]
[null,1221,"2012-02-22",13,75,54,35,76,85,88,5,24,43,96,17,65,36,18,81,44,69,21,72,"3.960.010,50",0,6,137,1068,6272,1,"0,00","40.673,79","1.781,34","163,21","27,79","122.021,39","3.569.285,95","0,00","0,00","0,00","0,00","0,00","4.000.000,00"]
[null,1222,"2012-02-25",26,57,56,28,62,37,82,45,39,69,68,1,50,53,6,31,18,96,32,78,"6.834.519,00",0,11,216,1761,10156,1,"0,00","38.289,96","1.949,95","170,84","29,62","210.594,77","4.201.070,18","0,00","0,00","0,00","0,00","0,00","5.000.000,00"]
[null,1223,"2012-03-01",40,24,8,14,51,77,46,79,36,60,81,58,86,65,99,10,32,94,83,9,"5.670.651,00",0,10,127,1251,7175,1,"0,00","34.946,41","2.751,68","199,53","34,78","174.732,04","4.725.266,23","0,00","0,00","0,00","0,00","0,00","5.300.000,00"]
[null,1224,"2012-03-03",40,86,29,84,91,14,44,94,87,20,71,27,12,62,55,28,97,3,90,1,"8.079.738,00",0,15,184,1838,10476,0,"0,00","33.195,22","2.706,13","193,50","33,95","0,00","5.721.122,92","0,00","0,00","0,00","0,00","0,00","6.500.000,00"]
[null,1225,"2012-03-07",20,56,17,75,70,67,90,26,21,58,74,77,87,72,7,76,69,1,51,10,"9.022.923,00",0,11,207,1904,11626,0,"0,00","50.550,35","2.686,25","208,60","34,16","0,00","6.833.230,55","0,00","0,00","0,00","0,00","0,00","7.800.000,00"]
[null,1226,"2012-03-10",80,58,4,66,98,18,20,24,94,95,78,49,72,9,82,79,27,21,65,30,"9.628.177,50",0,11,164,1693,10107,0,"0,00","53.941,25","3.618,01","250,33","41,93","0,00","8.019.937,97","0,00","0,00","0,00","0,00","0,00","9.000.000,00"]
[null,1227,"2012-03-14",6,64,36,62,39,24,75,94,80,57,21,20,49,42,11,3,18,34,5,29,"10.378.221,00",1,27,316,2499,14283,1,"8.979.302,68","23.688,02","2.023,98","182,80","31,98","319.788,26","0,00","0,00","0,00","0,00","0,00","0,00","400.000,00"]
[null,1228,"2012-03-17",95,30,68,80,40,63,38,70,79,88,93,99,58,76,12,7,50,92,65,69,"5.587.921,50",0,6,193,1524,7104,1,"0,00","57.394,28","1.784,28","161,40","34,62","172.182,86","516.548,52","0,00","0,00","0,00","0,00","0,00","1.000.000,00"]
[null,1229,"2012-03-21",93,76,45,96,5,54,59,56,61,62,26,40,97,37,25,35,15,73,20,14,"5.506.285,50",0,5,136,1039,6716,0,"0,00","67.866,94","2.495,11","233,28","36,09","0,00","1.195.217,97","0,00","0,00","0,00","0,00","0,00","1.800.000,00"]
[null,1230,"2012-03-24",60,67,0,12,64,35,38,53,93,3,51,84,99,42,75,9,81,90,44,46,"6.217.429,50",1,24,237,1847,9830,1,"1.769.958,32","15.965,01","1.616,71","148,17","27,84","191.580,14","0,00","0,00","0,00","0,00","0,00","0,00","400.000,00"]
[null,1231,"2012-03-28",27,46,29,66,20,32,68,81,99,21,19,98,96,26,9,60,50,10,62,0,"4.756.650,00",0,3,103,1049,7769,0,"0,00","97.712,36","2.845,99","199,60","26,95","0,00","586.274,19","0,00","0,00","0,00","0,00","0,00","1.100.000,00"]
[null,1232,"2012-03-31",47,26,95,94,64,41,44,12,46,24,66,93,40,32,89,62,61,84,70,19,"5.873.088,00",0,8,140,1169,7638,0,"0,00","45.242,45","2.585,29","221,15","33,84","0,00","1.310.153,37","0,00","0,00","0,00","0,00","0,00","2.000.000,00"]
[null,1233,"2012-04-04",11,44,78,27,60,29,36,14,70,33,58,66,5,77,13,2,68,64,48,54,"5.951.124,00",1,18,222,1824,10273,1,"1.860.276,39","20.374,93","1.652,03","143,62","25,50","183.374,36","0,00","0,00","0,00","0,00","0,00","0,00","400.000,00"]
[null,1234,"2012-04-07",93,60,59,73,56,58,53,24,4,6,64,74,67,78,63,69,0,17,35,14,"4.319.746,50",0,7,98,1052,6335,0,"0,00","38.030,30","2.716,45","180,75","30,01","0,00","532.424,25","0,00","0,00","0,00","0,00","0,00","1.000.000,00"]
[null,1235,"2012-04-11",31,37,30,91,78,34,73,80,3,71,20,87,84,60,26,97,19,77,74,16,"5.386.339,50",0,4,124,1030,6324,1,"0,00","82.985,71","2.676,96","230,19","37,49","165.971,42","1.030.338,50","0,00","0,00","0,00","0,00","0,00","1.600.000,00"]
[null,1236,"2012-04-14",62,45,59,74,98,49,85,39,50,53,48,57,24,87,64,97,21,17,7,32,"6.085.819,50",0,19,190,1611,9465,0,"0,00","19.739,45","1.973,95","166,28","28,30","0,00","1.780.437,58","0,00","0,00","0,00","0,00","0,00","2.500.000,00"]
[null,1237,"2012-04-18",35,34,12,60,4,77,74,10,63,81,38,3,66,25,54,42,93,53,75,82,"5.834.589,00",0,5,183,1314,7771,0,"0,00","71.913,41","1.964,85","195,45","33,05","0,00","2.499.571,60","0,00","0,00","0,00","0,00","0,00","3.100.000,00"]
[null,1238,"2012-04-20",89,61,98,6,24,80,87,99,22,53,0,78,54,15,60,43,27,63,14,35,"4.410.067,50",0,14,123,940,5541,0,"0,00","19.412,74","2.209,58","206,51","35,03","0,00","3.043.128,25","0,00","0,00","0,00","0,00","0,00","3.700.000,00"]
[null,1239,"2012-04-25",22,69,30,71,48,56,17,25,24,33,63,43,78,45,98,4,27,34,50,20,"6.546.936,00",0,12,192,1875,11042,0,"0,00","33.622,22","2.101,39","153,70","26,09","0,00","3.850.061,60","0,00","0,00","0,00","0,00","0,00","4.500.000,00"]
[null,1240,"2012-04-28",92,89,79,25,96,18,62,5,99,45,26,70,11,46,68,47,13,49,15,20,"7.276.705,50",1,18,168,1574,10052,0,"4.522.721,63","24.913,33","2.669,29","203,50","31,86","0,00","0,00","0,00","0,00","0,00","0,00","0,00","600.000,00"]
[null,1241,"2012-05-02",8,46,2,79,63,45,77,10,47,83,21,5,25,35,78,23,41,80,54,39,"3.978.097,50",0,7,101,889,5560,0,"0,00","35.022,48","2.427,30","196,97","31,49","0,00","714.534,83","0,00","0,00","0,00","0,00","0,00","1.200.000,00"]
[null,1242,"2012-05-05",46,74,96,13,33,68,85,16,99,58,67,53,3,54,27,62,73,4,59,34,"5.864.539,50",0,22,244,1835,10409,1,"0,00","16.427,86","1.481,20","140,68","24,80","180.706,39","1.256.653,96","0,00","0,00","0,00","0,00","0,00","1.900.000,00"]
[null,1243,"2012-05-09",82,88,10,1,85,30,25,59,38,44,28,40,23,93,43,2,26,52,69,4,"5.685.930,00",1,11,146,1163,7057,1,"1.782.262,40","31.855,06","2.400,04","215,21","35,46","175.202,83","0,00","0,00","0,00","0,00","0,00","0,00","400.000,00"]
[null,1244,"2012-05-12",45,14,63,13,15,67,28,81,49,12,11,25,32,4,53,20,34,60,41,29,"5.088.784,50",0,11,211,1709,10298,1,"0,00","22.807,67","1.189,02","91,75","15,22","125.442,19","439.047,66","0,00","0,00","0,00","0,00","0,00","1.000.000,00"]
[null,1245,"2012-05-16",23,7,67,61,10,44,19,14,97,2,3,98,68,1,79,38,49,53,16,85,"5.173.062,00",1,7,143,1251,7536,0,"885.366,56","36.434,20","1.783,49","127,41","21,15","0,00","0,00","0,00","0,00","0,00","0,00","0,00","500.000,00"]
[null,1246,"2012-05-19",26,42,9,32,54,21,56,67,59,68,93,76,18,2,1,15,6,34,50,62,"5.003.838,00",0,8,195,1533,8180,0,"0,00","30.837,05","1.265,11","100,57","18,84","0,00","682.586,55","0,00","0,00","0,00","0,00","0,00","1.200.000,00"]
[null,1247,"2012-05-23",23,24,11,8,67,61,14,57,30,1,80,25,36,75,91,81,27,47,39,87,"4.960.720,50",0,5,93,899,5947,0,"0,00","48.914,13","2.629,79","170,02","25,70","0,00","1.232.870,48","0,00","0,00","0,00","0,00","0,00","1.800.000,00"]
[null,1248,"2012-05-26",48,15,37,81,69,87,36,80,92,19,60,58,95,26,74,24,72,0,55,43,"5.543.479,50",1,16,211,1554,8664,0,"1.711.148,08","17.081,34","1.295,27","109,91","19,71","0,00","0,00","0,00","0,00","0,00","0,00","0,00","600.000,00"]
[null,1249,"2012-05-30",90,47,48,63,89,76,8,79,41,16,52,55,57,50,33,84,51,72,15,46,"3.688.338,00",0,1,78,688,4618,0,"0,00","181.840,35","2.331,28","165,18","24,61","0,00","545.791,52","0,00","0,00","0,00","0,00","0,00","1.000.000,00"]
[null,1250,"2012-06-02",45,43,38,7,18,72,9,87,47,16,75,67,98,97,27,82,46,54,88,63,"5.521.158,00",1,14,253,2051,11125,0,"1.022.143,28","19.442,93","1.536,99","82,94","15,29","0,00","0,00","0,00","0,00","0,00","0,00","0,00","500.000,00"]
[null,1251,"2012-06-06",26,4,77,7,35,68,76,70,81,49,95,57,64,11,85,58,0,23,42,52,"4.731.357,00",0,7,89,879,5442,0,"0,00","33.323,24","2.620,93","165,85","26,78","0,00","660.941,54","0,00","0,00","0,00","0,00","0,00","1.100.000,00"]
[null,1252,"2012-06-09",42,1,43,11,3,10,51,8,9,85,87,41,24,89,4,65,29,27,35,39,"4.856.131,50",0,4,200,1518,10545,1,"0,00","59.853,56","1.197,07","98,57","14,19","119.707,12","1.079.916,47","0,00","0,00","0,00","0,00","0,00","1.500.000,00"]
[null,1253,"2012-06-13",73,46,11,3,23,33,77,26,35,43,91,8,50,95,28,36,55,93,58,5,"5.246.418,00",0,18,288,2138,11077,0,"0,00","14.369,77","1.283,01","75,61","14,59","0,00","1.661.892,31","0,00","0,00","0,00","0,00","0,00","2.200.000,00"]
[null,1254,"2012-06-16",89,99,33,31,17,18,26,73,44,24,2,86,42,90,5,51,93,66,79,16,"5.806.419,00",0,13,242,2172,17180,0,"0,00","22.020,37","1.182,91","82,37","10,41","0,00","2.305.988,06","0,00","0,00","0,00","0,00","0,00","3.000.000,00"]
[null,1255,"2012-06-20",11,4,3,90,41,58,7,1,20,83,2,45,59,21,97,53,37,28,19,40,"5.681.107,50",1,11,179,1647,10036,2,"2.796.139,86","25.462,43","1.564,73","106,28","17,44","70.021,69","0,00","0,00","0,00","0,00","0,00","0,00","400.000,00"]
[null,1256,"2012-06-23",57,89,71,98,30,54,64,24,83,95,73,53,48,1,72,91,4,28,47,49,"4.467.376,50",0,4,63,778,4799,0,"0,00","55.062,02","3.496,00","176,93","28,68","0,00","495.558,14","0,00","0,00","0,00","0,00","0,00","1.000.000,00"]
[null,1257,"2012-06-27",89,8,34,52,86,18,24,44,0,22,81,46,45,42,25,48,15,3,37,7,"4.601.715,00",1,9,137,1232,8075,1,"892.582,65","25.207,91","1.655,99","115,09","17,55","113.435,57","0,00","0,00","0,00","0,00","0,00","0,00","400.000,00"]
[null,1258,"2012-06-30",61,97,52,91,73,96,48,25,26,64,23,63,22,24,1,98,55,49,93,99,"4.836.141,00",1,15,182,1300,6300,1,"417.250,20","15.895,25","1.310,05","114,62","23,65","119.214,34","0,00","0,00","0,00","0,00","0,00","0,00","400.000,00"]
[null,1259,"2012-07-04",10,2,98,85,3,6,23,60,38,62,99,9,59,69,80,26,72,19,93,90,"4.822.228,50",0,6,108,1060,6374,0,"0,00","39.623,80","2.201,32","140,17","23,31","0,00","534.921,25","0,00","0,00","0,00","0,00","0,00","1.000.000,00"]
[null,1260,"2012-07-07",1,22,19,80,40,58,96,5,10,0,51,95,72,16,59,67,93,12,2,38,"5.595.787,50",0,14,179,1585,9146,0,"0,00","19.705,74","1.541,23","108,78","18,85","0,00","1.155.652,03","0,00","0,00","0,00","0,00","0,00","1.700.000,00"]
[null,1261,"2012-07-11",46,25,99,64,71,85,98,61,4,95,21,55,77,9,86,62,66,96,14,89,"5.475.355,50",0,8,92,1103,6613,0,"0,00","33.742,86","2.934,16","152,95","25,51","0,00","1.763.023,50","0,00","0,00","0,00","0,00","0,00","2.400.000,00"]
[null,1262,"2012-07-14",54,49,70,76,56,98,35,60,20,86,64,62,23,82,59,33,81,94,58,15,"6.485.677,50",0,6,170,2025,7223,0,"0,00","53.292,20","1.880,90","98,68","27,66","0,00","2.482.468,20","0,00","0,00","0,00","0,00","0,00","3.000.000,00"]
[null,1263,"2012-07-18",17,86,2,58,24,52,73,29,93,31,56,9,32,87,27,79,76,3,98,80,"6.327.676,50",0,8,133,1188,7596,1,"0,00","38.995,44","2.345,59","164,12","25,66","155.981,76","3.028.404,37","0,00","0,00","0,00","0,00","0,00","3.700.000,00"]
[null,1264,"2012-07-21",60,45,53,46,35,7,19,64,32,43,82,15,26,49,91,71,41,16,59,27,"6.887.860,50",1,10,192,1920,11136,0,"3.622.671,82","33.958,14","1.768,65","110,54","19,05","0,00","0,00","0,00","0,00","0,00","0,00","0,00","600.000,00"]
[null,1265,"2012-07-25",7,77,55,85,97,87,44,90,80,26,93,99,60,0,14,65,22,15,88,31,"4.781.104,50",2,7,149,1302,7411,1,"291.146,24","33.673,62","1.581,98","113,15","19,87","117.857,65","0,00","0,00","0,00","0,00","0,00","0,00","400.000,00"]
[null,1266,"2012-07-28",18,34,64,53,87,27,47,57,32,61,2,96,39,65,89,45,54,4,77,90,"5.014.177,50",0,3,100,1083,6372,1,"0,00","82.402,05","2.472,06","142,66","24,24","123.603,07","432.610,75","0,00","0,00","0,00","0,00","0,00","1.000.000,00"]
[null,1267,"2012-08-01",72,44,6,49,33,54,20,38,70,88,47,23,60,14,32,79,90,30,76,24,"5.225.563,50",0,5,144,1022,6474,0,"0,00","51.525,56","1.789,09","157,55","24,87","0,00","1.012.273,23","0,00","0,00","0,00","0,00","0,00","1.600.000,00"]
[null,1268,"2012-08-04",35,77,96,60,66,45,90,2,18,82,30,28,76,61,29,58,19,15,63,94,"5.940.682,50",0,5,102,933,5988,0,"0,00","58.576,84","2.871,41","196,19","30,56","0,00","1.671.262,60","0,00","0,00","0,00","0,00","0,00","2.300.000,00"]
[null,1269,"2012-08-08",68,62,76,70,7,99,61,12,42,37,0,59,4,5,54,98,64,88,20,65,"5.982.346,50",0,9,160,1182,6632,0,"0,00","32.770,92","1.843,36","155,95","27,79","0,00","2.334.873,68","0,00","0,00","0,00","0,00","0,00","3.000.000,00"]
[null,1270,"2012-08-11",56,46,18,11,89,91,86,41,96,87,83,34,79,53,52,2,74,12,17,31,"6.423.144,00",0,6,100,1080,7180,0,"0,00","52.778,37","3.166,71","183,25","27,56","0,00","3.047.381,64","0,00","0,00","0,00","0,00","0,00","3.700.000,00"]
[null,1271,"2012-08-15",44,74,41,29,23,5,63,39,4,1,58,26,67,18,43,40,21,75,66,78,"6.129.490,50",0,14,190,1695,9319,0,"0,00","21.585,19","1.590,49","111,42","20,26","0,00","3.727.315,15","0,00","0,00","0,00","0,00","0,00","4.400.000,00"]
[null,1272,"2012-08-18",64,27,42,13,95,21,41,68,34,35,45,50,76,32,73,86,7,77,22,48,"7.196.637,00",0,10,185,1775,11115,1,"0,00","35.480,46","1.917,86","124,93","19,95","177.402,26","4.348.223,07","0,00","0,00","0,00","0,00","0,00","5.200.000,00"]
[null,1273,"2012-08-22",26,50,29,46,36,8,17,81,58,34,45,95,28,79,30,38,47,54,66,1,"7.395.936,00",0,15,180,1655,10796,1,"0,00","24.308,69","2.025,73","137,70","21,10","182.315,13","4.986.326,01","0,00","0,00","0,00","0,00","0,00","5.700.000,00"]
[null,1274,"2012-08-25",45,56,5,68,37,7,89,54,50,88,52,43,44,16,48,76,97,26,2,49,"7.665.457,50",0,15,217,2120,12425,0,"0,00","25.194,54","1.741,56","111,41","19,00","0,00","5.836.641,61","0,00","0,00","0,00","0,00","0,00","7.000.000,00"]
[null,1275,"2012-08-29",1,87,28,58,61,7,96,10,39,45,31,88,29,41,47,84,42,19,99,63,"7.663.221,00",1,9,145,1475,8779,0,"6.497.805,23","41.978,65","2.605,57","160,08","26,89","0,00","0,00","0,00","0,00","0,00","0,00","0,00","700.000,00"]
[null,1276,"2012-09-01",69,36,1,21,56,59,15,97,10,28,50,91,72,88,41,62,38,24,73,4,"5.178.826,50",0,8,129,1150,6584,1,"0,00","31.915,45","1.979,25","138,76","24,23","127.661,79","635.720,15","0,00","0,00","0,00","0,00","0,00","1.200.000,00"]
[null,1277,"2012-09-05",43,1,34,44,97,74,94,39,88,27,84,36,96,24,18,49,13,59,48,21,"5.045.545,50",1,8,130,1203,7261,0,"1.071.037,24","31.094,08","1.913,48","129,23","21,41","0,00","0,00","0,00","0,00","0,00","0,00","0,00","600.000,00"]
[null,1278,"2012-09-08",47,79,37,14,26,65,92,71,19,50,22,78,70,18,81,0,89,27,31,24,"4.051.264,50",0,1,60,677,4230,0,"0,00","199.733,15","3.328,89","184,39","29,51","0,00","573.775,89","0,00","0,00","0,00","0,00","0,00","1.000.000,00"]
[null,1279,"2012-09-12",35,12,52,11,87,46,25,71,51,13,17,74,97,43,27,30,73,67,39,21,"5.139.427,50",1,9,156,1355,7517,0,"1.017.192,89","28.153,46","1.624,24","116,87","21,06","0,00","0,00","0,00","0,00","0,00","0,00","0,00","600.000,00"]
[null,1280,"2012-09-15",50,95,38,39,43,33,46,9,68,23,25,26,70,29,20,57,41,40,74,86,"5.048.322,00",1,3,99,1026,6621,0,"562.247,22","82.963,17","2.514,03","151,61","23,49","0,00","0,00","0,00","0,00","0,00","0,00","0,00","500.000,00"]
[null,1281,"2012-09-19",77,33,48,40,10,62,64,37,7,95,75,39,8,42,80,52,97,20,89,5,"4.443.189,00",0,7,129,1096,6373,0,"0,00","31.293,66","1.698,11","124,91","21,48","0,00","617.319,82","0,00","0,00","0,00","0,00","0,00","1.100.000,00"]
[null,1282,"2012-09-22",43,20,2,98,97,42,29,82,56,27,81,63,58,67,6,65,47,60,34,68,"5.094.784,50",0,12,150,1197,7307,0,"0,00","20.931,68","1.674,54","131,15","21,48","0,00","1.182.475,22","0,00","0,00","0,00","0,00","0,00","1.700.000,00"]
[null,1283,"2012-09-26",19,48,58,4,11,42,87,50,57,62,21,68,22,33,26,70,93,41,44,32,"4.956.979,50",1,8,123,1154,7003,0,"1.610.151,06","30.548,28","1.986,88","132,35","21,81","0,00","0,00","0,00","0,00","0,00","0,00","0,00","500.000,00"]
[null,1284,"2012-09-29",45,3,39,18,91,63,74,67,53,75,21,51,25,37,48,50,38,93,44,89,"4.872.240,00",0,9,139,1296,7542,0,"0,00","26.689,83","1.728,12","115,84","19,90","0,00","662.662,03","0,00","0,00","0,00","0,00","0,00","1.200.000,00"]
[null,1285,"2012-10-03",58,21,66,77,0,2,47,52,43,48,17,46,92,83,3,5,20,84,79,42,"4.903.636,50",0,5,92,871,5735,1,"0,00","48.351,27","2.627,78","173,47","26,34","120.878,15","1.085.735,57","0,00","0,00","0,00","0,00","0,00","1.700.000,00"]
[null,1286,"2012-10-06",83,3,68,50,54,92,81,22,31,84,93,48,79,28,99,56,38,26,20,73,"5.536.536,00",0,9,124,1134,6596,0,"0,00","30.328,80","2.201,29","150,44","25,86","0,00","1.699.893,68","0,00","0,00","0,00","0,00","0,00","2.300.000,00"]
[null,1287,"2012-10-10",17,92,41,56,36,33,84,31,98,60,16,1,66,94,93,14,59,85,83,89,"5.360.161,50",0,10,91,796,4908,0,"0,00","26.426,36","2.904,00","207,49","33,65","0,00","2.294.486,88","0,00","0,00","0,00","0,00","0,00","2.900.000,00"]
[null,1288,"2012-10-13",99,69,44,38,71,28,83,12,84,9,13,0,30,23,75,77,31,22,8,85,"5.179.891,50",1,8,144,1259,7335,2,"2.741.395,02","31.922,01","1.773,45","126,77","21,76","63.844,02","0,00","0,00","0,00","0,00","0,00","0,00","400.000,00"]
[null,1289,"2012-10-17",71,83,72,46,7,51,89,36,70,94,65,63,24,58,52,13,28,57,50,44,"4.382.827,50",0,13,138,1090,6406,0,"0,00","16.621,51","1.565,79","123,89","21,08","0,00","486.179,28","0,00","0,00","0,00","0,00","0,00","1.000.000,00"]
[null,1290,"2012-10-20",76,36,23,18,44,72,61,87,13,63,22,58,95,59,48,65,92,17,89,31,"5.029.527,00",0,9,194,1474,8502,0,"0,00","27.551,43","1.278,16","105,14","18,22","0,00","1.044.095,78","0,00","0,00","0,00","0,00","0,00","1.600.000,00"]
[null,1291,"2012-10-24",88,79,97,19,2,74,28,31,54,39,21,44,3,33,11,86,45,35,63,34,"4.579.114,50",1,7,117,1000,6650,0,"1.439.170,37","32.250,99","1.929,55","141,09","21,21","0,00","0,00","0,00","0,00","0,00","0,00","0,00","500.000,00"]
[null,1292,"2012-10-27",10,78,45,66,40,91,31,48,96,57,36,71,21,59,52,22,32,92,89,86,"4.656.214,50",0,5,111,857,5370,0,"0,00","45.911,61","2.068,09","167,41","26,71","0,00","629.384,06","0,00","0,00","0,00","0,00","0,00","1.100.000,00"]
[null,1293,"2012-10-31",83,31,41,85,30,11,93,37,47,6,38,52,59,10,20,13,22,88,17,35,"4.528.072,50",0,9,127,1172,6691,0,"0,00","24.804,50","1.757,80","119,04","20,85","0,00","1.131.675,10","0,00","0,00","0,00","0,00","0,00","1.600.000,00"]
[null,1294,"2012-11-03",7,83,82,14,55,16,46,67,76,59,96,57,49,23,86,56,47,52,25,24,"4.556.904,00",1,15,203,1668,9125,0,"1.524.833,42","14.977,46","1.581,01","84,18","15,38","0,00","0,00","0,00","0,00","0,00","0,00","0,00","500.000,00"]
[null,1295,"2012-11-07",51,13,44,7,54,46,55,47,65,36,60,92,22,48,6,50,11,18,70,10,"4.331.674,50",0,13,178,1543,8632,0,"0,00","16.427,52","1.199,76","86,50","15,46","0,00","592.835,91","0,00","0,00","0,00","0,00","0,00","1.100.000,00"]
[null,1296,"2012-11-10",58,33,35,37,7,0,45,56,89,17,67,5,66,57,43,8,47,70,36,39,"5.296.935,00",0,6,218,1845,10564,0,"0,00","43.524,42","1.197,92","88,46","15,45","0,00","1.180.415,50","0,00","0,00","0,00","0,00","0,00","1.800.000,00"]
[null,1297,"2012-11-14",19,52,81,59,76,79,90,26,48,25,44,35,31,27,32,82,53,29,16,87,"5.190.906,00",0,11,151,1467,7595,0,"0,00","23.265,37","1.694,83","109,03","21,05","0,00","1.756.233,49","0,00","0,00","0,00","0,00","0,00","2.300.000,00"]
[null,1298,"2012-11-17",65,50,35,12,77,93,46,27,8,30,87,92,56,51,3,48,52,58,99,19,"5.149.809,00",0,10,148,1200,7383,0,"0,00","25.389,30","1.715,49","132,23","21,49","0,00","2.327.492,67","0,00","0,00","0,00","0,00","0,00","2.900.000,00"]
[null,1299,"2012-11-21",58,5,71,55,96,95,65,32,35,23,13,81,17,60,82,99,88,70,77,66,"5.075.113,50",0,7,141,1135,6895,0,"0,00","35.744,34","1.774,54","137,78","22,68","0,00","2.890.466,00","0,00","0,00","0,00","0,00","0,00","3.400.000,00"]
[null,1300,"2012-11-24",16,27,11,41,39,48,42,25,38,44,96,58,77,37,53,69,84,36,60,28,"6.103.674,00",0,19,218,1805,11643,0,"0,00","15.837,89","1.380,37","104,19","16,15","0,00","3.567.535,72","0,00","0,00","0,00","0,00","0,00","4.200.000,00"]
[null,1301,"2012-11-28",75,15,76,12,98,24,69,63,46,31,67,62,65,17,20,70,13,36,33,77,"6.505.389,00",0,14,283,1715,9594,0,"0,00","22.908,93","1.619,00","116,88","20,89","0,00","4.289.166,99","0,00","0,00","0,00","0,00","0,00","5.000.000,00"]
[null,1302,"2012-12-01",46,6,51,21,13,14,45,57,74,80,83,20,78,98,11,81,27,47,9,55,"7.735.921,50",2,7,195,1621,9755,1,"2.478.301,52","54.484,57","1.955,86","147,05","24,43","190.696,01","0,00","0,00","0,00","0,00","0,00","0,00","400.000,00"]
[null,1303,"2012-12-05",61,36,2,90,16,32,65,63,11,45,93,57,67,33,79,21,18,25,38,92,"4.685.538,00",0,3,121,1094,6441,0,"0,00","77.001,25","1.909,12","131,97","22,41","0,00","519.758,42","0,00","0,00","0,00","0,00","0,00","1.000.000,00"]
[null,1304,"2012-12-08",91,58,45,14,4,27,80,61,22,55,31,68,78,19,3,89,1,47,95,2,"5.140.485,00",0,6,104,1079,6555,0,"0,00","42.238,88","2.436,86","146,79","24,16","0,00","1.089.983,30","0,00","0,00","0,00","0,00","0,00","1.700.000,00"]
[null,1305,"2012-12-12",35,31,1,61,39,63,91,6,85,57,55,84,17,96,18,72,12,42,36,88,"5.226.210,00",1,4,121,1111,6708,1,"1.540.887,67","64.414,91","2.129,42","144,94","24,00","128.829,82","0,00","0,00","0,00","0,00","0,00","0,00","400.000,00"]
[null,1306,"2012-12-15",49,46,92,35,55,9,91,53,54,82,2,64,36,29,63,57,83,60,43,10,"4.766.112,00",0,9,130,986,5486,0,"0,00","26.108,46","1.807,51","148,94","26,76","0,00","528.696,35","0,00","0,00","0,00","0,00","0,00","1.000.000,00"]
[null,1307,"2012-12-19",7,53,92,51,4,10,79,16,90,69,71,62,47,96,12,30,82,8,18,93,"4.636.303,50",0,7,107,951,5823,0,"0,00","32.653,77","2.136,23","150,22","24,53","0,00","1.042.993,27","0,00","0,00","0,00","0,00","0,00","1.500.000,00"]
[null,1308,"2012-12-22",19,77,24,86,11,41,25,46,67,99,40,0,83,72,44,51,17,56,97,13,"5.163.687,00",0,16,211,1766,9714,0,"0,00","15.911,07","1.206,52","90,09","16,37","0,00","1.615.791,90","0,00","0,00","0,00","0,00","0,00","2.200.000,00"]
[null,1309,"2012-12-26",14,31,32,62,40,21,12,11,92,6,4,2,96,29,85,77,78,58,64,0,"3.916.848,00",1,7,108,848,5150,0,"1.953.727,79","27.586,61","1.788,02","142,32","23,43","0,00","0,00","0,00","0,00","0,00","0,00","0,00","400.000,00"]
[null,1310,"2012-12-29",73,44,21,49,52,80,20,87,43,65,24,66,60,31,62,28,17,71,27,16,"4.396.755,00",0,7,69,795,5022,1,"0,00","30.966,62","3.141,54","170,41","26,97","108.383,16","475.894,18","0,00","0,00","0,00","0,00","0,00","900.000,00"]
[null,1311,"2013-01-02",19,43,32,96,84,37,31,76,39,47,60,90,95,61,48,35,29,28,85,80,"3.280.320,00",0,2,72,622,3255,0,"0,00","80.862,24","2.246,17","162,50","31,05","0,00","839.774,25","0,00","0,00","0,00","0,00","0,00","1.300.000,00"]
[null,1312,"2013-01-05",90,47,57,93,63,54,4,33,6,42,94,60,69,17,78,95,87,36,72,32,"5.413.248,00",0,10,131,1162,6918,0,"0,00","26.688,09","2.037,26","143,54","24,11","0,00","1.440.256,24","0,00","0,00","0,00","0,00","0,00","2.000.000,00"]
[null,1313,"2013-01-09",17,96,61,48,16,53,51,12,89,26,95,52,81,8,57,28,47,24,35,93,"5.617.774,50",0,10,153,1113,7385,0,"0,00","27.696,44","1.810,23","155,52","23,43","0,00","2.063.426,00","0,00","0,00","0,00","0,00","0,00","2.600.000,00"]
[null,1314,"2013-01-12",74,40,47,87,53,77,37,62,38,48,99,0,6,45,7,96,28,42,91,72,"6.366.187,50",0,8,149,1206,7879,0,"0,00","39.232,77","2.106,46","162,65","24,89","0,00","2.769.615,88","0,00","0,00","0,00","0,00","0,00","3.500.000,00"]
[null,1315,"2013-01-16",63,82,86,13,24,56,51,14,29,46,57,21,28,77,61,62,78,32,96,90,"6.476.946,00",0,11,183,1886,9174,0,"0,00","29.029,34","1.744,94","105,82","21,75","0,00","3.488.092,01","0,00","0,00","0,00","0,00","0,00","4.200.000,00"]
[null,1316,"2013-01-19",47,16,12,62,9,40,67,11,85,49,18,0,94,22,30,61,39,82,46,92,"7.075.003,50",0,6,116,1049,7254,0,"0,00","58.134,64","3.006,97","207,82","30,05","0,00","4.272.909,60","0,00","0,00","0,00","0,00","0,00","5.000.000,00"]
[null,1317,"2013-01-23",66,80,22,33,79,15,55,53,46,96,92,48,60,52,37,65,89,78,23,43,"7.182.196,50",0,9,183,1612,10042,0,"0,00","39.343,62","1.934,93","137,28","22,03","0,00","5.069.617,91","0,00","0,00","0,00","0,00","0,00","6.000.000,00"]
[null,1318,"2013-01-26",83,59,11,25,16,86,34,48,28,20,71,15,21,67,96,0,64,1,13,45,"8.402.827,50",0,15,207,1908,11272,0,"0,00","27.618,10","2.001,31","135,70","22,97","0,00","6.001.728,66","0,00","0,00","0,00","0,00","0,00","7.200.000,00"]
[null,1319,"2013-01-30",74,57,3,19,99,79,88,32,33,20,39,49,90,96,12,31,45,82,89,61,"8.975.203,50",0,14,184,1674,10634,0,"0,00","31.606,46","2.404,84","165,20","26,00","0,00","6.997.332,07","0,00","0,00","0,00","0,00","0,00","8.000.000,00"]
[null,1320,"2013-02-02",17,61,55,18,87,5,96,94,48,36,24,75,33,40,9,44,91,51,20,80,"9.747.571,50",1,27,273,2426,13975,0,"7.838.328,26","17.798,86","1.760,33","123,80","21,49","0,00","0,00","0,00","0,00","0,00","0,00","0,00","650.000,00"]
[null,1321,"2013-02-06",28,48,27,73,32,95,31,0,8,57,26,16,1,74,45,35,94,7,99,30,"5.076.778,50",0,9,100,1036,6555,0,"0,00","27.810,28","2.502,92","150,99","23,86","0,00","803.442,65","0,00","0,00","0,00","0,00","0,00","1.300.000,00"]
[null,1322,"2013-02-09",89,20,34,84,86,6,24,19,16,98,2,30,56,49,91,80,77,90,61,13,"5.569.879,50",1,5,118,1001,6324,0,"1.283.997,99","54.920,61","2.327,15","171,45","27,13","0,00","0,00","0,00","0,00","0,00","0,00","0,00","300.000,00"]
[null,1323,"2013-02-13",19,87,67,73,55,8,2,6,37,13,90,77,43,71,10,1,28,98,7,89,"2.891.407,50",0,5,120,1050,5823,0,"0,00","28.510,11","1.697,03","84,85","15,30","0,00","458.040,21","0,00","0,00","0,00","0,00","0,00","1.000.000,00"]
[null,1324,"2013-02-16",69,63,56,91,94,65,46,84,49,22,48,67,41,20,29,83,88,66,10,43,"5.367.708,00",1,9,114,1155,9415,0,"921.152,68","29.403,97","2.321,37","143,20","17,56","0,00","0,00","0,00","0,00","0,00","0,00","0,00","500.000,00"]
[null,1325,"2013-02-20",98,35,12,9,39,79,29,30,51,83,57,62,77,86,87,84,49,25,41,5,"4.454.748,00",0,3,62,767,4740,0,"0,00","73.208,49","3.542,35","178,96","28,95","0,00","626.475,14","0,00","0,00","0,00","0,00","0,00","1.100.000,00"]
[null,1326,"2013-02-23",4,75,54,31,13,50,0,67,59,8,29,41,19,27,61,15,10,47,32,83,"5.244.141,00",0,15,173,1544,8511,0,"0,00","17.236,24","1.494,48","104,65","18,98","0,00","1.208.198,39","0,00","0,00","0,00","0,00","0,00","1.800.000,00"]
[null,1327,"2013-02-27",95,21,68,99,53,42,47,59,20,27,23,19,56,2,96,54,76,57,4,8,"4.991.322,00",0,11,136,1207,7153,0,"0,00","22.370,85","1.809,41","127,42","21,50","0,00","1.761.876,88","0,00","0,00","0,00","0,00","0,00","2.300.000,00"]
[null,1328,"2013-03-02",9,14,69,66,80,45,26,68,61,0,86,94,30,23,28,10,1,55,52,32,"5.946.262,50",0,9,201,1625,8793,0,"0,00","32.573,25","1.458,50","112,75","20,83","0,00","2.421.485,22","0,00","0,00","0,00","0,00","0,00","3.100.000,00"]
[null,1329,"2013-03-06",11,49,91,57,12,39,46,18,9,66,20,95,40,94,6,55,85,21,48,17,"5.951.350,50",0,18,231,1793,9889,2,"0,00","16.300,56","1.270,18","102,27","18,54","73.352,53","2.934.952,92","0,00","0,00","0,00","0,00","0,00","3.600.000,00"]
[null,1330,"2013-03-09",5,10,83,56,85,14,88,86,20,78,33,18,58,13,62,35,19,75,27,72,"6.652.303,50",0,8,171,1660,10288,0,"0,00","40.996,02","1.917,94","123,48","19,92","0,00","3.672.881,15","0,00","0,00","0,00","0,00","0,00","4.200.000,00"]
[null,1331,"2013-03-13",56,86,82,1,6,2,25,63,11,10,65,93,80,99,27,42,23,30,68,18,"6.927.253,50",0,18,226,1834,9991,0,"0,00","18.973,53","1.511,16","116,38","21,36","0,00","4.441.309,09","0,00","0,00","0,00","0,00","0,00","5.200.000,00"]
[null,1332,"2013-03-16",68,57,43,80,51,44,5,42,13,87,90,69,81,79,62,54,8,93,37,23,"7.663.651,50",0,12,128,1211,7881,1,"0,00","31.485,75","2.951,79","194,99","29,96","188.914,51","5.102.509,86","0,00","0,00","0,00","0,00","0,00","6.000.000,00"]
[null,1333,"2013-03-20",55,86,44,24,75,81,97,92,34,76,51,48,73,21,88,26,5,78,58,71,"7.440.694,50",0,7,218,1907,10792,0,"0,00","52.405,27","1.682,74","120,22","21,24","0,00","5.927.892,90","0,00","0,00","0,00","0,00","0,00","7.000.000,00"]
[null,1334,"2013-03-23",43,38,91,36,27,5,76,97,9,39,24,63,90,89,57,85,88,54,93,41,"8.007.394,50",0,12,262,2004,11412,1,"0,00","32.898,00","1.506,78","123,12","21,62","197.388,02","34.728.264,48","0,00","0,00","0,00","0,00","0,00","40.000.000,00"]
[null,1335,"2013-03-30",11,75,31,28,76,53,2,93,40,60,92,3,90,52,83,56,81,61,24,29,"46.034.029,50",2,63,986,8829,54666,3,"20.626.601,34","36.024,50","2.301,77","160,65","25,94","378.257,30","0,00","0,00","0,00","0,00","0,00","0,00","450.000,00"]
[null,1336,"2013-04-03",67,37,78,40,63,24,88,84,2,68,77,41,20,16,70,60,72,64,92,9,"5.002.480,50",0,7,89,788,5352,0,"0,00","35.232,78","2.771,12","195,61","28,80","0,00","554.916,29","0,00","0,00","0,00","0,00","0,00","1.100.000,00"]
[null,1337,"2013-04-06",16,57,17,35,38,63,90,47,48,25,73,0,93,12,26,52,69,41,45,70,"5.935.041,00",1,7,127,1123,7014,2,"1.066.976,85","41.800,86","2.303,98","162,84","26,07","73.151,51","0,00","0,00","0,00","0,00","0,00","0,00","400.000,00"]
[null,1338,"2013-04-10",9,11,55,57,68,64,13,89,46,14,27,29,80,49,32,41,91,12,34,93,"4.938.241,50",0,12,154,1484,9965,0,"0,00","20.288,53","1.580,93","102,53","15,26","0,00","547.790,37","0,00","0,00","0,00","0,00","0,00","1.100.000,00"]
[null,1339,"2013-04-13",85,94,56,31,49,8,79,75,93,33,90,16,80,26,74,7,0,63,12,57,"5.783.122,50",3,5,92,914,6066,0,"348.914,59","57.023,25","3.099,09","194,96","29,37","0,00","0,00","0,00","0,00","0,00","0,00","0,00","540.000,00"]
[null,1340,"2013-04-17",92,87,66,74,68,21,85,4,95,98,79,64,84,15,22,12,35,91,67,31,"4.857.574,50",0,2,74,842,5245,0,"0,00","119.742,70","3.236,29","177,76","28,53","0,00","681.400,24","0,00","0,00","0,00","0,00","0,00","1.100.000,00"]
[null,1341,"2013-04-20",24,61,45,22,2,75,79,31,37,13,30,14,10,73,80,93,18,7,60,20,"5.506.620,00",1,7,215,1570,9019,0,"1.156.497,70","38.783,47","1.262,72","108,07","18,81","0,00","0,00","0,00","0,00","0,00","0,00","0,00","500.000,00"]
[null,1342,"2013-04-24",39,23,45,50,17,59,38,55,5,0,18,69,74,88,76,44,28,29,52,58,"4.523.190,00",0,9,159,1397,8488,0,"0,00","24.777,75","1.402,52","99,76","16,42","0,00","637.491,57","0,00","0,00","0,00","0,00","0,00","1.200.000,00"]
[null,1343,"2013-04-27",90,69,45,0,58,92,36,66,39,97,48,40,78,68,82,88,84,52,17,18,"5.306.266,50",0,25,226,1597,9024,0,"0,00","10.464,26","1.653,64","102,38","18,11","0,00","1.226.106,31","0,00","0,00","0,00","0,00","0,00","1.800.000,00"]
[null,1344,"2013-05-02",1,19,17,79,56,74,35,38,49,8,14,27,82,99,58,21,18,87,45,91,"4.676.263,50",0,8,134,1215,6999,0,"0,00","28.818,31","1.720,50","118,59","20,58","0,00","1.744.835,91","0,00","0,00","0,00","0,00","0,00","2.200.000,00"]
[null,1345,"2013-05-04",64,36,86,69,8,24,38,23,82,17,93,21,42,79,9,89,66,63,22,7,"5.282.730,00",0,4,125,1116,6749,0,"0,00","65.111,54","2.083,57","145,85","24,11","0,00","2.330.839,77","0,00","0,00","0,00","0,00","0,00","2.900.000,00"]
[null,1346,"2013-05-08",58,18,86,88,80,62,54,77,96,49,14,25,74,31,10,99,4,47,60,67,"6.030.913,50",0,22,199,1768,8927,0,"0,00","13.515,12","1.494,13","105,10","20,81","0,00","2.999.838,31","0,00","0,00","0,00","0,00","0,00","3.600.000,00"]
[null,1347,"2013-05-11",28,67,24,88,81,15,35,46,73,86,97,64,82,92,37,17,32,19,14,8,"6.596.767,50",0,24,340,2551,13172,0,"0,00","13.551,26","1.366,51","79,68","15,43","0,00","3.731.606,03","0,00","0,00","0,00","0,00","0,00","4.400.000,00"]
[null,1348,"2013-05-15",57,1,97,18,50,65,74,86,41,8,16,73,60,27,87,5,46,84,94,17,"6.558.945,00",0,5,121,1037,6815,1,"0,00","64.673,08","2.672,44","194,89","29,65","161.682,70","4.297.495,47","0,00","0,00","0,00","0,00","0,00","5.000.000,00"]
[null,1349,"2013-05-18",44,16,14,10,33,68,55,8,23,31,87,3,78,17,41,2,45,65,6,99,"7.087.999,50",0,12,188,1683,10526,0,"0,00","29.120,71","1.858,77","129,77","20,74","0,00","5.083.754,68","0,00","0,00","0,00","0,00","0,00","5.800.000,00"]
[null,1350,"2013-05-22",96,47,79,46,22,31,44,26,16,30,97,32,93,39,95,6,38,0,74,35,"7.121.872,50",1,7,149,1322,8219,1,"5.698.212,10","50.159,79","2.356,50","165,99","26,70","175.559,27","0,00","0,00","0,00","0,00","0,00","0,00","400.000,00"]
[null,1351,"2013-05-25",51,82,2,81,39,42,96,40,9,93,90,53,79,33,76,34,45,18,5,8,"4.438.207,50",2,4,96,779,4990,0,"191.458,75","54.702,50","2.279,27","175,55","27,40","0,00","0,00","0,00","0,00","0,00","0,00","0,00","530.000,00"]
[null,1352,"2013-05-29",79,10,70,0,49,76,28,75,30,82,63,72,50,21,77,1,74,48,83,36,"4.314.684,00",0,4,84,931,5488,0,"0,00","53.180,03","2.532,38","142,80","24,22","0,00","588.025,23","0,00","0,00","0,00","0,00","0,00","1.100.000,00"]
[null,1353,"2013-06-01",85,42,76,93,67,0,46,20,45,91,15,5,4,23,58,71,65,75,38,98,"4.859.628,00",0,11,112,1096,6673,0,"0,00","21.780,60","2.139,17","136,62","22,43","0,00","1.127.095,13","0,00","0,00","0,00","0,00","0,00","1.650.000,00"]
[null,1354,"2013-06-05",16,82,4,59,29,7,81,58,68,51,83,30,76,61,79,48,22,41,91,24,"5.172.622,50",0,5,60,702,4645,0,"0,00","51.003,54","4.250,30","227,04","34,31","0,00","1.700.884,97","0,00","0,00","0,00","0,00","0,00","2.600.000,00"]
[null,1355,"2013-06-08",57,14,46,96,3,79,41,61,73,48,43,97,49,11,26,56,19,93,13,47,"6.035.163,00",2,18,189,1539,8627,1,"1.110.791,90","16.530,12","1.574,30","120,83","21,55","148.771,10","0,00","0,00","0,00","0,00","0,00","0,00","450.000,00"]
[null,1356,"2013-06-12",45,81,51,16,68,27,63,99,20,91,6,35,90,41,77,75,15,64,74,11,"4.601.931,00",0,6,148,874,4967,0,"0,00","37.813,63","1.532,98","162,24","28,54","0,00","510.484,04","0,00","0,00","0,00","0,00","0,00","1.000.000,00"]
[null,1357,"2013-06-15",6,78,39,37,80,83,93,75,53,4,8,30,48,7,69,45,34,74,68,31,"5.099.701,50",0,4,105,990,6075,0,"0,00","62.855,65","2.394,50","158,72","25,86","0,00","1.076.184,88","0,00","0,00","0,00","0,00","0,00","1.600.000,00"]
[null,1358,"2013-06-19",42,17,4,22,16,49,35,27,41,72,65,46,7,57,37,59,20,18,3,87,"4.746.711,00",1,16,204,1689,9009,0,"1.485.719,27","14.626,23","1.638,79","86,59","16,23","0,00","0,00","0,00","0,00","0,00","0,00","0,00","600.000,00"]
[null,1359,"2013-06-22",75,68,77,83,25,2,28,93,91,40,9,99,38,76,46,61,33,60,10,53,"4.467.052,50",0,15,122,1132,6400,0,"0,00","14.682,14","1.805,19","121,59","21,50","0,00","612.532,03","0,00","0,00","0,00","0,00","0,00","1.100.000,00"]
[null,1360,"2013-06-26",76,71,47,70,61,96,59,2,29,58,72,37,53,17,49,14,1,95,35,26,"4.145.479,50",0,3,69,703,4396,1,"0,00","68.126,03","2.962,01","181,70","29,05","102.189,04","970.193,67","0,00","0,00","0,00","0,00","0,00","1.500.000,00"]
[null,1361,"2013-06-29",60,68,71,48,34,73,31,52,59,61,20,37,54,45,27,32,94,57,10,56,"5.088.714,00",0,8,153,1902,8398,0,"0,00","31.360,12","1.639,75","82,43","18,67","0,00","1.534.675,69","0,00","0,00","0,00","0,00","0,00","2.100.000,00"]
[null,1362,"2013-07-03",51,32,22,34,65,99,64,48,20,41,26,31,76,58,86,19,83,75,52,35,"5.278.152,00",0,2,102,923,5771,0,"0,00","130.110,23","2.551,18","176,20","28,18","0,00","2.120.171,72","0,00","0,00","0,00","0,00","0,00","3.000.000,00"]
[null,1363,"2013-07-06",17,25,64,66,35,63,81,57,65,51,14,50,84,36,74,85,2,3,46,32,"6.169.963,50",1,10,138,1312,8038,0,"2.652.500,80","30.418,81","2.204,26","144,90","23,65","0,00","0,00","0,00","0,00","0,00","0,00","0,00","500.000,00"]
[null,1364,"2013-07-10",66,94,14,42,53,91,41,51,37,67,69,68,29,26,38,78,17,64,57,6,"4.388.007,00",0,6,84,916,6102,0,"0,00","36.055,84","2.575,42","147,60","22,15","0,00","638.847,84","0,00","0,00","0,00","0,00","0,00","1.100.000,00"]
[null,1365,"2013-07-13",65,16,81,89,44,64,6,76,27,82,62,84,2,18,40,54,80,77,92,53,"5.301.249,00",0,6,108,995,6000,0,"0,00","43.559,86","2.420,00","164,17","27,22","0,00","1.226.905,99","0,00","0,00","0,00","0,00","0,00","1.800.000,00"]
[null,1366,"2013-07-17",3,2,54,8,27,53,38,93,73,71,7,33,94,80,88,91,65,79,60,15,"5.101.744,50",0,6,109,1055,6343,0,"0,00","41.920,55","2.307,55","149,00","24,78","0,00","1.792.833,45","0,00","0,00","0,00","0,00","0,00","2.400.000,00"]
[null,1367,"2013-07-20",42,90,1,31,97,99,43,18,83,62,81,78,26,21,19,0,89,41,36,76,"5.532.238,50",0,8,131,1144,9406,0,"0,00","34.093,41","2.082,04","149,00","18,12","0,00","2.406.514,85","0,00","0,00","0,00","0,00","0,00","3.000.000,00"]
[null,1368,"2013-07-24",15,37,50,13,28,34,60,47,40,30,8,36,42,73,66,19,95,45,90,22,"5.248.941,00",0,8,147,1406,7884,1,"0,00","32.347,54","1.760,41","115,03","20,51","129.390,16","2.859.380,40","0,00","0,00","0,00","0,00","0,00","3.400.000,00"]
[null,1369,"2013-07-27",9,1,31,15,68,72,81,6,24,60,75,40,87,13,23,41,69,5,55,65,"5.799.148,50",0,7,110,1131,6645,0,"0,00","40.843,77","2.599,15","157,99","26,89","0,00","3.502.669,66","0,00","0,00","0,00","0,00","0,00","4.100.000,00"]
[null,1370,"2013-07-31",88,5,78,21,58,40,9,7,57,10,20,75,46,43,53,66,24,3,48,97,"6.382.044,00",0,7,186,1544,9082,1,"0,00","44.949,13","1.691,63","127,36","21,65","157.321,96","4.053.296,52","0,00","0,00","0,00","0,00","0,00","4.700.000,00"]
[null,1371,"2013-08-03",42,41,79,71,24,57,60,18,13,69,35,44,73,90,86,99,16,39,94,1,"7.283.104,50",1,19,217,1880,10302,1,"4.681.664,64","18.898,29","1.654,69","119,37","21,78","179.533,75","0,00","0,00","0,00","0,00","0,00","0,00","400.000,00"]
[null,1372,"2013-08-07",19,5,50,20,54,23,99,64,35,66,28,26,34,3,86,87,12,39,68,91,"4.610.313,00",0,9,114,1119,6417,0,"0,00","25.255,00","1.993,81","126,95","22,13","0,00","511.413,84","0,00","0,00","0,00","0,00","0,00","1.000.000,00"]
[null,1373,"2013-08-10",63,73,33,70,18,74,30,43,68,57,93,38,86,97,44,55,24,87,90,29,"5.221.632,00",0,6,149,1345,7525,0,"0,00","42.905,66","1.727,74","119,62","21,38","0,00","1.090.640,21","0,00","0,00","0,00","0,00","0,00","1.700.000,00"]
[null,1374,"2013-08-14",0,90,41,56,33,32,18,13,4,20,94,2,93,64,69,31,68,5,19,61,"4.943.484,00",0,4,112,956,5696,0,"0,00","60.930,22","2.176,08","159,33","26,74","0,00","1.639.012,12","0,00","0,00","0,00","0,00","0,00","2.200.000,00"]
[null,1375,"2013-08-17",42,68,21,59,30,83,10,57,93,31,3,60,1,9,87,85,90,28,6,61,"5.687.958,00",2,8,208,1460,9022,1,"1.064.877,48","35.053,06","1.348,20","120,04","19,42","140.212,24","0,00","0,00","0,00","0,00","0,00","0,00","400.000,00"]
[null,1376,"2013-08-21",31,45,58,4,13,56,11,88,84,61,16,97,92,91,36,32,47,71,60,77,"4.340.460,00",0,11,157,1155,6383,0,"0,00","19.453,72","1.363,00","115,79","20,95","0,00","481.479,53","0,00","0,00","0,00","0,00","0,00","1.000.000,00"]
[null,1377,"2013-08-24",60,51,58,85,80,2,77,21,46,17,10,31,25,34,87,69,28,32,5,6,"4.902.387,00",0,10,138,1126,7089,0,"0,00","24.169,47","1.751,41","134,15","21,30","0,00","1.025.292,61","0,00","0,00","0,00","0,00","0,00","1.600.000,00"]
[null,1378,"2013-08-28",93,32,69,72,17,16,35,9,43,49,70,82,23,45,64,96,24,83,61,39,"4.533.298,50",1,6,109,895,5567,1,"1.416.414,30","37.249,69","2.050,44","156,07","25,09","111.749,06","0,00","0,00","0,00","0,00","0,00","0,00","400.000,00"]
[null,1379,"2013-08-31",76,26,95,37,61,16,6,58,77,57,24,69,88,79,40,55,80,73,75,67,"4.508.574,00",1,6,107,996,6302,1,"388.988,53","37.046,52","2.077,37","139,48","22,04","111.139,58","0,00","0,00","0,00","0,00","0,00","0,00","400.000,00"]
[null,1380,"2013-09-04",25,16,27,53,79,80,22,12,67,97,29,14,64,47,76,21,17,8,63,23,"4.222.422,00",1,5,126,1382,7148,1,"364.300,05","41.634,29","1.652,16","94,14","18,20","104.085,73","0,00","0,00","0,00","0,00","0,00","0,00","350.000,00"]
[null,1381,"2013-09-06",41,18,38,84,59,89,1,49,82,46,98,57,96,44,91,33,8,17,65,58,"3.163.740,00",1,5,102,831,4619,0,"272.959,61","31.195,39","1.529,19","117,31","21,10","0,00","0,00","0,00","0,00","0,00","0,00","0,00","400.000,00"]
[null,1382,"2013-09-11",14,58,20,82,98,12,28,33,95,43,36,35,80,92,73,3,34,70,31,54,"4.284.600,00",0,5,57,612,4306,0,"0,00","42.247,38","3.705,91","215,72","30,66","0,00","553.271,53","0,00","0,00","0,00","0,00","0,00","1.000.000,00"]
[null,1383,"2013-09-14",39,8,87,59,46,14,95,73,96,90,58,25,43,74,9,62,31,47,66,27,"5.025.066,00",0,8,114,950,5611,0,"0,00","30.967,87","2.173,18","162,98","27,59","0,00","1.110.693,18","0,00","0,00","0,00","0,00","0,00","1.600.000,00"]
[null,1384,"2013-09-18",70,71,56,54,90,65,49,27,18,92,10,69,58,32,11,30,4,97,19,45,"4.782.019,50",0,9,170,1382,7130,0,"0,00","26.195,60","1.386,82","106,62","20,66","0,00","1.641.154,11","0,00","0,00","0,00","0,00","0,00","2.200.000,00"]
[null,1385,"2013-09-21",43,63,77,27,69,74,34,15,20,65,40,90,13,32,81,23,97,38,58,10,"5.392.996,50",1,24,340,2235,10542,3,"2.106.448,41","11.078,44","1.117,15","74,35","15,76","44.313,74","0,00","0,00","0,00","0,00","0,00","0,00","400.000,00"]
[null,1386,"2013-09-25",95,55,90,67,82,7,43,80,97,92,83,45,93,44,31,25,28,71,33,36,"4.103.637,00",0,8,66,723,4751,0,"0,00","25.289,40","3.065,38","174,89","26,61","0,00","455.209,16","0,00","0,00","0,00","0,00","0,00","900.000,00"]
[null,1387,"2013-09-28",17,82,73,22,2,15,29,93,95,35,25,80,6,66,62,92,72,96,42,26,"4.839.783,00",0,5,181,1401,7240,0,"0,00","47.721,65","1.318,28","106,44","20,59","0,00","992.077,70","0,00","0,00","0,00","0,00","0,00","1.500.000,00"]
[null,1388,"2013-10-02",54,18,50,8,39,80,62,45,12,89,93,95,7,48,87,37,49,19,46,74,"4.904.202,00",0,12,121,1075,6588,0,"0,00","20.148,69","1.998,22","140,57","22,93","0,00","1.536.092,12","0,00","0,00","0,00","0,00","0,00","2.100.000,00"]
[null,1389,"2013-10-05",2,14,72,64,71,76,32,73,52,82,86,49,23,17,36,94,91,46,85,60,"5.555.328,00",0,7,143,1407,8022,0,"0,00","39.126,52","1.915,29","121,66","21,33","0,00","2.152.334,80","0,00","0,00","0,00","0,00","0,00","2.700.000,00"]
[null,1390,"2013-10-09",89,67,95,62,66,96,78,41,2,70,40,4,80,64,43,16,3,35,76,99,"5.646.012,00",0,3,93,913,5802,0,"0,00","92.785,49","2.993,08","190,55","29,98","0,00","2.778.636,89","0,00","0,00","0,00","0,00","0,00","3.400.000,00"]
[null,1391,"2013-10-11",70,1,19,75,72,53,68,18,55,82,36,28,49,14,4,41,92,10,66,89,"4.473.360,00",0,4,104,1059,5743,0,"0,00","55.135,76","2.120,61","130,15","24,00","0,00","3.274.858,77","0,00","0,00","0,00","0,00","0,00","3.700.000,00"]
[null,1392,"2013-10-16",3,91,7,86,90,36,58,84,74,2,76,65,57,85,54,29,28,15,38,77,"6.383.251,50",0,9,144,1213,7819,0,"0,00","34.967,05","2.185,44","162,15","25,15","0,00","3.982.941,54","0,00","0,00","0,00","0,00","0,00","4.700.000,00"]
[null,1393,"2013-10-19",5,43,78,0,54,45,33,88,3,61,73,37,29,23,41,46,65,77,56,31,"6.964.405,50",0,16,223,1903,11525,0,"0,00","21.459,70","1.539,71","112,76","18,62","0,00","4.755.490,70","0,00","0,00","0,00","0,00","0,00","5.500.000,00"]
[null,1394,"2013-10-23",53,60,17,1,91,5,38,16,14,59,78,69,68,81,26,79,54,63,19,56,"6.880.779,00",0,11,119,1207,7698,0,"0,00","30.839,30","2.850,69","175,65","27,54","0,00","5.518.763,30","0,00","0,00","0,00","0,00","0,00","6.200.000,00"]
[null,1395,"2013-10-26",42,54,18,3,79,71,77,82,7,90,15,45,91,57,48,11,6,97,55,51,"7.535.151,00",3,14,291,2289,13451,2,"2.056.292,46","26.535,27","1.276,61","101,43","17,26","92.873,44","0,00","0,00","0,00","0,00","0,00","0,00","400.000,00"]
[null,1396,"2013-10-30",82,24,9,56,80,52,25,36,4,50,70,63,87,83,18,79,74,47,54,39,"4.345.938,00",0,8,107,1087,6056,0,"0,00","26.782,62","2.002,44","123,19","22,11","0,00","482.087,19","0,00","0,00","0,00","0,00","0,00","1.000.000,00"]
[null,1397,"2013-11-01",5,50,26,66,67,13,82,55,56,31,28,76,24,53,73,33,90,88,3,84,"3.862.288,50",0,18,159,1626,7314,0,"0,00","10.578,68","1.197,59","73,19","16,27","0,00","910.523,99","0,00","0,00","0,00","0,00","0,00","1.400.000,00"]
[null,1398,"2013-11-06",30,16,11,81,38,42,37,79,22,87,90,53,36,43,31,29,25,65,91,78,"5.374.563,00",0,4,102,979,6057,0,"0,00","66.243,42","2.597,78","169,16","27,34","0,00","1.506.714,72","0,00","0,00","0,00","0,00","0,00","2.100.000,00"]
[null,1399,"2013-11-09",65,45,24,15,22,44,57,60,48,70,56,18,80,33,5,73,40,20,83,69,"5.768.374,50",0,12,184,1584,8811,0,"0,00","23.699,09","1.545,60","112,21","20,17","0,00","2.146.590,27","0,00","0,00","0,00","0,00","0,00","2.800.000,00"]
[null,1400,"2013-11-13",66,64,9,26,70,29,58,91,34,39,62,33,20,99,74,17,5,77,85,11,"5.582.857,50",0,8,162,1441,8298,1,"0,00","34.405,36","1.699,03","119,38","20,73","137.621,44","2.628.265,30","0,00","0,00","0,00","0,00","0,00","3.300.000,00"]
[null,1401,"2013-11-16",1,88,4,77,10,23,35,15,72,29,30,16,22,90,13,79,21,80,64,49,"5.359.824,00",0,8,153,1287,7719,0,"0,00","33.030,88","1.727,11","128,32","21,39","0,00","3.222.821,07","0,00","0,00","0,00","0,00","0,00","3.700.000,00"]
[null,1402,"2013-11-20",93,49,86,13,29,34,37,38,16,85,80,61,15,47,82,6,67,66,20,58,"5.703.760,50",0,7,132,1049,6779,1,"0,00","40.171,94","2.130,33","167,54","25,92","140.601,79","3.714.927,32","0,00","0,00","0,00","0,00","0,00","4.400.000,00"]
[null,1403,"2013-11-23",51,72,46,68,36,31,20,2,98,7,14,65,25,27,30,42,82,40,16,35,"6.883.309,50",0,13,141,1496,9350,1,"0,00","26.104,39","2.406,79","141,77","22,68","169.678,51","4.308.802,12","0,00","0,00","0,00","0,00","0,00","5.000.000,00"]
[null,1404,"2013-11-27",54,51,71,23,9,49,24,40,29,43,95,84,73,86,33,46,44,30,15,4,"7.270.410,00",1,8,155,1554,9587,1,"4.936.074,99","44.805,21","2.312,52","144,16","23,36","179.220,82","0,00","0,00","0,00","0,00","0,00","0,00","400.000,00"]
[null,1405,"2013-11-30",87,4,15,25,55,71,38,35,89,80,0,50,65,24,42,96,41,58,6,97,"4.890.912,00",0,6,96,786,5158,0,"0,00","40.188,17","2.511,76","191,73","29,21","0,00","542.540,19","0,00","0,00","0,00","0,00","0,00","1.100.000,00"]
[null,1406,"2013-12-04",87,9,2,94,60,25,82,97,29,27,21,32,17,38,84,43,70,69,67,79,"5.110.000,50",0,10,110,1192,6766,0,"0,00","25.193,04","2.290,28","132,09","23,27","0,00","1.109.383,48","0,00","0,00","0,00","0,00","0,00","1.700.000,00"]
[null,1407,"2013-12-07",70,84,14,78,83,40,26,93,56,24,6,73,17,51,86,75,90,85,68,54,"5.680.554,00",0,8,119,1094,6879,0,"0,00","35.007,43","2.353,44","159,99","25,44","0,00","1.739.517,25","0,00","0,00","0,00","0,00","0,00","2.400.000,00"]
[null,1408,"2013-12-11",20,85,33,74,51,43,50,72,57,9,48,89,88,46,32,95,5,52,78,23,"5.467.269,00",0,8,102,1070,6832,0,"0,00","33.693,03","2.642,59","157,44","24,65","0,00","2.345.991,70","0,00","0,00","0,00","0,00","0,00","3.000.000,00"]
[null,1409,"2013-12-14",34,84,25,92,44,63,69,87,72,73,83,79,86,26,89,15,78,4,58,93,"6.108.642,00",1,19,245,1843,10021,1,"2.873.030,12","15.850,78","1.229,25","102,13","18,78","150.582,41","0,00","0,00","0,00","0,00","0,00","0,00","400.000,00"]
[null,1410,"2013-12-18",39,13,21,73,72,55,38,11,25,48,56,60,22,14,10,85,76,54,69,41,"4.414.804,50",0,7,86,816,5094,1,"0,00","31.093,75","2.530,89","166,70","26,70","108.828,09","380.898,33","0,00","0,00","0,00","0,00","0,00","1.000.000,00"]
[null,1411,"2013-12-21",6,59,94,27,47,55,9,5,0,43,83,69,45,25,51,36,89,23,15,97,"4.884.768,00",0,12,197,1715,13087,0,"0,00","20.068,84","1.222,47","87,76","11,50","0,00","922.756,97","0,00","0,00","0,00","0,00","0,00","1.500.000,00"]
[null,1412,"2013-12-26",67,19,20,88,36,62,76,66,30,21,12,58,33,13,37,83,48,35,0,23,"3.947.064,00",0,6,97,804,5186,0,"0,00","32.432,66","2.006,14","151,27","23,45","0,00","1.360.597,77","0,00","0,00","0,00","0,00","0,00","1.800.000,00"]
[null,1413,"2013-12-28",53,76,39,21,58,87,48,90,24,94,13,81,83,47,97,43,37,60,8,35,"4.397.493,00",2,9,126,1059,6258,2,"870.001,26","24.089,19","1.720,66","127,95","21,65","54.200,68","0,00","0,00","0,00","0,00","0,00","0,00","400.000,00"]
[null,1414,"2013-12-31",75,81,59,76,36,66,98,29,39,95,45,94,60,86,58,43,54,70,83,41,"2.535.582,00",0,2,79,686,3610,1,"0,00","62.503,91","1.582,38","113,89","21,64","62.503,91","218.763,70","0,00","0,00","0,00","0,00","0,00","600.000,00"]
[null,1415,"2014-01-04",46,61,62,21,9,18,75,69,1,4,40,52,10,6,33,22,95,87,84,7,"4.802.373,00",0,11,107,1011,6047,0,"0,00","21.523,99","2.212,75","146,36","24,47","0,00","751.482,41","0,00","0,00","0,00","0,00","0,00","1.100.000,00"]
[null,1416,"2014-01-09",31,67,42,22,33,82,53,57,15,40,99,85,37,83,73,45,46,95,88,12,"5.021.493,00",1,10,162,1497,8900,0,"1.184.724,31","24.756,68","1.528,19","103,35","17,38","0,00","0,00","0,00","0,00","0,00","0,00","0,00","500.000,00"]
[null,1417,"2014-01-11",34,14,56,74,17,70,40,62,54,85,16,24,76,55,25,46,3,71,37,35,"4.861.932,00",0,18,159,1527,9181,0,"0,00","13.316,68","1.507,55","98,10","16,31","0,00","663.108,89","0,00","0,00","0,00","0,00","0,00","1.200.000,00"]
[null,1418,"2014-01-15",48,76,41,72,95,66,98,83,37,16,85,60,44,55,31,19,22,11,73,92,"4.942.495,50",0,13,146,1313,7148,0,"0,00","18.744,01","1.668,99","115,99","21,30","0,00","1.211.371,14","0,00","0,00","0,00","0,00","0,00","1.800.000,00"]
[null,1419,"2014-01-18",7,45,39,71,21,36,78,42,86,64,5,32,19,10,97,98,80,8,31,18,"5.458.768,50",0,8,111,907,6130,0,"0,00","33.640,64","2.424,55","185,45","27,43","0,00","1.816.902,64","0,00","0,00","0,00","0,00","0,00","2.400.000,00"]

{"sheet":"Total de Saída de Cada Dezena","index":1,"n_rows":106,"n_cols":3,"rows_kept":106,"cut":false,"hidden":false,"merged":[[5,1,5,19],[1,1,1,19],[2,1,2,19],[3,1,3,19]]}
[]
[null,"Atenção!"]
[null,"Esta planilha é de uso pessoal, é restritamente proibida a distribuição da mesma a terceiros, sujeito a punições de acordo com as leis de direitos autorais"]
[null,"Todos os direitos reservados ao site www.ApostaEsperta.com "]
[]
[null,"Planilha de Análise Estatística Lotomania"]
[null,"Dezena","Total de Saída"]
[null,1,{"$f":"COUNTIF('Resultados Gerais'!$D$8:$W$1048576,B8)","v":298}]
[null,2,{"$f":"COUNTIF('Resultados Gerais'!$D$8:$W$1048576,B9)","v":267}]
[null,3,{"$f":"COUNTIF('Resultados Gerais'!$D$8:$W$1048576,B10)","v":290}]
[null,4,{"$f":"COUNTIF('Resultados Gerais'!$D$8:$W$1048576,B11)","v":294}]
[null,5,{"$f":"COUNTIF('Resultados Gerais'!$D$8:$W$1048576,B12)","v":270}]
[null,6,{"$f":"COUNTIF('Resultados Gerais'!$D$8:$W$1048576,B13)","v":294}]
[null,7,{"$f":"COUNTIF('Resultados Gerais'!$D$8:$W$1048576,B14)","v":281}]
[null,8,{"$f":"COUNTIF('Resultados Gerais'!$D$8:$W$1048576,B15)","v":280}]
[null,9,{"$f":"COUNTIF('Resultados Gerais'!$D$8:$W$1048576,B16)","v":263}]
[null,10,{"$f":"COUNTIF('Resultados Gerais'!$D$8:$W$1048576,B17)","v":265}]
[null,11,{"$f":"COUNTIF('Resultados Gerais'!$D$8:$W$1048576,B18)","v":308}]
[null,12,{"$f":"COUNTIF('Resultados Gerais'!$D$8:$W$1048576,B19)","v":291}]
[null,13,{"$f":"COUNTIF('Resultados Gerais'!$D$8:$W$1048576,B20)","v":287}]
[null,14,{"$f":"COUNTIF('Resultados Gerais'!$D$8:$W$1048576,B21)","v":290}]
[null,15,{"$f":"COUNTIF('Resultados Gerais'!$D$8:$W$1048576,B22)","v":277}]
[null,16,{"$f":"COUNTIF('Resultados Gerais'!$D$8:$W$1048576,B23)","v":277}]
[null,17,{"$f":"COUNTIF('Resultados Gerais'!$D$8:$W$1048576,B24)","v":317}]
[null,18,{"$f":"COUNTIF('Resultados Gerais'!$D$8:$W$1048576,B25)","v":289}]
[null,19,{"$f":"COUNTIF('Resultados Gerais'!$D$8:$W$1048576,B26)","v":294}]
[null,20,{"$f":"COUNTIF('Resultados Gerais'!$D$8:$W$1048576,B27)","v":291}]
[null,21,{"$f":"COUNTIF('Resultados Gerais'!$D$8:$W$1048576,B28)","v":267}]
[null,22,{"$f":"COUNTIF('Resultados Gerais'!$D$8:$W$1048576,B29)","v":276}]
[null,23,{"$f":"COUNTIF('Resultados Gerais'!$D$8:$W$1048576,B30)","v":294}]
[null,24,{"$f":"COUNTIF('Resultados Gerais'!$D$8:$W$1048576,B31)","v":299}]
[null,25,{"$f":"COUNTIF('Resultados Gerais'!$D$8:$W$1048576,B32)","v":294}]
[null,26,{"$f":"COUNTIF('Resultados Gerais'!$D$8:$W$1048576,B33)","v":295}]
[null,27,{"$f":"COUNTIF('Resultados Gerais'!$D$8:$W$1048576,B34)","v":301}]
[null,28,{"$f":"COUNTIF('Resultados Gerais'!$D$8:$W$1048576,B35)","v":273}]
[null,29,{"$f":"COUNTIF('Resultados Gerais'!$D$8:$W$1048576,B36)","v":279}]
[null,30,{"$f":"COUNTIF('Resultados Gerais'!$D$8:$W$1048576,B37)","v":273}]
[null,31,{"$f":"COUNTIF('Resultados Gerais'!$D$8:$W$1048576,B38)","v":289}]
[null,32,{"$f":"COUNTIF('Resultados Gerais'!$D$8:$W$1048576,B39)","v":277}]
[null,33,{"$f":"COUNTIF('Resultados Gerais'!$D$8:$W$1048576,B40)","v":268}]
[null,34,{"$f":"COUNTIF('Resultados Gerais'!$D$8:$W$1048576,B41)","v":274}]
[null,35,{"$f":"COUNTIF('Resultados Gerais'!$D$8:$W$1048576,B42)","v":278}]
[null,36,{"$f":"COUNTIF('Resultados Gerais'!$D$8:$W$1048576,B43)","v":278}]
[null,37,{"$f":"COUNTIF('Resultados Gerais'!$D$8:$W$1048576,B44)","v":284}]
[null,38,{"$f":"COUNTIF('Resultados Gerais'!$D$8:$W$1048576,B45)","v":304}]
[null,39,{"$f":"COUNTIF('Resultados Gerais'!$D$8:$W$1048576,B46)","v":280}]
[null,40,{"$f":"COUNTIF('Resultados Gerais'!$D$8:$W$1048576,B47)","v":269}]
[null,41,{"$f":"COUNTIF('Resultados Gerais'!$D$8:$W$1048576,B48)","v":326}]
[null,42,{"$f":"COUNTIF('Resultados Gerais'!$D$8:$W$1048576,B49)","v":308}]
[null,43,{"$f":"COUNTIF('Resultados Gerais'!$D$8:$W$1048576,B50)","v":318}]
[null,44,{"$f":"COUNTIF('Resultados Gerais'!$D$8:$W$1048576,B51)","v":302}]
[null,45,{"$f":"COUNTIF('Resultados Gerais'!$D$8:$W$1048576,B52)","v":315}]
[null,46,{"$f":"COUNTIF('Resultados Gerais'!$D$8:$W$1048576,B53)","v":283}]
[null,47,{"$f":"COUNTIF('Resultados Gerais'!$D$8:$W$1048576,B54)","v":337}]
[null,48,{"$f":"COUNTIF('Resultados Gerais'!$D$8:$W$1048576,B55)","v":329}]
[null,49,{"$f":"COUNTIF('Resultados Gerais'!$D$8:$W$1048576,B56)","v":311}]
[null,50,{"$f":"COUNTIF('Resultados Gerais'!$D$8:$W$1048576,B57)","v":286}]
[null,51,{"$f":"COUNTIF('Resultados Gerais'!$D$8:$W$1048576,B58)","v":290}]
[null,52,{"$f":"COUNTIF('Resultados Gerais'!$D$8:$W$1048576,B59)","v":254}]
[null,53,{"$f":"COUNTIF('Resultados Gerais'!$D$8:$W$1048576,B60)","v":278}]
[null,54,{"$f":"COUNTIF('Resultados Gerais'!$D$8:$W$1048576,B61)","v":301}]
[null,55,{"$f":"COUNTIF('Resultados Gerais'!$D$8:$W$1048576,B62)","v":296}]
[null,56,{"$f":"COUNTIF('Resultados Gerais'!$D$8:$W$1048576,B63)","v":264}]
[null,57,{"$f":"COUNTIF('Resultados Gerais'!$D$8:$W$1048576,B64)","v":276}]
[null,58,{"$f":"COUNTIF('Resultados Gerais'!$D$8:$W$1048576,B65)","v":302}]
[null,59,{"$f":"COUNTIF('Resultados Gerais'!$D$8:$W$1048576,B66)","v":273}]
[null,60,{"$f":"COUNTIF('Resultados Gerais'!$D$8:$W$1048576,B67)","v":258}]
[null,61,{"$f":"COUNTIF('Resultados Gerais'!$D$8:$W$1048576,B68)","v":272}]
[null,62,{"$f":"COUNTIF('Resultados Gerais'!$D$8:$W$1048576,B69)","v":277}]
[null,63,{"$f":"COUNTIF('Resultados Gerais'!$D$8:$W$1048576,B70)","v":264}]
[null,64,{"$f":"COUNTIF('Resultados Gerais'!$D$8:$W$1048576,B71)","v":296}]
[null,65,{"$f":"COUNTIF('Resultados Gerais'!$D$8:$W$1048576,B72)","v":271}]
[null,66,{"$f":"COUNTIF('Resultados Gerais'!$D$8:$W$1048576,B73)","v":272}]
[null,67,{"$f":"COUNTIF('Resultados Gerais'!$D$8:$W$1048576,B74)","v":272}]
[null,68,{"$f":"COUNTIF('Resultados Gerais'!$D$8:$W$1048576,B75)","v":285}]
[null,69,{"$f":"COUNTIF('Resultados Gerais'!$D$8:$W$1048576,B76)","v":255}]
[null,70,{"$f":"COUNTIF('Resultados Gerais'!$D$8:$W$1048576,B77)","v":265}]
[null,71,{"$f":"COUNTIF('Resultados Gerais'!$D$8:$W$1048576,B78)","v":272}]
[null,72,{"$f":"COUNTIF('Resultados Gerais'!$D$8:$W$1048576,B79)","v":288}]
[null,73,{"$f":"COUNTIF('Resultados Gerais'!$D$8:$W$1048576,B80)","v":290}]
[null,74,{"$f":"COUNTIF('Resultados Gerais'!$D$8:$W$1048576,B81)","v":282}]
[null,75,{"$f":"COUNTIF('Resultados Gerais'!$D$8:$W$1048576,B82)","v":258}]
[null,76,{"$f":"COUNTIF('Resultados Gerais'!$D$8:$W$1048576,B83)","v":300}]
[null,77,{"$f":"COUNTIF('Resultados Gerais'!$D$8:$W$1048576,B84)","v":263}]
[null,78,{"$f":"COUNTIF('Resultados Gerais'!$D$8:$W$1048576,B85)","v":296}]
[null,79,{"$f":"COUNTIF('Resultados Gerais'!$D$8:$W$1048576,B86)","v":274}]
[null,80,{"$f":"COUNTIF('Resultados Gerais'!$D$8:$W$1048576,B87)","v":263}]
[null,81,{"$f":"COUNTIF('Resultados Gerais'!$D$8:$W$1048576,B88)","v":283}]
[null,82,{"$f":"COUNTIF('Resultados Gerais'!$D$8:$W$1048576,B89)","v":287}]
[null,83,{"$f":"COUNTIF('Resultados Gerais'!$D$8:$W$1048576,B90)","v":274}]
[null,84,{"$f":"COUNTIF('Resultados Gerais'!$D$8:$W$1048576,B91)","v":249}]
[null,85,{"$f":"COUNTIF('Resultados Gerais'!$D$8:$W$1048576,B92)","v":289}]
[null,86,{"$f":"COUNTIF('Resultados Gerais'!$D$8:$W$1048576,B93)","v":285}]
[null,87,{"$f":"COUNTIF('Resultados Gerais'!$D$8:$W$1048576,B94)","v":284}]
[null,88,{"$f":"COUNTIF('Resultados Gerais'!$D$8:$W$1048576,B95)","v":275}]
[null,89,{"$f":"COUNTIF('Resultados Gerais'!$D$8:$W$1048576,B96)","v":281}]
[null,90,{"$f":"COUNTIF('Resultados Gerais'!$D$8:$W$1048576,B97)","v":277}]
[null,91,{"$f":"COUNTIF('Resultados Gerais'!$D$8:$W$1048576,B98)","v":299}]
[null,92,{"$f":"COUNTIF('Resultados Gerais'!$D$8:$W$1048576,B99)","v":313}]
[null,93,{"$f":"COUNTIF('Resultados Gerais'!$D$8:$W$1048576,B100)","v":281}]
[null,94,{"$f":"COUNTIF('Resultados Gerais'!$D$8:$W$1048576,B101)","v":263}]
[null,95,{"$f":"COUNTIF('Resultados Gerais'!$D$8:$W$1048576,B102)","v":279}]
[null,96,{"$f":"COUNTIF('Resultados Gerais'!$D$8:$W$1048576,B103)","v":258}]
[null,97,{"$f":"COUNTIF('Resultados Gerais'!$D$8:$W$1048576,B104)","v":282}]
[null,98,{"$f":"COUNTIF('Resultados Gerais'!$D$8:$W$1048576,B105)","v":258}]
[null,99,{"$f":"COUNTIF('Resultados Gerais'!$D$8:$W$1048576,B106)","v":280}]

{"sheet":"10 Últimos Sorteios","index":2,"n_rows":112,"n_cols":31,"rows_kept":112,"cut":false,"hidden":false,"merged":[[1,1,1,32],[2,1,2,32],[3,1,3,32],[5,1,5,32],[8,3,9,24],[8,28,10,29]]}
[]
[null,"Atenção!"]
[null,"Esta planilha é de uso pessoal, é restritamente proibida a distribuição da mesma a terceiros, sujeito a punições de acordo com as leis de direitos autorais"]
[null,"Todos os direitos reservados ao site www.ApostaEsperta.com "]
[]
[null,"Planilha de Análise Estatística Lotomania"]
[]
[]
[null,null,null,"Resultados dos Últimos 10 Sorteios",null,null,null,null,null,null,null,null,null,null,null,null,null,null,null,null,null,null,null,null,null,null,null,null,"Números Quentes\nÚltimos 10 Sorteios"]
[]
[null,null,null,"Sorteio","Data do Sorteio","1ª D","2ª D","3ª D","4ª D","5ª D","6ª D","7ª D","8ª D","9ª D","10ª D","11ª D","12ª D","13ª D","14ª D","15ª D","16ª D","17ª D","18ª D","19ª D","20ª D"]
[null,null,null,{"$f":"COUNT('Resultados Gerais'!$B$8:$B$1048576)-C12","v":1419},{"$f":"VLOOKUP(D12,'Resultados Gerais'!B$8:C$1048576,2,0)","v":"2014-01-18"},{"$f":"VLOOKUP($D12,'Resultados Gerais'!$B$8:$W$1048576,3,0)","v":7},{"$f":"VLOOKUP($D12,'Resultados Gerais'!$B$8:$W$1048576,4,0)","v":45},{"$f":"VLOOKUP($D12,'Resultados Gerais'!$B$8:$W$1048576,5,0)","v":39},{"$f":"VLOOKUP($D12,'Resultados Gerais'!$B$8:$W$1048576,6,0)","v":71},{"$f":"VLOOKUP($D12,'Resultados Gerais'!$B$8:$W$1048576,7,0)","v":21},{"$f":"VLOOKUP($D12,'Resultados Gerais'!$B$8:$W$1048576,8,0)","v":36},{"$f":"VLOOKUP($D12,'Resultados Gerais'!$B$8:$W$1048576,9,0)","v":78},{"$f":"VLOOKUP($D12,'Resultados Gerais'!$B$8:$W$1048576,10,0)","v":42},{"$f":"VLOOKUP($D12,'Resultados Gerais'!$B$8:$W$1048576,11,0)","v":86},{"$f":"VLOOKUP($D12,'Resultados Gerais'!$B$8:$W$1048576,12,0)","v":64},{"$f":"VLOOKUP($D12,'Resultados Gerais'!$B$8:$W$1048576,13,0)","v":5},{"$f":"VLOOKUP($D12,'Resultados Gerais'!$B$8:$W$1048576,14,0)","v":32},{"$f":"VLOOKUP($D12,'Resultados Gerais'!$B$8:$W$1048576,15,0)","v":19},{"$f":"VLOOKUP($D12,'Resultados Gerais'!$B$8:$W$1048576,16,0)","v":10},{"$f":"VLOOKUP($D12,'Resultados Gerais'!$B$8:$W$1048576,17,0)","v":97},{"$f":"VLOOKUP($D12,'Resultados Gerais'!$B$8:$W$1048576,18,0)","v":98},{"$f":"VLOOKUP($D12,'Resultados Gerais'!$B$8:$W$1048576,19,0)","v":80},{"$f":"VLOOKUP($D12,'Resultados Gerais'!$B$8:$W$1048576,20,0)","v":8},{"$f":"VLOOKUP($D12,'Resultados Gerais'!$B$8:$W$1048576,21,0)","v":31},{"$f":"VLOOKUP($D12,'Resultados Gerais'!$B$8:$W$1048576,22,0)","v":18},null,null,null,"Dezena","Qtde de Saída"]
[null,null,1,{"$f":"COUNT('Resultados Gerais'!$B$8:$B$1048576)-C13","v":1418},{"$f":"VLOOKUP(D13,'Resultados Gerais'!B$8:C$1048576,2,0)","v":"2014-01-15"},{"$f":"VLOOKUP($D13,'Resultados Gerais'!$B$8:$W$1048576,3,0)","v":48},{"$f":"VLOOKUP($D13,'Resultados Gerais'!$B$8:$W$1048576,4,0)","v":76},{"$f":"VLOOKUP($D13,'Resultados Gerais'!$B$8:$W$1048576,5,0)","v":41},{"$f":"VLOOKUP($D13,'Resultados Gerais'!$B$8:$W$1048576,6,0)","v":72},{"$f":"VLOOKUP($D13,'Resultados Gerais'!$B$8:$W$1048576,7,0)","v":95},{"$f":"VLOOKUP($D13,'Resultados Gerais'!$B$8:$W$1048576,8,0)","v":66},{"$f":"VLOOKUP($D13,'Resultados Gerais'!$B$8:$W$1048576,9,0)","v":98},{"$f":"VLOOKUP($D13,'Resultados Gerais'!$B$8:$W$1048576,10,0)","v":83},{"$f":"VLOOKUP($D13,'Resultados Gerais'!$B$8:$W$1048576,11,0)","v":37},{"$f":"VLOOKUP($D13,'Resultados Gerais'!$B$8:$W$1048576,12,0)","v":16},{"$f":"VLOOKUP($D13,'Resultados Gerais'!$B$8:$W$1048576,13,0)","v":85},{"$f":"VLOOKUP($D13,'Resultados Gerais'!$B$8:$W$1048576,14,0)","v":60},{"$f":"VLOOKUP($D13,'Resultados Gerais'!$B$8:$W$1048576,15,0)","v":44},{"$f":"VLOOKUP($D13,'Resultados Gerais'!$B$8:$W$1048576,16,0)","v":55},{"$f":"VLOOKUP($D13,'Resultados Gerais'!$B$8:$W$1048576,17,0)","v":31},{"$f":"VLOOKUP($D13,'Resultados Gerais'!$B$8:$W$1048576,18,0)","v":19},{"$f":"VLOOKUP($D13,'Resultados Gerais'!$B$8:$W$1048576,19,0)","v":22},{"$f":"VLOOKUP($D13,'Resultados Gerais'!$B$8:$W$1048576,20,0)","v":11},{"$f":"VLOOKUP($D13,'Resultados Gerais'!$B$8:$W$1048576,21,0)","v":73},{"$f":"VLOOKUP($D13,'Resultados Gerais'!$B$8:$W$1048576,22,0)","v":92},null,null,null,83,{"$f":"COUNTIF(F$12:$Y$65,AC13)","v":6},{"$f":"AD13","v":6}]
[null,null,2,{"$f":"COUNT('Resultados Gerais'!$B$8:$B$1048576)-C14","v":1417},{"$f":"VLOOKUP(D14,'Resultados Gerais'!B$8:C$1048576,2,0)","v":"2014-01-11"},{"$f":"VLOOKUP($D14,'Resultados Gerais'!$B$8:$W$1048576,3,0)","v":34},{"$f":"VLOOKUP($D14,'Resultados Gerais'!$B$8:$W$1048576,4,0)","v":14},{"$f":"VLOOKUP($D14,'Resultados Gerais'!$B$8:$W$1048576,5,0)","v":56},{"$f":"VLOOKUP($D14,'Resultados Gerais'!$B$8:$W$1048576,6,0)","v":74},{"$f":"VLOOKUP($D14,'Resultados Gerais'!$B$8:$W$1048576,7,0)","v":17},{"$f":"VLOOKUP($D14,'Resultados Gerais'!$B$8:$W$1048576,8,0)","v":70},{"$f":"VLOOKUP($D14,'Resultados Gerais'!$B$8:$W$1048576,9,0)","v":40},{"$f":"VLOOKUP($D14,'Resultados Gerais'!$B$8:$W$1048576,10,0)","v":62},{"$f":"VLOOKUP($D14,'Resultados Gerais'!$B$8:$W$1048576,11,0)","v":54},{"$f":"VLOOKUP($D14,'Resultados Gerais'!$B$8:$W$1048576,12,0)","v":85},{"$f":"VLOOKUP($D14,'Resultados Gerais'!$B$8:$W$1048576,13,0)","v":16},{"$f":"VLOOKUP($D14,'Resultados Gerais'!$B$8:$W$1048576,14,0)","v":24},{"$f":"VLOOKUP($D14,'Resultados Gerais'!$B$8:$W$1048576,15,0)","v":76},{"$f":"VLOOKUP($D14,'Resultados Gerais'!$B$8:$W$1048576,16,0)","v":55},{"$f":"VLOOKUP($D14,'Resultados Gerais'!$B$8:$W$1048576,17,0)","v":25},{"$f":"VLOOKUP($D14,'Resultados Gerais'!$B$8:$W$1048576,18,0)","v":46},{"$f":"VLOOKUP($D14,'Resultados Gerais'!$B$8:$W$1048576,19,0)","v":3},{"$f":"VLOOKUP($D14,'Resultados Gerais'!$B$8:$W$1048576,20,0)","v":71},{"$f":"VLOOKUP($D14,'Resultados Gerais'!$B$8:$W$1048576,21,0)","v":37},{"$f":"VLOOKUP($D14,'Resultados Gerais'!$B$8:$W$1048576,22,0)","v":35},null,null,null,76,{"$f":"COUNTIF(F$12:$Y$65,AC14)","v":6},{"$f":"AD14","v":6}]
[null,null,3,{"$f":"COUNT('Resultados Gerais'!$B$8:$B$1048576)-C15","v":1416},{"$f":"VLOOKUP(D15,'Resultados Gerais'!B$8:C$1048576,2,0)","v":"2014-01-09"},{"$f":"VLOOKUP($D15,'Resultados Gerais'!$B$8:$W$1048576,3,0)","v":31},{"$f":"VLOOKUP($D15,'Resultados Gerais'!$B$8:$W$1048576,4,0)","v":67},{"$f":"VLOOKUP($D15,'Resultados Gerais'!$B$8:$W$1048576,5,0)","v":42},{"$f":"VLOOKUP($D15,'Resultados Gerais'!$B$8:$W$1048576,6,0)","v":22},{"$f":"VLOOKUP($D15,'Resultados Gerais'!$B$8:$W$1048576,7,0)","v":33},{"$f":"VLOOKUP($D15,'Resultados Gerais'!$B$8:$W$1048576,8,0)","v":82},{"$f":"VLOOKUP($D15,'Resultados Gerais'!$B$8:$W$1048576,9,0)","v":53},{"$f":"VLOOKUP($D15,'Resultados Gerais'!$B$8:$W$1048576,10,0)","v":57},{"$f":"VLOOKUP($D15,'Resultados Gerais'!$B$8:$W$1048576,11,0)","v":15},{"$f":"VLOOKUP($D15,'Resultados Gerais'!$B$8:$W$1048576,12,0)","v":40},{"$f":"VLOOKUP($D15,'Resultados Gerais'!$B$8:$W$1048576,13,0)","v":99},{"$f":"VLOOKUP($D15,'Resultados Gerais'!$B$8:$W$1048576,14,0)","v":85},{"$f":"VLOOKUP($D15,'Resultados Gerais'!$B$8:$W$1048576,15,0)","v":37},{"$f":"VLOOKUP($D15,'Resultados Gerais'!$B$8:$W$1048576,16,0)","v":83},{"$f":"VLOOKUP($D15,'Resultados Gerais'!$B$8:$W$1048576,17,0)","v":73},{"$f":"VLOOKUP($D15,'Resultados Gerais'!$B$8:$W$1048576,18,0)","v":45},{"$f":"VLOOKUP($D15,'Resultados Gerais'!$B$8:$W$1048576,19,0)","v":46},{"$f":"VLOOKUP($D15,'Resultados Gerais'!$B$8:$W$1048576,20,0)","v":95},{"$f":"VLOOKUP($D15,'Resultados Gerais'!$B$8:$W$1048576,21,0)","v":88},{"$f":"VLOOKUP($D15,'Resultados Gerais'!$B$8:$W$1048576,22,0)","v":12},null,null,null,37,{"$f":"COUNTIF(F$12:$Y$65,AC15)","v":5},5]
[null,null,4,{"$f":"COUNT('Resultados Gerais'!$B$8:$B$1048576)-C16","v":1415},{"$f":"VLOOKUP(D16,'Resultados Gerais'!B$8:C$1048576,2,0)","v":"2014-01-04"},{"$f":"VLOOKUP($D16,'Resultados Gerais'!$B$8:$W$1048576,3,0)","v":46},{"$f":"VLOOKUP($D16,'Resultados Gerais'!$B$8:$W$1048576,4,0)","v":61},{"$f":"VLOOKUP($D16,'Resultados Gerais'!$B$8:$W$1048576,5,0)","v":62},{"$f":"VLOOKUP($D16,'Resultados Gerais'!$B$8:$W$1048576,6,0)","v":21},{"$f":"VLOOKUP($D16,'Resultados Gerais'!$B$8:$W$1048576,7,0)","v":9},{"$f":"VLOOKUP($D16,'Resultados Gerais'!$B$8:$W$1048576,8,0)","v":18},{"$f":"VLOOKUP($D16,'Resultados Gerais'!$B$8:$W$1048576,9,0)","v":75},{"$f":"VLOOKUP($D16,'Resultados Gerais'!$B$8:$W$1048576,10,0)","v":69},{"$f":"VLOOKUP($D16,'Resultados Gerais'!$B$8:$W$1048576,11,0)","v":1},{"$f":"VLOOKUP($D16,'Resultados Gerais'!$B$8:$W$1048576,12,0)","v":4},{"$f":"VLOOKUP($D16,'Resultados Gerais'!$B$8:$W$1048576,13,0)","v":40},{"$f":"VLOOKUP($D16,'Resultados Gerais'!$B$8:$W$1048576,14,0)","v":52},{"$f":"VLOOKUP($D16,'Resultados Gerais'!$B$8:$W$1048576,15,0)","v":10},{"$f":"VLOOKUP($D16,'Resultados Gerais'!$B$8:$W$1048576,16,0)","v":6},{"$f":"VLOOKUP($D16,'Resultados Gerais'!$B$8:$W$1048576,17,0)","v":33},{"$f":"VLOOKUP($D16,'Resultados Gerais'!$B$8:$W$1048576,18,0)","v":22},{"$f":"VLOOKUP($D16,'Resultados Gerais'!$B$8:$W$1048576,19,0)","v":95},{"$f":"VLOOKUP($D16,'Resultados Gerais'!$B$8:$W$1048576,20,0)","v":87},{"$f":"VLOOKUP($D16,'Resultados Gerais'!$B$8:$W$1048576,21,0)","v":84},{"$f":"VLOOKUP($D16,'Resultados Gerais'!$B$8:$W$1048576,22,0)","v":7},null,null,null,21,{"$f":"COUNTIF(F$12:$Y$65,AC16)","v":5},5]
[null,null,5,{"$f":"COUNT('Resultados Gerais'!$B$8:$B$1048576)-C17","v":1414},{"$f":"VLOOKUP(D17,'Resultados Gerais'!B$8:C$1048576,2,0)","v":"2013-12-31"},{"$f":"VLOOKUP($D17,'Resultados Gerais'!$B$8:$W$1048576,3,0)","v":75},{"$f":"VLOOKUP($D17,'Resultados Gerais'!$B$8:$W$1048576,4,0)","v":81},{"$f":"VLOOKUP($D17,'Resultados Gerais'!$B$8:$W$1048576,5,0)","v":59},{"$f":"VLOOKUP($D17,'Resultados Gerais'!$B$8:$W$1048576,6,0)","v":76},{"$f":"VLOOKUP($D17,'Resultados Gerais'!$B$8:$W$1048576,7,0)","v":36},{"$f":"VLOOKUP($D17,'Resultados Gerais'!$B$8:$W$1048576,8,0)","v":66},{"$f":"VLOOKUP($D17,'Resultados Gerais'!$B$8:$W$1048576,9,0)","v":98},{"$f":"VLOOKUP($D17,'Resultados Gerais'!$B$8:$W$1048576,10,0)","v":29},{"$f":"VLOOKUP($D17,'Resultados Gerais'!$B$8:$W$1048576,11,0)","v":39},{"$f":"VLOOKUP($D17,'Resultados Gerais'!$B$8:$W$1048576,12,0)","v":95},{"$f":"VLOOKUP($D17,'Resultados Gerais'!$B$8:$W$1048576,13,0)","v":45},{"$f":"VLOOKUP($D17,'Resultados Gerais'!$B$8:$W$1048576,14,0)","v":94},{"$f":"VLOOKUP($D17,'Resultados Gerais'!$B$8:$W$1048576,15,0)","v":60},{"$f":"VLOOKUP($D17,'Resultados Gerais'!$B$8:$W$1048576,16,0)","v":86},{"$f":"VLOOKUP($D17,'Resultados Gerais'!$B$8:$W$1048576,17,0)","v":58},{"$f":"VLOOKUP($D17,'Resultados Gerais'!$B$8:$W$1048576,18,0)","v":43},{"$f":"VLOOKUP($D17,'Resultados Gerais'!$B$8:$W$1048576,19,0)","v":54},{"$f":"VLOOKUP($D17,'Resultados Gerais'!$B$8:$W$1048576,20,0)","v":70},{"$f":"VLOOKUP($D17,'Resultados Gerais'!$B$8:$W$1048576,21,0)","v":83},{"$f":"VLOOKUP($D17,'Resultados Gerais'!$B$8:$W$1048576,22,0)","v":41},null,null,null,45,{"$f":"COUNTIF(F$12:$Y$65,AC17)","v":4},4]
[null,null,6,{"$f":"COUNT('Resultados Gerais'!$B$8:$B$1048576)-C18","v":1413},{"$f":"VLOOKUP(D18,'Resultados Gerais'!B$8:C$1048576,2,0)","v":"2013-12-28"},{"$f":"VLOOKUP($D18,'Resultados Gerais'!$B$8:$W$1048576,3,0)","v":53},{"$f":"VLOOKUP($D18,'Resultados Gerais'!$B$8:$W$1048576,4,0)","v":76},{"$f":"VLOOKUP($D18,'Resultados Gerais'!$B$8:$W$1048576,5,0)","v":39},{"$f":"VLOOKUP($D18,'Resultados Gerais'!$B$8:$W$1048576,6,0)","v":21},{"$f":"VLOOKUP($D18,'Resultados Gerais'!$B$8:$W$1048576,7,0)","v":58},{"$f":"VLOOKUP($D18,'Resultados Gerais'!$B$8:$W$1048576,8,0)","v":87},{"$f":"VLOOKUP($D18,'Resultados Gerais'!$B$8:$W$1048576,9,0)","v":48},{"$f":"VLOOKUP($D18,'Resultados Gerais'!$B$8:$W$1048576,10,0)","v":90},{"$f":"VLOOKUP($D18,'Resultados Gerais'!$B$8:$W$1048576,11,0)","v":24},{"$f":"VLOOKUP($D18,'Resultados Gerais'!$B$8:$W$1048576,12,0)","v":94},{"$f":"VLOOKUP($D18,'Resultados Gerais'!$B$8:$W$1048576,13,0)","v":13},{"$f":"VLOOKUP($D18,'Resultados Gerais'!$B$8:$W$1048576,14,0)","v":81},{"$f":"VLOOKUP($D18,'Resultados Gerais'!$B$8:$W$1048576,15,0)","v":83},{"$f":"VLOOKUP($D18,'Resultados Gerais'!$B$8:$W$1048576,16,0)","v":47},{"$f":"VLOOKUP($D18,'Resultados Gerais'!$B$8:$W$1048576,17,0)","v":97},{"$f":"VLOOKUP($D18,'Resultados Gerais'!$B$8:$W$1048576,18,0)","v":43},{"$f":"VLOOKUP($D18,'Resultados Gerais'!$B$8:$W$1048576,19,0)","v":37},{"$f":"VLOOKUP($D18,'Resultados Gerais'!$B$8:$W$1048576,20,0)","v":60},{"$f":"VLOOKUP($D18,'Resultados Gerais'!$B$8:$W$1048576,21,0)","v":8},{"$f":"VLOOKUP($D18,'Resultados Gerais'!$B$8:$W$1048576,22,0)","v":35},null,null,null,22,{"$f":"COUNTIF(F$12:$Y$65,AC18)","v":4},4]
[null,null,7,{"$f":"COUNT('Resultados Gerais'!$B$8:$B$1048576)-C19","v":1412},{"$f":"VLOOKUP(D19,'Resultados Gerais'!B$8:C$1048576,2,0)","v":"2013-12-26"},{"$f":"VLOOKUP($D19,'Resultados Gerais'!$B$8:$W$1048576,3,0)","v":67},{"$f":"VLOOKUP($D19,'Resultados Gerais'!$B$8:$W$1048576,4,0)","v":19},{"$f":"VLOOKUP($D19,'Resultados Gerais'!$B$8:$W$1048576,5,0)","v":20},{"$f":"VLOOKUP($D19,'Resultados Gerais'!$B$8:$W$1048576,6,0)","v":88},{"$f":"VLOOKUP($D19,'Resultados Gerais'!$B$8:$W$1048576,7,0)","v":36},{"$f":"VLOOKUP($D19,'Resultados Gerais'!$B$8:$W$1048576,8,0)","v":62},{"$f":"VLOOKUP($D19,'Resultados Gerais'!$B$8:$W$1048576,9,0)","v":76},{"$f":"VLOOKUP($D19,'Resultados Gerais'!$B$8:$W$1048576,10,0)","v":66},{"$f":"VLOOKUP($D19,'Resultados Gerais'!$B$8:$W$1048576,11,0)","v":30},{"$f":"VLOOKUP($D19,'Resultados Gerais'!$B$8:$W$1048576,12,0)","v":21},{"$f":"VLOOKUP($D19,'Resultados Gerais'!$B$8:$W$1048576,13,0)","v":12},{"$f":"VLOOKUP($D19,'Resultados Gerais'!$B$8:$W$1048576,14,0)","v":58},{"$f":"VLOOKUP($D19,'Resultados Gerais'!$B$8:$W$1048576,15,0)","v":33},{"$f":"VLOOKUP($D19,'Resultados Gerais'!$B$8:$W$1048576,16,0)","v":13},{"$f":"VLOOKUP($D19,'Resultados Gerais'!$B$8:$W$1048576,17,0)","v":37},{"$f":"VLOOKUP($D19,'Resultados Gerais'!$B$8:$W$1048576,18,0)","v":83},{"$f":"VLOOKUP($D19,'Resultados Gerais'!$B$8:$W$1048576,19,0)","v":48},{"$f":"VLOOKUP($D19,'Resultados Gerais'!$B$8:$W$1048576,20,0)","v":35},{"$f":"VLOOKUP($D19,'Resultados Gerais'!$B$8:$W$1048576,21,0)","v":0},{"$f":"VLOOKUP($D19,'Resultados Gerais'!$B$8:$W$1048576,22,0)","v":23},null,null,null,60,{"$f":"COUNTIF(F$12:$Y$65,AC19)","v":4},4]
[null,null,8,{"$f":"COUNT('Resultados Gerais'!$B$8:$B$1048576)-C20","v":1411},{"$f":"VLOOKUP(D20,'Resultados Gerais'!B$8:C$1048576,2,0)","v":"2013-12-21"},{"$f":"VLOOKUP($D20,'Resultados Gerais'!$B$8:$W$1048576,3,0)","v":6},{"$f":"VLOOKUP($D20,'Resultados Gerais'!$B$8:$W$1048576,4,0)","v":59},{"$f":"VLOOKUP($D20,'Resultados Gerais'!$B$8:$W$1048576,5,0)","v":94},{"$f":"VLOOKUP($D20,'Resultados Gerais'!$B$8:$W$1048576,6,0)","v":27},{"$f":"VLOOKUP($D20,'Resultados Gerais'!$B$8:$W$1048576,7,0)","v":47},{"$f":"VLOOKUP($D20,'Resultados Gerais'!$B$8:$W$1048576,8,0)","v":55},{"$f":"VLOOKUP($D20,'Resultados Gerais'!$B$8:$W$1048576,9,0)","v":9},{"$f":"VLOOKUP($D20,'Resultados Gerais'!$B$8:$W$1048576,10,0)","v":5},{"$f":"VLOOKUP($D20,'Resultados Gerais'!$B$8:$W$1048576,11,0)","v":0},{"$f":"VLOOKUP($D20,'Resultados Gerais'!$B$8:$W$1048576,12,0)","v":43},{"$f":"VLOOKUP($D20,'Resultados Gerais'!$B$8:$W$1048576,13,0)","v":83},{"$f":"VLOOKUP($D20,'Resultados Gerais'!$B$8:$W$1048576,14,0)","v":69},{"$f":"VLOOKUP($D20,'Resultados Gerais'!$B$8:$W$1048576,15,0)","v":45},{"$f":"VLOOKUP($D20,'Resultados Gerais'!$B$8:$W$1048576,16,0)","v":25},{"$f":"VLOOKUP($D20,'Resultados Gerais'!$B$8:$W$1048576,17,0)","v":51},{"$f":"VLOOKUP($D20,'Resultados Gerais'!$B$8:$W$1048576,18,0)","v":36},{"$f":"VLOOKUP($D20,'Resultados Gerais'!$B$8:$W$1048576,19,0)","v":89},{"$f":"VLOOKUP($D20,'Resultados Gerais'!$B$8:$W$1048576,20,0)","v":23},{"$f":"VLOOKUP($D20,'Resultados Gerais'!$B$8:$W$1048576,21,0)","v":15},{"$f":"VLOOKUP($D20,'Resultados Gerais'!$B$8:$W$1048576,22,0)","v":97},null,null,null,36,{"$f":"COUNTIF(F$12:$Y$65,AC20)","v":4},4]
[null,null,9,{"$f":"COUNT('Resultados Gerais'!$B$8:$B$1048576)-C21","v":1410},{"$f":"VLOOKUP(D21,'Resultados Gerais'!B$8:C$1048576,2,0)","v":"2013-12-18"},{"$f":"VLOOKUP($D21,'Resultados Gerais'!$B$8:$W$1048576,3,0)","v":39},{"$f":"VLOOKUP($D21,'Resultados Gerais'!$B$8:$W$1048576,4,0)","v":13},{"$f":"VLOOKUP($D21,'Resultados Gerais'!$B$8:$W$1048576,5,0)","v":21},{"$f":"VLOOKUP($D21,'Resultados Gerais'!$B$8:$W$1048576,6,0)","v":73},{"$f":"VLOOKUP($D21,'Resultados Gerais'!$B$8:$W$1048576,7,0)","v":72},{"$f":"VLOOKUP($D21,'Resultados Gerais'!$B$8:$W$1048576,8,0)","v":55},{"$f":"VLOOKUP($D21,'Resultados Gerais'!$B$8:$W$1048576,9,0)","v":38},{"$f":"VLOOKUP($D21,'Resultados Gerais'!$B$8:$W$1048576,10,0)","v":11},{"$f":"VLOOKUP($D21,'Resultados Gerais'!$B$8:$W$1048576,11,0)","v":25},{"$f":"VLOOKUP($D21,'Resultados Gerais'!$B$8:$W$1048576,12,0)","v":48},{"$f":"VLOOKUP($D21,'Resultados Gerais'!$B$8:$W$1048576,13,0)","v":56},{"$f":"VLOOKUP($D21,'Resultados Gerais'!$B$8:$W$1048576,14,0)","v":60},{"$f":"VLOOKUP($D21,'Resultados Gerais'!$B$8:$W$1048576,15,0)","v":22},{"$f":"VLOOKUP($D21,'Resultados Gerais'!$B$8:$W$1048576,16,0)","v":14},{"$f":"VLOOKUP($D21,'Resultados Gerais'!$B$8:$W$1048576,17,0)","v":10},{"$f":"VLOOKUP($D21,'Resultados Gerais'!$B$8:$W$1048576,18,0)","v":85},{"$f":"VLOOKUP($D21,'Resultados Gerais'!$B$8:$W$1048576,19,0)","v":76},{"$f":"VLOOKUP($D21,'Resultados Gerais'!$B$8:$W$1048576,20,0)","v":54},{"$f":"VLOOKUP($D21,'Resultados Gerais'!$B$8:$W$1048576,21,0)","v":69},{"$f":"VLOOKUP($D21,'Resultados Gerais'!$B$8:$W$1048576,22,0)","v":41},null,null,null,39,{"$f":"COUNTIF(F$12:$Y$65,AC21)","v":4},4]
[null,null,10,null,null,null,null,null,null,null,null,null,null,null,null,null,null,null,null,null,null,null,null,null,null,null,null,null,48,{"$f":"COUNTIF(F$12:$Y$65,AC22)","v":4},4]
[null,null,null,null,null,null,null,null,null,null,null,null,null,null,null,null,null,null,null,null,null,null,null,null,null,null,null,null,55,{"$f":"COUNTIF(F$12:$Y$65,AC23)","v":4},4]
[null,null,null,null,null,null,null,null,null,null,null,null,null,null,null,null,null,null,null,null,null,null,null,null,null,null,null,null,85,{"$f":"COUNTIF(F$12:$Y$65,AC24)","v":4},4]
[null,null,null,null,null,null,null,null,null,null,null,null,null,null,null,null,null,null,null,null,null,null,null,null,null,null,null,null,95,{"$f":"COUNTIF(F$12:$Y$65,AC25)","v":4},4]
[null,null,null,null,null,null,null,null,null,null,null,null,null,null,null,null,null,null,null,null,null,null,null,null,null,null,null,null,54,{"$f":"COUNTIF(F$12:$Y$65,AC26)","v":3},3]
[null,null,null,null,null,null,null,null,null,null,null,null,null,null,null,null,null,null,null,null,null,null,null,null,null,null,null,null,33,{"$f":"COUNTIF(F$12:$Y$65,AC27)","v":3},3]
[null,null,null,null,null,null,null,null,null,null,null,null,null,null,null,null,null,null,null,null,null,null,null,null,null,null,null,null,13,{"$f":"COUNTIF(F$12:$Y$65,AC28)","v":3},3]
[null,null,null,null,null,null,null,null,null,null,null,null,null,null,null,null,null,null,null,null,null,null,null,null,null,null,null,null,66,{"$f":"COUNTIF(F$12:$Y$65,AC29)","v":3},3]
[null,null,null,null,null,null,null,null,null,null,null,null,null,null,null,null,null,null,null,null,null,null,null,null,null,null,null,null,31,{"$f":"COUNTIF(F$12:$Y$65,AC30)","v":3},3]
[null,null,null,null,null,null,null,null,null,null,null,null,null,null,null,null,null,null,null,null,null,null,null,null,null,null,null,null,73,{"$f":"COUNTIF(F$12:$Y$65,AC31)","v":3},3]
[null,null,null,null,null,null,null,null,null,null,null,null,null,null,null,null,null,null,null,null,null,null,null,null,null,null,null,null,43,{"$f":"COUNTIF(F$12:$Y$65,AC32)","v":3},3]
[null,null,null,null,null,null,null,null,null,null,null,null,null,null,null,null,null,null,null,null,null,null,null,null,null,null,null,null,25,{"$f":"COUNTIF(F$12:$Y$65,AC33)","v":3},3]
[null,null,null,null,null,null,null,null,null,null,null,null,null,null,null,null,null,null,null,null,null,null,null,null,null,null,null,null,58,{"$f":"COUNTIF(F$12:$Y$65,AC34)","v":3},3]
[null,null,null,null,null,null,null,null,null,null,null,null,null,null,null,null,null,null,null,null,null,null,null,null,null,null,null,null,69,{"$f":"COUNTIF(F$12:$Y$65,AC35)","v":3},3]
[null,null,null,null,null,null,null,null,null,null,null,null,null,null,null,null,null,null,null,null,null,null,null,null,null,null,null,null,10,{"$f":"COUNTIF(F$12:$Y$65,AC36)","v":3},3]
[null,null,null,null,null,null,null,null,null,null,null,null,null,null,null,null,null,null,null,null,null,null,null,null,null,null,null,null,19,{"$f":"COUNTIF(F$12:$Y$65,AC37)","v":3},3]
[null,null,null,null,null,null,null,null,null,null,null,null,null,null,null,null,null,null,null,null,null,null,null,null,null,null,null,null,35,{"$f":"COUNTIF(F$12:$Y$65,AC38)","v":3},3]
[null,null,null,null,null,null,null,null,null,null,null,null,null,null,null,null,null,null,null,null,null,null,null,null,null,null,null,null,40,{"$f":"COUNTIF(F$12:$Y$65,AC39)","v":3},3]
[null,null,null,null,null,null,null,null,null,null,null,null,null,null,null,null,null,null,null,null,null,null,null,null,null,null,null,null,41,{"$f":"COUNTIF(F$12:$Y$65,AC40)","v":3},3]
[null,null,null,null,null,null,null,null,null,null,null,null,null,null,null,null,null,null,null,null,null,null,null,null,null,null,null,null,46,{"$f":"COUNTIF(F$12:$Y$65,AC41)","v":3},3]
[null,null,null,null,null,null,null,null,null,null,null,null,null,null,null,null,null,null,null,null,null,null,null,null,null,null,null,null,62,{"$f":"COUNTIF(F$12:$Y$65,AC42)","v":3},3]
[null,null,null,null,null,null,null,null,null,null,null,null,null,null,null,null,null,null,null,null,null,null,null,null,null,null,null,null,97,{"$f":"COUNTIF(F$12:$Y$65,AC43)","v":3},3]
[null,null,null,null,null,null,null,null,null,null,null,null,null,null,null,null,null,null,null,null,null,null,null,null,null,null,null,null,94,{"$f":"COUNTIF(F$12:$Y$65,AC44)","v":3},3]
[null,null,null,null,null,null,null,null,null,null,null,null,null,null,null,null,null,null,null,null,null,null,null,null,null,null,null,null,98,{"$f":"COUNTIF(F$12:$Y$65,AC45)","v":3},3]
[null,null,null,null,null,null,null,null,null,null,null,null,null,null,null,null,null,null,null,null,null,null,null,null,null,null,null,null,5,{"$f":"COUNTIF(F$12:$Y$65,AC46)","v":2},2]
[null,null,null,null,null,null,null,null,null,null,null,null,null,null,null,null,null,null,null,null,null,null,null,null,null,null,null,null,56,{"$f":"COUNTIF(F$12:$Y$65,AC47)","v":2},2]
[null,null,null,null,null,null,null,null,null,null,null,null,null,null,null,null,null,null,null,null,null,null,null,null,null,null,null,null,15,{"$f":"COUNTIF(F$12:$Y$65,AC48)","v":2},2]
[null,null,null,null,null,null,null,null,null,null,null,null,null,null,null,null,null,null,null,null,null,null,null,null,null,null,null,null,16,{"$f":"COUNTIF(F$12:$Y$65,AC49)","v":2},2]
[null,null,null,null,null,null,null,null,null,null,null,null,null,null,null,null,null,null,null,null,null,null,null,null,null,null,null,null,24,{"$f":"COUNTIF(F$12:$Y$65,AC50)","v":2},2]
[null,null,null,null,null,null,null,null,null,null,null,null,null,null,null,null,null,null,null,null,null,null,null,null,null,null,null,null,11,{"$f":"COUNTIF(F$12:$Y$65,AC51)","v":2},2]
[null,null,null,null,null,null,null,null,null,null,null,null,null,null,null,null,null,null,null,null,null,null,null,null,null,null,null,null,18,{"$f":"COUNTIF(F$12:$Y$65,AC52)","v":2},2]
[null,null,null,null,null,null,null,null,null,null,null,null,null,null,null,null,null,null,null,null,null,null,null,null,null,null,null,null,53,{"$f":"COUNTIF(F$12:$Y$65,AC53)","v":2},2]
[null,null,null,null,null,null,null,null,null,null,null,null,null,null,null,null,null,null,null,null,null,null,null,null,null,null,null,null,70,{"$f":"COUNTIF(F$12:$Y$65,AC54)","v":2},2]
[null,null,null,null,null,null,null,null,null,null,null,null,null,null,null,null,null,null,null,null,null,null,null,null,null,null,null,null,88,{"$f":"COUNTIF(F$12:$Y$65,AC55)","v":2},2]
[null,null,null,null,null,null,null,null,null,null,null,null,null,null,null,null,null,null,null,null,null,null,null,null,null,null,null,null,9,{"$f":"COUNTIF(F$12:$Y$65,AC56)","v":2},{"$f":"AD56","v":2}]
[null,null,null,null,null,null,null,null,null,null,null,null,null,null,null,null,null,null,null,null,null,null,null,null,null,null,null,null,42,{"$f":"COUNTIF(F$12:$Y$65,AC57)","v":2},2]
[null,null,null,null,null,null,null,null,null,null,null,null,null,null,null,null,null,null,null,null,null,null,null,null,null,null,null,null,23,{"$f":"COUNTIF(F$12:$Y$65,AC58)","v":2},2]
[null,null,null,null,null,null,null,null,null,null,null,null,null,null,null,null,null,null,null,null,null,null,null,null,null,null,null,null,67,{"$f":"COUNTIF(F$12:$Y$65,AC59)","v":2},2]
[null,null,null,null,null,null,null,null,null,null,null,null,null,null,null,null,null,null,null,null,null,null,null,null,null,null,null,null,81,{"$f":"COUNTIF(F$12:$Y$65,AC60)","v":2},2]
[null,null,null,null,null,null,null,null,null,null,null,null,null,null,null,null,null,null,null,null,null,null,null,null,null,null,null,null,6,{"$f":"COUNTIF(F$12:$Y$65,AC61)","v":2},2]
[null,null,null,null,null,null,null,null,null,null,null,null,null,null,null,null,null,null,null,null,null,null,null,null,null,null,null,null,47,{"$f":"COUNTIF(F$12:$Y$65,AC62)","v":2},2]
[null,null,null,null,null,null,null,null,null,null,null,null,null,null,null,null,null,null,null,null,null,null,null,null,null,null,null,null,87,{"$f":"COUNTIF(F$12:$Y$65,AC63)","v":2},2]
[null,null,null,null,null,null,null,null,null,null,null,null,null,null,null,null,null,null,null,null,null,null,null,null,null,null,null,null,0,{"$f":"COUNTIF(F$12:$Y$65,AC64)","v":2},2]
[null,null,null,null,null,null,null,null,null,null,null,null,null,null,null,null,null,null,null,null,null,null,null,null,null,null,null,null,71,{"$f":"COUNTIF(F$12:$Y$65,AC65)","v":2},2]
[null,null,null,null,null,null,null,null,null,null,null,null,null,null,null,null,null,null,null,null,null,null,null,null,null,null,null,null,86,{"$f":"COUNTIF(F$12:$Y$65,AC66)","v":2},2]
[null,null,null,null,null,null,null,null,null,null,null,null,null,null,null,null,null,null,null,null,null,null,null,null,null,null,null,null,7,{"$f":"COUNTIF(F$12:$Y$65,AC67)","v":2},2]
[null,null,null,null,null,null,null,null,null,null,null,null,null,null,null,null,null,null,null,null,null,null,null,null,null,null,null,null,14,{"$f":"COUNTIF(F$12:$Y$65,AC68)","v":2},2]
[null,null,null,null,null,null,null,null,null,null,null,null,null,null,null,null,null,null,null,null,null,null,null,null,null,null,null,null,59,{"$f":"COUNTIF(F$12:$Y$65,AC69)","v":2},2]
[null,null,null,null,null,null,null,null,null,null,null,null,null,null,null,null,null,null,null,null,null,null,null,null,null,null,null,null,72,{"$f":"COUNTIF(F$12:$Y$65,AC70)","v":2},2]
[null,null,null,null,null,null,null,null,null,null,null,null,null,null,null,null,null,null,null,null,null,null,null,null,null,null,null,null,8,{"$f":"COUNTIF(F$12:$Y$65,AC71)","v":2},2]
[null,null,null,null,null,null,null,null,null,null,null,null,null,null,null,null,null,null,null,null,null,null,null,null,null,null,null,null,12,{"$f":"COUNTIF(F$12:$Y$65,AC72)","v":2},2]
[null,null,null,null,null,null,null,null,null,null,null,null,null,null,null,null,null,null,null,null,null,null,null,null,null,null,null,null,75,{"$f":"COUNTIF(F$12:$Y$65,AC73)","v":2},2]
[null,null,null,null,null,null,null,null,null,null,null,null,null,null,null,null,null,null,null,null,null,null,null,null,null,null,null,null,29,{"$f":"COUNTIF(F$12:$Y$65,AC74)","v":1},1]
[null,null,null,null,null,null,null,null,null,null,null,null,null,null,null,null,null,null,null,null,null,null,null,null,null,null,null,null,80,{"$f":"COUNTIF(F$12:$Y$65,AC75)","v":1},1]
[null,null,null,null,null,null,null,null,null,null,null,null,null,null,null,null,null,null,null,null,null,null,null,null,null,null,null,null,82,{"$f":"COUNTIF(F$12:$Y$65,AC76)","v":1},1]
[null,null,null,null,null,null,null,null,null,null,null,null,null,null,null,null,null,null,null,null,null,null,null,null,null,null,null,null,90,{"$f":"COUNTIF(F$12:$Y$65,AC77)","v":1},1]
[null,null,null,null,null,null,null,null,null,null,null,null,null,null,null,null,null,null,null,null,null,null,null,null,null,null,null,null,3,{"$f":"COUNTIF(F$12:$Y$65,AC78)","v":1},1]
[null,null,null,null,null,null,null,null,null,null,null,null,null,null,null,null,null,null,null,null,null,null,null,null,null,null,null,null,38,{"$f":"COUNTIF(F$12:$Y$65,AC79)","v":1},1]
[null,null,null,null,null,null,null,null,null,null,null,null,null,null,null,null,null,null,null,null,null,null,null,null,null,null,null,null,78,{"$f":"COUNTIF(F$12:$Y$65,AC80)","v":1},1]
[null,null,null,null,null,null,null,null,null,null,null,null,null,null,null,null,null,null,null,null,null,null,null,null,null,null,null,null,20,{"$f":"COUNTIF(F$12:$Y$65,AC81)","v":1},1]
[null,null,null,null,null,null,null,null,null,null,null,null,null,null,null,null,null,null,null,null,null,null,null,null,null,null,null,null,1,{"$f":"COUNTIF(F$12:$Y$65,AC82)","v":1},1]
[null,null,null,null,null,null,null,null,null,null,null,null,null,null,null,null,null,null,null,null,null,null,null,null,null,null,null,null,4,{"$f":"COUNTIF(F$12:$Y$65,AC83)","v":1},1]
[null,null,null,null,null,null,null,null,null,null,null,null,null,null,null,null,null,null,null,null,null,null,null,null,null,null,null,null,17,{"$f":"COUNTIF(F$12:$Y$65,AC84)","v":1},1]
[null,null,null,null,null,null,null,null,null,null,null,null,null,null,null,null,null,null,null,null,null,null,null,null,null,null,null,null,30,{"$f":"COUNTIF(F$12:$Y$65,AC85)","v":1},1]
[null,null,null,null,null,null,null,null,null,null,null,null,null,null,null,null,null,null,null,null,null,null,null,null,null,null,null,null,34,{"$f":"COUNTIF(F$12:$Y$65,AC86)","v":1},1]
[null,null,null,null,null,null,null,null,null,null,null,null,null,null,null,null,null,null,null,null,null,null,null,null,null,null,null,null,64,{"$f":"COUNTIF(F$12:$Y$65,AC87)","v":1},1]
[null,null,null,null,null,null,null,null,null,null,null,null,null,null,null,null,null,null,null,null,null,null,null,null,null,null,null,null,57,{"$f":"COUNTIF(F$12:$Y$65,AC88)","v":1},1]
[null,null,null,null,null,null,null,null,null,null,null,null,null,null,null,null,null,null,null,null,null,null,null,null,null,null,null,null,61,{"$f":"COUNTIF(F$12:$Y$65,AC89)","v":1},1]
[null,null,null,null,null,null,null,null,null,null,null,null,null,null,null,null,null,null,null,null,null,null,null,null,null,null,null,null,74,{"$f":"COUNTIF(F$12:$Y$65,AC90)","v":1},1]
[null,null,null,null,null,null,null,null,null,null,null,null,null,null,null,null,null,null,null,null,null,null,null,null,null,null,null,null,44,{"$f":"COUNTIF(F$12:$Y$65,AC91)","v":1},1]
[null,null,null,null,null,null,null,null,null,null,null,null,null,null,null,null,null,null,null,null,null,null,null,null,null,null,null,null,52,{"$f":"COUNTIF(F$12:$Y$65,AC92)","v":1},1]
[null,null,null,null,null,null,null,null,null,null,null,null,null,null,null,null,null,null,null,null,null,null,null,null,null,null,null,null,51,{"$f":"COUNTIF(F$12:$Y$65,AC93)","v":1},1]
[null,null,null,null,null,null,null,null,null,null,null,null,null,null,null,null,null,null,null,null,null,null,null,null,null,null,null,null,84,{"$f":"COUNTIF(F$12:$Y$65,AC94)","v":1},1]
[null,null,null,null,null,null,null,null,null,null,null,null,null,null,null,null,null,null,null,null,null,null,null,null,null,null,null,null,99,{"$f":"COUNTIF(F$12:$Y$65,AC95)","v":1},1]
[null,null,null,null,null,null,null,null,null,null,null,null,null,null,null,null,null,null,null,null,null,null,null,null,null,null,null,null,27,{"$f":"COUNTIF(F$12:$Y$65,AC96)","v":1},1]
[null,null,null,null,null,null,null,null,null,null,null,null,null,null,null,null,null,null,null,null,null,null,null,null,null,null,null,null,32,{"$f":"COUNTIF(F$12:$Y$65,AC97)","v":1},1]
[null,null,null,null,null,null,null,null,null,null,null,null,null,null,null,null,null,null,null,null,null,null,null,null,null,null,null,null,89,{"$f":"COUNTIF(F$12:$Y$65,AC98)","v":1},1]
[null,null,null,null,null,null,null,null,null,null,null,null,null,null,null,null,null,null,null,null,null,null,null,null,null,null,null,null,92,{"$f":"COUNTIF(F$12:$Y$65,AC99)","v":1},1]
[null,null,null,null,null,null,null,null,null,null,null,null,null,null,null,null,null,null,null,null,null,null,null,null,null,null,null,null,79,{"$f":"COUNTIF(F$12:$Y$65,AC100)","v":0},0]
[null,null,null,null,null,null,null,null,null,null,null,null,null,null,null,null,null,null,null,null,null,null,null,null,null,null,null,null,77,{"$f":"COUNTIF(F$12:$Y$65,AC101)","v":0},0]
[null,null,null,null,null,null,null,null,null,null,null,null,null,null,null,null,null,null,null,null,null,null,null,null,null,null,null,null,91,{"$f":"COUNTIF(F$12:$Y$65,AC102)","v":0},0]
[null,null,null,null,null,null,null,null,null,null,null,null,null,null,null,null,null,null,null,null,null,null,null,null,null,null,null,null,26,{"$f":"COUNTIF(F$12:$Y$65,AC103)","v":0},0]
[null,null,null,null,null,null,null,null,null,null,null,null,null,null,null,null,null,null,null,null,null,null,null,null,null,null,null,null,65,{"$f":"COUNTIF(F$12:$Y$65,AC104)","v":0},0]
[null,null,null,null,null,null,null,null,null,null,null,null,null,null,null,null,null,null,null,null,null,null,null,null,null,null,null,null,49,{"$f":"COUNTIF(F$12:$Y$65,AC105)","v":0},0]
[null,null,null,null,null,null,null,null,null,null,null,null,null,null,null,null,null,null,null,null,null,null,null,null,null,null,null,null,50,{"$f":"COUNTIF(F$12:$Y$65,AC106)","v":0},0]
[null,null,null,null,null,null,null,null,null,null,null,null,null,null,null,null,null,null,null,null,null,null,null,null,null,null,null,null,63,{"$f":"COUNTIF(F$12:$Y$65,AC107)","v":0},0]
[null,null,null,null,null,null,null,null,null,null,null,null,null,null,null,null,null,null,null,null,null,null,null,null,null,null,null,null,93,{"$f":"COUNTIF(F$12:$Y$65,AC108)","v":0},0]
[null,null,null,null,null,null,null,null,null,null,null,null,null,null,null,null,null,null,null,null,null,null,null,null,null,null,null,null,28,{"$f":"COUNTIF(F$12:$Y$65,AC109)","v":0},0]
[null,null,null,null,null,null,null,null,null,null,null,null,null,null,null,null,null,null,null,null,null,null,null,null,null,null,null,null,68,{"$f":"COUNTIF(F$12:$Y$65,AC110)","v":0},0]
[null,null,null,null,null,null,null,null,null,null,null,null,null,null,null,null,null,null,null,null,null,null,null,null,null,null,null,null,2,{"$f":"COUNTIF(F$12:$Y$65,AC111)","v":0},0]
[null,null,null,null,null,null,null,null,null,null,null,null,null,null,null,null,null,null,null,null,null,null,null,null,null,null,null,null,96,{"$f":"COUNTIF(F$12:$Y$65,AC112)","v":0},0]

{"sheet":"20 Últimos Sorteios","index":3,"n_rows":112,"n_cols":31,"rows_kept":112,"cut":false,"hidden":false,"merged":[[1,1,1,32],[2,1,2,32],[3,1,3,32],[5,1,5,32],[8,3,9,24],[8,28,10,29]]}
[]
[null,"Atenção!"]
[null,"Esta planilha é de uso pessoal, é restritamente proibida a distribuição da mesma a terceiros, sujeito a punições de acordo com as leis de direitos autorais"]
[null,"Todos os direitos reservados ao site www.ApostaEsperta.com "]
[]
[null,"Planilha de Análise Estatística Lotomania"]
[]
[]
[null,null,null,"Resultados dos Últimos 20 Sorteios",null,null,null,null,null,null,null,null,null,null,null,null,null,null,null,null,null,null,null,null,null,null,null,null,"Números Quentes\nÚltimos 20 Sorteios"]
[]
[null,null,null,"Sorteio","Data do Sorteio","1ª D","2ª D","3ª D","4ª D","5ª D","6ª D","7ª D","8ª D","9ª D","10ª D","11ª D","12ª D","13ª D","14ª D","15ª D","16ª D","17ª D","18ª D","19ª D","20ª D"]
[null,null,null,{"$f":"COUNT('Resultados Gerais'!$B$8:$B$1048576)-C12","v":1419},{"$f":"VLOOKUP(D12,'Resultados Gerais'!B$8:C$1048576,2,0)","v":"2014-01-18"},{"$f":"VLOOKUP($D12,'Resultados Gerais'!$B$8:$W$1048576,3,0)","v":7},{"$f":"VLOOKUP($D12,'Resultados Gerais'!$B$8:$W$1048576,4,0)","v":45},{"$f":"VLOOKUP($D12,'Resultados Gerais'!$B$8:$W$1048576,5,0)","v":39},{"$f":"VLOOKUP($D12,'Resultados Gerais'!$B$8:$W$1048576,6,0)","v":71},{"$f":"VLOOKUP($D12,'Resultados Gerais'!$B$8:$W$1048576,7,0)","v":21},{"$f":"VLOOKUP($D12,'Resultados Gerais'!$B$8:$W$1048576,8,0)","v":36},{"$f":"VLOOKUP($D12,'Resultados Gerais'!$B$8:$W$1048576,9,0)","v":78},{"$f":"VLOOKUP($D12,'Resultados Gerais'!$B$8:$W$1048576,10,0)","v":42},{"$f":"VLOOKUP($D12,'Resultados Gerais'!$B$8:$W$1048576,11,0)","v":86},{"$f":"VLOOKUP($D12,'Resultados Gerais'!$B$8:$W$1048576,12,0)","v":64},{"$f":"VLOOKUP($D12,'Resultados Gerais'!$B$8:$W$1048576,13,0)","v":5},{"$f":"VLOOKUP($D12,'Resultados Gerais'!$B$8:$W$1048576,14,0)","v":32},{"$f":"VLOOKUP($D12,'Resultados Gerais'!$B$8:$W$1048576,15,0)","v":19},{"$f":"VLOOKUP($D12,'Resultados Gerais'!$B$8:$W$1048576,16,0)","v":10},{"$f":"VLOOKUP($D12,'Resultados Gerais'!$B$8:$W$1048576,17,0)","v":97},{"$f":"VLOOKUP($D12,'Resultados Gerais'!$B$8:$W$1048576,18,0)","v":98},{"$f":"VLOOKUP($D12,'Resultados Gerais'!$B$8:$W$1048576,19,0)","v":80},{"$f":"VLOOKUP($D12,'Resultados Gerais'!$B$8:$W$1048576,20,0)","v":8},{"$f":"VLOOKUP($D12,'Resultados Gerais'!$B$8:$W$1048576,21,0)","v":31},{"$f":"VLOOKUP($D12,'Resultados Gerais'!$B$8:$W$1048576,22,0)","v":18},null,null,null,"Dezena","Qtde de Saída"]
[null,null,1,{"$f":"COUNT('Resultados Gerais'!$B$8:$B$1048576)-C13","v":1418},{"$f":"VLOOKUP(D13,'Resultados Gerais'!B$8:C$1048576,2,0)","v":"2014-01-15"},{"$f":"VLOOKUP($D13,'Resultados Gerais'!$B$8:$W$1048576,3,0)","v":48},{"$f":"VLOOKUP($D13,'Resultados Gerais'!$B$8:$W$1048576,4,0)","v":76},{"$f":"VLOOKUP($D13,'Resultados Gerais'!$B$8:$W$1048576,5,0)","v":41},{"$f":"VLOOKUP($D13,'Resultados Gerais'!$B$8:$W$1048576,6,0)","v":72},{"$f":"VLOOKUP($D13,'Resultados Gerais'!$B$8:$W$1048576,7,0)","v":95},{"$f":"VLOOKUP($D13,'Resultados Gerais'!$B$8:$W$1048576,8,0)","v":66},{"$f":"VLOOKUP($D13,'Resultados Gerais'!$B$8:$W$1048576,9,0)","v":98},{"$f":"VLOOKUP($D13,'Resultados Gerais'!$B$8:$W$1048576,10,0)","v":83},{"$f":"VLOOKUP($D13,'Resultados Gerais'!$B$8:$W$1048576,11,0)","v":37},{"$f":"VLOOKUP($D13,'Resultados Gerais'!$B$8:$W$1048576,12,0)","v":16},{"$f":"VLOOKUP($D13,'Resultados Gerais'!$B$8:$W$1048576,13,0)","v":85},{"$f":"VLOOKUP($D13,'Resultados Gerais'!$B$8:$W$1048576,14,0)","v":60},{"$f":"VLOOKUP($D13,'Resultados Gerais'!$B$8:$W$1048576,15,0)","v":44},{"$f":"VLOOKUP($D13,'Resultados Gerais'!$B$8:$W$1048576,16,0)","v":55},{"$f":"VLOOKUP($D13,'Resultados Gerais'!$B$8:$W$1048576,17,0)","v":31},{"$f":"VLOOKUP($D13,'Resultados Gerais'!$B$8:$W$1048576,18,0)","v":19},{"$f":"VLOOKUP($D13,'Resultados Gerais'!$B$8:$W$1048576,19,0)","v":22},{"$f":"VLOOKUP($D13,'Resultados Gerais'!$B$8:$W$1048576,20,0)","v":11},{"$f":"VLOOKUP($D13,'Resultados Gerais'!$B$8:$W$1048576,21,0)","v":73},{"$f":"VLOOKUP($D13,'Resultados Gerais'!$B$8:$W$1048576,22,0)","v":92},null,null,null,85,{"$f":"COUNTIF(F$12:$Y$65,AC13)","v":8},{"$f":"AD13","v":8}]
[null,null,2,{"$f":"COUNT('Resultados Gerais'!$B$8:$B$1048576)-C14","v":1417},{"$f":"VLOOKUP(D14,'Resultados Gerais'!B$8:C$1048576,2,0)","v":"2014-01-11"},{"$f":"VLOOKUP($D14,'Resultados Gerais'!$B$8:$W$1048576,3,0)","v":34},{"$f":"VLOOKUP($D14,'Resultados Gerais'!$B$8:$W$1048576,4,0)","v":14},{"$f":"VLOOKUP($D14,'Resultados Gerais'!$B$8:$W$1048576,5,0)","v":56},{"$f":"VLOOKUP($D14,'Resultados Gerais'!$B$8:$W$1048576,6,0)","v":74},{"$f":"VLOOKUP($D14,'Resultados Gerais'!$B$8:$W$1048576,7,0)","v":17},{"$f":"VLOOKUP($D14,'Resultados Gerais'!$B$8:$W$1048576,8,0)","v":70},{"$f":"VLOOKUP($D14,'Resultados Gerais'!$B$8:$W$1048576,9,0)","v":40},{"$f":"VLOOKUP($D14,'Resultados Gerais'!$B$8:$W$1048576,10,0)","v":62},{"$f":"VLOOKUP($D14,'Resultados Gerais'!$B$8:$W$1048576,11,0)","v":54},{"$f":"VLOOKUP($D14,'Resultados Gerais'!$B$8:$W$1048576,12,0)","v":85},{"$f":"VLOOKUP($D14,'Resultados Gerais'!$B$8:$W$1048576,13,0)","v":16},{"$f":"VLOOKUP($D14,'Resultados Gerais'!$B$8:$W$1048576,14,0)","v":24},{"$f":"VLOOKUP($D14,'Resultados Gerais'!$B$8:$W$1048576,15,0)","v":76},{"$f":"VLOOKUP($D14,'Resultados Gerais'!$B$8:$W$1048576,16,0)","v":55},{"$f":"VLOOKUP($D14,'Resultados Gerais'!$B$8:$W$1048576,17,0)","v":25},{"$f":"VLOOKUP($D14,'Resultados Gerais'!$B$8:$W$1048576,18,0)","v":46},{"$f":"VLOOKUP($D14,'Resultados Gerais'!$B$8:$W$1048576,19,0)","v":3},{"$f":"VLOOKUP($D14,'Resultados Gerais'!$B$8:$W$1048576,20,0)","v":71},{"$f":"VLOOKUP($D14,'Resultados Gerais'!$B$8:$W$1048576,21,0)","v":37},{"$f":"VLOOKUP($D14,'Resultados Gerais'!$B$8:$W$1048576,22,0)","v":35},null,null,null,83,{"$f":"COUNTIF(F$12:$Y$65,AC14)","v":8},{"$f":"AD14","v":8}]
[null,null,3,{"$f":"COUNT('Resultados Gerais'!$B$8:$B$1048576)-C15","v":1416},{"$f":"VLOOKUP(D15,'Resultados Gerais'!B$8:C$1048576,2,0)","v":"2014-01-09"},{"$f":"VLOOKUP($D15,'Resultados Gerais'!$B$8:$W$1048576,3,0)","v":31},{"$f":"VLOOKUP($D15,'Resultados Gerais'!$B$8:$W$1048576,4,0)","v":67},{"$f":"VLOOKUP($D15,'Resultados Gerais'!$B$8:$W$1048576,5,0)","v":42},{"$f":"VLOOKUP($D15,'Resultados Gerais'!$B$8:$W$1048576,6,0)","v":22},{"$f":"VLOOKUP($D15,'Resultados Gerais'!$B$8:$W$1048576,7,0)","v":33},{"$f":"VLOOKUP($D15,'Resultados Gerais'!$B$8:$W$1048576,8,0)","v":82},{"$f":"VLOOKUP($D15,'Resultados Gerais'!$B$8:$W$1048576,9,0)","v":53},{"$f":"VLOOKUP($D15,'Resultados Gerais'!$B$8:$W$1048576,10,0)","v":57},{"$f":"VLOOKUP($D15,'Resultados Gerais'!$B$8:$W$1048576,11,0)","v":15},{"$f":"VLOOKUP($D15,'Resultados Gerais'!$B$8:$W$1048576,12,0)","v":40},{"$f":"VLOOKUP($D15,'Resultados Gerais'!$B$8:$W$1048576,13,0)","v":99},{"$f":"VLOOKUP($D15,'Resultados Gerais'!$B$8:$W$1048576,14,0)","v":85},{"$f":"VLOOKUP($D15,'Resultados Gerais'!$B$8:$W$1048576,15,0)","v":37},{"$f":"VLOOKUP($D15,'Resultados Gerais'!$B$8:$W$1048576,16,0)","v":83},{"$f":"VLOOKUP($D15,'Resultados Gerais'!$B$8:$W$1048576,17,0)","v":73},{"$f":"VLOOKUP($D15,'Resultados Gerais'!$B$8:$W$1048576,18,0)","v":45},{"$f":"VLOOKUP($D15,'Resultados Gerais'!$B$8:$W$1048576,19,0)","v":46},{"$f":"VLOOKUP($D15,'Resultados Gerais'!$B$8:$W$1048576,20,0)","v":95},{"$f":"VLOOKUP($D15,'Resultados Gerais'!$B$8:$W$1048576,21,0)","v":88},{"$f":"VLOOKUP($D15,'Resultados Gerais'!$B$8:$W$1048576,22,0)","v":12},null,null,null,15,{"$f":"COUNTIF(F$12:$Y$65,AC15)","v":7},7]
[null,null,4,{"$f":"COUNT('Resultados Gerais'!$B$8:$B$1048576)-C16","v":1415},{"$f":"VLOOKUP(D16,'Resultados Gerais'!B$8:C$1048576,2,0)","v":"2014-01-04"},{"$f":"VLOOKUP($D16,'Resultados Gerais'!$B$8:$W$1048576,3,0)","v":46},{"$f":"VLOOKUP($D16,'Resultados Gerais'!$B$8:$W$1048576,4,0)","v":61},{"$f":"VLOOKUP($D16,'Resultados Gerais'!$B$8:$W$1048576,5,0)","v":62},{"$f":"VLOOKUP($D16,'Resultados Gerais'!$B$8:$W$1048576,6,0)","v":21},{"$f":"VLOOKUP($D16,'Resultados Gerais'!$B$8:$W$1048576,7,0)","v":9},{"$f":"VLOOKUP($D16,'Resultados Gerais'!$B$8:$W$1048576,8,0)","v":18},{"$f":"VLOOKUP($D16,'Resultados Gerais'!$B$8:$W$1048576,9,0)","v":75},{"$f":"VLOOKUP($D16,'Resultados Gerais'!$B$8:$W$1048576,10,0)","v":69},{"$f":"VLOOKUP($D16,'Resultados Gerais'!$B$8:$W$1048576,11,0)","v":1},{"$f":"VLOOKUP($D16,'Resultados Gerais'!$B$8:$W$1048576,12,0)","v":4},{"$f":"VLOOKUP($D16,'Resultados Gerais'!$B$8:$W$1048576,13,0)","v":40},{"$f":"VLOOKUP($D16,'Resultados Gerais'!$B$8:$W$1048576,14,0)","v":52},{"$f":"VLOOKUP($D16,'Resultados Gerais'!$B$8:$W$1048576,15,0)","v":10},{"$f":"VLOOKUP($D16,'Resultados Gerais'!$B$8:$W$1048576,16,0)","v":6},{"$f":"VLOOKUP($D16,'Resultados Gerais'!$B$8:$W$1048576,17,0)","v":33},{"$f":"VLOOKUP($D16,'Resultados Gerais'!$B$8:$W$1048576,18,0)","v":22},{"$f":"VLOOKUP($D16,'Resultados Gerais'!$B$8:$W$1048576,19,0)","v":95},{"$f":"VLOOKUP($D16,'Resultados Gerais'!$B$8:$W$1048576,20,0)","v":87},{"$f":"VLOOKUP($D16,'Resultados Gerais'!$B$8:$W$1048576,21,0)","v":84},{"$f":"VLOOKUP($D16,'Resultados Gerais'!$B$8:$W$1048576,22,0)","v":7},null,null,null,58,{"$f":"COUNTIF(F$12:$Y$65,AC16)","v":7},7]
[null,null,5,{"$f":"COUNT('Resultados Gerais'!$B$8:$B$1048576)-C17","v":1414},{"$f":"VLOOKUP(D17,'Resultados Gerais'!B$8:C$1048576,2,0)","v":"2013-12-31"},{"$f":"VLOOKUP($D17,'Resultados Gerais'!$B$8:$W$1048576,3,0)","v":75},{"$f":"VLOOKUP($D17,'Resultados Gerais'!$B$8:$W$1048576,4,0)","v":81},{"$f":"VLOOKUP($D17,'Resultados Gerais'!$B$8:$W$1048576,5,0)","v":59},{"$f":"VLOOKUP($D17,'Resultados Gerais'!$B$8:$W$1048576,6,0)","v":76},{"$f":"VLOOKUP($D17,'Resultados Gerais'!$B$8:$W$1048576,7,0)","v":36},{"$f":"VLOOKUP($D17,'Resultados Gerais'!$B$8:$W$1048576,8,0)","v":66},{"$f":"VLOOKUP($D17,'Resultados Gerais'!$B$8:$W$1048576,9,0)","v":98},{"$f":"VLOOKUP($D17,'Resultados Gerais'!$B$8:$W$1048576,10,0)","v":29},{"$f":"VLOOKUP($D17,'Resultados Gerais'!$B$8:$W$1048576,11,0)","v":39},{"$f":"VLOOKUP($D17,'Resultados Gerais'!$B$8:$W$1048576,12,0)","v":95},{"$f":"VLOOKUP($D17,'Resultados Gerais'!$B$8:$W$1048576,13,0)","v":45},{"$f":"VLOOKUP($D17,'Resultados Gerais'!$B$8:$W$1048576,14,0)","v":94},{"$f":"VLOOKUP($D17,'Resultados Gerais'!$B$8:$W$1048576,15,0)","v":60},{"$f":"VLOOKUP($D17,'Resultados Gerais'!$B$8:$W$1048576,16,0)","v":86},{"$f":"VLOOKUP($D17,'Resultados Gerais'!$B$8:$W$1048576,17,0)","v":58},{"$f":"VLOOKUP($D17,'Resultados Gerais'!$B$8:$W$1048576,18,0)","v":43},{"$f":"VLOOKUP($D17,'Resultados Gerais'!$B$8:$W$1048576,19,0)","v":54},{"$f":"VLOOKUP($D17,'Resultados Gerais'!$B$8:$W$1048576,20,0)","v":70},{"$f":"VLOOKUP($D17,'Resultados Gerais'!$B$8:$W$1048576,21,0)","v":83},{"$f":"VLOOKUP($D17,'Resultados Gerais'!$B$8:$W$1048576,22,0)","v":41},null,null,null,25,{"$f":"COUNTIF(F$12:$Y$65,AC17)","v":7},7]
[null,null,6,{"$f":"COUNT('Resultados Gerais'!$B$8:$B$1048576)-C18","v":1413},{"$f":"VLOOKUP(D18,'Resultados Gerais'!B$8:C$1048576,2,0)","v":"2013-12-28"},{"$f":"VLOOKUP($D18,'Resultados Gerais'!$B$8:$W$1048576,3,0)","v":53},{"$f":"VLOOKUP($D18,'Resultados Gerais'!$B$8:$W$1048576,4,0)","v":76},{"$f":"VLOOKUP($D18,'Resultados Gerais'!$B$8:$W$1048576,5,0)","v":39},{"$f":"VLOOKUP($D18,'Resultados Gerais'!$B$8:$W$1048576,6,0)","v":21},{"$f":"VLOOKUP($D18,'Resultados Gerais'!$B$8:$W$1048576,7,0)","v":58},{"$f":"VLOOKUP($D18,'Resultados Gerais'!$B$8:$W$1048576,8,0)","v":87},{"$f":"VLOOKUP($D18,'Resultados Gerais'!$B$8:$W$1048576,9,0)","v":48},{"$f":"VLOOKUP($D18,'Resultados Gerais'!$B$8:$W$1048576,10,0)","v":90},{"$f":"VLOOKUP($D18,'Resultados Gerais'!$B$8:$W$1048576,11,0)","v":24},{"$f":"VLOOKUP($D18,'Resultados Gerais'!$B$8:$W$1048576,12,0)","v":94},{"$f":"VLOOKUP($D18,'Resultados Gerais'!$B$8:$W$1048576,13,0)","v":13},{"$f":"VLOOKUP($D18,'Resultados Gerais'!$B$8:$W$1048576,14,0)","v":81},{"$f":"VLOOKUP($D18,'Resultados Gerais'!$B$8:$W$1048576,15,0)","v":83},{"$f":"VLOOKUP($D18,'Resultados Gerais'!$B$8:$W$1048576,16,0)","v":47},{"$f":"VLOOKUP($D18,'Resultados Gerais'!$B$8:$W$1048576,17,0)","v":97},{"$f":"VLOOKUP($D18,'Resultados Gerais'!$B$8:$W$1048576,18,0)","v":43},{"$f":"VLOOKUP($D18,'Resultados Gerais'!$B$8:$W$1048576,19,0)","v":37},{"$f":"VLOOKUP($D18,'Resultados Gerais'!$B$8:$W$1048576,20,0)","v":60},{"$f":"VLOOKUP($D18,'Resultados Gerais'!$B$8:$W$1048576,21,0)","v":8},{"$f":"VLOOKUP($D18,'Resultados Gerais'!$B$8:$W$1048576,22,0)","v":35},null,null,null,21,{"$f":"COUNTIF(F$12:$Y$65,AC18)","v":7},7]
[null,null,7,{"$f":"COUNT('Resultados Gerais'!$B$8:$B$1048576)-C19","v":1412},{"$f":"VLOOKUP(D19,'Resultados Gerais'!B$8:C$1048576,2,0)","v":"2013-12-26"},{"$f":"VLOOKUP($D19,'Resultados Gerais'!$B$8:$W$1048576,3,0)","v":67},{"$f":"VLOOKUP($D19,'Resultados Gerais'!$B$8:$W$1048576,4,0)","v":19},{"$f":"VLOOKUP($D19,'Resultados Gerais'!$B$8:$W$1048576,5,0)","v":20},{"$f":"VLOOKUP($D19,'Resultados Gerais'!$B$8:$W$1048576,6,0)","v":88},{"$f":"VLOOKUP($D19,'Resultados Gerais'!$B$8:$W$1048576,7,0)","v":36},{"$f":"VLOOKUP($D19,'Resultados Gerais'!$B$8:$W$1048576,8,0)","v":62},{"$f":"VLOOKUP($D19,'Resultados Gerais'!$B$8:$W$1048576,9,0)","v":76},{"$f":"VLOOKUP($D19,'Resultados Gerais'!$B$8:$W$1048576,10,0)","v":66},{"$f":"VLOOKUP($D19,'Resultados Gerais'!$B$8:$W$1048576,11,0)","v":30},{"$f":"VLOOKUP($D19,'Resultados Gerais'!$B$8:$W$1048576,12,0)","v":21},{"$f":"VLOOKUP($D19,'Resultados Gerais'!$B$8:$W$1048576,13,0)","v":12},{"$f":"VLOOKUP($D19,'Resultados Gerais'!$B$8:$W$1048576,14,0)","v":58},{"$f":"VLOOKUP($D19,'Resultados Gerais'!$B$8:$W$1048576,15,0)","v":33},{"$f":"VLOOKUP($D19,'Resultados Gerais'!$B$8:$W$1048576,16,0)","v":13},{"$f":"VLOOKUP($D19,'Resultados Gerais'!$B$8:$W$1048576,17,0)","v":37},{"$f":"VLOOKUP($D19,'Resultados Gerais'!$B$8:$W$1048576,18,0)","v":83},{"$f":"VLOOKUP($D19,'Resultados Gerais'!$B$8:$W$1048576,19,0)","v":48},{"$f":"VLOOKUP($D19,'Resultados Gerais'!$B$8:$W$1048576,20,0)","v":35},{"$f":"VLOOKUP($D19,'Resultados Gerais'!$B$8:$W$1048576,21,0)","v":0},{"$f":"VLOOKUP($D19,'Resultados Gerais'!$B$8:$W$1048576,22,0)","v":23},null,null,null,29,{"$f":"COUNTIF(F$12:$Y$65,AC19)","v":6},6]
[null,null,8,{"$f":"COUNT('Resultados Gerais'!$B$8:$B$1048576)-C20","v":1411},{"$f":"VLOOKUP(D20,'Resultados Gerais'!B$8:C$1048576,2,0)","v":"2013-12-21"},{"$f":"VLOOKUP($D20,'Resultados Gerais'!$B$8:$W$1048576,3,0)","v":6},{"$f":"VLOOKUP($D20,'Resultados Gerais'!$B$8:$W$1048576,4,0)","v":59},{"$f":"VLOOKUP($D20,'Resultados Gerais'!$B$8:$W$1048576,5,0)","v":94},{"$f":"VLOOKUP($D20,'Resultados Gerais'!$B$8:$W$1048576,6,0)","v":27},{"$f":"VLOOKUP($D20,'Resultados Gerais'!$B$8:$W$1048576,7,0)","v":47},{"$f":"VLOOKUP($D20,'Resultados Gerais'!$B$8:$W$1048576,8,0)","v":55},{"$f":"VLOOKUP($D20,'Resultados Gerais'!$B$8:$W$1048576,9,0)","v":9},{"$f":"VLOOKUP($D20,'Resultados Gerais'!$B$8:$W$1048576,10,0)","v":5},{"$f":"VLOOKUP($D20,'Resultados Gerais'!$B$8:$W$1048576,11,0)","v":0},{"$f":"VLOOKUP($D20,'Resultados Gerais'!$B$8:$W$1048576,12,0)","v":43},{"$f":"VLOOKUP($D20,'Resultados Gerais'!$B$8:$W$1048576,13,0)","v":83},{"$f":"VLOOKUP($D20,'Resultados Gerais'!$B$8:$W$1048576,14,0)","v":69},{"$f":"VLOOKUP($D20,'Resultados Gerais'!$B$8:$W$1048576,15,0)","v":45},{"$f":"VLOOKUP($D20,'Resultados Gerais'!$B$8:$W$1048576,16,0)","v":25},{"$f":"VLOOKUP($D20,'Resultados Gerais'!$B$8:$W$1048576,17,0)","v":51},{"$f":"VLOOKUP($D20,'Resultados Gerais'!$B$8:$W$1048576,18,0)","v":36},{"$f":"VLOOKUP($D20,'Resultados Gerais'!$B$8:$W$1048576,19,0)","v":89},{"$f":"VLOOKUP($D20,'Resultados Gerais'!$B$8:$W$1048576,20,0)","v":23},{"$f":"VLOOKUP($D20,'Resultados Gerais'!$B$8:$W$1048576,21,0)","v":15},{"$f":"VLOOKUP($D20,'Resultados Gerais'!$B$8:$W$1048576,22,0)","v":97},null,null,null,43,{"$f":"COUNTIF(F$12:$Y$65,AC20)","v":6},6]
[null,null,9,{"$f":"COUNT('Resultados Gerais'!$B$8:$B$1048576)-C21","v":1410},{"$f":"VLOOKUP(D21,'Resultados Gerais'!B$8:C$1048576,2,0)","v":"2013-12-18"},{"$f":"VLOOKUP($D21,'Resultados Gerais'!$B$8:$W$1048576,3,0)","v":39},{"$f":"VLOOKUP($D21,'Resultados Gerais'!$B$8:$W$1048576,4,0)","v":13},{"$f":"VLOOKUP($D21,'Resultados Gerais'!$B$8:$W$1048576,5,0)","v":21},{"$f":"VLOOKUP($D21,'Resultados Gerais'!$B$8:$W$1048576,6,0)","v":73},{"$f":"VLOOKUP($D21,'Resultados Gerais'!$B$8:$W$1048576,7,0)","v":72},{"$f":"VLOOKUP($D21,'Resultados Gerais'!$B$8:$W$1048576,8,0)","v":55},{"$f":"VLOOKUP($D21,'Resultados Gerais'!$B$8:$W$1048576,9,0)","v":38},{"$f":"VLOOKUP($D21,'Resultados Gerais'!$B$8:$W$1048576,10,0)","v":11},{"$f":"VLOOKUP($D21,'Resultados Gerais'!$B$8:$W$1048576,11,0)","v":25},{"$f":"VLOOKUP($D21,'Resultados Gerais'!$B$8:$W$1048576,12,0)","v":48},{"$f":"VLOOKUP($D21,'Resultados Gerais'!$B$8:$W$1048576,13,0)","v":56},{"$f":"VLOOKUP($D21,'Resultados Gerais'!$B$8:$W$1048576,14,0)","v":60},{"$f":"VLOOKUP($D21,'Resultados Gerais'!$B$8:$W$1048576,15,0)","v":22},{"$f":"VLOOKUP($D21,'Resultados Gerais'!$B$8:$W$1048576,16,0)","v":14},{"$f":"VLOOKUP($D21,'Resultados Gerais'!$B$8:$W$1048576,17,0)","v":10},{"$f":"VLOOKUP($D21,'Resultados Gerais'!$B$8:$W$1048576,18,0)","v":85},{"$f":"VLOOKUP($D21,'Resultados Gerais'!$B$8:$W$1048576,19,0)","v":76},{"$f":"VLOOKUP($D21,'Resultados Gerais'!$B$8:$W$1048576,20,0)","v":54},{"$f":"VLOOKUP($D21,'Resultados Gerais'!$B$8:$W$1048576,21,0)","v":69},{"$f":"VLOOKUP($D21,'Resultados Gerais'!$B$8:$W$1048576,22,0)","v":41},null,null,null,73,{"$f":"COUNTIF(F$12:$Y$65,AC21)","v":6},6]
[null,null,10,{"$f":"COUNT('Resultados Gerais'!$B$8:$B$1048576)-C22","v":1409},{"$f":"VLOOKUP(D22,'Resultados Gerais'!B$8:C$1048576,2,0)","v":"2013-12-14"},{"$f":"VLOOKUP($D22,'Resultados Gerais'!$B$8:$W$1048576,3,0)","v":34},{"$f":"VLOOKUP($D22,'Resultados Gerais'!$B$8:$W$1048576,4,0)","v":84},{"$f":"VLOOKUP($D22,'Resultados Gerais'!$B$8:$W$1048576,5,0)","v":25},{"$f":"VLOOKUP($D22,'Resultados Gerais'!$B$8:$W$1048576,6,0)","v":92},{"$f":"VLOOKUP($D22,'Resultados Gerais'!$B$8:$W$1048576,7,0)","v":44},{"$f":"VLOOKUP($D22,'Resultados Gerais'!$B$8:$W$1048576,8,0)","v":63},{"$f":"VLOOKUP($D22,'Resultados Gerais'!$B$8:$W$1048576,9,0)","v":69},{"$f":"VLOOKUP($D22,'Resultados Gerais'!$B$8:$W$1048576,10,0)","v":87},{"$f":"VLOOKUP($D22,'Resultados Gerais'!$B$8:$W$1048576,11,0)","v":72},{"$f":"VLOOKUP($D22,'Resultados Gerais'!$B$8:$W$1048576,12,0)","v":73},{"$f":"VLOOKUP($D22,'Resultados Gerais'!$B$8:$W$1048576,13,0)","v":83},{"$f":"VLOOKUP($D22,'Resultados Gerais'!$B$8:$W$1048576,14,0)","v":79},{"$f":"VLOOKUP($D22,'Resultados Gerais'!$B$8:$W$1048576,15,0)","v":86},{"$f":"VLOOKUP($D22,'Resultados Gerais'!$B$8:$W$1048576,16,0)","v":26},{"$f":"VLOOKUP($D22,'Resultados Gerais'!$B$8:$W$1048576,17,0)","v":89},{"$f":"VLOOKUP($D22,'Resultados Gerais'!$B$8:$W$1048576,18,0)","v":15},{"$f":"VLOOKUP($D22,'Resultados Gerais'!$B$8:$W$1048576,19,0)","v":78},{"$f":"VLOOKUP($D22,'Resultados Gerais'!$B$8:$W$1048576,20,0)","v":4},{"$f":"VLOOKUP($D22,'Resultados Gerais'!$B$8:$W$1048576,21,0)","v":58},{"$f":"VLOOKUP($D22,'Resultados Gerais'!$B$8:$W$1048576,22,0)","v":93},null,null,null,95,{"$f":"COUNTIF(F$12:$Y$65,AC22)","v":6},6]
[null,null,11,{"$f":"COUNT('Resultados Gerais'!$B$8:$B$1048576)-C23","v":1408},{"$f":"VLOOKUP(D23,'Resultados Gerais'!B$8:C$1048576,2,0)","v":"2013-12-11"},{"$f":"VLOOKUP($D23,'Resultados Gerais'!$B$8:$W$1048576,3,0)","v":20},{"$f":"VLOOKUP($D23,'Resultados Gerais'!$B$8:$W$1048576,4,0)","v":85},{"$f":"VLOOKUP($D23,'Resultados Gerais'!$B$8:$W$1048576,5,0)","v":33},{"$f":"VLOOKUP($D23,'Resultados Gerais'!$B$8:$W$1048576,6,0)","v":74},{"$f":"VLOOKUP($D23,'Resultados Gerais'!$B$8:$W$1048576,7,0)","v":51},{"$f":"VLOOKUP($D23,'Resultados Gerais'!$B$8:$W$1048576,8,0)","v":43},{"$f":"VLOOKUP($D23,'Resultados Gerais'!$B$8:$W$1048576,9,0)","v":50},{"$f":"VLOOKUP($D23,'Resultados Gerais'!$B$8:$W$1048576,10,0)","v":72},{"$f":"VLOOKUP($D23,'Resultados Gerais'!$B$8:$W$1048576,11,0)","v":57},{"$f":"VLOOKUP($D23,'Resultados Gerais'!$B$8:$W$1048576,12,0)","v":9},{"$f":"VLOOKUP($D23,'Resultados Gerais'!$B$8:$W$1048576,13,0)","v":48},{"$f":"VLOOKUP($D23,'Resultados Gerais'!$B$8:$W$1048576,14,0)","v":89},{"$f":"VLOOKUP($D23,'Resultados Gerais'!$B$8:$W$1048576,15,0)","v":88},{"$f":"VLOOKUP($D23,'Resultados Gerais'!$B$8:$W$1048576,16,0)","v":46},{"$f":"VLOOKUP($D23,'Resultados Gerais'!$B$8:$W$1048576,17,0)","v":32},{"$f":"VLOOKUP($D23,'Resultados Gerais'!$B$8:$W$1048576,18,0)","v":95},{"$f":"VLOOKUP($D23,'Resultados Gerais'!$B$8:$W$1048576,19,0)","v":5},{"$f":"VLOOKUP($D23,'Resultados Gerais'!$B$8:$W$1048576,20,0)","v":52},{"$f":"VLOOKUP($D23,'Resultados Gerais'!$B$8:$W$1048576,21,0)","v":78},{"$f":"VLOOKUP($D23,'Resultados Gerais'!$B$8:$W$1048576,22,0)","v":23},null,null,null,33,{"$f":"COUNTIF(F$12:$Y$65,AC23)","v":6},6]
[null,null,12,{"$f":"COUNT('Resultados Gerais'!$B$8:$B$1048576)-C24","v":1407},{"$f":"VLOOKUP(D24,'Resultados Gerais'!B$8:C$1048576,2,0)","v":"2013-12-07"},{"$f":"VLOOKUP($D24,'Resultados Gerais'!$B$8:$W$1048576,3,0)","v":70},{"$f":"VLOOKUP($D24,'Resultados Gerais'!$B$8:$W$1048576,4,0)","v":84},{"$f":"VLOOKUP($D24,'Resultados Gerais'!$B$8:$W$1048576,5,0)","v":14},{"$f":"VLOOKUP($D24,'Resultados Gerais'!$B$8:$W$1048576,6,0)","v":78},{"$f":"VLOOKUP($D24,'Resultados Gerais'!$B$8:$W$1048576,7,0)","v":83},{"$f":"VLOOKUP($D24,'Resultados Gerais'!$B$8:$W$1048576,8,0)","v":40},{"$f":"VLOOKUP($D24,'Resultados Gerais'!$B$8:$W$1048576,9,0)","v":26},{"$f":"VLOOKUP($D24,'Resultados Gerais'!$B$8:$W$1048576,10,0)","v":93},{"$f":"VLOOKUP($D24,'Resultados Gerais'!$B$8:$W$1048576,11,0)","v":56},{"$f":"VLOOKUP($D24,'Resultados Gerais'!$B$8:$W$1048576,12,0)","v":24},{"$f":"VLOOKUP($D24,'Resultados Gerais'!$B$8:$W$1048576,13,0)","v":6},{"$f":"VLOOKUP($D24,'Resultados Gerais'!$B$8:$W$1048576,14,0)","v":73},{"$f":"VLOOKUP($D24,'Resultados Gerais'!$B$8:$W$1048576,15,0)","v":17},{"$f":"VLOOKUP($D24,'Resultados Gerais'!$B$8:$W$1048576,16,0)","v":51},{"$f":"VLOOKUP($D24,'Resultados Gerais'!$B$8:$W$1048576,17,0)","v":86},{"$f":"VLOOKUP($D24,'Resultados Gerais'!$B$8:$W$1048576,18,0)","v":75},{"$f":"VLOOKUP($D24,'Resultados Gerais'!$B$8:$W$1048576,19,0)","v":90},{"$f":"VLOOKUP($D24,'Resultados Gerais'!$B$8:$W$1048576,20,0)","v":85},{"$f":"VLOOKUP($D24,'Resultados Gerais'!$B$8:$W$1048576,21,0)","v":68},{"$f":"VLOOKUP($D24,'Resultados Gerais'!$B$8:$W$1048576,22,0)","v":54},null,null,null,72,{"$f":"COUNTIF(F$12:$Y$65,AC24)","v":6},6]
[null,null,13,{"$f":"COUNT('Resultados Gerais'!$B$8:$B$1048576)-C25","v":1406},{"$f":"VLOOKUP(D25,'Resultados Gerais'!B$8:C$1048576,2,0)","v":"2013-12-04"},{"$f":"VLOOKUP($D25,'Resultados Gerais'!$B$8:$W$1048576,3,0)","v":87},{"$f":"VLOOKUP($D25,'Resultados Gerais'!$B$8:$W$1048576,4,0)","v":9},{"$f":"VLOOKUP($D25,'Resultados Gerais'!$B$8:$W$1048576,5,0)","v":2},{"$f":"VLOOKUP($D25,'Resultados Gerais'!$B$8:$W$1048576,6,0)","v":94},{"$f":"VLOOKUP($D25,'Resultados Gerais'!$B$8:$W$1048576,7,0)","v":60},{"$f":"VLOOKUP($D25,'Resultados Gerais'!$B$8:$W$1048576,8,0)","v":25},{"$f":"VLOOKUP($D25,'Resultados Gerais'!$B$8:$W$1048576,9,0)","v":82},{"$f":"VLOOKUP($D25,'Resultados Gerais'!$B$8:$W$1048576,10,0)","v":97},{"$f":"VLOOKUP($D25,'Resultados Gerais'!$B$8:$W$1048576,11,0)","v":29},{"$f":"VLOOKUP($D25,'Resultados Gerais'!$B$8:$W$1048576,12,0)","v":27},{"$f":"VLOOKUP($D25,'Resultados Gerais'!$B$8:$W$1048576,13,0)","v":21},{"$f":"VLOOKUP($D25,'Resultados Gerais'!$B$8:$W$1048576,14,0)","v":32},{"$f":"VLOOKUP($D25,'Resultados Gerais'!$B$8:$W$1048576,15,0)","v":17},{"$f":"VLOOKUP($D25,'Resultados Gerais'!$B$8:$W$1048576,16,0)","v":38},{"$f":"VLOOKUP($D25,'Resultados Gerais'!$B$8:$W$1048576,17,0)","v":84},{"$f":"VLOOKUP($D25,'Resultados Gerais'!$B$8:$W$1048576,18,0)","v":43},{"$f":"VLOOKUP($D25,'Resultados Gerais'!$B$8:$W$1048576,19,0)","v":70},{"$f":"VLOOKUP($D25,'Resultados Gerais'!$B$8:$W$1048576,20,0)","v":69},{"$f":"VLOOKUP($D25,'Resultados Gerais'!$B$8:$W$1048576,21,0)","v":67},{"$f":"VLOOKUP($D25,'Resultados Gerais'!$B$8:$W$1048576,22,0)","v":79},null,null,null,46,{"$f":"COUNTIF(F$12:$Y$65,AC25)","v":6},6]
[null,null,14,{"$f":"COUNT('Resultados Gerais'!$B$8:$B$1048576)-C26","v":1405},{"$f":"VLOOKUP(D26,'Resultados Gerais'!B$8:C$1048576,2,0)","v":"2013-11-30"},{"$f":"VLOOKUP($D26,'Resultados Gerais'!$B$8:$W$1048576,3,0)","v":87},{"$f":"VLOOKUP($D26,'Resultados Gerais'!$B$8:$W$1048576,4,0)","v":4},{"$f":"VLOOKUP($D26,'Resultados Gerais'!$B$8:$W$1048576,5,0)","v":15},{"$f":"VLOOKUP($D26,'Resultados Gerais'!$B$8:$W$1048576,6,0)","v":25},{"$f":"VLOOKUP($D26,'Resultados Gerais'!$B$8:$W$1048576,7,0)","v":55},{"$f":"VLOOKUP($D26,'Resultados Gerais'!$B$8:$W$1048576,8,0)","v":71},{"$f":"VLOOKUP($D26,'Resultados Gerais'!$B$8:$W$1048576,9,0)","v":38},{"$f":"VLOOKUP($D26,'Resultados Gerais'!$B$8:$W$1048576,10,0)","v":35},{"$f":"VLOOKUP($D26,'Resultados Gerais'!$B$8:$W$1048576,11,0)","v":89},{"$f":"VLOOKUP($D26,'Resultados Gerais'!$B$8:$W$1048576,12,0)","v":80},{"$f":"VLOOKUP($D26,'Resultados Gerais'!$B$8:$W$1048576,13,0)","v":0},{"$f":"VLOOKUP($D26,'Resultados Gerais'!$B$8:$W$1048576,14,0)","v":50},{"$f":"VLOOKUP($D26,'Resultados Gerais'!$B$8:$W$1048576,15,0)","v":65},{"$f":"VLOOKUP($D26,'Resultados Gerais'!$B$8:$W$1048576,16,0)","v":24},{"$f":"VLOOKUP($D26,'Resultados Gerais'!$B$8:$W$1048576,17,0)","v":42},{"$f":"VLOOKUP($D26,'Resultados Gerais'!$B$8:$W$1048576,18,0)","v":96},{"$f":"VLOOKUP($D26,'Resultados Gerais'!$B$8:$W$1048576,19,0)","v":41},{"$f":"VLOOKUP($D26,'Resultados Gerais'!$B$8:$W$1048576,20,0)","v":58},{"$f":"VLOOKUP($D26,'Resultados Gerais'!$B$8:$W$1048576,21,0)","v":6},{"$f":"VLOOKUP($D26,'Resultados Gerais'!$B$8:$W$1048576,22,0)","v":97},null,null,null,76,{"$f":"COUNTIF(F$12:$Y$65,AC26)","v":6},6]
[null,null,15,{"$f":"COUNT('Resultados Gerais'!$B$8:$B$1048576)-C27","v":1404},{"$f":"VLOOKUP(D27,'Resultados Gerais'!B$8:C$1048576,2,0)","v":"2013-11-27"},{"$f":"VLOOKUP($D27,'Resultados Gerais'!$B$8:$W$1048576,3,0)","v":54},{"$f":"VLOOKUP($D27,'Resultados Gerais'!$B$8:$W$1048576,4,0)","v":51},{"$f":"VLOOKUP($D27,'Resultados Gerais'!$B$8:$W$1048576,5,0)","v":71},{"$f":"VLOOKUP($D27,'Resultados Gerais'!$B$8:$W$1048576,6,0)","v":23},{"$f":"VLOOKUP($D27,'Resultados Gerais'!$B$8:$W$1048576,7,0)","v":9},{"$f":"VLOOKUP($D27,'Resultados Gerais'!$B$8:$W$1048576,8,0)","v":49},{"$f":"VLOOKUP($D27,'Resultados Gerais'!$B$8:$W$1048576,9,0)","v":24},{"$f":"VLOOKUP($D27,'Resultados Gerais'!$B$8:$W$1048576,10,0)","v":40},{"$f":"VLOOKUP($D27,'Resultados Gerais'!$B$8:$W$1048576,11,0)","v":29},{"$f":"VLOOKUP($D27,'Resultados Gerais'!$B$8:$W$1048576,12,0)","v":43},{"$f":"VLOOKUP($D27,'Resultados Gerais'!$B$8:$W$1048576,13,0)","v":95},{"$f":"VLOOKUP($D27,'Resultados Gerais'!$B$8:$W$1048576,14,0)","v":84},{"$f":"VLOOKUP($D27,'Resultados Gerais'!$B$8:$W$1048576,15,0)","v":73},{"$f":"VLOOKUP($D27,'Resultados Gerais'!$B$8:$W$1048576,16,0)","v":86},{"$f":"VLOOKUP($D27,'Resultados Gerais'!$B$8:$W$1048576,17,0)","v":33},{"$f":"VLOOKUP($D27,'Resultados Gerais'!$B$8:$W$1048576,18,0)","v":46},{"$f":"VLOOKUP($D27,'Resultados Gerais'!$B$8:$W$1048576,19,0)","v":44},{"$f":"VLOOKUP($D27,'Resultados Gerais'!$B$8:$W$1048576,20,0)","v":30},{"$f":"VLOOKUP($D27,'Resultados Gerais'!$B$8:$W$1048576,21,0)","v":15},{"$f":"VLOOKUP($D27,'Resultados Gerais'!$B$8:$W$1048576,22,0)","v":4},null,null,null,37,{"$f":"COUNTIF(F$12:$Y$65,AC27)","v":6},6]
[null,null,16,{"$f":"COUNT('Resultados Gerais'!$B$8:$B$1048576)-C28","v":1403},{"$f":"VLOOKUP(D28,'Resultados Gerais'!B$8:C$1048576,2,0)","v":"2013-11-23"},{"$f":"VLOOKUP($D28,'Resultados Gerais'!$B$8:$W$1048576,3,0)","v":51},{"$f":"VLOOKUP($D28,'Resultados Gerais'!$B$8:$W$1048576,4,0)","v":72},{"$f":"VLOOKUP($D28,'Resultados Gerais'!$B$8:$W$1048576,5,0)","v":46},{"$f":"VLOOKUP($D28,'Resultados Gerais'!$B$8:$W$1048576,6,0)","v":68},{"$f":"VLOOKUP($D28,'Resultados Gerais'!$B$8:$W$1048576,7,0)","v":36},{"$f":"VLOOKUP($D28,'Resultados Gerais'!$B$8:$W$1048576,8,0)","v":31},{"$f":"VLOOKUP($D28,'Resultados Gerais'!$B$8:$W$1048576,9,0)","v":20},{"$f":"VLOOKUP($D28,'Resultados Gerais'!$B$8:$W$1048576,10,0)","v":2},{"$f":"VLOOKUP($D28,'Resultados Gerais'!$B$8:$W$1048576,11,0)","v":98},{"$f":"VLOOKUP($D28,'Resultados Gerais'!$B$8:$W$1048576,12,0)","v":7},{"$f":"VLOOKUP($D28,'Resultados Gerais'!$B$8:$W$1048576,13,0)","v":14},{"$f":"VLOOKUP($D28,'Resultados Gerais'!$B$8:$W$1048576,14,0)","v":65},{"$f":"VLOOKUP($D28,'Resultados Gerais'!$B$8:$W$1048576,15,0)","v":25},{"$f":"VLOOKUP($D28,'Resultados Gerais'!$B$8:$W$1048576,16,0)","v":27},{"$f":"VLOOKUP($D28,'Resultados Gerais'!$B$8:$W$1048576,17,0)","v":30},{"$f":"VLOOKUP($D28,'Resultados Gerais'!$B$8:$W$1048576,18,0)","v":42},{"$f":"VLOOKUP($D28,'Resultados Gerais'!$B$8:$W$1048576,19,0)","v":82},{"$f":"VLOOKUP($D28,'Resultados Gerais'!$B$8:$W$1048576,20,0)","v":40},{"$f":"VLOOKUP($D28,'Resultados Gerais'!$B$8:$W$1048576,21,0)","v":16},{"$f":"VLOOKUP($D28,'Resultados Gerais'!$B$8:$W$1048576,22,0)","v":35},null,null,null,9,{"$f":"COUNTIF(F$12:$Y$65,AC28)","v":6},6]
[null,null,17,{"$f":"COUNT('Resultados Gerais'!$B$8:$B$1048576)-C29","v":1402},{"$f":"VLOOKUP(D29,'Resultados Gerais'!B$8:C$1048576,2,0)","v":"2013-11-20"},{"$f":"VLOOKUP($D29,'Resultados Gerais'!$B$8:$W$1048576,3,0)","v":93},{"$f":"VLOOKUP($D29,'Resultados Gerais'!$B$8:$W$1048576,4,0)","v":49},{"$f":"VLOOKUP($D29,'Resultados Gerais'!$B$8:$W$1048576,5,0)","v":86},{"$f":"VLOOKUP($D29,'Resultados Gerais'!$B$8:$W$1048576,6,0)","v":13},{"$f":"VLOOKUP($D29,'Resultados Gerais'!$B$8:$W$1048576,7,0)","v":29},{"$f":"VLOOKUP($D29,'Resultados Gerais'!$B$8:$W$1048576,8,0)","v":34},{"$f":"VLOOKUP($D29,'Resultados Gerais'!$B$8:$W$1048576,9,0)","v":37},{"$f":"VLOOKUP($D29,'Resultados Gerais'!$B$8:$W$1048576,10,0)","v":38},{"$f":"VLOOKUP($D29,'Resultados Gerais'!$B$8:$W$1048576,11,0)","v":16},{"$f":"VLOOKUP($D29,'Resultados Gerais'!$B$8:$W$1048576,12,0)","v":85},{"$f":"VLOOKUP($D29,'Resultados Gerais'!$B$8:$W$1048576,13,0)","v":80},{"$f":"VLOOKUP($D29,'Resultados Gerais'!$B$8:$W$1048576,14,0)","v":61},{"$f":"VLOOKUP($D29,'Resultados Gerais'!$B$8:$W$1048576,15,0)","v":15},{"$f":"VLOOKUP($D29,'Resultados Gerais'!$B$8:$W$1048576,16,0)","v":47},{"$f":"VLOOKUP($D29,'Resultados Gerais'!$B$8:$W$1048576,17,0)","v":82},{"$f":"VLOOKUP($D29,'Resultados Gerais'!$B$8:$W$1048576,18,0)","v":6},{"$f":"VLOOKUP($D29,'Resultados Gerais'!$B$8:$W$1048576,19,0)","v":67},{"$f":"VLOOKUP($D29,'Resultados Gerais'!$B$8:$W$1048576,20,0)","v":66},{"$f":"VLOOKUP($D29,'Resultados Gerais'!$B$8:$W$1048576,21,0)","v":20},{"$f":"VLOOKUP($D29,'Resultados Gerais'!$B$8:$W$1048576,22,0)","v":58},null,null,null,86,{"$f":"COUNTIF(F$12:$Y$65,AC29)","v":6},6]
[null,null,18,{"$f":"COUNT('Resultados Gerais'!$B$8:$B$1048576)-C30","v":1401},{"$f":"VLOOKUP(D30,'Resultados Gerais'!B$8:C$1048576,2,0)","v":"2013-11-16"},{"$f":"VLOOKUP($D30,'Resultados Gerais'!$B$8:$W$1048576,3,0)","v":1},{"$f":"VLOOKUP($D30,'Resultados Gerais'!$B$8:$W$1048576,4,0)","v":88},{"$f":"VLOOKUP($D30,'Resultados Gerais'!$B$8:$W$1048576,5,0)","v":4},{"$f":"VLOOKUP($D30,'Resultados Gerais'!$B$8:$W$1048576,6,0)","v":77},{"$f":"VLOOKUP($D30,'Resultados Gerais'!$B$8:$W$1048576,7,0)","v":10},{"$f":"VLOOKUP($D30,'Resultados Gerais'!$B$8:$W$1048576,8,0)","v":23},{"$f":"VLOOKUP($D30,'Resultados Gerais'!$B$8:$W$1048576,9,0)","v":35},{"$f":"VLOOKUP($D30,'Resultados Gerais'!$B$8:$W$1048576,10,0)","v":15},{"$f":"VLOOKUP($D30,'Resultados Gerais'!$B$8:$W$1048576,11,0)","v":72},{"$f":"VLOOKUP($D30,'Resultados Gerais'!$B$8:$W$1048576,12,0)","v":29},{"$f":"VLOOKUP($D30,'Resultados Gerais'!$B$8:$W$1048576,13,0)","v":30},{"$f":"VLOOKUP($D30,'Resultados Gerais'!$B$8:$W$1048576,14,0)","v":16},{"$f":"VLOOKUP($D30,'Resultados Gerais'!$B$8:$W$1048576,15,0)","v":22},{"$f":"VLOOKUP($D30,'Resultados Gerais'!$B$8:$W$1048576,16,0)","v":90},{"$f":"VLOOKUP($D30,'Resultados Gerais'!$B$8:$W$1048576,17,0)","v":13},{"$f":"VLOOKUP($D30,'Resultados Gerais'!$B$8:$W$1048576,18,0)","v":79},{"$f":"VLOOKUP($D30,'Resultados Gerais'!$B$8:$W$1048576,19,0)","v":21},{"$f":"VLOOKUP($D30,'Resultados Gerais'!$B$8:$W$1048576,20,0)","v":80},{"$f":"VLOOKUP($D30,'Resultados Gerais'!$B$8:$W$1048576,21,0)","v":64},{"$f":"VLOOKUP($D30,'Resultados Gerais'!$B$8:$W$1048576,22,0)","v":49},null,null,null,35,{"$f":"COUNTIF(F$12:$Y$65,AC30)","v":6},6]
[null,null,19,{"$f":"COUNT('Resultados Gerais'!$B$8:$B$1048576)-C31","v":1400},{"$f":"VLOOKUP(D31,'Resultados Gerais'!B$8:C$1048576,2,0)","v":"2013-11-13"},{"$f":"VLOOKUP($D31,'Resultados Gerais'!$B$8:$W$1048576,3,0)","v":66},{"$f":"VLOOKUP($D31,'Resultados Gerais'!$B$8:$W$1048576,4,0)","v":64},{"$f":"VLOOKUP($D31,'Resultados Gerais'!$B$8:$W$1048576,5,0)","v":9},{"$f":"VLOOKUP($D31,'Resultados Gerais'!$B$8:$W$1048576,6,0)","v":26},{"$f":"VLOOKUP($D31,'Resultados Gerais'!$B$8:$W$1048576,7,0)","v":70},{"$f":"VLOOKUP($D31,'Resultados Gerais'!$B$8:$W$1048576,8,0)","v":29},{"$f":"VLOOKUP($D31,'Resultados Gerais'!$B$8:$W$1048576,9,0)","v":58},{"$f":"VLOOKUP($D31,'Resultados Gerais'!$B$8:$W$1048576,10,0)","v":91},{"$f":"VLOOKUP($D31,'Resultados Gerais'!$B$8:$W$1048576,11,0)","v":34},{"$f":"VLOOKUP($D31,'Resultados Gerais'!$B$8:$W$1048576,12,0)","v":39},{"$f":"VLOOKUP($D31,'Resultados Gerais'!$B$8:$W$1048576,13,0)","v":62},{"$f":"VLOOKUP($D31,'Resultados Gerais'!$B$8:$W$1048576,14,0)","v":33},{"$f":"VLOOKUP($D31,'Resultados Gerais'!$B$8:$W$1048576,15,0)","v":20},{"$f":"VLOOKUP($D31,'Resultados Gerais'!$B$8:$W$1048576,16,0)","v":99},{"$f":"VLOOKUP($D31,'Resultados Gerais'!$B$8:$W$1048576,17,0)","v":74},{"$f":"VLOOKUP($D31,'Resultados Gerais'!$B$8:$W$1048576,18,0)","v":17},{"$f":"VLOOKUP($D31,'Resultados Gerais'!$B$8:$W$1048576,19,0)","v":5},{"$f":"VLOOKUP($D31,'Resultados Gerais'!$B$8:$W$1048576,20,0)","v":77},{"$f":"VLOOKUP($D31,'Resultados Gerais'!$B$8:$W$1048576,21,0)","v":85},99,null,null,null,40,{"$f":"COUNTIF(F$12:$Y$65,AC31)","v":6},6]
[null,null,20,null,null,null,null,null,null,null,null,null,null,null,null,null,null,null,null,null,null,null,null,null,null,null,null,null,54,{"$f":"COUNTIF(F$12:$Y$65,AC32)","v":5},5]
[null,null,null,null,null,null,null,null,null,null,null,null,null,null,null,null,null,null,null,null,null,null,null,null,null,null,null,null,66,{"$f":"COUNTIF(F$12:$Y$65,AC33)","v":5},5]
[null,null,null,null,null,null,null,null,null,null,null,null,null,null,null,null,null,null,null,null,null,null,null,null,null,null,null,null,70,{"$f":"COUNTIF(F$12:$Y$65,AC34)","v":5},5]
[null,null,null,null,null,null,null,null,null,null,null,null,null,null,null,null,null,null,null,null,null,null,null,null,null,null,null,null,36,{"$f":"COUNTIF(F$12:$Y$65,AC35)","v":5},5]
[null,null,null,null,null,null,null,null,null,null,null,null,null,null,null,null,null,null,null,null,null,null,null,null,null,null,null,null,4,{"$f":"COUNTIF(F$12:$Y$65,AC36)","v":5},5]
[null,null,null,null,null,null,null,null,null,null,null,null,null,null,null,null,null,null,null,null,null,null,null,null,null,null,null,null,16,{"$f":"COUNTIF(F$12:$Y$65,AC37)","v":5},5]
[null,null,null,null,null,null,null,null,null,null,null,null,null,null,null,null,null,null,null,null,null,null,null,null,null,null,null,null,13,{"$f":"COUNTIF(F$12:$Y$65,AC38)","v":5},5]
[null,null,null,null,null,null,null,null,null,null,null,null,null,null,null,null,null,null,null,null,null,null,null,null,null,null,null,null,22,{"$f":"COUNTIF(F$12:$Y$65,AC39)","v":5},5]
[null,null,null,null,null,null,null,null,null,null,null,null,null,null,null,null,null,null,null,null,null,null,null,null,null,null,null,null,39,{"$f":"COUNTIF(F$12:$Y$65,AC40)","v":5},5]
[null,null,null,null,null,null,null,null,null,null,null,null,null,null,null,null,null,null,null,null,null,null,null,null,null,null,null,null,23,{"$f":"COUNTIF(F$12:$Y$65,AC41)","v":5},5]
[null,null,null,null,null,null,null,null,null,null,null,null,null,null,null,null,null,null,null,null,null,null,null,null,null,null,null,null,55,{"$f":"COUNTIF(F$12:$Y$65,AC42)","v":5},5]
[null,null,null,null,null,null,null,null,null,null,null,null,null,null,null,null,null,null,null,null,null,null,null,null,null,null,null,null,69,{"$f":"COUNTIF(F$12:$Y$65,AC43)","v":5},5]
[null,null,null,null,null,null,null,null,null,null,null,null,null,null,null,null,null,null,null,null,null,null,null,null,null,null,null,null,87,{"$f":"COUNTIF(F$12:$Y$65,AC44)","v":5},5]
[null,null,null,null,null,null,null,null,null,null,null,null,null,null,null,null,null,null,null,null,null,null,null,null,null,null,null,null,20,{"$f":"COUNTIF(F$12:$Y$65,AC45)","v":5},5]
[null,null,null,null,null,null,null,null,null,null,null,null,null,null,null,null,null,null,null,null,null,null,null,null,null,null,null,null,97,{"$f":"COUNTIF(F$12:$Y$65,AC46)","v":5},5]
[null,null,null,null,null,null,null,null,null,null,null,null,null,null,null,null,null,null,null,null,null,null,null,null,null,null,null,null,24,{"$f":"COUNTIF(F$12:$Y$65,AC47)","v":5},5]
[null,null,null,null,null,null,null,null,null,null,null,null,null,null,null,null,null,null,null,null,null,null,null,null,null,null,null,null,60,{"$f":"COUNTIF(F$12:$Y$65,AC48)","v":5},5]
[null,null,null,null,null,null,null,null,null,null,null,null,null,null,null,null,null,null,null,null,null,null,null,null,null,null,null,null,6,{"$f":"COUNTIF(F$12:$Y$65,AC49)","v":5},5]
[null,null,null,null,null,null,null,null,null,null,null,null,null,null,null,null,null,null,null,null,null,null,null,null,null,null,null,null,48,{"$f":"COUNTIF(F$12:$Y$65,AC50)","v":5},5]
[null,null,null,null,null,null,null,null,null,null,null,null,null,null,null,null,null,null,null,null,null,null,null,null,null,null,null,null,84,{"$f":"COUNTIF(F$12:$Y$65,AC51)","v":5},5]
[null,null,null,null,null,null,null,null,null,null,null,null,null,null,null,null,null,null,null,null,null,null,null,null,null,null,null,null,51,{"$f":"COUNTIF(F$12:$Y$65,AC52)","v":5},5]
[null,null,null,null,null,null,null,null,null,null,null,null,null,null,null,null,null,null,null,null,null,null,null,null,null,null,null,null,82,{"$f":"COUNTIF(F$12:$Y$65,AC53)","v":4},4]
[null,null,null,null,null,null,null,null,null,null,null,null,null,null,null,null,null,null,null,null,null,null,null,null,null,null,null,null,80,{"$f":"COUNTIF(F$12:$Y$65,AC54)","v":4},4]
[null,null,null,null,null,null,null,null,null,null,null,null,null,null,null,null,null,null,null,null,null,null,null,null,null,null,null,null,45,{"$f":"COUNTIF(F$12:$Y$65,AC55)","v":4},4]
[null,null,null,null,null,null,null,null,null,null,null,null,null,null,null,null,null,null,null,null,null,null,null,null,null,null,null,null,5,{"$f":"COUNTIF(F$12:$Y$65,AC56)","v":4},4]
[null,null,null,null,null,null,null,null,null,null,null,null,null,null,null,null,null,null,null,null,null,null,null,null,null,null,null,null,38,{"$f":"COUNTIF(F$12:$Y$65,AC57)","v":4},4]
[null,null,null,null,null,null,null,null,null,null,null,null,null,null,null,null,null,null,null,null,null,null,null,null,null,null,null,null,62,{"$f":"COUNTIF(F$12:$Y$65,AC58)","v":4},4]
[null,null,null,null,null,null,null,null,null,null,null,null,null,null,null,null,null,null,null,null,null,null,null,null,null,null,null,null,31,{"$f":"COUNTIF(F$12:$Y$65,AC59)","v":4},4]
[null,null,null,null,null,null,null,null,null,null,null,null,null,null,null,null,null,null,null,null,null,null,null,null,null,null,null,null,67,{"$f":"COUNTIF(F$12:$Y$65,AC60)","v":4},4]
[null,null,null,null,null,null,null,null,null,null,null,null,null,null,null,null,null,null,null,null,null,null,null,null,null,null,null,null,71,{"$f":"COUNTIF(F$12:$Y$65,AC61)","v":4},{"$f":"AD61","v":4}]
[null,null,null,null,null,null,null,null,null,null,null,null,null,null,null,null,null,null,null,null,null,null,null,null,null,null,null,null,14,{"$f":"COUNTIF(F$12:$Y$65,AC62)","v":4},4]
[null,null,null,null,null,null,null,null,null,null,null,null,null,null,null,null,null,null,null,null,null,null,null,null,null,null,null,null,17,{"$f":"COUNTIF(F$12:$Y$65,AC63)","v":4},4]
[null,null,null,null,null,null,null,null,null,null,null,null,null,null,null,null,null,null,null,null,null,null,null,null,null,null,null,null,10,{"$f":"COUNTIF(F$12:$Y$65,AC64)","v":4},4]
[null,null,null,null,null,null,null,null,null,null,null,null,null,null,null,null,null,null,null,null,null,null,null,null,null,null,null,null,78,{"$f":"COUNTIF(F$12:$Y$65,AC65)","v":4},4]
[null,null,null,null,null,null,null,null,null,null,null,null,null,null,null,null,null,null,null,null,null,null,null,null,null,null,null,null,42,{"$f":"COUNTIF(F$12:$Y$65,AC66)","v":4},4]
[null,null,null,null,null,null,null,null,null,null,null,null,null,null,null,null,null,null,null,null,null,null,null,null,null,null,null,null,30,{"$f":"COUNTIF(F$12:$Y$65,AC67)","v":4},4]
[null,null,null,null,null,null,null,null,null,null,null,null,null,null,null,null,null,null,null,null,null,null,null,null,null,null,null,null,34,{"$f":"COUNTIF(F$12:$Y$65,AC68)","v":4},4]
[null,null,null,null,null,null,null,null,null,null,null,null,null,null,null,null,null,null,null,null,null,null,null,null,null,null,null,null,88,{"$f":"COUNTIF(F$12:$Y$65,AC69)","v":4},4]
[null,null,null,null,null,null,null,null,null,null,null,null,null,null,null,null,null,null,null,null,null,null,null,null,null,null,null,null,89,{"$f":"COUNTIF(F$12:$Y$65,AC70)","v":4},4]
[null,null,null,null,null,null,null,null,null,null,null,null,null,null,null,null,null,null,null,null,null,null,null,null,null,null,null,null,41,{"$f":"COUNTIF(F$12:$Y$65,AC71)","v":4},4]
[null,null,null,null,null,null,null,null,null,null,null,null,null,null,null,null,null,null,null,null,null,null,null,null,null,null,null,null,94,{"$f":"COUNTIF(F$12:$Y$65,AC72)","v":4},4]
[null,null,null,null,null,null,null,null,null,null,null,null,null,null,null,null,null,null,null,null,null,null,null,null,null,null,null,null,98,{"$f":"COUNTIF(F$12:$Y$65,AC73)","v":4},4]
[null,null,null,null,null,null,null,null,null,null,null,null,null,null,null,null,null,null,null,null,null,null,null,null,null,null,null,null,90,{"$f":"COUNTIF(F$12:$Y$65,AC74)","v":3},3]
[null,null,null,null,null,null,null,null,null,null,null,null,null,null,null,null,null,null,null,null,null,null,null,null,null,null,null,null,56,{"$f":"COUNTIF(F$12:$Y$65,AC75)","v":3},3]
[null,null,null,null,null,null,null,null,null,null,null,null,null,null,null,null,null,null,null,null,null,null,null,null,null,null,null,null,49,{"$f":"COUNTIF(F$12:$Y$65,AC76)","v":3},3]
[null,null,null,null,null,null,null,null,null,null,null,null,null,null,null,null,null,null,null,null,null,null,null,null,null,null,null,null,74,{"$f":"COUNTIF(F$12:$Y$65,AC77)","v":3},3]
[null,null,null,null,null,null,null,null,null,null,null,null,null,null,null,null,null,null,null,null,null,null,null,null,null,null,null,null,79,{"$f":"COUNTIF(F$12:$Y$65,AC78)","v":3},3]
[null,null,null,null,null,null,null,null,null,null,null,null,null,null,null,null,null,null,null,null,null,null,null,null,null,null,null,null,7,{"$f":"COUNTIF(F$12:$Y$65,AC79)","v":3},3]
[null,null,null,null,null,null,null,null,null,null,null,null,null,null,null,null,null,null,null,null,null,null,null,null,null,null,null,null,26,{"$f":"COUNTIF(F$12:$Y$65,AC80)","v":3},3]
[null,null,null,null,null,null,null,null,null,null,null,null,null,null,null,null,null,null,null,null,null,null,null,null,null,null,null,null,64,{"$f":"COUNTIF(F$12:$Y$65,AC81)","v":3},3]
[null,null,null,null,null,null,null,null,null,null,null,null,null,null,null,null,null,null,null,null,null,null,null,null,null,null,null,null,19,{"$f":"COUNTIF(F$12:$Y$65,AC82)","v":3},3]
[null,null,null,null,null,null,null,null,null,null,null,null,null,null,null,null,null,null,null,null,null,null,null,null,null,null,null,null,93,{"$f":"COUNTIF(F$12:$Y$65,AC83)","v":3},3]
[null,null,null,null,null,null,null,null,null,null,null,null,null,null,null,null,null,null,null,null,null,null,null,null,null,null,null,null,32,{"$f":"COUNTIF(F$12:$Y$65,AC84)","v":3},3]
[null,null,null,null,null,null,null,null,null,null,null,null,null,null,null,null,null,null,null,null,null,null,null,null,null,null,null,null,47,{"$f":"COUNTIF(F$12:$Y$65,AC85)","v":3},3]
[null,null,null,null,null,null,null,null,null,null,null,null,null,null,null,null,null,null,null,null,null,null,null,null,null,null,null,null,99,{"$f":"COUNTIF(F$12:$Y$65,AC86)","v":3},3]
[null,null,null,null,null,null,null,null,null,null,null,null,null,null,null,null,null,null,null,null,null,null,null,null,null,null,null,null,27,{"$f":"COUNTIF(F$12:$Y$65,AC87)","v":3},3]
[null,null,null,null,null,null,null,null,null,null,null,null,null,null,null,null,null,null,null,null,null,null,null,null,null,null,null,null,44,{"$f":"COUNTIF(F$12:$Y$65,AC88)","v":3},3]
[null,null,null,null,null,null,null,null,null,null,null,null,null,null,null,null,null,null,null,null,null,null,null,null,null,null,null,null,0,{"$f":"COUNTIF(F$12:$Y$65,AC89)","v":3},3]
[null,null,null,null,null,null,null,null,null,null,null,null,null,null,null,null,null,null,null,null,null,null,null,null,null,null,null,null,75,{"$f":"COUNTIF(F$12:$Y$65,AC90)","v":3},3]
[null,null,null,null,null,null,null,null,null,null,null,null,null,null,null,null,null,null,null,null,null,null,null,null,null,null,null,null,18,{"$f":"COUNTIF(F$12:$Y$65,AC91)","v":2},2]
[null,null,null,null,null,null,null,null,null,null,null,null,null,null,null,null,null,null,null,null,null,null,null,null,null,null,null,null,65,{"$f":"COUNTIF(F$12:$Y$65,AC92)","v":2},2]
[null,null,null,null,null,null,null,null,null,null,null,null,null,null,null,null,null,null,null,null,null,null,null,null,null,null,null,null,77,{"$f":"COUNTIF(F$12:$Y$65,AC93)","v":2},2]
[null,null,null,null,null,null,null,null,null,null,null,null,null,null,null,null,null,null,null,null,null,null,null,null,null,null,null,null,2,{"$f":"COUNTIF(F$12:$Y$65,AC94)","v":2},2]
[null,null,null,null,null,null,null,null,null,null,null,null,null,null,null,null,null,null,null,null,null,null,null,null,null,null,null,null,53,{"$f":"COUNTIF(F$12:$Y$65,AC95)","v":2},2]
[null,null,null,null,null,null,null,null,null,null,null,null,null,null,null,null,null,null,null,null,null,null,null,null,null,null,null,null,11,{"$f":"COUNTIF(F$12:$Y$65,AC96)","v":2},2]
[null,null,null,null,null,null,null,null,null,null,null,null,null,null,null,null,null,null,null,null,null,null,null,null,null,null,null,null,92,{"$f":"COUNTIF(F$12:$Y$65,AC97)","v":2},2]
[null,null,null,null,null,null,null,null,null,null,null,null,null,null,null,null,null,null,null,null,null,null,null,null,null,null,null,null,1,{"$f":"COUNTIF(F$12:$Y$65,AC98)","v":2},2]
[null,null,null,null,null,null,null,null,null,null,null,null,null,null,null,null,null,null,null,null,null,null,null,null,null,null,null,null,50,{"$f":"COUNTIF(F$12:$Y$65,AC99)","v":2},2]
[null,null,null,null,null,null,null,null,null,null,null,null,null,null,null,null,null,null,null,null,null,null,null,null,null,null,null,null,81,{"$f":"COUNTIF(F$12:$Y$65,AC100)","v":2},2]
[null,null,null,null,null,null,null,null,null,null,null,null,null,null,null,null,null,null,null,null,null,null,null,null,null,null,null,null,57,{"$f":"COUNTIF(F$12:$Y$65,AC101)","v":2},2]
[null,null,null,null,null,null,null,null,null,null,null,null,null,null,null,null,null,null,null,null,null,null,null,null,null,null,null,null,8,{"$f":"COUNTIF(F$12:$Y$65,AC102)","v":2},2]
[null,null,null,null,null,null,null,null,null,null,null,null,null,null,null,null,null,null,null,null,null,null,null,null,null,null,null,null,52,{"$f":"COUNTIF(F$12:$Y$65,AC103)","v":2},2]
[null,null,null,null,null,null,null,null,null,null,null,null,null,null,null,null,null,null,null,null,null,null,null,null,null,null,null,null,59,{"$f":"COUNTIF(F$12:$Y$65,AC104)","v":2},2]
[null,null,null,null,null,null,null,null,null,null,null,null,null,null,null,null,null,null,null,null,null,null,null,null,null,null,null,null,61,{"$f":"COUNTIF(F$12:$Y$65,AC105)","v":2},2]
[null,null,null,null,null,null,null,null,null,null,null,null,null,null,null,null,null,null,null,null,null,null,null,null,null,null,null,null,68,{"$f":"COUNTIF(F$12:$Y$65,AC106)","v":2},2]
[null,null,null,null,null,null,null,null,null,null,null,null,null,null,null,null,null,null,null,null,null,null,null,null,null,null,null,null,12,{"$f":"COUNTIF(F$12:$Y$65,AC107)","v":2},2]
[null,null,null,null,null,null,null,null,null,null,null,null,null,null,null,null,null,null,null,null,null,null,null,null,null,null,null,null,91,{"$f":"COUNTIF(F$12:$Y$65,AC108)","v":1},1]
[null,null,null,null,null,null,null,null,null,null,null,null,null,null,null,null,null,null,null,null,null,null,null,null,null,null,null,null,3,{"$f":"COUNTIF(F$12:$Y$65,AC109)","v":1},1]
[null,null,null,null,null,null,null,null,null,null,null,null,null,null,null,null,null,null,null,null,null,null,null,null,null,null,null,null,63,{"$f":"COUNTIF(F$12:$Y$65,AC110)","v":1},1]
[null,null,null,null,null,null,null,null,null,null,null,null,null,null,null,null,null,null,null,null,null,null,null,null,null,null,null,null,96,{"$f":"COUNTIF(F$12:$Y$65,AC111)","v":1},1]
[null,null,null,null,null,null,null,null,null,null,null,null,null,null,null,null,null,null,null,null,null,null,null,null,null,null,null,null,28,{"$f":"COUNTIF(F$12:$Y$65,AC112)","v":0},0]

{"sheet":"50 Últimos Sorteios","index":4,"n_rows":112,"n_cols":31,"rows_kept":112,"cut":false,"hidden":false,"merged":[[1,1,1,32],[2,1,2,32],[3,1,3,32],[5,1,5,32],[8,3,9,24],[8,28,10,29]]}
[]
[null,"Atenção!"]
[null,"Esta planilha é de uso pessoal, é restritamente proibida a distribuição da mesma a terceiros, sujeito a punições de acordo com as leis de direitos autorais"]
[null,"Todos os direitos reservados ao site www.ApostaEsperta.com "]
[]
[null,"Planilha de Análise Estatística Lotomania"]
[]
[]
[null,null,null,"Resultados dos Últimos 50 Sorteios",null,null,null,null,null,null,null,null,null,null,null,null,null,null,null,null,null,null,null,null,null,null,null,null,"Números Quentes\nÚltimos 50 Sorteios"]
[]
[null,null,null,"Sorteio","Data do Sorteio","1ª D","2ª D","3ª D","4ª D","5ª D","6ª D","7ª D","8ª D","9ª D","10ª D","11ª D","12ª D","13ª D","14ª D","15ª D","16ª D","17ª D","18ª D","19ª D","20ª D"]
[null,null,null,{"$f":"COUNT('Resultados Gerais'!$B$8:$B$1048576)-C12","v":1419},{"$f":"VLOOKUP(D12,'Resultados Gerais'!B$8:C$1048576,2,0)","v":"2014-01-18"},{"$f":"VLOOKUP($D12,'Resultados Gerais'!$B$8:$W$1048576,3,0)","v":7},{"$f":"VLOOKUP($D12,'Resultados Gerais'!$B$8:$W$1048576,4,0)","v":45},{"$f":"VLOOKUP($D12,'Resultados Gerais'!$B$8:$W$1048576,5,0)","v":39},{"$f":"VLOOKUP($D12,'Resultados Gerais'!$B$8:$W$1048576,6,0)","v":71},{"$f":"VLOOKUP($D12,'Resultados Gerais'!$B$8:$W$1048576,7,0)","v":21},{"$f":"VLOOKUP($D12,'Resultados Gerais'!$B$8:$W$1048576,8,0)","v":36},{"$f":"VLOOKUP($D12,'Resultados Gerais'!$B$8:$W$1048576,9,0)","v":78},{"$f":"VLOOKUP($D12,'Resultados Gerais'!$B$8:$W$1048576,10,0)","v":42},{"$f":"VLOOKUP($D12,'Resultados Gerais'!$B$8:$W$1048576,11,0)","v":86},{"$f":"VLOOKUP($D12,'Resultados Gerais'!$B$8:$W$1048576,12,0)","v":64},{"$f":"VLOOKUP($D12,'Resultados Gerais'!$B$8:$W$1048576,13,0)","v":5},{"$f":"VLOOKUP($D12,'Resultados Gerais'!$B$8:$W$1048576,14,0)","v":32},{"$f":"VLOOKUP($D12,'Resultados Gerais'!$B$8:$W$1048576,15,0)","v":19},{"$f":"VLOOKUP($D12,'Resultados Gerais'!$B$8:$W$1048576,16,0)","v":10},{"$f":"VLOOKUP($D12,'Resultados Gerais'!$B$8:$W$1048576,17,0)","v":97},{"$f":"VLOOKUP($D12,'Resultados Gerais'!$B$8:$W$1048576,18,0)","v":98},{"$f":"VLOOKUP($D12,'Resultados Gerais'!$B$8:$W$1048576,19,0)","v":80},{"$f":"VLOOKUP($D12,'Resultados Gerais'!$B$8:$W$1048576,20,0)","v":8},{"$f":"VLOOKUP($D12,'Resultados Gerais'!$B$8:$W$1048576,21,0)","v":31},{"$f":"VLOOKUP($D12,'Resultados Gerais'!$B$8:$W$1048576,22,0)","v":18},null,null,null,"Dezena","Qtde de Saída"]
[null,null,1,{"$f":"COUNT('Resultados Gerais'!$B$8:$B$1048576)-C13","v":1418},{"$f":"VLOOKUP(D13,'Resultados Gerais'!B$8:C$1048576,2,0)","v":"2014-01-15"},{"$f":"VLOOKUP($D13,'Resultados Gerais'!$B$8:$W$1048576,3,0)","v":48},{"$f":"VLOOKUP($D13,'Resultados Gerais'!$B$8:$W$1048576,4,0)","v":76},{"$f":"VLOOKUP($D13,'Resultados Gerais'!$B$8:$W$1048576,5,0)","v":41},{"$f":"VLOOKUP($D13,'Resultados Gerais'!$B$8:$W$1048576,6,0)","v":72},{"$f":"VLOOKUP($D13,'Resultados Gerais'!$B$8:$W$1048576,7,0)","v":95},{"$f":"VLOOKUP($D13,'Resultados Gerais'!$B$8:$W$1048576,8,0)","v":66},{"$f":"VLOOKUP($D13,'Resultados Gerais'!$B$8:$W$1048576,9,0)","v":98},{"$f":"VLOOKUP($D13,'Resultados Gerais'!$B$8:$W$1048576,10,0)","v":83},{"$f":"VLOOKUP($D13,'Resultados Gerais'!$B$8:$W$1048576,11,0)","v":37},{"$f":"VLOOKUP($D13,'Resultados Gerais'!$B$8:$W$1048576,12,0)","v":16},{"$f":"VLOOKUP($D13,'Resultados Gerais'!$B$8:$W$1048576,13,0)","v":85},{"$f":"VLOOKUP($D13,'Resultados Gerais'!$B$8:$W$1048576,14,0)","v":60},{"$f":"VLOOKUP($D13,'Resultados Gerais'!$B$8:$W$1048576,15,0)","v":44},{"$f":"VLOOKUP($D13,'Resultados Gerais'!$B$8:$W$1048576,16,0)","v":55},{"$f":"VLOOKUP($D13,'Resultados Gerais'!$B$8:$W$1048576,17,0)","v":31},{"$f":"VLOOKUP($D13,'Resultados Gerais'!$B$8:$W$1048576,18,0)","v":19},{"$f":"VLOOKUP($D13,'Resultados Gerais'!$B$8:$W$1048576,19,0)","v":22},{"$f":"VLOOKUP($D13,'Resultados Gerais'!$B$8:$W$1048576,20,0)","v":11},{"$f":"VLOOKUP($D13,'Resultados Gerais'!$B$8:$W$1048576,21,0)","v":73},{"$f":"VLOOKUP($D13,'Resultados Gerais'!$B$8:$W$1048576,22,0)","v":92},null,null,null,58,{"$f":"COUNTIF(F$12:$Y$65,AC13)","v":17},{"$f":"AD13","v":17}]
[null,null,2,{"$f":"COUNT('Resultados Gerais'!$B$8:$B$1048576)-C14","v":1417},{"$f":"VLOOKUP(D14,'Resultados Gerais'!B$8:C$1048576,2,0)","v":"2014-01-11"},{"$f":"VLOOKUP($D14,'Resultados Gerais'!$B$8:$W$1048576,3,0)","v":34},{"$f":"VLOOKUP($D14,'Resultados Gerais'!$B$8:$W$1048576,4,0)","v":14},{"$f":"VLOOKUP($D14,'Resultados Gerais'!$B$8:$W$1048576,5,0)","v":56},{"$f":"VLOOKUP($D14,'Resultados Gerais'!$B$8:$W$1048576,6,0)","v":74},{"$f":"VLOOKUP($D14,'Resultados Gerais'!$B$8:$W$1048576,7,0)","v":17},{"$f":"VLOOKUP($D14,'Resultados Gerais'!$B$8:$W$1048576,8,0)","v":70},{"$f":"VLOOKUP($D14,'Resultados Gerais'!$B$8:$W$1048576,9,0)","v":40},{"$f":"VLOOKUP($D14,'Resultados Gerais'!$B$8:$W$1048576,10,0)","v":62},{"$f":"VLOOKUP($D14,'Resultados Gerais'!$B$8:$W$1048576,11,0)","v":54},{"$f":"VLOOKUP($D14,'Resultados Gerais'!$B$8:$W$1048576,12,0)","v":85},{"$f":"VLOOKUP($D14,'Resultados Gerais'!$B$8:$W$1048576,13,0)","v":16},{"$f":"VLOOKUP($D14,'Resultados Gerais'!$B$8:$W$1048576,14,0)","v":24},{"$f":"VLOOKUP($D14,'Resultados Gerais'!$B$8:$W$1048576,15,0)","v":76},{"$f":"VLOOKUP($D14,'Resultados Gerais'!$B$8:$W$1048576,16,0)","v":55},{"$f":"VLOOKUP($D14,'Resultados Gerais'!$B$8:$W$1048576,17,0)","v":25},{"$f":"VLOOKUP($D14,'Resultados Gerais'!$B$8:$W$1048576,18,0)","v":46},{"$f":"VLOOKUP($D14,'Resultados Gerais'!$B$8:$W$1048576,19,0)","v":3},{"$f":"VLOOKUP($D14,'Resultados Gerais'!$B$8:$W$1048576,20,0)","v":71},{"$f":"VLOOKUP($D14,'Resultados Gerais'!$B$8:$W$1048576,21,0)","v":37},{"$f":"VLOOKUP($D14,'Resultados Gerais'!$B$8:$W$1048576,22,0)","v":35},null,null,null,73,{"$f":"COUNTIF(F$12:$Y$65,AC14)","v":16},{"$f":"AD14","v":16}]
[null,null,3,{"$f":"COUNT('Resultados Gerais'!$B$8:$B$1048576)-C15","v":1416},{"$f":"VLOOKUP(D15,'Resultados Gerais'!B$8:C$1048576,2,0)","v":"2014-01-09"},{"$f":"VLOOKUP($D15,'Resultados Gerais'!$B$8:$W$1048576,3,0)","v":31},{"$f":"VLOOKUP($D15,'Resultados Gerais'!$B$8:$W$1048576,4,0)","v":67},{"$f":"VLOOKUP($D15,'Resultados Gerais'!$B$8:$W$1048576,5,0)","v":42},{"$f":"VLOOKUP($D15,'Resultados Gerais'!$B$8:$W$1048576,6,0)","v":22},{"$f":"VLOOKUP($D15,'Resultados Gerais'!$B$8:$W$1048576,7,0)","v":33},{"$f":"VLOOKUP($D15,'Resultados Gerais'!$B$8:$W$1048576,8,0)","v":82},{"$f":"VLOOKUP($D15,'Resultados Gerais'!$B$8:$W$1048576,9,0)","v":53},{"$f":"VLOOKUP($D15,'Resultados Gerais'!$B$8:$W$1048576,10,0)","v":57},{"$f":"VLOOKUP($D15,'Resultados Gerais'!$B$8:$W$1048576,11,0)","v":15},{"$f":"VLOOKUP($D15,'Resultados Gerais'!$B$8:$W$1048576,12,0)","v":40},{"$f":"VLOOKUP($D15,'Resultados Gerais'!$B$8:$W$1048576,13,0)","v":99},{"$f":"VLOOKUP($D15,'Resultados Gerais'!$B$8:$W$1048576,14,0)","v":85},{"$f":"VLOOKUP($D15,'Resultados Gerais'!$B$8:$W$1048576,15,0)","v":37},{"$f":"VLOOKUP($D15,'Resultados Gerais'!$B$8:$W$1048576,16,0)","v":83},{"$f":"VLOOKUP($D15,'Resultados Gerais'!$B$8:$W$1048576,17,0)","v":73},{"$f":"VLOOKUP($D15,'Resultados Gerais'!$B$8:$W$1048576,18,0)","v":45},{"$f":"VLOOKUP($D15,'Resultados Gerais'!$B$8:$W$1048576,19,0)","v":46},{"$f":"VLOOKUP($D15,'Resultados Gerais'!$B$8:$W$1048576,20,0)","v":95},{"$f":"VLOOKUP($D15,'Resultados Gerais'!$B$8:$W$1048576,21,0)","v":88},{"$f":"VLOOKUP($D15,'Resultados Gerais'!$B$8:$W$1048576,22,0)","v":12},null,null,null,43,{"$f":"COUNTIF(F$12:$Y$65,AC15)","v":16},16]
[null,null,4,{"$f":"COUNT('Resultados Gerais'!$B$8:$B$1048576)-C16","v":1415},{"$f":"VLOOKUP(D16,'Resultados Gerais'!B$8:C$1048576,2,0)","v":"2014-01-04"},{"$f":"VLOOKUP($D16,'Resultados Gerais'!$B$8:$W$1048576,3,0)","v":46},{"$f":"VLOOKUP($D16,'Resultados Gerais'!$B$8:$W$1048576,4,0)","v":61},{"$f":"VLOOKUP($D16,'Resultados Gerais'!$B$8:$W$1048576,5,0)","v":62},{"$f":"VLOOKUP($D16,'Resultados Gerais'!$B$8:$W$1048576,6,0)","v":21},{"$f":"VLOOKUP($D16,'Resultados Gerais'!$B$8:$W$1048576,7,0)","v":9},{"$f":"VLOOKUP($D16,'Resultados Gerais'!$B$8:$W$1048576,8,0)","v":18},{"$f":"VLOOKUP($D16,'Resultados Gerais'!$B$8:$W$1048576,9,0)","v":75},{"$f":"VLOOKUP($D16,'Resultados Gerais'!$B$8:$W$1048576,10,0)","v":69},{"$f":"VLOOKUP($D16,'Resultados Gerais'!$B$8:$W$1048576,11,0)","v":1},{"$f":"VLOOKUP($D16,'Resultados Gerais'!$B$8:$W$1048576,12,0)","v":4},{"$f":"VLOOKUP($D16,'Resultados Gerais'!$B$8:$W$1048576,13,0)","v":40},{"$f":"VLOOKUP($D16,'Resultados Gerais'!$B$8:$W$1048576,14,0)","v":52},{"$f":"VLOOKUP($D16,'Resultados Gerais'!$B$8:$W$1048576,15,0)","v":10},{"$f":"VLOOKUP($D16,'Resultados Gerais'!$B$8:$W$1048576,16,0)","v":6},{"$f":"VLOOKUP($D16,'Resultados Gerais'!$B$8:$W$1048576,17,0)","v":33},{"$f":"VLOOKUP($D16,'Resultados Gerais'!$B$8:$W$1048576,18,0)","v":22},{"$f":"VLOOKUP($D16,'Resultados Gerais'!$B$8:$W$1048576,19,0)","v":95},{"$f":"VLOOKUP($D16,'Resultados Gerais'!$B$8:$W$1048576,20,0)","v":87},{"$f":"VLOOKUP($D16,'Resultados Gerais'!$B$8:$W$1048576,21,0)","v":84},{"$f":"VLOOKUP($D16,'Resultados Gerais'!$B$8:$W$1048576,22,0)","v":7},null,null,null,90,{"$f":"COUNTIF(F$12:$Y$65,AC16)","v":15},15]
[null,null,5,{"$f":"COUNT('Resultados Gerais'!$B$8:$B$1048576)-C17","v":1414},{"$f":"VLOOKUP(D17,'Resultados Gerais'!B$8:C$1048576,2,0)","v":"2013-12-31"},{"$f":"VLOOKUP($D17,'Resultados Gerais'!$B$8:$W$1048576,3,0)","v":75},{"$f":"VLOOKUP($D17,'Resultados Gerais'!$B$8:$W$1048576,4,0)","v":81},{"$f":"VLOOKUP($D17,'Resultados Gerais'!$B$8:$W$1048576,5,0)","v":59},{"$f":"VLOOKUP($D17,'Resultados Gerais'!$B$8:$W$1048576,6,0)","v":76},{"$f":"VLOOKUP($D17,'Resultados Gerais'!$B$8:$W$1048576,7,0)","v":36},{"$f":"VLOOKUP($D17,'Resultados Gerais'!$B$8:$W$1048576,8,0)","v":66},{"$f":"VLOOKUP($D17,'Resultados Gerais'!$B$8:$W$1048576,9,0)","v":98},{"$f":"VLOOKUP($D17,'Resultados Gerais'!$B$8:$W$1048576,10,0)","v":29},{"$f":"VLOOKUP($D17,'Resultados Gerais'!$B$8:$W$1048576,11,0)","v":39},{"$f":"VLOOKUP($D17,'Resultados Gerais'!$B$8:$W$1048576,12,0)","v":95},{"$f":"VLOOKUP($D17,'Resultados Gerais'!$B$8:$W$1048576,13,0)","v":45},{"$f":"VLOOKUP($D17,'Resultados Gerais'!$B$8:$W$1048576,14,0)","v":94},{"$f":"VLOOKUP($D17,'Resultados Gerais'!$B$8:$W$1048576,15,0)","v":60},{"$f":"VLOOKUP($D17,'Resultados Gerais'!$B$8:$W$1048576,16,0)","v":86},{"$f":"VLOOKUP($D17,'Resultados Gerais'!$B$8:$W$1048576,17,0)","v":58},{"$f":"VLOOKUP($D17,'Resultados Gerais'!$B$8:$W$1048576,18,0)","v":43},{"$f":"VLOOKUP($D17,'Resultados Gerais'!$B$8:$W$1048576,19,0)","v":54},{"$f":"VLOOKUP($D17,'Resultados Gerais'!$B$8:$W$1048576,20,0)","v":70},{"$f":"VLOOKUP($D17,'Resultados Gerais'!$B$8:$W$1048576,21,0)","v":83},{"$f":"VLOOKUP($D17,'Resultados Gerais'!$B$8:$W$1048576,22,0)","v":41},null,null,null,31,{"$f":"COUNTIF(F$12:$Y$65,AC17)","v":14},14]
[null,null,6,{"$f":"COUNT('Resultados Gerais'!$B$8:$B$1048576)-C18","v":1413},{"$f":"VLOOKUP(D18,'Resultados Gerais'!B$8:C$1048576,2,0)","v":"2013-12-28"},{"$f":"VLOOKUP($D18,'Resultados Gerais'!$B$8:$W$1048576,3,0)","v":53},{"$f":"VLOOKUP($D18,'Resultados Gerais'!$B$8:$W$1048576,4,0)","v":76},{"$f":"VLOOKUP($D18,'Resultados Gerais'!$B$8:$W$1048576,5,0)","v":39},{"$f":"VLOOKUP($D18,'Resultados Gerais'!$B$8:$W$1048576,6,0)","v":21},{"$f":"VLOOKUP($D18,'Resultados Gerais'!$B$8:$W$1048576,7,0)","v":58},{"$f":"VLOOKUP($D18,'Resultados Gerais'!$B$8:$W$1048576,8,0)","v":87},{"$f":"VLOOKUP($D18,'Resultados Gerais'!$B$8:$W$1048576,9,0)","v":48},{"$f":"VLOOKUP($D18,'Resultados Gerais'!$B$8:$W$1048576,10,0)","v":90},{"$f":"VLOOKUP($D18,'Resultados Gerais'!$B$8:$W$1048576,11,0)","v":24},{"$f":"VLOOKUP($D18,'Resultados Gerais'!$B$8:$W$1048576,12,0)","v":94},{"$f":"VLOOKUP($D18,'Resultados Gerais'!$B$8:$W$1048576,13,0)","v":13},{"$f":"VLOOKUP($D18,'Resultados Gerais'!$B$8:$W$1048576,14,0)","v":81},{"$f":"VLOOKUP($D18,'Resultados Gerais'!$B$8:$W$1048576,15,0)","v":83},{"$f":"VLOOKUP($D18,'Resultados Gerais'!$B$8:$W$1048576,16,0)","v":47},{"$f":"VLOOKUP($D18,'Resultados Gerais'!$B$8:$W$1048576,17,0)","v":97},{"$f":"VLOOKUP($D18,'Resultados Gerais'!$B$8:$W$1048576,18,0)","v":43},{"$f":"VLOOKUP($D18,'Resultados Gerais'!$B$8:$W$1048576,19,0)","v":37},{"$f":"VLOOKUP($D18,'Resultados Gerais'!$B$8:$W$1048576,20,0)","v":60},{"$f":"VLOOKUP($D18,'Resultados Gerais'!$B$8:$W$1048576,21,0)","v":8},{"$f":"VLOOKUP($D18,'Resultados Gerais'!$B$8:$W$1048576,22,0)","v":35},null,null,null,80,{"$f":"COUNTIF(F$12:$Y$65,AC18)","v":14},14]
[null,null,7,{"$f":"COUNT('Resultados Gerais'!$B$8:$B$1048576)-C19","v":1412},{"$f":"VLOOKUP(D19,'Resultados Gerais'!B$8:C$1048576,2,0)","v":"2013-12-26"},{"$f":"VLOOKUP($D19,'Resultados Gerais'!$B$8:$W$1048576,3,0)","v":67},{"$f":"VLOOKUP($D19,'Resultados Gerais'!$B$8:$W$1048576,4,0)","v":19},{"$f":"VLOOKUP($D19,'Resultados Gerais'!$B$8:$W$1048576,5,0)","v":20},{"$f":"VLOOKUP($D19,'Resultados Gerais'!$B$8:$W$1048576,6,0)","v":88},{"$f":"VLOOKUP($D19,'Resultados Gerais'!$B$8:$W$1048576,7,0)","v":36},{"$f":"VLOOKUP($D19,'Resultados Gerais'!$B$8:$W$1048576,8,0)","v":62},{"$f":"VLOOKUP($D19,'Resultados Gerais'!$B$8:$W$1048576,9,0)","v":76},{"$f":"VLOOKUP($D19,'Resultados Gerais'!$B$8:$W$1048576,10,0)","v":66},{"$f":"VLOOKUP($D19,'Resultados Gerais'!$B$8:$W$1048576,11,0)","v":30},{"$f":"VLOOKUP($D19,'Resultados Gerais'!$B$8:$W$1048576,12,0)","v":21},{"$f":"VLOOKUP($D19,'Resultados Gerais'!$B$8:$W$1048576,13,0)","v":12},{"$f":"VLOOKUP($D19,'Resultados Gerais'!$B$8:$W$1048576,14,0)","v":58},{"$f":"VLOOKUP($D19,'Resultados Gerais'!$B$8:$W$1048576,15,0)","v":33},{"$f":"VLOOKUP($D19,'Resultados Gerais'!$B$8:$W$1048576,16,0)","v":13},{"$f":"VLOOKUP($D19,'Resultados Gerais'!$B$8:$W$1048576,17,0)","v":37},{"$f":"VLOOKUP($D19,'Resultados Gerais'!$B$8:$W$1048576,18,0)","v":83},{"$f":"VLOOKUP($D19,'Resultados Gerais'!$B$8:$W$1048576,19,0)","v":48},{"$f":"VLOOKUP($D19,'Resultados Gerais'!$B$8:$W$1048576,20,0)","v":35},{"$f":"VLOOKUP($D19,'Resultados Gerais'!$B$8:$W$1048576,21,0)","v":0},{"$f":"VLOOKUP($D19,'Resultados Gerais'!$B$8:$W$1048576,22,0)","v":23},null,null,null,82,{"$f":"COUNTIF(F$12:$Y$65,AC19)","v":14},14]
[null,null,8,{"$f":"COUNT('Resultados Gerais'!$B$8:$B$1048576)-C20","v":1411},{"$f":"VLOOKUP(D20,'Resultados Gerais'!B$8:C$1048576,2,0)","v":"2013-12-21"},{"$f":"VLOOKUP($D20,'Resultados Gerais'!$B$8:$W$1048576,3,0)","v":6},{"$f":"VLOOKUP($D20,'Resultados Gerais'!$B$8:$W$1048576,4,0)","v":59},{"$f":"VLOOKUP($D20,'Resultados Gerais'!$B$8:$W$1048576,5,0)","v":94},{"$f":"VLOOKUP($D20,'Resultados Gerais'!$B$8:$W$1048576,6,0)","v":27},{"$f":"VLOOKUP($D20,'Resultados Gerais'!$B$8:$W$1048576,7,0)","v":47},{"$f":"VLOOKUP($D20,'Resultados Gerais'!$B$8:$W$1048576,8,0)","v":55},{"$f":"VLOOKUP($D20,'Resultados Gerais'!$B$8:$W$1048576,9,0)","v":9},{"$f":"VLOOKUP($D20,'Resultados Gerais'!$B$8:$W$1048576,10,0)","v":5},{"$f":"VLOOKUP($D20,'Resultados Gerais'!$B$8:$W$1048576,11,0)","v":0},{"$f":"VLOOKUP($D20,'Resultados Gerais'!$B$8:$W$1048576,12,0)","v":43},{"$f":"VLOOKUP($D20,'Resultados Gerais'!$B$8:$W$1048576,13,0)","v":83},{"$f":"VLOOKUP($D20,'Resultados Gerais'!$B$8:$W$1048576,14,0)","v":69},{"$f":"VLOOKUP($D20,'Resultados Gerais'!$B$8:$W$1048576,15,0)","v":45},{"$f":"VLOOKUP($D20,'Resultados Gerais'!$B$8:$W$1048576,16,0)","v":25},{"$f":"VLOOKUP($D20,'Resultados Gerais'!$B$8:$W$1048576,17,0)","v":51},{"$f":"VLOOKUP($D20,'Resultados Gerais'!$B$8:$W$1048576,18,0)","v":36},{"$f":"VLOOKUP($D20,'Resultados Gerais'!$B$8:$W$1048576,19,0)","v":89},{"$f":"VLOOKUP($D20,'Resultados Gerais'!$B$8:$W$1048576,20,0)","v":23},{"$f":"VLOOKUP($D20,'Resultados Gerais'!$B$8:$W$1048576,21,0)","v":15},{"$f":"VLOOKUP($D20,'Resultados Gerais'!$B$8:$W$1048576,22,0)","v":97},null,null,null,54,{"$f":"COUNTIF(F$12:$Y$65,AC20)","v":14},14]
[null,null,9,{"$f":"COUNT('Resultados Gerais'!$B$8:$B$1048576)-C21","v":1410},{"$f":"VLOOKUP(D21,'Resultados Gerais'!B$8:C$1048576,2,0)","v":"2013-12-18"},{"$f":"VLOOKUP($D21,'Resultados Gerais'!$B$8:$W$1048576,3,0)","v":39},{"$f":"VLOOKUP($D21,'Resultados Gerais'!$B$8:$W$1048576,4,0)","v":13},{"$f":"VLOOKUP($D21,'Resultados Gerais'!$B$8:$W$1048576,5,0)","v":21},{"$f":"VLOOKUP($D21,'Resultados Gerais'!$B$8:$W$1048576,6,0)","v":73},{"$f":"VLOOKUP($D21,'Resultados Gerais'!$B$8:$W$1048576,7,0)","v":72},{"$f":"VLOOKUP($D21,'Resultados Gerais'!$B$8:$W$1048576,8,0)","v":55},{"$f":"VLOOKUP($D21,'Resultados Gerais'!$B$8:$W$1048576,9,0)","v":38},{"$f":"VLOOKUP($D21,'Resultados Gerais'!$B$8:$W$1048576,10,0)","v":11},{"$f":"VLOOKUP($D21,'Resultados Gerais'!$B$8:$W$1048576,11,0)","v":25},{"$f":"VLOOKUP($D21,'Resultados Gerais'!$B$8:$W$1048576,12,0)","v":48},{"$f":"VLOOKUP($D21,'Resultados Gerais'!$B$8:$W$1048576,13,0)","v":56},{"$f":"VLOOKUP($D21,'Resultados Gerais'!$B$8:$W$1048576,14,0)","v":60},{"$f":"VLOOKUP($D21,'Resultados Gerais'!$B$8:$W$1048576,15,0)","v":22},{"$f":"VLOOKUP($D21,'Resultados Gerais'!$B$8:$W$1048576,16,0)","v":14},{"$f":"VLOOKUP($D21,'Resultados Gerais'!$B$8:$W$1048576,17,0)","v":10},{"$f":"VLOOKUP($D21,'Resultados Gerais'!$B$8:$W$1048576,18,0)","v":85},{"$f":"VLOOKUP($D21,'Resultados Gerais'!$B$8:$W$1048576,19,0)","v":76},{"$f":"VLOOKUP($D21,'Resultados Gerais'!$B$8:$W$1048576,20,0)","v":54},{"$f":"VLOOKUP($D21,'Resultados Gerais'!$B$8:$W$1048576,21,0)","v":69},{"$f":"VLOOKUP($D21,'Resultados Gerais'!$B$8:$W$1048576,22,0)","v":41},null,null,null,69,{"$f":"COUNTIF(F$12:$Y$65,AC21)","v":14},14]
[null,null,10,{"$f":"COUNT('Resultados Gerais'!$B$8:$B$1048576)-C22","v":1409},{"$f":"VLOOKUP(D22,'Resultados Gerais'!B$8:C$1048576,2,0)","v":"2013-12-14"},{"$f":"VLOOKUP($D22,'Resultados Gerais'!$B$8:$W$1048576,3,0)","v":34},{"$f":"VLOOKUP($D22,'Resultados Gerais'!$B$8:$W$1048576,4,0)","v":84},{"$f":"VLOOKUP($D22,'Resultados Gerais'!$B$8:$W$1048576,5,0)","v":25},{"$f":"VLOOKUP($D22,'Resultados Gerais'!$B$8:$W$1048576,6,0)","v":92},{"$f":"VLOOKUP($D22,'Resultados Gerais'!$B$8:$W$1048576,7,0)","v":44},{"$f":"VLOOKUP($D22,'Resultados Gerais'!$B$8:$W$1048576,8,0)","v":63},{"$f":"VLOOKUP($D22,'Resultados Gerais'!$B$8:$W$1048576,9,0)","v":69},{"$f":"VLOOKUP($D22,'Resultados Gerais'!$B$8:$W$1048576,10,0)","v":87},{"$f":"VLOOKUP($D22,'Resultados Gerais'!$B$8:$W$1048576,11,0)","v":72},{"$f":"VLOOKUP($D22,'Resultados Gerais'!$B$8:$W$1048576,12,0)","v":73},{"$f":"VLOOKUP($D22,'Resultados Gerais'!$B$8:$W$1048576,13,0)","v":83},{"$f":"VLOOKUP($D22,'Resultados Gerais'!$B$8:$W$1048576,14,0)","v":79},{"$f":"VLOOKUP($D22,'Resultados Gerais'!$B$8:$W$1048576,15,0)","v":86},{"$f":"VLOOKUP($D22,'Resultados Gerais'!$B$8:$W$1048576,16,0)","v":26},{"$f":"VLOOKUP($D22,'Resultados Gerais'!$B$8:$W$1048576,17,0)","v":89},{"$f":"VLOOKUP($D22,'Resultados Gerais'!$B$8:$W$1048576,18,0)","v":15},{"$f":"VLOOKUP($D22,'Resultados Gerais'!$B$8:$W$1048576,19,0)","v":78},{"$f":"VLOOKUP($D22,'Resultados Gerais'!$B$8:$W$1048576,20,0)","v":4},{"$f":"VLOOKUP($D22,'Resultados Gerais'!$B$8:$W$1048576,21,0)","v":58},{"$f":"VLOOKUP($D22,'Resultados Gerais'!$B$8:$W$1048576,22,0)","v":93},null,null,null,33,{"$f":"COUNTIF(F$12:$Y$65,AC22)","v":14},14]
[null,null,11,{"$f":"COUNT('Resultados Gerais'!$B$8:$B$1048576)-C23","v":1408},{"$f":"VLOOKUP(D23,'Resultados Gerais'!B$8:C$1048576,2,0)","v":"2013-12-11"},{"$f":"VLOOKUP($D23,'Resultados Gerais'!$B$8:$W$1048576,3,0)","v":20},{"$f":"VLOOKUP($D23,'Resultados Gerais'!$B$8:$W$1048576,4,0)","v":85},{"$f":"VLOOKUP($D23,'Resultados Gerais'!$B$8:$W$1048576,5,0)","v":33},{"$f":"VLOOKUP($D23,'Resultados Gerais'!$B$8:$W$1048576,6,0)","v":74},{"$f":"VLOOKUP($D23,'Resultados Gerais'!$B$8:$W$1048576,7,0)","v":51},{"$f":"VLOOKUP($D23,'Resultados Gerais'!$B$8:$W$1048576,8,0)","v":43},{"$f":"VLOOKUP($D23,'Resultados Gerais'!$B$8:$W$1048576,9,0)","v":50},{"$f":"VLOOKUP($D23,'Resultados Gerais'!$B$8:$W$1048576,10,0)","v":72},{"$f":"VLOOKUP($D23,'Resultados Gerais'!$B$8:$W$1048576,11,0)","v":57},{"$f":"VLOOKUP($D23,'Resultados Gerais'!$B$8:$W$1048576,12,0)","v":9},{"$f":"VLOOKUP($D23,'Resultados Gerais'!$B$8:$W$1048576,13,0)","v":48},{"$f":"VLOOKUP($D23,'Resultados Gerais'!$B$8:$W$1048576,14,0)","v":89},{"$f":"VLOOKUP($D23,'Resultados Gerais'!$B$8:$W$1048576,15,0)","v":88},{"$f":"VLOOKUP($D23,'Resultados Gerais'!$B$8:$W$1048576,16,0)","v":46},{"$f":"VLOOKUP($D23,'Resultados Gerais'!$B$8:$W$1048576,17,0)","v":32},{"$f":"VLOOKUP($D23,'Resultados Gerais'!$B$8:$W$1048576,18,0)","v":95},{"$f":"VLOOKUP($D23,'Resultados Gerais'!$B$8:$W$1048576,19,0)","v":5},{"$f":"VLOOKUP($D23,'Resultados Gerais'!$B$8:$W$1048576,20,0)","v":52},{"$f":"VLOOKUP($D23,'Resultados Gerais'!$B$8:$W$1048576,21,0)","v":78},{"$f":"VLOOKUP($D23,'Resultados Gerais'!$B$8:$W$1048576,22,0)","v":23},null,null,null,25,{"$f":"COUNTIF(F$12:$Y$65,AC23)","v":14},14]
[null,null,12,{"$f":"COUNT('Resultados Gerais'!$B$8:$B$1048576)-C24","v":1407},{"$f":"VLOOKUP(D24,'Resultados Gerais'!B$8:C$1048576,2,0)","v":"2013-12-07"},{"$f":"VLOOKUP($D24,'Resultados Gerais'!$B$8:$W$1048576,3,0)","v":70},{"$f":"VLOOKUP($D24,'Resultados Gerais'!$B$8:$W$1048576,4,0)","v":84},{"$f":"VLOOKUP($D24,'Resultados Gerais'!$B$8:$W$1048576,5,0)","v":14},{"$f":"VLOOKUP($D24,'Resultados Gerais'!$B$8:$W$1048576,6,0)","v":78},{"$f":"VLOOKUP($D24,'Resultados Gerais'!$B$8:$W$1048576,7,0)","v":83},{"$f":"VLOOKUP($D24,'Resultados Gerais'!$B$8:$W$1048576,8,0)","v":40},{"$f":"VLOOKUP($D24,'Resultados Gerais'!$B$8:$W$1048576,9,0)","v":26},{"$f":"VLOOKUP($D24,'Resultados Gerais'!$B$8:$W$1048576,10,0)","v":93},{"$f":"VLOOKUP($D24,'Resultados Gerais'!$B$8:$W$1048576,11,0)","v":56},{"$f":"VLOOKUP($D24,'Resultados Gerais'!$B$8:$W$1048576,12,0)","v":24},{"$f":"VLOOKUP($D24,'Resultados Gerais'!$B$8:$W$1048576,13,0)","v":6},{"$f":"VLOOKUP($D24,'Resultados Gerais'!$B$8:$W$1048576,14,0)","v":73},{"$f":"VLOOKUP($D24,'Resultados Gerais'!$B$8:$W$1048576,15,0)","v":17},{"$f":"VLOOKUP($D24,'Resultados Gerais'!$B$8:$W$1048576,16,0)","v":51},{"$f":"VLOOKUP($D24,'Resultados Gerais'!$B$8:$W$1048576,17,0)","v":86},{"$f":"VLOOKUP($D24,'Resultados Gerais'!$B$8:$W$1048576,18,0)","v":75},{"$f":"VLOOKUP($D24,'Resultados Gerais'!$B$8:$W$1048576,19,0)","v":90},{"$f":"VLOOKUP($D24,'Resultados Gerais'!$B$8:$W$1048576,20,0)","v":85},{"$f":"VLOOKUP($D24,'Resultados Gerais'!$B$8:$W$1048576,21,0)","v":68},{"$f":"VLOOKUP($D24,'Resultados Gerais'!$B$8:$W$1048576,22,0)","v":54},null,null,null,16,{"$f":"COUNTIF(F$12:$Y$65,AC24)","v":13},13]
[null,null,13,{"$f":"COUNT('Resultados Gerais'!$B$8:$B$1048576)-C25","v":1406},{"$f":"VLOOKUP(D25,'Resultados Gerais'!B$8:C$1048576,2,0)","v":"2013-12-04"},{"$f":"VLOOKUP($D25,'Resultados Gerais'!$B$8:$W$1048576,3,0)","v":87},{"$f":"VLOOKUP($D25,'Resultados Gerais'!$B$8:$W$1048576,4,0)","v":9},{"$f":"VLOOKUP($D25,'Resultados Gerais'!$B$8:$W$1048576,5,0)","v":2},{"$f":"VLOOKUP($D25,'Resultados Gerais'!$B$8:$W$1048576,6,0)","v":94},{"$f":"VLOOKUP($D25,'Resultados Gerais'!$B$8:$W$1048576,7,0)","v":60},{"$f":"VLOOKUP($D25,'Resultados Gerais'!$B$8:$W$1048576,8,0)","v":25},{"$f":"VLOOKUP($D25,'Resultados Gerais'!$B$8:$W$1048576,9,0)","v":82},{"$f":"VLOOKUP($D25,'Resultados Gerais'!$B$8:$W$1048576,10,0)","v":97},{"$f":"VLOOKUP($D25,'Resultados Gerais'!$B$8:$W$1048576,11,0)","v":29},{"$f":"VLOOKUP($D25,'Resultados Gerais'!$B$8:$W$1048576,12,0)","v":27},{"$f":"VLOOKUP($D25,'Resultados Gerais'!$B$8:$W$1048576,13,0)","v":21},{"$f":"VLOOKUP($D25,'Resultados Gerais'!$B$8:$W$1048576,14,0)","v":32},{"$f":"VLOOKUP($D25,'Resultados Gerais'!$B$8:$W$1048576,15,0)","v":17},{"$f":"VLOOKUP($D25,'Resultados Gerais'!$B$8:$W$1048576,16,0)","v":38},{"$f":"VLOOKUP($D25,'Resultados Gerais'!$B$8:$W$1048576,17,0)","v":84},{"$f":"VLOOKUP($D25,'Resultados Gerais'!$B$8:$W$1048576,18,0)","v":43},{"$f":"VLOOKUP($D25,'Resultados Gerais'!$B$8:$W$1048576,19,0)","v":70},{"$f":"VLOOKUP($D25,'Resultados Gerais'!$B$8:$W$1048576,20,0)","v":69},{"$f":"VLOOKUP($D25,'Resultados Gerais'!$B$8:$W$1048576,21,0)","v":67},{"$f":"VLOOKUP($D25,'Resultados Gerais'!$B$8:$W$1048576,22,0)","v":79},null,null,null,46,{"$f":"COUNTIF(F$12:$Y$65,AC25)","v":13},13]
[null,null,14,{"$f":"COUNT('Resultados Gerais'!$B$8:$B$1048576)-C26","v":1405},{"$f":"VLOOKUP(D26,'Resultados Gerais'!B$8:C$1048576,2,0)","v":"2013-11-30"},{"$f":"VLOOKUP($D26,'Resultados Gerais'!$B$8:$W$1048576,3,0)","v":87},{"$f":"VLOOKUP($D26,'Resultados Gerais'!$B$8:$W$1048576,4,0)","v":4},{"$f":"VLOOKUP($D26,'Resultados Gerais'!$B$8:$W$1048576,5,0)","v":15},{"$f":"VLOOKUP($D26,'Resultados Gerais'!$B$8:$W$1048576,6,0)","v":25},{"$f":"VLOOKUP($D26,'Resultados Gerais'!$B$8:$W$1048576,7,0)","v":55},{"$f":"VLOOKUP($D26,'Resultados Gerais'!$B$8:$W$1048576,8,0)","v":71},{"$f":"VLOOKUP($D26,'Resultados Gerais'!$B$8:$W$1048576,9,0)","v":38},{"$f":"VLOOKUP($D26,'Resultados Gerais'!$B$8:$W$1048576,10,0)","v":35},{"$f":"VLOOKUP($D26,'Resultados Gerais'!$B$8:$W$1048576,11,0)","v":89},{"$f":"VLOOKUP($D26,'Resultados Gerais'!$B$8:$W$1048576,12,0)","v":80},{"$f":"VLOOKUP($D26,'Resultados Gerais'!$B$8:$W$1048576,13,0)","v":0},{"$f":"VLOOKUP($D26,'Resultados Gerais'!$B$8:$W$1048576,14,0)","v":50},{"$f":"VLOOKUP($D26,'Resultados Gerais'!$B$8:$W$1048576,15,0)","v":65},{"$f":"VLOOKUP($D26,'Resultados Gerais'!$B$8:$W$1048576,16,0)","v":24},{"$f":"VLOOKUP($D26,'Resultados Gerais'!$B$8:$W$1048576,17,0)","v":42},{"$f":"VLOOKUP($D26,'Resultados Gerais'!$B$8:$W$1048576,18,0)","v":96},{"$f":"VLOOKUP($D26,'Resultados Gerais'!$B$8:$W$1048576,19,0)","v":41},{"$f":"VLOOKUP($D26,'Resultados Gerais'!$B$8:$W$1048576,20,0)","v":58},{"$f":"VLOOKUP($D26,'Resultados Gerais'!$B$8:$W$1048576,21,0)","v":6},{"$f":"VLOOKUP($D26,'Resultados Gerais'!$B$8:$W$1048576,22,0)","v":97},null,null,null,36,{"$f":"COUNTIF(F$12:$Y$65,AC26)","v":13},13]
[null,null,15,{"$f":"COUNT('Resultados Gerais'!$B$8:$B$1048576)-C27","v":1404},{"$f":"VLOOKUP(D27,'Resultados Gerais'!B$8:C$1048576,2,0)","v":"2013-11-27"},{"$f":"VLOOKUP($D27,'Resultados Gerais'!$B$8:$W$1048576,3,0)","v":54},{"$f":"VLOOKUP($D27,'Resultados Gerais'!$B$8:$W$1048576,4,0)","v":51},{"$f":"VLOOKUP($D27,'Resultados Gerais'!$B$8:$W$1048576,5,0)","v":71},{"$f":"VLOOKUP($D27,'Resultados Gerais'!$B$8:$W$1048576,6,0)","v":23},{"$f":"VLOOKUP($D27,'Resultados Gerais'!$B$8:$W$1048576,7,0)","v":9},{"$f":"VLOOKUP($D27,'Resultados Gerais'!$B$8:$W$1048576,8,0)","v":49},{"$f":"VLOOKUP($D27,'Resultados Gerais'!$B$8:$W$1048576,9,0)","v":24},{"$f":"VLOOKUP($D27,'Resultados Gerais'!$B$8:$W$1048576,10,0)","v":40},{"$f":"VLOOKUP($D27,'Resultados Gerais'!$B$8:$W$1048576,11,0)","v":29},{"$f":"VLOOKUP($D27,'Resultados Gerais'!$B$8:$W$1048576,12,0)","v":43},{"$f":"VLOOKUP($D27,'Resultados Gerais'!$B$8:$W$1048576,13,0)","v":95},{"$f":"VLOOKUP($D27,'Resultados Gerais'!$B$8:$W$1048576,14,0)","v":84},{"$f":"VLOOKUP($D27,'Resultados Gerais'!$B$8:$W$1048576,15,0)","v":73},{"$f":"VLOOKUP($D27,'Resultados Gerais'!$B$8:$W$1048576,16,0)","v":86},{"$f":"VLOOKUP($D27,'Resultados Gerais'!$B$8:$W$1048576,17,0)","v":33},{"$f":"VLOOKUP($D27,'Resultados Gerais'!$B$8:$W$1048576,18,0)","v":46},{"$f":"VLOOKUP($D27,'Resultados Gerais'!$B$8:$W$1048576,19,0)","v":44},{"$f":"VLOOKUP($D27,'Resultados Gerais'!$B$8:$W$1048576,20,0)","v":30},{"$f":"VLOOKUP($D27,'Resultados Gerais'!$B$8:$W$1048576,21,0)","v":15},{"$f":"VLOOKUP($D27,'Resultados Gerais'!$B$8:$W$1048576,22,0)","v":4},null,null,null,24,{"$f":"COUNTIF(F$12:$Y$65,AC27)","v":13},13]
[null,null,16,{"$f":"COUNT('Resultados Gerais'!$B$8:$B$1048576)-C28","v":1403},{"$f":"VLOOKUP(D28,'Resultados Gerais'!B$8:C$1048576,2,0)","v":"2013-11-23"},{"$f":"VLOOKUP($D28,'Resultados Gerais'!$B$8:$W$1048576,3,0)","v":51},{"$f":"VLOOKUP($D28,'Resultados Gerais'!$B$8:$W$1048576,4,0)","v":72},{"$f":"VLOOKUP($D28,'Resultados Gerais'!$B$8:$W$1048576,5,0)","v":46},{"$f":"VLOOKUP($D28,'Resultados Gerais'!$B$8:$W$1048576,6,0)","v":68},{"$f":"VLOOKUP($D28,'Resultados Gerais'!$B$8:$W$1048576,7,0)","v":36},{"$f":"VLOOKUP($D28,'Resultados Gerais'!$B$8:$W$1048576,8,0)","v":31},{"$f":"VLOOKUP($D28,'Resultados Gerais'!$B$8:$W$1048576,9,0)","v":20},{"$f":"VLOOKUP($D28,'Resultados Gerais'!$B$8:$W$1048576,10,0)","v":2},{"$f":"VLOOKUP($D28,'Resultados Gerais'!$B$8:$W$1048576,11,0)","v":98},{"$f":"VLOOKUP($D28,'Resultados Gerais'!$B$8:$W$1048576,12,0)","v":7},{"$f":"VLOOKUP($D28,'Resultados Gerais'!$B$8:$W$1048576,13,0)","v":14},{"$f":"VLOOKUP($D28,'Resultados Gerais'!$B$8:$W$1048576,14,0)","v":65},{"$f":"VLOOKUP($D28,'Resultados Gerais'!$B$8:$W$1048576,15,0)","v":25},{"$f":"VLOOKUP($D28,'Resultados Gerais'!$B$8:$W$1048576,16,0)","v":27},{"$f":"VLOOKUP($D28,'Resultados Gerais'!$B$8:$W$1048576,17,0)","v":30},{"$f":"VLOOKUP($D28,'Resultados Gerais'!$B$8:$W$1048576,18,0)","v":42},{"$f":"VLOOKUP($D28,'Resultados Gerais'!$B$8:$W$1048576,19,0)","v":82},{"$f":"VLOOKUP($D28,'Resultados Gerais'!$B$8:$W$1048576,20,0)","v":40},{"$f":"VLOOKUP($D28,'Resultados Gerais'!$B$8:$W$1048576,21,0)","v":16},{"$f":"VLOOKUP($D28,'Resultados Gerais'!$B$8:$W$1048576,22,0)","v":35},null,null,null,70,{"$f":"COUNTIF(F$12:$Y$65,AC28)","v":13},13]
[null,null,17,{"$f":"COUNT('Resultados Gerais'!$B$8:$B$1048576)-C29","v":1402},{"$f":"VLOOKUP(D29,'Resultados Gerais'!B$8:C$1048576,2,0)","v":"2013-11-20"},{"$f":"VLOOKUP($D29,'Resultados Gerais'!$B$8:$W$1048576,3,0)","v":93},{"$f":"VLOOKUP($D29,'Resultados Gerais'!$B$8:$W$1048576,4,0)","v":49},{"$f":"VLOOKUP($D29,'Resultados Gerais'!$B$8:$W$1048576,5,0)","v":86},{"$f":"VLOOKUP($D29,'Resultados Gerais'!$B$8:$W$1048576,6,0)","v":13},{"$f":"VLOOKUP($D29,'Resultados Gerais'!$B$8:$W$1048576,7,0)","v":29},{"$f":"VLOOKUP($D29,'Resultados Gerais'!$B$8:$W$1048576,8,0)","v":34},{"$f":"VLOOKUP($D29,'Resultados Gerais'!$B$8:$W$1048576,9,0)","v":37},{"$f":"VLOOKUP($D29,'Resultados Gerais'!$B$8:$W$1048576,10,0)","v":38},{"$f":"VLOOKUP($D29,'Resultados Gerais'!$B$8:$W$1048576,11,0)","v":16},{"$f":"VLOOKUP($D29,'Resultados Gerais'!$B$8:$W$1048576,12,0)","v":85},{"$f":"VLOOKUP($D29,'Resultados Gerais'!$B$8:$W$1048576,13,0)","v":80},{"$f":"VLOOKUP($D29,'Resultados Gerais'!$B$8:$W$1048576,14,0)","v":61},{"$f":"VLOOKUP($D29,'Resultados Gerais'!$B$8:$W$1048576,15,0)","v":15},{"$f":"VLOOKUP($D29,'Resultados Gerais'!$B$8:$W$1048576,16,0)","v":47},{"$f":"VLOOKUP($D29,'Resultados Gerais'!$B$8:$W$1048576,17,0)","v":82},{"$f":"VLOOKUP($D29,'Resultados Gerais'!$B$8:$W$1048576,18,0)","v":6},{"$f":"VLOOKUP($D29,'Resultados Gerais'!$B$8:$W$1048576,19,0)","v":67},{"$f":"VLOOKUP($D29,'Resultados Gerais'!$B$8:$W$1048576,20,0)","v":66},{"$f":"VLOOKUP($D29,'Resultados Gerais'!$B$8:$W$1048576,21,0)","v":20},{"$f":"VLOOKUP($D29,'Resultados Gerais'!$B$8:$W$1048576,22,0)","v":58},null,null,null,83,{"$f":"COUNTIF(F$12:$Y$65,AC29)","v":13},13]
[null,null,18,{"$f":"COUNT('Resultados Gerais'!$B$8:$B$1048576)-C30","v":1401},{"$f":"VLOOKUP(D30,'Resultados Gerais'!B$8:C$1048576,2,0)","v":"2013-11-16"},{"$f":"VLOOKUP($D30,'Resultados Gerais'!$B$8:$W$1048576,3,0)","v":1},{"$f":"VLOOKUP($D30,'Resultados Gerais'!$B$8:$W$1048576,4,0)","v":88},{"$f":"VLOOKUP($D30,'Resultados Gerais'!$B$8:$W$1048576,5,0)","v":4},{"$f":"VLOOKUP($D30,'Resultados Gerais'!$B$8:$W$1048576,6,0)","v":77},{"$f":"VLOOKUP($D30,'Resultados Gerais'!$B$8:$W$1048576,7,0)","v":10},{"$f":"VLOOKUP($D30,'Resultados Gerais'!$B$8:$W$1048576,8,0)","v":23},{"$f":"VLOOKUP($D30,'Resultados Gerais'!$B$8:$W$1048576,9,0)","v":35},{"$f":"VLOOKUP($D30,'Resultados Gerais'!$B$8:$W$1048576,10,0)","v":15},{"$f":"VLOOKUP($D30,'Resultados Gerais'!$B$8:$W$1048576,11,0)","v":72},{"$f":"VLOOKUP($D30,'Resultados Gerais'!$B$8:$W$1048576,12,0)","v":29},{"$f":"VLOOKUP($D30,'Resultados Gerais'!$B$8:$W$1048576,13,0)","v":30},{"$f":"VLOOKUP($D30,'Resultados Gerais'!$B$8:$W$1048576,14,0)","v":16},{"$f":"VLOOKUP($D30,'Resultados Gerais'!$B$8:$W$1048576,15,0)","v":22},{"$f":"VLOOKUP($D30,'Resultados Gerais'!$B$8:$W$1048576,16,0)","v":90},{"$f":"VLOOKUP($D30,'Resultados Gerais'!$B$8:$W$1048576,17,0)","v":13},{"$f":"VLOOKUP($D30,'Resultados Gerais'!$B$8:$W$1048576,18,0)","v":79},{"$f":"VLOOKUP($D30,'Resultados Gerais'!$B$8:$W$1048576,19,0)","v":21},{"$f":"VLOOKUP($D30,'Resultados Gerais'!$B$8:$W$1048576,20,0)","v":80},{"$f":"VLOOKUP($D30,'Resultados Gerais'!$B$8:$W$1048576,21,0)","v":64},{"$f":"VLOOKUP($D30,'Resultados Gerais'!$B$8:$W$1048576,22,0)","v":49},null,null,null,87,{"$f":"COUNTIF(F$12:$Y$65,AC30)","v":13},13]
[null,null,19,{"$f":"COUNT('Resultados Gerais'!$B$8:$B$1048576)-C31","v":1400},{"$f":"VLOOKUP(D31,'Resultados Gerais'!B$8:C$1048576,2,0)","v":"2013-11-13"},{"$f":"VLOOKUP($D31,'Resultados Gerais'!$B$8:$W$1048576,3,0)","v":66},{"$f":"VLOOKUP($D31,'Resultados Gerais'!$B$8:$W$1048576,4,0)","v":64},{"$f":"VLOOKUP($D31,'Resultados Gerais'!$B$8:$W$1048576,5,0)","v":9},{"$f":"VLOOKUP($D31,'Resultados Gerais'!$B$8:$W$1048576,6,0)","v":26},{"$f":"VLOOKUP($D31,'Resultados Gerais'!$B$8:$W$1048576,7,0)","v":70},{"$f":"VLOOKUP($D31,'Resultados Gerais'!$B$8:$W$1048576,8,0)","v":29},{"$f":"VLOOKUP($D31,'Resultados Gerais'!$B$8:$W$1048576,9,0)","v":58},{"$f":"VLOOKUP($D31,'Resultados Gerais'!$B$8:$W$1048576,10,0)","v":91},{"$f":"VLOOKUP($D31,'Resultados Gerais'!$B$8:$W$1048576,11,0)","v":34},{"$f":"VLOOKUP($D31,'Resultados Gerais'!$B$8:$W$1048576,12,0)","v":39},{"$f":"VLOOKUP($D31,'Resultados Gerais'!$B$8:$W$1048576,13,0)","v":62},{"$f":"VLOOKUP($D31,'Resultados Gerais'!$B$8:$W$1048576,14,0)","v":33},{"$f":"VLOOKUP($D31,'Resultados Gerais'!$B$8:$W$1048576,15,0)","v":20},{"$f":"VLOOKUP($D31,'Resultados Gerais'!$B$8:$W$1048576,16,0)","v":99},{"$f":"VLOOKUP($D31,'Resultados Gerais'!$B$8:$W$1048576,17,0)","v":74},{"$f":"VLOOKUP($D31,'Resultados Gerais'!$B$8:$W$1048576,18,0)","v":17},{"$f":"VLOOKUP($D31,'Resultados Gerais'!$B$8:$W$1048576,19,0)","v":5},{"$f":"VLOOKUP($D31,'Resultados Gerais'!$B$8:$W$1048576,20,0)","v":77},{"$f":"VLOOKUP($D31,'Resultados Gerais'!$B$8:$W$1048576,21,0)","v":85},{"$f":"VLOOKUP($D31,'Resultados Gerais'!$B$8:$W$1048576,22,0)","v":11},null,null,null,97,{"$f":"COUNTIF(F$12:$Y$65,AC31)","v":13},13]
[null,null,20,{"$f":"COUNT('Resultados Gerais'!$B$8:$B$1048576)-C32","v":1399},{"$f":"VLOOKUP(D32,'Resultados Gerais'!B$8:C$1048576,2,0)","v":"2013-11-09"},{"$f":"VLOOKUP($D32,'Resultados Gerais'!$B$8:$W$1048576,3,0)","v":65},{"$f":"VLOOKUP($D32,'Resultados Gerais'!$B$8:$W$1048576,4,0)","v":45},{"$f":"VLOOKUP($D32,'Resultados Gerais'!$B$8:$W$1048576,5,0)","v":24},{"$f":"VLOOKUP($D32,'Resultados Gerais'!$B$8:$W$1048576,6,0)","v":15},{"$f":"VLOOKUP($D32,'Resultados Gerais'!$B$8:$W$1048576,7,0)","v":22},{"$f":"VLOOKUP($D32,'Resultados Gerais'!$B$8:$W$1048576,8,0)","v":44},{"$f":"VLOOKUP($D32,'Resultados Gerais'!$B$8:$W$1048576,9,0)","v":57},{"$f":"VLOOKUP($D32,'Resultados Gerais'!$B$8:$W$1048576,10,0)","v":60},{"$f":"VLOOKUP($D32,'Resultados Gerais'!$B$8:$W$1048576,11,0)","v":48},{"$f":"VLOOKUP($D32,'Resultados Gerais'!$B$8:$W$1048576,12,0)","v":70},{"$f":"VLOOKUP($D32,'Resultados Gerais'!$B$8:$W$1048576,13,0)","v":56},{"$f":"VLOOKUP($D32,'Resultados Gerais'!$B$8:$W$1048576,14,0)","v":18},{"$f":"VLOOKUP($D32,'Resultados Gerais'!$B$8:$W$1048576,15,0)","v":80},{"$f":"VLOOKUP($D32,'Resultados Gerais'!$B$8:$W$1048576,16,0)","v":33},{"$f":"VLOOKUP($D32,'Resultados Gerais'!$B$8:$W$1048576,17,0)","v":5},{"$f":"VLOOKUP($D32,'Resultados Gerais'!$B$8:$W$1048576,18,0)","v":73},{"$f":"VLOOKUP($D32,'Resultados Gerais'!$B$8:$W$1048576,19,0)","v":40},{"$f":"VLOOKUP($D32,'Resultados Gerais'!$B$8:$W$1048576,20,0)","v":20},{"$f":"VLOOKUP($D32,'Resultados Gerais'!$B$8:$W$1048576,21,0)","v":83},{"$f":"VLOOKUP($D32,'Resultados Gerais'!$B$8:$W$1048576,22,0)","v":69},null,null,null,95,{"$f":"COUNTIF(F$12:$Y$65,AC32)","v":13},13]
[null,null,21,{"$f":"COUNT('Resultados Gerais'!$B$8:$B$1048576)-C33","v":1398},{"$f":"VLOOKUP(D33,'Resultados Gerais'!B$8:C$1048576,2,0)","v":"2013-11-06"},{"$f":"VLOOKUP($D33,'Resultados Gerais'!$B$8:$W$1048576,3,0)","v":30},{"$f":"VLOOKUP($D33,'Resultados Gerais'!$B$8:$W$1048576,4,0)","v":16},{"$f":"VLOOKUP($D33,'Resultados Gerais'!$B$8:$W$1048576,5,0)","v":11},{"$f":"VLOOKUP($D33,'Resultados Gerais'!$B$8:$W$1048576,6,0)","v":81},{"$f":"VLOOKUP($D33,'Resultados Gerais'!$B$8:$W$1048576,7,0)","v":38},{"$f":"VLOOKUP($D33,'Resultados Gerais'!$B$8:$W$1048576,8,0)","v":42},{"$f":"VLOOKUP($D33,'Resultados Gerais'!$B$8:$W$1048576,9,0)","v":37},{"$f":"VLOOKUP($D33,'Resultados Gerais'!$B$8:$W$1048576,10,0)","v":79},{"$f":"VLOOKUP($D33,'Resultados Gerais'!$B$8:$W$1048576,11,0)","v":22},{"$f":"VLOOKUP($D33,'Resultados Gerais'!$B$8:$W$1048576,12,0)","v":87},{"$f":"VLOOKUP($D33,'Resultados Gerais'!$B$8:$W$1048576,13,0)","v":90},{"$f":"VLOOKUP($D33,'Resultados Gerais'!$B$8:$W$1048576,14,0)","v":53},{"$f":"VLOOKUP($D33,'Resultados Gerais'!$B$8:$W$1048576,15,0)","v":36},{"$f":"VLOOKUP($D33,'Resultados Gerais'!$B$8:$W$1048576,16,0)","v":43},{"$f":"VLOOKUP($D33,'Resultados Gerais'!$B$8:$W$1048576,17,0)","v":31},{"$f":"VLOOKUP($D33,'Resultados Gerais'!$B$8:$W$1048576,18,0)","v":29},{"$f":"VLOOKUP($D33,'Resultados Gerais'!$B$8:$W$1048576,19,0)","v":25},{"$f":"VLOOKUP($D33,'Resultados Gerais'!$B$8:$W$1048576,20,0)","v":65},{"$f":"VLOOKUP($D33,'Resultados Gerais'!$B$8:$W$1048576,21,0)","v":91},{"$f":"VLOOKUP($D33,'Resultados Gerais'!$B$8:$W$1048576,22,0)","v":78},null,null,null,18,{"$f":"COUNTIF(F$12:$Y$65,AC33)","v":12},12]
[null,null,22,{"$f":"COUNT('Resultados Gerais'!$B$8:$B$1048576)-C34","v":1397},{"$f":"VLOOKUP(D34,'Resultados Gerais'!B$8:C$1048576,2,0)","v":"2013-11-01"},{"$f":"VLOOKUP($D34,'Resultados Gerais'!$B$8:$W$1048576,3,0)","v":5},{"$f":"VLOOKUP($D34,'Resultados Gerais'!$B$8:$W$1048576,4,0)","v":50},{"$f":"VLOOKUP($D34,'Resultados Gerais'!$B$8:$W$1048576,5,0)","v":26},{"$f":"VLOOKUP($D34,'Resultados Gerais'!$B$8:$W$1048576,6,0)","v":66},{"$f":"VLOOKUP($D34,'Resultados Gerais'!$B$8:$W$1048576,7,0)","v":67},{"$f":"VLOOKUP($D34,'Resultados Gerais'!$B$8:$W$1048576,8,0)","v":13},{"$f":"VLOOKUP($D34,'Resultados Gerais'!$B$8:$W$1048576,9,0)","v":82},{"$f":"VLOOKUP($D34,'Resultados Gerais'!$B$8:$W$1048576,10,0)","v":55},{"$f":"VLOOKUP($D34,'Resultados Gerais'!$B$8:$W$1048576,11,0)","v":56},{"$f":"VLOOKUP($D34,'Resultados Gerais'!$B$8:$W$1048576,12,0)","v":31},{"$f":"VLOOKUP($D34,'Resultados Gerais'!$B$8:$W$1048576,13,0)","v":28},{"$f":"VLOOKUP($D34,'Resultados Gerais'!$B$8:$W$1048576,14,0)","v":76},{"$f":"VLOOKUP($D34,'Resultados Gerais'!$B$8:$W$1048576,15,0)","v":24},{"$f":"VLOOKUP($D34,'Resultados Gerais'!$B$8:$W$1048576,16,0)","v":53},{"$f":"VLOOKUP($D34,'Resultados Gerais'!$B$8:$W$1048576,17,0)","v":73},{"$f":"VLOOKUP($D34,'Resultados Gerais'!$B$8:$W$1048576,18,0)","v":33},{"$f":"VLOOKUP($D34,'Resultados Gerais'!$B$8:$W$1048576,19,0)","v":90},{"$f":"VLOOKUP($D34,'Resultados Gerais'!$B$8:$W$1048576,20,0)","v":88},{"$f":"VLOOKUP($D34,'Resultados Gerais'!$B$8:$W$1048576,21,0)","v":3},{"$f":"VLOOKUP($D34,'Resultados Gerais'!$B$8:$W$1048576,22,0)","v":84},null,null,null,45,{"$f":"COUNTIF(F$12:$Y$65,AC34)","v":12},12]
[null,null,23,{"$f":"COUNT('Resultados Gerais'!$B$8:$B$1048576)-C35","v":1396},{"$f":"VLOOKUP(D35,'Resultados Gerais'!B$8:C$1048576,2,0)","v":"2013-10-30"},{"$f":"VLOOKUP($D35,'Resultados Gerais'!$B$8:$W$1048576,3,0)","v":82},{"$f":"VLOOKUP($D35,'Resultados Gerais'!$B$8:$W$1048576,4,0)","v":24},{"$f":"VLOOKUP($D35,'Resultados Gerais'!$B$8:$W$1048576,5,0)","v":9},{"$f":"VLOOKUP($D35,'Resultados Gerais'!$B$8:$W$1048576,6,0)","v":56},{"$f":"VLOOKUP($D35,'Resultados Gerais'!$B$8:$W$1048576,7,0)","v":80},{"$f":"VLOOKUP($D35,'Resultados Gerais'!$B$8:$W$1048576,8,0)","v":52},{"$f":"VLOOKUP($D35,'Resultados Gerais'!$B$8:$W$1048576,9,0)","v":25},{"$f":"VLOOKUP($D35,'Resultados Gerais'!$B$8:$W$1048576,10,0)","v":36},{"$f":"VLOOKUP($D35,'Resultados Gerais'!$B$8:$W$1048576,11,0)","v":4},{"$f":"VLOOKUP($D35,'Resultados Gerais'!$B$8:$W$1048576,12,0)","v":50},{"$f":"VLOOKUP($D35,'Resultados Gerais'!$B$8:$W$1048576,13,0)","v":70},{"$f":"VLOOKUP($D35,'Resultados Gerais'!$B$8:$W$1048576,14,0)","v":63},{"$f":"VLOOKUP($D35,'Resultados Gerais'!$B$8:$W$1048576,15,0)","v":87},{"$f":"VLOOKUP($D35,'Resultados Gerais'!$B$8:$W$1048576,16,0)","v":83},{"$f":"VLOOKUP($D35,'Resultados Gerais'!$B$8:$W$1048576,17,0)","v":18},{"$f":"VLOOKUP($D35,'Resultados Gerais'!$B$8:$W$1048576,18,0)","v":79},{"$f":"VLOOKUP($D35,'Resultados Gerais'!$B$8:$W$1048576,19,0)","v":74},{"$f":"VLOOKUP($D35,'Resultados Gerais'!$B$8:$W$1048576,20,0)","v":47},{"$f":"VLOOKUP($D35,'Resultados Gerais'!$B$8:$W$1048576,21,0)","v":54},{"$f":"VLOOKUP($D35,'Resultados Gerais'!$B$8:$W$1048576,22,0)","v":39},null,null,null,76,{"$f":"COUNTIF(F$12:$Y$65,AC35)","v":12},12]
[null,null,24,{"$f":"COUNT('Resultados Gerais'!$B$8:$B$1048576)-C36","v":1395},{"$f":"VLOOKUP(D36,'Resultados Gerais'!B$8:C$1048576,2,0)","v":"2013-10-26"},{"$f":"VLOOKUP($D36,'Resultados Gerais'!$B$8:$W$1048576,3,0)","v":42},{"$f":"VLOOKUP($D36,'Resultados Gerais'!$B$8:$W$1048576,4,0)","v":54},{"$f":"VLOOKUP($D36,'Resultados Gerais'!$B$8:$W$1048576,5,0)","v":18},{"$f":"VLOOKUP($D36,'Resultados Gerais'!$B$8:$W$1048576,6,0)","v":3},{"$f":"VLOOKUP($D36,'Resultados Gerais'!$B$8:$W$1048576,7,0)","v":79},{"$f":"VLOOKUP($D36,'Resultados Gerais'!$B$8:$W$1048576,8,0)","v":71},{"$f":"VLOOKUP($D36,'Resultados Gerais'!$B$8:$W$1048576,9,0)","v":77},{"$f":"VLOOKUP($D36,'Resultados Gerais'!$B$8:$W$1048576,10,0)","v":82},{"$f":"VLOOKUP($D36,'Resultados Gerais'!$B$8:$W$1048576,11,0)","v":7},{"$f":"VLOOKUP($D36,'Resultados Gerais'!$B$8:$W$1048576,12,0)","v":90},{"$f":"VLOOKUP($D36,'Resultados Gerais'!$B$8:$W$1048576,13,0)","v":15},{"$f":"VLOOKUP($D36,'Resultados Gerais'!$B$8:$W$1048576,14,0)","v":45},{"$f":"VLOOKUP($D36,'Resultados Gerais'!$B$8:$W$1048576,15,0)","v":91},{"$f":"VLOOKUP($D36,'Resultados Gerais'!$B$8:$W$1048576,16,0)","v":57},{"$f":"VLOOKUP($D36,'Resultados Gerais'!$B$8:$W$1048576,17,0)","v":48},{"$f":"VLOOKUP($D36,'Resultados Gerais'!$B$8:$W$1048576,18,0)","v":11},{"$f":"VLOOKUP($D36,'Resultados Gerais'!$B$8:$W$1048576,19,0)","v":6},{"$f":"VLOOKUP($D36,'Resultados Gerais'!$B$8:$W$1048576,20,0)","v":97},{"$f":"VLOOKUP($D36,'Resultados Gerais'!$B$8:$W$1048576,21,0)","v":55},{"$f":"VLOOKUP($D36,'Resultados Gerais'!$B$8:$W$1048576,22,0)","v":51},null,null,null,15,{"$f":"COUNTIF(F$12:$Y$65,AC36)","v":12},12]
[null,null,25,{"$f":"COUNT('Resultados Gerais'!$B$8:$B$1048576)-C37","v":1394},{"$f":"VLOOKUP(D37,'Resultados Gerais'!B$8:C$1048576,2,0)","v":"2013-10-23"},{"$f":"VLOOKUP($D37,'Resultados Gerais'!$B$8:$W$1048576,3,0)","v":53},{"$f":"VLOOKUP($D37,'Resultados Gerais'!$B$8:$W$1048576,4,0)","v":60},{"$f":"VLOOKUP($D37,'Resultados Gerais'!$B$8:$W$1048576,5,0)","v":17},{"$f":"VLOOKUP($D37,'Resultados Gerais'!$B$8:$W$1048576,6,0)","v":1},{"$f":"VLOOKUP($D37,'Resultados Gerais'!$B$8:$W$1048576,7,0)","v":91},{"$f":"VLOOKUP($D37,'Resultados Gerais'!$B$8:$W$1048576,8,0)","v":5},{"$f":"VLOOKUP($D37,'Resultados Gerais'!$B$8:$W$1048576,9,0)","v":38},{"$f":"VLOOKUP($D37,'Resultados Gerais'!$B$8:$W$1048576,10,0)","v":16},{"$f":"VLOOKUP($D37,'Resultados Gerais'!$B$8:$W$1048576,11,0)","v":14},{"$f":"VLOOKUP($D37,'Resultados Gerais'!$B$8:$W$1048576,12,0)","v":59},{"$f":"VLOOKUP($D37,'Resultados Gerais'!$B$8:$W$1048576,13,0)","v":78},{"$f":"VLOOKUP($D37,'Resultados Gerais'!$B$8:$W$1048576,14,0)","v":69},{"$f":"VLOOKUP($D37,'Resultados Gerais'!$B$8:$W$1048576,15,0)","v":68},{"$f":"VLOOKUP($D37,'Resultados Gerais'!$B$8:$W$1048576,16,0)","v":81},{"$f":"VLOOKUP($D37,'Resultados Gerais'!$B$8:$W$1048576,17,0)","v":26},{"$f":"VLOOKUP($D37,'Resultados Gerais'!$B$8:$W$1048576,18,0)","v":79},{"$f":"VLOOKUP($D37,'Resultados Gerais'!$B$8:$W$1048576,19,0)","v":54},{"$f":"VLOOKUP($D37,'Resultados Gerais'!$B$8:$W$1048576,20,0)","v":63},{"$f":"VLOOKUP($D37,'Resultados Gerais'!$B$8:$W$1048576,21,0)","v":19},{"$f":"VLOOKUP($D37,'Resultados Gerais'!$B$8:$W$1048576,22,0)","v":56},null,null,null,29,{"$f":"COUNTIF(F$12:$Y$65,AC37)","v":12},12]
[null,null,26,{"$f":"COUNT('Resultados Gerais'!$B$8:$B$1048576)-C38","v":1393},{"$f":"VLOOKUP(D38,'Resultados Gerais'!B$8:C$1048576,2,0)","v":"2013-10-19"},{"$f":"VLOOKUP($D38,'Resultados Gerais'!$B$8:$W$1048576,3,0)","v":5},{"$f":"VLOOKUP($D38,'Resultados Gerais'!$B$8:$W$1048576,4,0)","v":43},{"$f":"VLOOKUP($D38,'Resultados Gerais'!$B$8:$W$1048576,5,0)","v":78},{"$f":"VLOOKUP($D38,'Resultados Gerais'!$B$8:$W$1048576,6,0)","v":0},{"$f":"VLOOKUP($D38,'Resultados Gerais'!$B$8:$W$1048576,7,0)","v":54},{"$f":"VLOOKUP($D38,'Resultados Gerais'!$B$8:$W$1048576,8,0)","v":45},{"$f":"VLOOKUP($D38,'Resultados Gerais'!$B$8:$W$1048576,9,0)","v":33},{"$f":"VLOOKUP($D38,'Resultados Gerais'!$B$8:$W$1048576,10,0)","v":88},{"$f":"VLOOKUP($D38,'Resultados Gerais'!$B$8:$W$1048576,11,0)","v":3},{"$f":"VLOOKUP($D38,'Resultados Gerais'!$B$8:$W$1048576,12,0)","v":61},{"$f":"VLOOKUP($D38,'Resultados Gerais'!$B$8:$W$1048576,13,0)","v":73},{"$f":"VLOOKUP($D38,'Resultados Gerais'!$B$8:$W$1048576,14,0)","v":37},{"$f":"VLOOKUP($D38,'Resultados Gerais'!$B$8:$W$1048576,15,0)","v":29},{"$f":"VLOOKUP($D38,'Resultados Gerais'!$B$8:$W$1048576,16,0)","v":23},{"$f":"VLOOKUP($D38,'Resultados Gerais'!$B$8:$W$1048576,17,0)","v":41},{"$f":"VLOOKUP($D38,'Resultados Gerais'!$B$8:$W$1048576,18,0)","v":46},{"$f":"VLOOKUP($D38,'Resultados Gerais'!$B$8:$W$1048576,19,0)","v":65},{"$f":"VLOOKUP($D38,'Resultados Gerais'!$B$8:$W$1048576,20,0)","v":77},{"$f":"VLOOKUP($D38,'Resultados Gerais'!$B$8:$W$1048576,21,0)","v":56},{"$f":"VLOOKUP($D38,'Resultados Gerais'!$B$8:$W$1048576,22,0)","v":31},null,null,null,35,{"$f":"COUNTIF(F$12:$Y$65,AC38)","v":12},12]
[null,null,27,{"$f":"COUNT('Resultados Gerais'!$B$8:$B$1048576)-C39","v":1392},{"$f":"VLOOKUP(D39,'Resultados Gerais'!B$8:C$1048576,2,0)","v":"2013-10-16"},{"$f":"VLOOKUP($D39,'Resultados Gerais'!$B$8:$W$1048576,3,0)","v":3},{"$f":"VLOOKUP($D39,'Resultados Gerais'!$B$8:$W$1048576,4,0)","v":91},{"$f":"VLOOKUP($D39,'Resultados Gerais'!$B$8:$W$1048576,5,0)","v":7},{"$f":"VLOOKUP($D39,'Resultados Gerais'!$B$8:$W$1048576,6,0)","v":86},{"$f":"VLOOKUP($D39,'Resultados Gerais'!$B$8:$W$1048576,7,0)","v":90},{"$f":"VLOOKUP($D39,'Resultados Gerais'!$B$8:$W$1048576,8,0)","v":36},{"$f":"VLOOKUP($D39,'Resultados Gerais'!$B$8:$W$1048576,9,0)","v":58},{"$f":"VLOOKUP($D39,'Resultados Gerais'!$B$8:$W$1048576,10,0)","v":84},{"$f":"VLOOKUP($D39,'Resultados Gerais'!$B$8:$W$1048576,11,0)","v":74},{"$f":"VLOOKUP($D39,'Resultados Gerais'!$B$8:$W$1048576,12,0)","v":2},{"$f":"VLOOKUP($D39,'Resultados Gerais'!$B$8:$W$1048576,13,0)","v":76},{"$f":"VLOOKUP($D39,'Resultados Gerais'!$B$8:$W$1048576,14,0)","v":65},{"$f":"VLOOKUP($D39,'Resultados Gerais'!$B$8:$W$1048576,15,0)","v":57},{"$f":"VLOOKUP($D39,'Resultados Gerais'!$B$8:$W$1048576,16,0)","v":85},{"$f":"VLOOKUP($D39,'Resultados Gerais'!$B$8:$W$1048576,17,0)","v":54},{"$f":"VLOOKUP($D39,'Resultados Gerais'!$B$8:$W$1048576,18,0)","v":29},{"$f":"VLOOKUP($D39,'Resultados Gerais'!$B$8:$W$1048576,19,0)","v":28},{"$f":"VLOOKUP($D39,'Resultados Gerais'!$B$8:$W$1048576,20,0)","v":15},{"$f":"VLOOKUP($D39,'Resultados Gerais'!$B$8:$W$1048576,21,0)","v":38},{"$f":"VLOOKUP($D39,'Resultados Gerais'!$B$8:$W$1048576,22,0)","v":77},null,null,null,60,{"$f":"COUNTIF(F$12:$Y$65,AC39)","v":12},12]
[null,null,28,{"$f":"COUNT('Resultados Gerais'!$B$8:$B$1048576)-C40","v":1391},{"$f":"VLOOKUP(D40,'Resultados Gerais'!B$8:C$1048576,2,0)","v":"2013-10-11"},{"$f":"VLOOKUP($D40,'Resultados Gerais'!$B$8:$W$1048576,3,0)","v":70},{"$f":"VLOOKUP($D40,'Resultados Gerais'!$B$8:$W$1048576,4,0)","v":1},{"$f":"VLOOKUP($D40,'Resultados Gerais'!$B$8:$W$1048576,5,0)","v":19},{"$f":"VLOOKUP($D40,'Resultados Gerais'!$B$8:$W$1048576,6,0)","v":75},{"$f":"VLOOKUP($D40,'Resultados Gerais'!$B$8:$W$1048576,7,0)","v":72},{"$f":"VLOOKUP($D40,'Resultados Gerais'!$B$8:$W$1048576,8,0)","v":53},{"$f":"VLOOKUP($D40,'Resultados Gerais'!$B$8:$W$1048576,9,0)","v":68},{"$f":"VLOOKUP($D40,'Resultados Gerais'!$B$8:$W$1048576,10,0)","v":18},{"$f":"VLOOKUP($D40,'Resultados Gerais'!$B$8:$W$1048576,11,0)","v":55},{"$f":"VLOOKUP($D40,'Resultados Gerais'!$B$8:$W$1048576,12,0)","v":82},{"$f":"VLOOKUP($D40,'Resultados Gerais'!$B$8:$W$1048576,13,0)","v":36},{"$f":"VLOOKUP($D40,'Resultados Gerais'!$B$8:$W$1048576,14,0)","v":28},{"$f":"VLOOKUP($D40,'Resultados Gerais'!$B$8:$W$1048576,15,0)","v":49},{"$f":"VLOOKUP($D40,'Resultados Gerais'!$B$8:$W$1048576,16,0)","v":14},{"$f":"VLOOKUP($D40,'Resultados Gerais'!$B$8:$W$1048576,17,0)","v":4},{"$f":"VLOOKUP($D40,'Resultados Gerais'!$B$8:$W$1048576,18,0)","v":41},{"$f":"VLOOKUP($D40,'Resultados Gerais'!$B$8:$W$1048576,19,0)","v":92},{"$f":"VLOOKUP($D40,'Resultados Gerais'!$B$8:$W$1048576,20,0)","v":10},{"$f":"VLOOKUP($D40,'Resultados Gerais'!$B$8:$W$1048576,21,0)","v":66},{"$f":"VLOOKUP($D40,'Resultados Gerais'!$B$8:$W$1048576,22,0)","v":89},null,null,null,66,{"$f":"COUNTIF(F$12:$Y$65,AC40)","v":12},12]
[null,null,29,{"$f":"COUNT('Resultados Gerais'!$B$8:$B$1048576)-C41","v":1390},{"$f":"VLOOKUP(D41,'Resultados Gerais'!B$8:C$1048576,2,0)","v":"2013-10-09"},{"$f":"VLOOKUP($D41,'Resultados Gerais'!$B$8:$W$1048576,3,0)","v":89},{"$f":"VLOOKUP($D41,'Resultados Gerais'!$B$8:$W$1048576,4,0)","v":67},{"$f":"VLOOKUP($D41,'Resultados Gerais'!$B$8:$W$1048576,5,0)","v":95},{"$f":"VLOOKUP($D41,'Resultados Gerais'!$B$8:$W$1048576,6,0)","v":62},{"$f":"VLOOKUP($D41,'Resultados Gerais'!$B$8:$W$1048576,7,0)","v":66},{"$f":"VLOOKUP($D41,'Resultados Gerais'!$B$8:$W$1048576,8,0)","v":96},{"$f":"VLOOKUP($D41,'Resultados Gerais'!$B$8:$W$1048576,9,0)","v":78},{"$f":"VLOOKUP($D41,'Resultados Gerais'!$B$8:$W$1048576,10,0)","v":41},{"$f":"VLOOKUP($D41,'Resultados Gerais'!$B$8:$W$1048576,11,0)","v":2},{"$f":"VLOOKUP($D41,'Resultados Gerais'!$B$8:$W$1048576,12,0)","v":70},{"$f":"VLOOKUP($D41,'Resultados Gerais'!$B$8:$W$1048576,13,0)","v":40},{"$f":"VLOOKUP($D41,'Resultados Gerais'!$B$8:$W$1048576,14,0)","v":4},{"$f":"VLOOKUP($D41,'Resultados Gerais'!$B$8:$W$1048576,15,0)","v":80},{"$f":"VLOOKUP($D41,'Resultados Gerais'!$B$8:$W$1048576,16,0)","v":64},{"$f":"VLOOKUP($D41,'Resultados Gerais'!$B$8:$W$1048576,17,0)","v":43},{"$f":"VLOOKUP($D41,'Resultados Gerais'!$B$8:$W$1048576,18,0)","v":16},{"$f":"VLOOKUP($D41,'Resultados Gerais'!$B$8:$W$1048576,19,0)","v":3},{"$f":"VLOOKUP($D41,'Resultados Gerais'!$B$8:$W$1048576,20,0)","v":35},{"$f":"VLOOKUP($D41,'Resultados Gerais'!$B$8:$W$1048576,21,0)","v":76},{"$f":"VLOOKUP($D41,'Resultados Gerais'!$B$8:$W$1048576,22,0)","v":99},null,null,null,5,{"$f":"COUNTIF(F$12:$Y$65,AC41)","v":12},12]
[null,null,30,{"$f":"COUNT('Resultados Gerais'!$B$8:$B$1048576)-C42","v":1389},{"$f":"VLOOKUP(D42,'Resultados Gerais'!B$8:C$1048576,2,0)","v":"2013-10-05"},{"$f":"VLOOKUP($D42,'Resultados Gerais'!$B$8:$W$1048576,3,0)","v":2},{"$f":"VLOOKUP($D42,'Resultados Gerais'!$B$8:$W$1048576,4,0)","v":14},{"$f":"VLOOKUP($D42,'Resultados Gerais'!$B$8:$W$1048576,5,0)","v":72},{"$f":"VLOOKUP($D42,'Resultados Gerais'!$B$8:$W$1048576,6,0)","v":64},{"$f":"VLOOKUP($D42,'Resultados Gerais'!$B$8:$W$1048576,7,0)","v":71},{"$f":"VLOOKUP($D42,'Resultados Gerais'!$B$8:$W$1048576,8,0)","v":76},{"$f":"VLOOKUP($D42,'Resultados Gerais'!$B$8:$W$1048576,9,0)","v":32},{"$f":"VLOOKUP($D42,'Resultados Gerais'!$B$8:$W$1048576,10,0)","v":73},{"$f":"VLOOKUP($D42,'Resultados Gerais'!$B$8:$W$1048576,11,0)","v":52},{"$f":"VLOOKUP($D42,'Resultados Gerais'!$B$8:$W$1048576,12,0)","v":82},{"$f":"VLOOKUP($D42,'Resultados Gerais'!$B$8:$W$1048576,13,0)","v":86},{"$f":"VLOOKUP($D42,'Resultados Gerais'!$B$8:$W$1048576,14,0)","v":49},{"$f":"VLOOKUP($D42,'Resultados Gerais'!$B$8:$W$1048576,15,0)","v":23},{"$f":"VLOOKUP($D42,'Resultados Gerais'!$B$8:$W$1048576,16,0)","v":17},{"$f":"VLOOKUP($D42,'Resultados Gerais'!$B$8:$W$1048576,17,0)","v":36},{"$f":"VLOOKUP($D42,'Resultados Gerais'!$B$8:$W$1048576,18,0)","v":94},{"$f":"VLOOKUP($D42,'Resultados Gerais'!$B$8:$W$1048576,19,0)","v":91},{"$f":"VLOOKUP($D42,'Resultados Gerais'!$B$8:$W$1048576,20,0)","v":46},{"$f":"VLOOKUP($D42,'Resultados Gerais'!$B$8:$W$1048576,21,0)","v":85},{"$f":"VLOOKUP($D42,'Resultados Gerais'!$B$8:$W$1048576,22,0)","v":60},null,null,null,85,{"$f":"COUNTIF(F$12:$Y$65,AC42)","v":12},12]
[null,null,31,{"$f":"COUNT('Resultados Gerais'!$B$8:$B$1048576)-C43","v":1388},{"$f":"VLOOKUP(D43,'Resultados Gerais'!B$8:C$1048576,2,0)","v":"2013-10-02"},{"$f":"VLOOKUP($D43,'Resultados Gerais'!$B$8:$W$1048576,3,0)","v":54},{"$f":"VLOOKUP($D43,'Resultados Gerais'!$B$8:$W$1048576,4,0)","v":18},{"$f":"VLOOKUP($D43,'Resultados Gerais'!$B$8:$W$1048576,5,0)","v":50},{"$f":"VLOOKUP($D43,'Resultados Gerais'!$B$8:$W$1048576,6,0)","v":8},{"$f":"VLOOKUP($D43,'Resultados Gerais'!$B$8:$W$1048576,7,0)","v":39},{"$f":"VLOOKUP($D43,'Resultados Gerais'!$B$8:$W$1048576,8,0)","v":80},{"$f":"VLOOKUP($D43,'Resultados Gerais'!$B$8:$W$1048576,9,0)","v":62},{"$f":"VLOOKUP($D43,'Resultados Gerais'!$B$8:$W$1048576,10,0)","v":45},{"$f":"VLOOKUP($D43,'Resultados Gerais'!$B$8:$W$1048576,11,0)","v":12},{"$f":"VLOOKUP($D43,'Resultados Gerais'!$B$8:$W$1048576,12,0)","v":89},{"$f":"VLOOKUP($D43,'Resultados Gerais'!$B$8:$W$1048576,13,0)","v":93},{"$f":"VLOOKUP($D43,'Resultados Gerais'!$B$8:$W$1048576,14,0)","v":95},{"$f":"VLOOKUP($D43,'Resultados Gerais'!$B$8:$W$1048576,15,0)","v":7},{"$f":"VLOOKUP($D43,'Resultados Gerais'!$B$8:$W$1048576,16,0)","v":48},{"$f":"VLOOKUP($D43,'Resultados Gerais'!$B$8:$W$1048576,17,0)","v":87},{"$f":"VLOOKUP($D43,'Resultados Gerais'!$B$8:$W$1048576,18,0)","v":37},{"$f":"VLOOKUP($D43,'Resultados Gerais'!$B$8:$W$1048576,19,0)","v":49},{"$f":"VLOOKUP($D43,'Resultados Gerais'!$B$8:$W$1048576,20,0)","v":19},{"$f":"VLOOKUP($D43,'Resultados Gerais'!$B$8:$W$1048576,21,0)","v":46},{"$f":"VLOOKUP($D43,'Resultados Gerais'!$B$8:$W$1048576,22,0)","v":74},null,null,null,57,{"$f":"COUNTIF(F$12:$Y$65,AC43)","v":11},11]
[null,null,32,{"$f":"COUNT('Resultados Gerais'!$B$8:$B$1048576)-C44","v":1387},{"$f":"VLOOKUP(D44,'Resultados Gerais'!B$8:C$1048576,2,0)","v":"2013-09-28"},{"$f":"VLOOKUP($D44,'Resultados Gerais'!$B$8:$W$1048576,3,0)","v":17},{"$f":"VLOOKUP($D44,'Resultados Gerais'!$B$8:$W$1048576,4,0)","v":82},{"$f":"VLOOKUP($D44,'Resultados Gerais'!$B$8:$W$1048576,5,0)","v":73},{"$f":"VLOOKUP($D44,'Resultados Gerais'!$B$8:$W$1048576,6,0)","v":22},{"$f":"VLOOKUP($D44,'Resultados Gerais'!$B$8:$W$1048576,7,0)","v":2},{"$f":"VLOOKUP($D44,'Resultados Gerais'!$B$8:$W$1048576,8,0)","v":15},{"$f":"VLOOKUP($D44,'Resultados Gerais'!$B$8:$W$1048576,9,0)","v":29},{"$f":"VLOOKUP($D44,'Resultados Gerais'!$B$8:$W$1048576,10,0)","v":93},{"$f":"VLOOKUP($D44,'Resultados Gerais'!$B$8:$W$1048576,11,0)","v":95},{"$f":"VLOOKUP($D44,'Resultados Gerais'!$B$8:$W$1048576,12,0)","v":35},{"$f":"VLOOKUP($D44,'Resultados Gerais'!$B$8:$W$1048576,13,0)","v":25},{"$f":"VLOOKUP($D44,'Resultados Gerais'!$B$8:$W$1048576,14,0)","v":80},{"$f":"VLOOKUP($D44,'Resultados Gerais'!$B$8:$W$1048576,15,0)","v":6},{"$f":"VLOOKUP($D44,'Resultados Gerais'!$B$8:$W$1048576,16,0)","v":66},{"$f":"VLOOKUP($D44,'Resultados Gerais'!$B$8:$W$1048576,17,0)","v":62},{"$f":"VLOOKUP($D44,'Resultados Gerais'!$B$8:$W$1048576,18,0)","v":92},{"$f":"VLOOKUP($D44,'Resultados Gerais'!$B$8:$W$1048576,19,0)","v":72},{"$f":"VLOOKUP($D44,'Resultados Gerais'!$B$8:$W$1048576,20,0)","v":96},{"$f":"VLOOKUP($D44,'Resultados Gerais'!$B$8:$W$1048576,21,0)","v":42},{"$f":"VLOOKUP($D44,'Resultados Gerais'!$B$8:$W$1048576,22,0)","v":26},null,null,null,20,{"$f":"COUNTIF(F$12:$Y$65,AC44)","v":11},11]
[null,null,33,{"$f":"COUNT('Resultados Gerais'!$B$8:$B$1048576)-C45","v":1386},{"$f":"VLOOKUP(D45,'Resultados Gerais'!B$8:C$1048576,2,0)","v":"2013-09-25"},{"$f":"VLOOKUP($D45,'Resultados Gerais'!$B$8:$W$1048576,3,0)","v":95},{"$f":"VLOOKUP($D45,'Resultados Gerais'!$B$8:$W$1048576,4,0)","v":55},{"$f":"VLOOKUP($D45,'Resultados Gerais'!$B$8:$W$1048576,5,0)","v":90},{"$f":"VLOOKUP($D45,'Resultados Gerais'!$B$8:$W$1048576,6,0)","v":67},{"$f":"VLOOKUP($D45,'Resultados Gerais'!$B$8:$W$1048576,7,0)","v":82},{"$f":"VLOOKUP($D45,'Resultados Gerais'!$B$8:$W$1048576,8,0)","v":7},{"$f":"VLOOKUP($D45,'Resultados Gerais'!$B$8:$W$1048576,9,0)","v":43},{"$f":"VLOOKUP($D45,'Resultados Gerais'!$B$8:$W$1048576,10,0)","v":80},{"$f":"VLOOKUP($D45,'Resultados Gerais'!$B$8:$W$1048576,11,0)","v":97},{"$f":"VLOOKUP($D45,'Resultados Gerais'!$B$8:$W$1048576,12,0)","v":92},{"$f":"VLOOKUP($D45,'Resultados Gerais'!$B$8:$W$1048576,13,0)","v":83},{"$f":"VLOOKUP($D45,'Resultados Gerais'!$B$8:$W$1048576,14,0)","v":45},{"$f":"VLOOKUP($D45,'Resultados Gerais'!$B$8:$W$1048576,15,0)","v":93},{"$f":"VLOOKUP($D45,'Resultados Gerais'!$B$8:$W$1048576,16,0)","v":44},{"$f":"VLOOKUP($D45,'Resultados Gerais'!$B$8:$W$1048576,17,0)","v":31},{"$f":"VLOOKUP($D45,'Resultados Gerais'!$B$8:$W$1048576,18,0)","v":25},{"$f":"VLOOKUP($D45,'Resultados Gerais'!$B$8:$W$1048576,19,0)","v":28},{"$f":"VLOOKUP($D45,'Resultados Gerais'!$B$8:$W$1048576,20,0)","v":71},{"$f":"VLOOKUP($D45,'Resultados Gerais'!$B$8:$W$1048576,21,0)","v":33},{"$f":"VLOOKUP($D45,'Resultados Gerais'!$B$8:$W$1048576,22,0)","v":36},null,null,null,17,{"$f":"COUNTIF(F$12:$Y$65,AC45)","v":11},11]
[null,null,34,{"$f":"COUNT('Resultados Gerais'!$B$8:$B$1048576)-C46","v":1385},{"$f":"VLOOKUP(D46,'Resultados Gerais'!B$8:C$1048576,2,0)","v":"2013-09-21"},{"$f":"VLOOKUP($D46,'Resultados Gerais'!$B$8:$W$1048576,3,0)","v":43},{"$f":"VLOOKUP($D46,'Resultados Gerais'!$B$8:$W$1048576,4,0)","v":63},{"$f":"VLOOKUP($D46,'Resultados Gerais'!$B$8:$W$1048576,5,0)","v":77},{"$f":"VLOOKUP($D46,'Resultados Gerais'!$B$8:$W$1048576,6,0)","v":27},{"$f":"VLOOKUP($D46,'Resultados Gerais'!$B$8:$W$1048576,7,0)","v":69},{"$f":"VLOOKUP($D46,'Resultados Gerais'!$B$8:$W$1048576,8,0)","v":74},{"$f":"VLOOKUP($D46,'Resultados Gerais'!$B$8:$W$1048576,9,0)","v":34},{"$f":"VLOOKUP($D46,'Resultados Gerais'!$B$8:$W$1048576,10,0)","v":15},{"$f":"VLOOKUP($D46,'Resultados Gerais'!$B$8:$W$1048576,11,0)","v":20},{"$f":"VLOOKUP($D46,'Resultados Gerais'!$B$8:$W$1048576,12,0)","v":65},{"$f":"VLOOKUP($D46,'Resultados Gerais'!$B$8:$W$1048576,13,0)","v":40},{"$f":"VLOOKUP($D46,'Resultados Gerais'!$B$8:$W$1048576,14,0)","v":90},{"$f":"VLOOKUP($D46,'Resultados Gerais'!$B$8:$W$1048576,15,0)","v":13},{"$f":"VLOOKUP($D46,'Resultados Gerais'!$B$8:$W$1048576,16,0)","v":32},{"$f":"VLOOKUP($D46,'Resultados Gerais'!$B$8:$W$1048576,17,0)","v":81},{"$f":"VLOOKUP($D46,'Resultados Gerais'!$B$8:$W$1048576,18,0)","v":23},{"$f":"VLOOKUP($D46,'Resultados Gerais'!$B$8:$W$1048576,19,0)","v":97},{"$f":"VLOOKUP($D46,'Resultados Gerais'!$B$8:$W$1048576,20,0)","v":38},{"$f":"VLOOKUP($D46,'Resultados Gerais'!$B$8:$W$1048576,21,0)","v":58},{"$f":"VLOOKUP($D46,'Resultados Gerais'!$B$8:$W$1048576,22,0)","v":10},null,null,null,4,{"$f":"COUNTIF(F$12:$Y$65,AC46)","v":11},11]
[null,null,35,{"$f":"COUNT('Resultados Gerais'!$B$8:$B$1048576)-C47","v":1384},{"$f":"VLOOKUP(D47,'Resultados Gerais'!B$8:C$1048576,2,0)","v":"2013-09-18"},{"$f":"VLOOKUP($D47,'Resultados Gerais'!$B$8:$W$1048576,3,0)","v":70},{"$f":"VLOOKUP($D47,'Resultados Gerais'!$B$8:$W$1048576,4,0)","v":71},{"$f":"VLOOKUP($D47,'Resultados Gerais'!$B$8:$W$1048576,5,0)","v":56},{"$f":"VLOOKUP($D47,'Resultados Gerais'!$B$8:$W$1048576,6,0)","v":54},{"$f":"VLOOKUP($D47,'Resultados Gerais'!$B$8:$W$1048576,7,0)","v":90},{"$f":"VLOOKUP($D47,'Resultados Gerais'!$B$8:$W$1048576,8,0)","v":65},{"$f":"VLOOKUP($D47,'Resultados Gerais'!$B$8:$W$1048576,9,0)","v":49},{"$f":"VLOOKUP($D47,'Resultados Gerais'!$B$8:$W$1048576,10,0)","v":27},{"$f":"VLOOKUP($D47,'Resultados Gerais'!$B$8:$W$1048576,11,0)","v":18},{"$f":"VLOOKUP($D47,'Resultados Gerais'!$B$8:$W$1048576,12,0)","v":92},{"$f":"VLOOKUP($D47,'Resultados Gerais'!$B$8:$W$1048576,13,0)","v":10},{"$f":"VLOOKUP($D47,'Resultados Gerais'!$B$8:$W$1048576,14,0)","v":69},{"$f":"VLOOKUP($D47,'Resultados Gerais'!$B$8:$W$1048576,15,0)","v":58},{"$f":"VLOOKUP($D47,'Resultados Gerais'!$B$8:$W$1048576,16,0)","v":32},{"$f":"VLOOKUP($D47,'Resultados Gerais'!$B$8:$W$1048576,17,0)","v":11},{"$f":"VLOOKUP($D47,'Resultados Gerais'!$B$8:$W$1048576,18,0)","v":30},{"$f":"VLOOKUP($D47,'Resultados Gerais'!$B$8:$W$1048576,19,0)","v":4},{"$f":"VLOOKUP($D47,'Resultados Gerais'!$B$8:$W$1048576,20,0)","v":97},{"$f":"VLOOKUP($D47,'Resultados Gerais'!$B$8:$W$1048576,21,0)","v":19},{"$f":"VLOOKUP($D47,'Resultados Gerais'!$B$8:$W$1048576,22,0)","v":45},null,null,null,56,{"$f":"COUNTIF(F$12:$Y$65,AC47)","v":11},11]
[null,null,36,{"$f":"COUNT('Resultados Gerais'!$B$8:$B$1048576)-C48","v":1383},{"$f":"VLOOKUP(D48,'Resultados Gerais'!B$8:C$1048576,2,0)","v":"2013-09-14"},{"$f":"VLOOKUP($D48,'Resultados Gerais'!$B$8:$W$1048576,3,0)","v":39},{"$f":"VLOOKUP($D48,'Resultados Gerais'!$B$8:$W$1048576,4,0)","v":8},{"$f":"VLOOKUP($D48,'Resultados Gerais'!$B$8:$W$1048576,5,0)","v":87},{"$f":"VLOOKUP($D48,'Resultados Gerais'!$B$8:$W$1048576,6,0)","v":59},{"$f":"VLOOKUP($D48,'Resultados Gerais'!$B$8:$W$1048576,7,0)","v":46},{"$f":"VLOOKUP($D48,'Resultados Gerais'!$B$8:$W$1048576,8,0)","v":14},{"$f":"VLOOKUP($D48,'Resultados Gerais'!$B$8:$W$1048576,9,0)","v":95},{"$f":"VLOOKUP($D48,'Resultados Gerais'!$B$8:$W$1048576,10,0)","v":73},{"$f":"VLOOKUP($D48,'Resultados Gerais'!$B$8:$W$1048576,11,0)","v":96},{"$f":"VLOOKUP($D48,'Resultados Gerais'!$B$8:$W$1048576,12,0)","v":90},{"$f":"VLOOKUP($D48,'Resultados Gerais'!$B$8:$W$1048576,13,0)","v":58},{"$f":"VLOOKUP($D48,'Resultados Gerais'!$B$8:$W$1048576,14,0)","v":25},{"$f":"VLOOKUP($D48,'Resultados Gerais'!$B$8:$W$1048576,15,0)","v":43},{"$f":"VLOOKUP($D48,'Resultados Gerais'!$B$8:$W$1048576,16,0)","v":74},{"$f":"VLOOKUP($D48,'Resultados Gerais'!$B$8:$W$1048576,17,0)","v":9},{"$f":"VLOOKUP($D48,'Resultados Gerais'!$B$8:$W$1048576,18,0)","v":62},{"$f":"VLOOKUP($D48,'Resultados Gerais'!$B$8:$W$1048576,19,0)","v":31},{"$f":"VLOOKUP($D48,'Resultados Gerais'!$B$8:$W$1048576,20,0)","v":47},{"$f":"VLOOKUP($D48,'Resultados Gerais'!$B$8:$W$1048576,21,0)","v":66},{"$f":"VLOOKUP($D48,'Resultados Gerais'!$B$8:$W$1048576,22,0)","v":27},null,null,null,23,{"$f":"COUNTIF(F$12:$Y$65,AC48)","v":11},11]
[null,null,37,{"$f":"COUNT('Resultados Gerais'!$B$8:$B$1048576)-C49","v":1382},{"$f":"VLOOKUP(D49,'Resultados Gerais'!B$8:C$1048576,2,0)","v":"2013-09-11"},{"$f":"VLOOKUP($D49,'Resultados Gerais'!$B$8:$W$1048576,3,0)","v":14},{"$f":"VLOOKUP($D49,'Resultados Gerais'!$B$8:$W$1048576,4,0)","v":58},{"$f":"VLOOKUP($D49,'Resultados Gerais'!$B$8:$W$1048576,5,0)","v":20},{"$f":"VLOOKUP($D49,'Resultados Gerais'!$B$8:$W$1048576,6,0)","v":82},{"$f":"VLOOKUP($D49,'Resultados Gerais'!$B$8:$W$1048576,7,0)","v":98},{"$f":"VLOOKUP($D49,'Resultados Gerais'!$B$8:$W$1048576,8,0)","v":12},{"$f":"VLOOKUP($D49,'Resultados Gerais'!$B$8:$W$1048576,9,0)","v":28},{"$f":"VLOOKUP($D49,'Resultados Gerais'!$B$8:$W$1048576,10,0)","v":33},{"$f":"VLOOKUP($D49,'Resultados Gerais'!$B$8:$W$1048576,11,0)","v":95},{"$f":"VLOOKUP($D49,'Resultados Gerais'!$B$8:$W$1048576,12,0)","v":43},{"$f":"VLOOKUP($D49,'Resultados Gerais'!$B$8:$W$1048576,13,0)","v":36},{"$f":"VLOOKUP($D49,'Resultados Gerais'!$B$8:$W$1048576,14,0)","v":35},{"$f":"VLOOKUP($D49,'Resultados Gerais'!$B$8:$W$1048576,15,0)","v":80},{"$f":"VLOOKUP($D49,'Resultados Gerais'!$B$8:$W$1048576,16,0)","v":92},{"$f":"VLOOKUP($D49,'Resultados Gerais'!$B$8:$W$1048576,17,0)","v":73},{"$f":"VLOOKUP($D49,'Resultados Gerais'!$B$8:$W$1048576,18,0)","v":3},{"$f":"VLOOKUP($D49,'Resultados Gerais'!$B$8:$W$1048576,19,0)","v":34},{"$f":"VLOOKUP($D49,'Resultados Gerais'!$B$8:$W$1048576,20,0)","v":70},{"$f":"VLOOKUP($D49,'Resultados Gerais'!$B$8:$W$1048576,21,0)","v":31},{"$f":"VLOOKUP($D49,'Resultados Gerais'!$B$8:$W$1048576,22,0)","v":54},null,null,null,40,{"$f":"COUNTIF(F$12:$Y$65,AC49)","v":11},11]
[null,null,38,{"$f":"COUNT('Resultados Gerais'!$B$8:$B$1048576)-C50","v":1381},{"$f":"VLOOKUP(D50,'Resultados Gerais'!B$8:C$1048576,2,0)","v":"2013-09-06"},{"$f":"VLOOKUP($D50,'Resultados Gerais'!$B$8:$W$1048576,3,0)","v":41},{"$f":"VLOOKUP($D50,'Resultados Gerais'!$B$8:$W$1048576,4,0)","v":18},{"$f":"VLOOKUP($D50,'Resultados Gerais'!$B$8:$W$1048576,5,0)","v":38},{"$f":"VLOOKUP($D50,'Resultados Gerais'!$B$8:$W$1048576,6,0)","v":84},{"$f":"VLOOKUP($D50,'Resultados Gerais'!$B$8:$W$1048576,7,0)","v":59},{"$f":"VLOOKUP($D50,'Resultados Gerais'!$B$8:$W$1048576,8,0)","v":89},{"$f":"VLOOKUP($D50,'Resultados Gerais'!$B$8:$W$1048576,9,0)","v":1},{"$f":"VLOOKUP($D50,'Resultados Gerais'!$B$8:$W$1048576,10,0)","v":49},{"$f":"VLOOKUP($D50,'Resultados Gerais'!$B$8:$W$1048576,11,0)","v":82},{"$f":"VLOOKUP($D50,'Resultados Gerais'!$B$8:$W$1048576,12,0)","v":46},{"$f":"VLOOKUP($D50,'Resultados Gerais'!$B$8:$W$1048576,13,0)","v":98},{"$f":"VLOOKUP($D50,'Resultados Gerais'!$B$8:$W$1048576,14,0)","v":57},{"$f":"VLOOKUP($D50,'Resultados Gerais'!$B$8:$W$1048576,15,0)","v":96},{"$f":"VLOOKUP($D50,'Resultados Gerais'!$B$8:$W$1048576,16,0)","v":44},{"$f":"VLOOKUP($D50,'Resultados Gerais'!$B$8:$W$1048576,17,0)","v":91},{"$f":"VLOOKUP($D50,'Resultados Gerais'!$B$8:$W$1048576,18,0)","v":33},{"$f":"VLOOKUP($D50,'Resultados Gerais'!$B$8:$W$1048576,19,0)","v":8},{"$f":"VLOOKUP($D50,'Resultados Gerais'!$B$8:$W$1048576,20,0)","v":17},{"$f":"VLOOKUP($D50,'Resultados Gerais'!$B$8:$W$1048576,21,0)","v":65},{"$f":"VLOOKUP($D50,'Resultados Gerais'!$B$8:$W$1048576,22,0)","v":58},null,null,null,9,{"$f":"COUNTIF(F$12:$Y$65,AC50)","v":11},11]
[null,null,39,{"$f":"COUNT('Resultados Gerais'!$B$8:$B$1048576)-C51","v":1380},{"$f":"VLOOKUP(D51,'Resultados Gerais'!B$8:C$1048576,2,0)","v":"2013-09-04"},{"$f":"VLOOKUP($D51,'Resultados Gerais'!$B$8:$W$1048576,3,0)","v":25},{"$f":"VLOOKUP($D51,'Resultados Gerais'!$B$8:$W$1048576,4,0)","v":16},{"$f":"VLOOKUP($D51,'Resultados Gerais'!$B$8:$W$1048576,5,0)","v":27},{"$f":"VLOOKUP($D51,'Resultados Gerais'!$B$8:$W$1048576,6,0)","v":53},{"$f":"VLOOKUP($D51,'Resultados Gerais'!$B$8:$W$1048576,7,0)","v":79},{"$f":"VLOOKUP($D51,'Resultados Gerais'!$B$8:$W$1048576,8,0)","v":80},{"$f":"VLOOKUP($D51,'Resultados Gerais'!$B$8:$W$1048576,9,0)","v":22},{"$f":"VLOOKUP($D51,'Resultados Gerais'!$B$8:$W$1048576,10,0)","v":12},{"$f":"VLOOKUP($D51,'Resultados Gerais'!$B$8:$W$1048576,11,0)","v":67},{"$f":"VLOOKUP($D51,'Resultados Gerais'!$B$8:$W$1048576,12,0)","v":97},{"$f":"VLOOKUP($D51,'Resultados Gerais'!$B$8:$W$1048576,13,0)","v":29},{"$f":"VLOOKUP($D51,'Resultados Gerais'!$B$8:$W$1048576,14,0)","v":14},{"$f":"VLOOKUP($D51,'Resultados Gerais'!$B$8:$W$1048576,15,0)","v":64},{"$f":"VLOOKUP($D51,'Resultados Gerais'!$B$8:$W$1048576,16,0)","v":47},{"$f":"VLOOKUP($D51,'Resultados Gerais'!$B$8:$W$1048576,17,0)","v":76},{"$f":"VLOOKUP($D51,'Resultados Gerais'!$B$8:$W$1048576,18,0)","v":21},{"$f":"VLOOKUP($D51,'Resultados Gerais'!$B$8:$W$1048576,19,0)","v":17},{"$f":"VLOOKUP($D51,'Resultados Gerais'!$B$8:$W$1048576,20,0)","v":8},{"$f":"VLOOKUP($D51,'Resultados Gerais'!$B$8:$W$1048576,21,0)","v":63},{"$f":"VLOOKUP($D51,'Resultados Gerais'!$B$8:$W$1048576,22,0)","v":23},null,null,null,39,{"$f":"COUNTIF(F$12:$Y$65,AC51)","v":11},11]
[null,null,40,{"$f":"COUNT('Resultados Gerais'!$B$8:$B$1048576)-C52","v":1379},{"$f":"VLOOKUP(D52,'Resultados Gerais'!B$8:C$1048576,2,0)","v":"2013-08-31"},{"$f":"VLOOKUP($D52,'Resultados Gerais'!$B$8:$W$1048576,3,0)","v":76},{"$f":"VLOOKUP($D52,'Resultados Gerais'!$B$8:$W$1048576,4,0)","v":26},{"$f":"VLOOKUP($D52,'Resultados Gerais'!$B$8:$W$1048576,5,0)","v":95},{"$f":"VLOOKUP($D52,'Resultados Gerais'!$B$8:$W$1048576,6,0)","v":37},{"$f":"VLOOKUP($D52,'Resultados Gerais'!$B$8:$W$1048576,7,0)","v":61},{"$f":"VLOOKUP($D52,'Resultados Gerais'!$B$8:$W$1048576,8,0)","v":16},{"$f":"VLOOKUP($D52,'Resultados Gerais'!$B$8:$W$1048576,9,0)","v":6},{"$f":"VLOOKUP($D52,'Resultados Gerais'!$B$8:$W$1048576,10,0)","v":58},{"$f":"VLOOKUP($D52,'Resultados Gerais'!$B$8:$W$1048576,11,0)","v":77},{"$f":"VLOOKUP($D52,'Resultados Gerais'!$B$8:$W$1048576,12,0)","v":57},{"$f":"VLOOKUP($D52,'Resultados Gerais'!$B$8:$W$1048576,13,0)","v":24},{"$f":"VLOOKUP($D52,'Resultados Gerais'!$B$8:$W$1048576,14,0)","v":69},{"$f":"VLOOKUP($D52,'Resultados Gerais'!$B$8:$W$1048576,15,0)","v":88},{"$f":"VLOOKUP($D52,'Resultados Gerais'!$B$8:$W$1048576,16,0)","v":79},{"$f":"VLOOKUP($D52,'Resultados Gerais'!$B$8:$W$1048576,17,0)","v":40},{"$f":"VLOOKUP($D52,'Resultados Gerais'!$B$8:$W$1048576,18,0)","v":55},{"$f":"VLOOKUP($D52,'Resultados Gerais'!$B$8:$W$1048576,19,0)","v":80},{"$f":"VLOOKUP($D52,'Resultados Gerais'!$B$8:$W$1048576,20,0)","v":73},{"$f":"VLOOKUP($D52,'Resultados Gerais'!$B$8:$W$1048576,21,0)","v":75},{"$f":"VLOOKUP($D52,'Resultados Gerais'!$B$8:$W$1048576,22,0)","v":67},null,null,null,55,{"$f":"COUNTIF(F$12:$Y$65,AC52)","v":11},11]
[null,null,41,{"$f":"COUNT('Resultados Gerais'!$B$8:$B$1048576)-C53","v":1378},{"$f":"VLOOKUP(D53,'Resultados Gerais'!B$8:C$1048576,2,0)","v":"2013-08-28"},{"$f":"VLOOKUP($D53,'Resultados Gerais'!$B$8:$W$1048576,3,0)","v":93},{"$f":"VLOOKUP($D53,'Resultados Gerais'!$B$8:$W$1048576,4,0)","v":32},{"$f":"VLOOKUP($D53,'Resultados Gerais'!$B$8:$W$1048576,5,0)","v":69},{"$f":"VLOOKUP($D53,'Resultados Gerais'!$B$8:$W$1048576,6,0)","v":72},{"$f":"VLOOKUP($D53,'Resultados Gerais'!$B$8:$W$1048576,7,0)","v":17},{"$f":"VLOOKUP($D53,'Resultados Gerais'!$B$8:$W$1048576,8,0)","v":16},{"$f":"VLOOKUP($D53,'Resultados Gerais'!$B$8:$W$1048576,9,0)","v":35},{"$f":"VLOOKUP($D53,'Resultados Gerais'!$B$8:$W$1048576,10,0)","v":9},{"$f":"VLOOKUP($D53,'Resultados Gerais'!$B$8:$W$1048576,11,0)","v":43},{"$f":"VLOOKUP($D53,'Resultados Gerais'!$B$8:$W$1048576,12,0)","v":49},{"$f":"VLOOKUP($D53,'Resultados Gerais'!$B$8:$W$1048576,13,0)","v":70},{"$f":"VLOOKUP($D53,'Resultados Gerais'!$B$8:$W$1048576,14,0)","v":82},{"$f":"VLOOKUP($D53,'Resultados Gerais'!$B$8:$W$1048576,15,0)","v":23},{"$f":"VLOOKUP($D53,'Resultados Gerais'!$B$8:$W$1048576,16,0)","v":45},{"$f":"VLOOKUP($D53,'Resultados Gerais'!$B$8:$W$1048576,17,0)","v":64},{"$f":"VLOOKUP($D53,'Resultados Gerais'!$B$8:$W$1048576,18,0)","v":96},{"$f":"VLOOKUP($D53,'Resultados Gerais'!$B$8:$W$1048576,19,0)","v":24},{"$f":"VLOOKUP($D53,'Resultados Gerais'!$B$8:$W$1048576,20,0)","v":83},{"$f":"VLOOKUP($D53,'Resultados Gerais'!$B$8:$W$1048576,21,0)","v":61},{"$f":"VLOOKUP($D53,'Resultados Gerais'!$B$8:$W$1048576,22,0)","v":39},null,null,null,86,{"$f":"COUNTIF(F$12:$Y$65,AC53)","v":11},11]
[null,null,42,{"$f":"COUNT('Resultados Gerais'!$B$8:$B$1048576)-C54","v":1377},{"$f":"VLOOKUP(D54,'Resultados Gerais'!B$8:C$1048576,2,0)","v":"2013-08-24"},{"$f":"VLOOKUP($D54,'Resultados Gerais'!$B$8:$W$1048576,3,0)","v":60},{"$f":"VLOOKUP($D54,'Resultados Gerais'!$B$8:$W$1048576,4,0)","v":51},{"$f":"VLOOKUP($D54,'Resultados Gerais'!$B$8:$W$1048576,5,0)","v":58},{"$f":"VLOOKUP($D54,'Resultados Gerais'!$B$8:$W$1048576,6,0)","v":85},{"$f":"VLOOKUP($D54,'Resultados Gerais'!$B$8:$W$1048576,7,0)","v":80},{"$f":"VLOOKUP($D54,'Resultados Gerais'!$B$8:$W$1048576,8,0)","v":2},{"$f":"VLOOKUP($D54,'Resultados Gerais'!$B$8:$W$1048576,9,0)","v":77},{"$f":"VLOOKUP($D54,'Resultados Gerais'!$B$8:$W$1048576,10,0)","v":21},{"$f":"VLOOKUP($D54,'Resultados Gerais'!$B$8:$W$1048576,11,0)","v":46},{"$f":"VLOOKUP($D54,'Resultados Gerais'!$B$8:$W$1048576,12,0)","v":17},{"$f":"VLOOKUP($D54,'Resultados Gerais'!$B$8:$W$1048576,13,0)","v":10},{"$f":"VLOOKUP($D54,'Resultados Gerais'!$B$8:$W$1048576,14,0)","v":31},{"$f":"VLOOKUP($D54,'Resultados Gerais'!$B$8:$W$1048576,15,0)","v":25},{"$f":"VLOOKUP($D54,'Resultados Gerais'!$B$8:$W$1048576,16,0)","v":34},{"$f":"VLOOKUP($D54,'Resultados Gerais'!$B$8:$W$1048576,17,0)","v":87},{"$f":"VLOOKUP($D54,'Resultados Gerais'!$B$8:$W$1048576,18,0)","v":69},{"$f":"VLOOKUP($D54,'Resultados Gerais'!$B$8:$W$1048576,19,0)","v":28},{"$f":"VLOOKUP($D54,'Resultados Gerais'!$B$8:$W$1048576,20,0)","v":32},{"$f":"VLOOKUP($D54,'Resultados Gerais'!$B$8:$W$1048576,21,0)","v":5},{"$f":"VLOOKUP($D54,'Resultados Gerais'!$B$8:$W$1048576,22,0)","v":6},null,null,null,21,{"$f":"COUNTIF(F$12:$Y$65,AC54)","v":11},11]
[null,null,43,{"$f":"COUNT('Resultados Gerais'!$B$8:$B$1048576)-C55","v":1376},{"$f":"VLOOKUP(D55,'Resultados Gerais'!B$8:C$1048576,2,0)","v":"2013-08-21"},{"$f":"VLOOKUP($D55,'Resultados Gerais'!$B$8:$W$1048576,3,0)","v":31},{"$f":"VLOOKUP($D55,'Resultados Gerais'!$B$8:$W$1048576,4,0)","v":45},{"$f":"VLOOKUP($D55,'Resultados Gerais'!$B$8:$W$1048576,5,0)","v":58},{"$f":"VLOOKUP($D55,'Resultados Gerais'!$B$8:$W$1048576,6,0)","v":4},{"$f":"VLOOKUP($D55,'Resultados Gerais'!$B$8:$W$1048576,7,0)","v":13},{"$f":"VLOOKUP($D55,'Resultados Gerais'!$B$8:$W$1048576,8,0)","v":56},{"$f":"VLOOKUP($D55,'Resultados Gerais'!$B$8:$W$1048576,9,0)","v":11},{"$f":"VLOOKUP($D55,'Resultados Gerais'!$B$8:$W$1048576,10,0)","v":88},{"$f":"VLOOKUP($D55,'Resultados Gerais'!$B$8:$W$1048576,11,0)","v":84},{"$f":"VLOOKUP($D55,'Resultados Gerais'!$B$8:$W$1048576,12,0)","v":61},{"$f":"VLOOKUP($D55,'Resultados Gerais'!$B$8:$W$1048576,13,0)","v":16},{"$f":"VLOOKUP($D55,'Resultados Gerais'!$B$8:$W$1048576,14,0)","v":97},{"$f":"VLOOKUP($D55,'Resultados Gerais'!$B$8:$W$1048576,15,0)","v":92},{"$f":"VLOOKUP($D55,'Resultados Gerais'!$B$8:$W$1048576,16,0)","v":91},{"$f":"VLOOKUP($D55,'Resultados Gerais'!$B$8:$W$1048576,17,0)","v":36},{"$f":"VLOOKUP($D55,'Resultados Gerais'!$B$8:$W$1048576,18,0)","v":32},{"$f":"VLOOKUP($D55,'Resultados Gerais'!$B$8:$W$1048576,19,0)","v":47},{"$f":"VLOOKUP($D55,'Resultados Gerais'!$B$8:$W$1048576,20,0)","v":71},{"$f":"VLOOKUP($D55,'Resultados Gerais'!$B$8:$W$1048576,21,0)","v":60},{"$f":"VLOOKUP($D55,'Resultados Gerais'!$B$8:$W$1048576,22,0)","v":77},null,null,null,41,{"$f":"COUNTIF(F$12:$Y$65,AC55)","v":10},10]
[null,null,44,{"$f":"COUNT('Resultados Gerais'!$B$8:$B$1048576)-C56","v":1375},{"$f":"VLOOKUP(D56,'Resultados Gerais'!B$8:C$1048576,2,0)","v":"2013-08-17"},{"$f":"VLOOKUP($D56,'Resultados Gerais'!$B$8:$W$1048576,3,0)","v":42},{"$f":"VLOOKUP($D56,'Resultados Gerais'!$B$8:$W$1048576,4,0)","v":68},{"$f":"VLOOKUP($D56,'Resultados Gerais'!$B$8:$W$1048576,5,0)","v":21},{"$f":"VLOOKUP($D56,'Resultados Gerais'!$B$8:$W$1048576,6,0)","v":59},{"$f":"VLOOKUP($D56,'Resultados Gerais'!$B$8:$W$1048576,7,0)","v":30},{"$f":"VLOOKUP($D56,'Resultados Gerais'!$B$8:$W$1048576,8,0)","v":83},{"$f":"VLOOKUP($D56,'Resultados Gerais'!$B$8:$W$1048576,9,0)","v":10},{"$f":"VLOOKUP($D56,'Resultados Gerais'!$B$8:$W$1048576,10,0)","v":57},{"$f":"VLOOKUP($D56,'Resultados Gerais'!$B$8:$W$1048576,11,0)","v":93},{"$f":"VLOOKUP($D56,'Resultados Gerais'!$B$8:$W$1048576,12,0)","v":31},{"$f":"VLOOKUP($D56,'Resultados Gerais'!$B$8:$W$1048576,13,0)","v":3},{"$f":"VLOOKUP($D56,'Resultados Gerais'!$B$8:$W$1048576,14,0)","v":60},{"$f":"VLOOKUP($D56,'Resultados Gerais'!$B$8:$W$1048576,15,0)","v":1},{"$f":"VLOOKUP($D56,'Resultados Gerais'!$B$8:$W$1048576,16,0)","v":9},{"$f":"VLOOKUP($D56,'Resultados Gerais'!$B$8:$W$1048576,17,0)","v":87},{"$f":"VLOOKUP($D56,'Resultados Gerais'!$B$8:$W$1048576,18,0)","v":85},{"$f":"VLOOKUP($D56,'Resultados Gerais'!$B$8:$W$1048576,19,0)","v":90},{"$f":"VLOOKUP($D56,'Resultados Gerais'!$B$8:$W$1048576,20,0)","v":28},{"$f":"VLOOKUP($D56,'Resultados Gerais'!$B$8:$W$1048576,21,0)","v":6},{"$f":"VLOOKUP($D56,'Resultados Gerais'!$B$8:$W$1048576,22,0)","v":61},null,null,null,3,{"$f":"COUNTIF(F$12:$Y$65,AC56)","v":10},10]
[null,null,45,{"$f":"COUNT('Resultados Gerais'!$B$8:$B$1048576)-C57","v":1374},{"$f":"VLOOKUP(D57,'Resultados Gerais'!B$8:C$1048576,2,0)","v":"2013-08-14"},{"$f":"VLOOKUP($D57,'Resultados Gerais'!$B$8:$W$1048576,3,0)","v":0},{"$f":"VLOOKUP($D57,'Resultados Gerais'!$B$8:$W$1048576,4,0)","v":90},{"$f":"VLOOKUP($D57,'Resultados Gerais'!$B$8:$W$1048576,5,0)","v":41},{"$f":"VLOOKUP($D57,'Resultados Gerais'!$B$8:$W$1048576,6,0)","v":56},{"$f":"VLOOKUP($D57,'Resultados Gerais'!$B$8:$W$1048576,7,0)","v":33},{"$f":"VLOOKUP($D57,'Resultados Gerais'!$B$8:$W$1048576,8,0)","v":32},{"$f":"VLOOKUP($D57,'Resultados Gerais'!$B$8:$W$1048576,9,0)","v":18},{"$f":"VLOOKUP($D57,'Resultados Gerais'!$B$8:$W$1048576,10,0)","v":13},{"$f":"VLOOKUP($D57,'Resultados Gerais'!$B$8:$W$1048576,11,0)","v":4},{"$f":"VLOOKUP($D57,'Resultados Gerais'!$B$8:$W$1048576,12,0)","v":20},{"$f":"VLOOKUP($D57,'Resultados Gerais'!$B$8:$W$1048576,13,0)","v":94},{"$f":"VLOOKUP($D57,'Resultados Gerais'!$B$8:$W$1048576,14,0)","v":2},{"$f":"VLOOKUP($D57,'Resultados Gerais'!$B$8:$W$1048576,15,0)","v":93},{"$f":"VLOOKUP($D57,'Resultados Gerais'!$B$8:$W$1048576,16,0)","v":64},{"$f":"VLOOKUP($D57,'Resultados Gerais'!$B$8:$W$1048576,17,0)","v":69},{"$f":"VLOOKUP($D57,'Resultados Gerais'!$B$8:$W$1048576,18,0)","v":31},{"$f":"VLOOKUP($D57,'Resultados Gerais'!$B$8:$W$1048576,19,0)","v":68},{"$f":"VLOOKUP($D57,'Resultados Gerais'!$B$8:$W$1048576,20,0)","v":5},{"$f":"VLOOKUP($D57,'Resultados Gerais'!$B$8:$W$1048576,21,0)","v":19},{"$f":"VLOOKUP($D57,'Resultados Gerais'!$B$8:$W$1048576,22,0)","v":61},null,null,null,93,{"$f":"COUNTIF(F$12:$Y$65,AC57)","v":10},10]
[null,null,46,{"$f":"COUNT('Resultados Gerais'!$B$8:$B$1048576)-C58","v":1373},{"$f":"VLOOKUP(D58,'Resultados Gerais'!B$8:C$1048576,2,0)","v":"2013-08-10"},{"$f":"VLOOKUP($D58,'Resultados Gerais'!$B$8:$W$1048576,3,0)","v":63},{"$f":"VLOOKUP($D58,'Resultados Gerais'!$B$8:$W$1048576,4,0)","v":73},{"$f":"VLOOKUP($D58,'Resultados Gerais'!$B$8:$W$1048576,5,0)","v":33},{"$f":"VLOOKUP($D58,'Resultados Gerais'!$B$8:$W$1048576,6,0)","v":70},{"$f":"VLOOKUP($D58,'Resultados Gerais'!$B$8:$W$1048576,7,0)","v":18},{"$f":"VLOOKUP($D58,'Resultados Gerais'!$B$8:$W$1048576,8,0)","v":74},{"$f":"VLOOKUP($D58,'Resultados Gerais'!$B$8:$W$1048576,9,0)","v":30},{"$f":"VLOOKUP($D58,'Resultados Gerais'!$B$8:$W$1048576,10,0)","v":43},{"$f":"VLOOKUP($D58,'Resultados Gerais'!$B$8:$W$1048576,11,0)","v":68},{"$f":"VLOOKUP($D58,'Resultados Gerais'!$B$8:$W$1048576,12,0)","v":57},{"$f":"VLOOKUP($D58,'Resultados Gerais'!$B$8:$W$1048576,13,0)","v":93},{"$f":"VLOOKUP($D58,'Resultados Gerais'!$B$8:$W$1048576,14,0)","v":38},{"$f":"VLOOKUP($D58,'Resultados Gerais'!$B$8:$W$1048576,15,0)","v":86},{"$f":"VLOOKUP($D58,'Resultados Gerais'!$B$8:$W$1048576,16,0)","v":97},{"$f":"VLOOKUP($D58,'Resultados Gerais'!$B$8:$W$1048576,17,0)","v":44},{"$f":"VLOOKUP($D58,'Resultados Gerais'!$B$8:$W$1048576,18,0)","v":55},{"$f":"VLOOKUP($D58,'Resultados Gerais'!$B$8:$W$1048576,19,0)","v":24},{"$f":"VLOOKUP($D58,'Resultados Gerais'!$B$8:$W$1048576,20,0)","v":87},{"$f":"VLOOKUP($D58,'Resultados Gerais'!$B$8:$W$1048576,21,0)","v":90},{"$f":"VLOOKUP($D58,'Resultados Gerais'!$B$8:$W$1048576,22,0)","v":29},null,null,null,6,{"$f":"COUNTIF(F$12:$Y$65,AC58)","v":10},10]
[null,null,47,{"$f":"COUNT('Resultados Gerais'!$B$8:$B$1048576)-C59","v":1372},{"$f":"VLOOKUP(D59,'Resultados Gerais'!B$8:C$1048576,2,0)","v":"2013-08-07"},{"$f":"VLOOKUP($D59,'Resultados Gerais'!$B$8:$W$1048576,3,0)","v":19},{"$f":"VLOOKUP($D59,'Resultados Gerais'!$B$8:$W$1048576,4,0)","v":5},{"$f":"VLOOKUP($D59,'Resultados Gerais'!$B$8:$W$1048576,5,0)","v":50},{"$f":"VLOOKUP($D59,'Resultados Gerais'!$B$8:$W$1048576,6,0)","v":20},{"$f":"VLOOKUP($D59,'Resultados Gerais'!$B$8:$W$1048576,7,0)","v":54},{"$f":"VLOOKUP($D59,'Resultados Gerais'!$B$8:$W$1048576,8,0)","v":23},{"$f":"VLOOKUP($D59,'Resultados Gerais'!$B$8:$W$1048576,9,0)","v":99},{"$f":"VLOOKUP($D59,'Resultados Gerais'!$B$8:$W$1048576,10,0)","v":64},{"$f":"VLOOKUP($D59,'Resultados Gerais'!$B$8:$W$1048576,11,0)","v":35},{"$f":"VLOOKUP($D59,'Resultados Gerais'!$B$8:$W$1048576,12,0)","v":66},{"$f":"VLOOKUP($D59,'Resultados Gerais'!$B$8:$W$1048576,13,0)","v":28},{"$f":"VLOOKUP($D59,'Resultados Gerais'!$B$8:$W$1048576,14,0)","v":26},{"$f":"VLOOKUP($D59,'Resultados Gerais'!$B$8:$W$1048576,15,0)","v":34},{"$f":"VLOOKUP($D59,'Resultados Gerais'!$B$8:$W$1048576,16,0)","v":3},{"$f":"VLOOKUP($D59,'Resultados Gerais'!$B$8:$W$1048576,17,0)","v":86},{"$f":"VLOOKUP($D59,'Resultados Gerais'!$B$8:$W$1048576,18,0)","v":87},{"$f":"VLOOKUP($D59,'Resultados Gerais'!$B$8:$W$1048576,19,0)","v":12},{"$f":"VLOOKUP($D59,'Resultados Gerais'!$B$8:$W$1048576,20,0)","v":39},{"$f":"VLOOKUP($D59,'Resultados Gerais'!$B$8:$W$1048576,21,0)","v":68},{"$f":"VLOOKUP($D59,'Resultados Gerais'!$B$8:$W$1048576,22,0)","v":91},null,null,null,37,{"$f":"COUNTIF(F$12:$Y$65,AC59)","v":10},10]
[null,null,48,{"$f":"COUNT('Resultados Gerais'!$B$8:$B$1048576)-C60","v":1371},{"$f":"VLOOKUP(D60,'Resultados Gerais'!B$8:C$1048576,2,0)","v":"2013-08-03"},{"$f":"VLOOKUP($D60,'Resultados Gerais'!$B$8:$W$1048576,3,0)","v":42},{"$f":"VLOOKUP($D60,'Resultados Gerais'!$B$8:$W$1048576,4,0)","v":41},{"$f":"VLOOKUP($D60,'Resultados Gerais'!$B$8:$W$1048576,5,0)","v":79},{"$f":"VLOOKUP($D60,'Resultados Gerais'!$B$8:$W$1048576,6,0)","v":71},{"$f":"VLOOKUP($D60,'Resultados Gerais'!$B$8:$W$1048576,7,0)","v":24},{"$f":"VLOOKUP($D60,'Resultados Gerais'!$B$8:$W$1048576,8,0)","v":57},{"$f":"VLOOKUP($D60,'Resultados Gerais'!$B$8:$W$1048576,9,0)","v":60},{"$f":"VLOOKUP($D60,'Resultados Gerais'!$B$8:$W$1048576,10,0)","v":18},{"$f":"VLOOKUP($D60,'Resultados Gerais'!$B$8:$W$1048576,11,0)","v":13},{"$f":"VLOOKUP($D60,'Resultados Gerais'!$B$8:$W$1048576,12,0)","v":69},{"$f":"VLOOKUP($D60,'Resultados Gerais'!$B$8:$W$1048576,13,0)","v":35},{"$f":"VLOOKUP($D60,'Resultados Gerais'!$B$8:$W$1048576,14,0)","v":44},{"$f":"VLOOKUP($D60,'Resultados Gerais'!$B$8:$W$1048576,15,0)","v":73},{"$f":"VLOOKUP($D60,'Resultados Gerais'!$B$8:$W$1048576,16,0)","v":90},{"$f":"VLOOKUP($D60,'Resultados Gerais'!$B$8:$W$1048576,17,0)","v":86},{"$f":"VLOOKUP($D60,'Resultados Gerais'!$B$8:$W$1048576,18,0)","v":99},{"$f":"VLOOKUP($D60,'Resultados Gerais'!$B$8:$W$1048576,19,0)","v":16},{"$f":"VLOOKUP($D60,'Resultados Gerais'!$B$8:$W$1048576,20,0)","v":39},{"$f":"VLOOKUP($D60,'Resultados Gerais'!$B$8:$W$1048576,21,0)","v":94},{"$f":"VLOOKUP($D60,'Resultados Gerais'!$B$8:$W$1048576,22,0)","v":1},null,null,null,38,{"$f":"COUNTIF(F$12:$Y$65,AC60)","v":10},10]
[null,null,49,{"$f":"COUNT('Resultados Gerais'!$B$8:$B$1048576)-C61","v":1370},{"$f":"VLOOKUP(D61,'Resultados Gerais'!B$8:C$1048576,2,0)","v":"2013-07-31"},{"$f":"VLOOKUP($D61,'Resultados Gerais'!$B$8:$W$1048576,3,0)","v":88},{"$f":"VLOOKUP($D61,'Resultados Gerais'!$B$8:$W$1048576,4,0)","v":5},{"$f":"VLOOKUP($D61,'Resultados Gerais'!$B$8:$W$1048576,5,0)","v":78},{"$f":"VLOOKUP($D61,'Resultados Gerais'!$B$8:$W$1048576,6,0)","v":21},{"$f":"VLOOKUP($D61,'Resultados Gerais'!$B$8:$W$1048576,7,0)","v":58},{"$f":"VLOOKUP($D61,'Resultados Gerais'!$B$8:$W$1048576,8,0)","v":40},{"$f":"VLOOKUP($D61,'Resultados Gerais'!$B$8:$W$1048576,9,0)","v":9},{"$f":"VLOOKUP($D61,'Resultados Gerais'!$B$8:$W$1048576,10,0)","v":7},{"$f":"VLOOKUP($D61,'Resultados Gerais'!$B$8:$W$1048576,11,0)","v":57},{"$f":"VLOOKUP($D61,'Resultados Gerais'!$B$8:$W$1048576,12,0)","v":10},{"$f":"VLOOKUP($D61,'Resultados Gerais'!$B$8:$W$1048576,13,0)","v":20},{"$f":"VLOOKUP($D61,'Resultados Gerais'!$B$8:$W$1048576,14,0)","v":75},{"$f":"VLOOKUP($D61,'Resultados Gerais'!$B$8:$W$1048576,15,0)","v":46},{"$f":"VLOOKUP($D61,'Resultados Gerais'!$B$8:$W$1048576,16,0)","v":43},{"$f":"VLOOKUP($D61,'Resultados Gerais'!$B$8:$W$1048576,17,0)","v":53},{"$f":"VLOOKUP($D61,'Resultados Gerais'!$B$8:$W$1048576,18,0)","v":66},{"$f":"VLOOKUP($D61,'Resultados Gerais'!$B$8:$W$1048576,19,0)","v":24},{"$f":"VLOOKUP($D61,'Resultados Gerais'!$B$8:$W$1048576,20,0)","v":3},{"$f":"VLOOKUP($D61,'Resultados Gerais'!$B$8:$W$1048576,21,0)","v":48},{"$f":"VLOOKUP($D61,'Resultados Gerais'!$B$8:$W$1048576,22,0)","v":97},null,null,null,79,{"$f":"COUNTIF(F$12:$Y$65,AC61)","v":10},10]
[null,null,50,null,null,null,null,null,null,null,null,null,null,null,null,null,null,null,null,null,null,null,null,null,null,null,null,null,13,{"$f":"COUNTIF(F$12:$Y$65,AC62)","v":10},{"$f":"AD62","v":10}]
[null,null,null,null,null,null,null,null,null,null,null,null,null,null,null,null,null,null,null,null,null,null,null,null,null,null,null,null,14,{"$f":"COUNTIF(F$12:$Y$65,AC63)","v":10},10]
[null,null,null,null,null,null,null,null,null,null,null,null,null,null,null,null,null,null,null,null,null,null,null,null,null,null,null,null,32,{"$f":"COUNTIF(F$12:$Y$65,AC64)","v":10},10]
[null,null,null,null,null,null,null,null,null,null,null,null,null,null,null,null,null,null,null,null,null,null,null,null,null,null,null,null,71,{"$f":"COUNTIF(F$12:$Y$65,AC65)","v":10},10]
[null,null,null,null,null,null,null,null,null,null,null,null,null,null,null,null,null,null,null,null,null,null,null,null,null,null,null,null,10,{"$f":"COUNTIF(F$12:$Y$65,AC66)","v":10},10]
[null,null,null,null,null,null,null,null,null,null,null,null,null,null,null,null,null,null,null,null,null,null,null,null,null,null,null,null,72,{"$f":"COUNTIF(F$12:$Y$65,AC67)","v":10},10]
[null,null,null,null,null,null,null,null,null,null,null,null,null,null,null,null,null,null,null,null,null,null,null,null,null,null,null,null,91,{"$f":"COUNTIF(F$12:$Y$65,AC68)","v":9},9]
[null,null,null,null,null,null,null,null,null,null,null,null,null,null,null,null,null,null,null,null,null,null,null,null,null,null,null,null,65,{"$f":"COUNTIF(F$12:$Y$65,AC69)","v":9},9]
[null,null,null,null,null,null,null,null,null,null,null,null,null,null,null,null,null,null,null,null,null,null,null,null,null,null,null,null,64,{"$f":"COUNTIF(F$12:$Y$65,AC70)","v":9},9]
[null,null,null,null,null,null,null,null,null,null,null,null,null,null,null,null,null,null,null,null,null,null,null,null,null,null,null,null,77,{"$f":"COUNTIF(F$12:$Y$65,AC71)","v":9},9]
[null,null,null,null,null,null,null,null,null,null,null,null,null,null,null,null,null,null,null,null,null,null,null,null,null,null,null,null,49,{"$f":"COUNTIF(F$12:$Y$65,AC72)","v":9},9]
[null,null,null,null,null,null,null,null,null,null,null,null,null,null,null,null,null,null,null,null,null,null,null,null,null,null,null,null,19,{"$f":"COUNTIF(F$12:$Y$65,AC73)","v":9},9]
[null,null,null,null,null,null,null,null,null,null,null,null,null,null,null,null,null,null,null,null,null,null,null,null,null,null,null,null,42,{"$f":"COUNTIF(F$12:$Y$65,AC74)","v":9},9]
[null,null,null,null,null,null,null,null,null,null,null,null,null,null,null,null,null,null,null,null,null,null,null,null,null,null,null,null,74,{"$f":"COUNTIF(F$12:$Y$65,AC75)","v":9},9]
[null,null,null,null,null,null,null,null,null,null,null,null,null,null,null,null,null,null,null,null,null,null,null,null,null,null,null,null,22,{"$f":"COUNTIF(F$12:$Y$65,AC76)","v":9},9]
[null,null,null,null,null,null,null,null,null,null,null,null,null,null,null,null,null,null,null,null,null,null,null,null,null,null,null,null,48,{"$f":"COUNTIF(F$12:$Y$65,AC77)","v":9},9]
[null,null,null,null,null,null,null,null,null,null,null,null,null,null,null,null,null,null,null,null,null,null,null,null,null,null,null,null,67,{"$f":"COUNTIF(F$12:$Y$65,AC78)","v":9},9]
[null,null,null,null,null,null,null,null,null,null,null,null,null,null,null,null,null,null,null,null,null,null,null,null,null,null,null,null,78,{"$f":"COUNTIF(F$12:$Y$65,AC79)","v":9},9]
[null,null,null,null,null,null,null,null,null,null,null,null,null,null,null,null,null,null,null,null,null,null,null,null,null,null,null,null,88,{"$f":"COUNTIF(F$12:$Y$65,AC80)","v":9},9]
[null,null,null,null,null,null,null,null,null,null,null,null,null,null,null,null,null,null,null,null,null,null,null,null,null,null,null,null,84,{"$f":"COUNTIF(F$12:$Y$65,AC81)","v":9},9]
[null,null,null,null,null,null,null,null,null,null,null,null,null,null,null,null,null,null,null,null,null,null,null,null,null,null,null,null,68,{"$f":"COUNTIF(F$12:$Y$65,AC82)","v":8},8]
[null,null,null,null,null,null,null,null,null,null,null,null,null,null,null,null,null,null,null,null,null,null,null,null,null,null,null,null,53,{"$f":"COUNTIF(F$12:$Y$65,AC83)","v":8},8]
[null,null,null,null,null,null,null,null,null,null,null,null,null,null,null,null,null,null,null,null,null,null,null,null,null,null,null,null,61,{"$f":"COUNTIF(F$12:$Y$65,AC84)","v":8},8]
[null,null,null,null,null,null,null,null,null,null,null,null,null,null,null,null,null,null,null,null,null,null,null,null,null,null,null,null,2,{"$f":"COUNTIF(F$12:$Y$65,AC85)","v":8},8]
[null,null,null,null,null,null,null,null,null,null,null,null,null,null,null,null,null,null,null,null,null,null,null,null,null,null,null,null,26,{"$f":"COUNTIF(F$12:$Y$65,AC86)","v":8},8]
[null,null,null,null,null,null,null,null,null,null,null,null,null,null,null,null,null,null,null,null,null,null,null,null,null,null,null,null,28,{"$f":"COUNTIF(F$12:$Y$65,AC87)","v":8},8]
[null,null,null,null,null,null,null,null,null,null,null,null,null,null,null,null,null,null,null,null,null,null,null,null,null,null,null,null,34,{"$f":"COUNTIF(F$12:$Y$65,AC88)","v":8},8]
[null,null,null,null,null,null,null,null,null,null,null,null,null,null,null,null,null,null,null,null,null,null,null,null,null,null,null,null,7,{"$f":"COUNTIF(F$12:$Y$65,AC89)","v":8},8]
[null,null,null,null,null,null,null,null,null,null,null,null,null,null,null,null,null,null,null,null,null,null,null,null,null,null,null,null,30,{"$f":"COUNTIF(F$12:$Y$65,AC90)","v":8},8]
[null,null,null,null,null,null,null,null,null,null,null,null,null,null,null,null,null,null,null,null,null,null,null,null,null,null,null,null,62,{"$f":"COUNTIF(F$12:$Y$65,AC91)","v":8},8]
[null,null,null,null,null,null,null,null,null,null,null,null,null,null,null,null,null,null,null,null,null,null,null,null,null,null,null,null,92,{"$f":"COUNTIF(F$12:$Y$65,AC92)","v":8},8]
[null,null,null,null,null,null,null,null,null,null,null,null,null,null,null,null,null,null,null,null,null,null,null,null,null,null,null,null,44,{"$f":"COUNTIF(F$12:$Y$65,AC93)","v":8},8]
[null,null,null,null,null,null,null,null,null,null,null,null,null,null,null,null,null,null,null,null,null,null,null,null,null,null,null,null,89,{"$f":"COUNTIF(F$12:$Y$65,AC94)","v":8},8]
[null,null,null,null,null,null,null,null,null,null,null,null,null,null,null,null,null,null,null,null,null,null,null,null,null,null,null,null,1,{"$f":"COUNTIF(F$12:$Y$65,AC95)","v":7},7]
[null,null,null,null,null,null,null,null,null,null,null,null,null,null,null,null,null,null,null,null,null,null,null,null,null,null,null,null,27,{"$f":"COUNTIF(F$12:$Y$65,AC96)","v":7},7]
[null,null,null,null,null,null,null,null,null,null,null,null,null,null,null,null,null,null,null,null,null,null,null,null,null,null,null,null,47,{"$f":"COUNTIF(F$12:$Y$65,AC97)","v":7},7]
[null,null,null,null,null,null,null,null,null,null,null,null,null,null,null,null,null,null,null,null,null,null,null,null,null,null,null,null,11,{"$f":"COUNTIF(F$12:$Y$65,AC98)","v":7},7]
[null,null,null,null,null,null,null,null,null,null,null,null,null,null,null,null,null,null,null,null,null,null,null,null,null,null,null,null,51,{"$f":"COUNTIF(F$12:$Y$65,AC99)","v":7},7]
[null,null,null,null,null,null,null,null,null,null,null,null,null,null,null,null,null,null,null,null,null,null,null,null,null,null,null,null,94,{"$f":"COUNTIF(F$12:$Y$65,AC100)","v":7},7]
[null,null,null,null,null,null,null,null,null,null,null,null,null,null,null,null,null,null,null,null,null,null,null,null,null,null,null,null,75,{"$f":"COUNTIF(F$12:$Y$65,AC101)","v":6},6]
[null,null,null,null,null,null,null,null,null,null,null,null,null,null,null,null,null,null,null,null,null,null,null,null,null,null,null,null,59,{"$f":"COUNTIF(F$12:$Y$65,AC102)","v":6},6]
[null,null,null,null,null,null,null,null,null,null,null,null,null,null,null,null,null,null,null,null,null,null,null,null,null,null,null,null,8,{"$f":"COUNTIF(F$12:$Y$65,AC103)","v":6},6]
[null,null,null,null,null,null,null,null,null,null,null,null,null,null,null,null,null,null,null,null,null,null,null,null,null,null,null,null,63,{"$f":"COUNTIF(F$12:$Y$65,AC104)","v":6},6]
[null,null,null,null,null,null,null,null,null,null,null,null,null,null,null,null,null,null,null,null,null,null,null,null,null,null,null,null,96,{"$f":"COUNTIF(F$12:$Y$65,AC105)","v":6},6]
[null,null,null,null,null,null,null,null,null,null,null,null,null,null,null,null,null,null,null,null,null,null,null,null,null,null,null,null,50,{"$f":"COUNTIF(F$12:$Y$65,AC106)","v":6},6]
[null,null,null,null,null,null,null,null,null,null,null,null,null,null,null,null,null,null,null,null,null,null,null,null,null,null,null,null,12,{"$f":"COUNTIF(F$12:$Y$65,AC107)","v":6},6]
[null,null,null,null,null,null,null,null,null,null,null,null,null,null,null,null,null,null,null,null,null,null,null,null,null,null,null,null,98,{"$f":"COUNTIF(F$12:$Y$65,AC108)","v":6},6]
[null,null,null,null,null,null,null,null,null,null,null,null,null,null,null,null,null,null,null,null,null,null,null,null,null,null,null,null,81,{"$f":"COUNTIF(F$12:$Y$65,AC109)","v":5},5]
[null,null,null,null,null,null,null,null,null,null,null,null,null,null,null,null,null,null,null,null,null,null,null,null,null,null,null,null,99,{"$f":"COUNTIF(F$12:$Y$65,AC110)","v":5},5]
[null,null,null,null,null,null,null,null,null,null,null,null,null,null,null,null,null,null,null,null,null,null,null,null,null,null,null,null,0,{"$f":"COUNTIF(F$12:$Y$65,AC111)","v":5},5]
[null,null,null,null,null,null,null,null,null,null,null,null,null,null,null,null,null,null,null,null,null,null,null,null,null,null,null,null,52,{"$f":"COUNTIF(F$12:$Y$65,AC112)","v":4},4]

{"sheet":"100 Últimos Sorteios","index":5,"n_rows":112,"n_cols":31,"rows_kept":112,"cut":false,"hidden":false,"merged":[[2,1,2,32],[3,1,3,32],[5,1,5,32],[8,28,10,29],[1,1,1,32],[8,3,9,24]]}
[]
[null,"Atenção!"]
[null,"Esta planilha é de uso pessoal, é restritamente proibida a distribuição da mesma a terceiros, sujeito a punições de acordo com as leis de direitos autorais"]
[null,"Todos os direitos reservados ao site www.ApostaEsperta.com "]
[]
[null,"Planilha de Análise Estatística Lotomania"]
[]
[]
[null,null,null,"Resultados dos Últimos 100 Sorteios",null,null,null,null,null,null,null,null,null,null,null,null,null,null,null,null,null,null,null,null,null,null,null,null,"Números Quentes\nÚltimos 100 Sorteios"]
[]
[null,null,null,"Sorteio","Data do Sorteio","1ª D","2ª D","3ª D","4ª D","5ª D","6ª D","7ª D","8ª D","9ª D","10ª D","11ª D","12ª D","13ª D","14ª D","15ª D","16ª D","17ª D","18ª D","19ª D","20ª D"]
[null,null,null,{"$f":"COUNT('Resultados Gerais'!$B$8:$B$1048576)-C12","v":1419},{"$f":"VLOOKUP(D12,'Resultados Gerais'!B$8:C$1048576,2,0)","v":"2014-01-18"},{"$f":"VLOOKUP($D12,'Resultados Gerais'!$B$8:$W$1048576,3,0)","v":7},{"$f":"VLOOKUP($D12,'Resultados Gerais'!$B$8:$W$1048576,4,0)","v":45},{"$f":"VLOOKUP($D12,'Resultados Gerais'!$B$8:$W$1048576,5,0)","v":39},{"$f":"VLOOKUP($D12,'Resultados Gerais'!$B$8:$W$1048576,6,0)","v":71},{"$f":"VLOOKUP($D12,'Resultados Gerais'!$B$8:$W$1048576,7,0)","v":21},{"$f":"VLOOKUP($D12,'Resultados Gerais'!$B$8:$W$1048576,8,0)","v":36},{"$f":"VLOOKUP($D12,'Resultados Gerais'!$B$8:$W$1048576,9,0)","v":78},{"$f":"VLOOKUP($D12,'Resultados Gerais'!$B$8:$W$1048576,10,0)","v":42},{"$f":"VLOOKUP($D12,'Resultados Gerais'!$B$8:$W$1048576,11,0)","v":86},{"$f":"VLOOKUP($D12,'Resultados Gerais'!$B$8:$W$1048576,12,0)","v":64},{"$f":"VLOOKUP($D12,'Resultados Gerais'!$B$8:$W$1048576,13,0)","v":5},{"$f":"VLOOKUP($D12,'Resultados Gerais'!$B$8:$W$1048576,14,0)","v":32},{"$f":"VLOOKUP($D12,'Resultados Gerais'!$B$8:$W$1048576,15,0)","v":19},{"$f":"VLOOKUP($D12,'Resultados Gerais'!$B$8:$W$1048576,16,0)","v":10},{"$f":"VLOOKUP($D12,'Resultados Gerais'!$B$8:$W$1048576,17,0)","v":97},{"$f":"VLOOKUP($D12,'Resultados Gerais'!$B$8:$W$1048576,18,0)","v":98},{"$f":"VLOOKUP($D12,'Resultados Gerais'!$B$8:$W$1048576,19,0)","v":80},{"$f":"VLOOKUP($D12,'Resultados Gerais'!$B$8:$W$1048576,20,0)","v":8},{"$f":"VLOOKUP($D12,'Resultados Gerais'!$B$8:$W$1048576,21,0)","v":31},{"$f":"VLOOKUP($D12,'Resultados Gerais'!$B$8:$W$1048576,22,0)","v":18},null,null,null,"Dezena","Qtde de Saída"]
[null,null,1,{"$f":"COUNT('Resultados Gerais'!$B$8:$B$1048576)-C13","v":1418},{"$f":"VLOOKUP(D13,'Resultados Gerais'!B$8:C$1048576,2,0)","v":"2014-01-15"},{"$f":"VLOOKUP($D13,'Resultados Gerais'!$B$8:$W$1048576,3,0)","v":48},{"$f":"VLOOKUP($D13,'Resultados Gerais'!$B$8:$W$1048576,4,0)","v":76},{"$f":"VLOOKUP($D13,'Resultados Gerais'!$B$8:$W$1048576,5,0)","v":41},{"$f":"VLOOKUP($D13,'Resultados Gerais'!$B$8:$W$1048576,6,0)","v":72},{"$f":"VLOOKUP($D13,'Resultados Gerais'!$B$8:$W$1048576,7,0)","v":95},{"$f":"VLOOKUP($D13,'Resultados Gerais'!$B$8:$W$1048576,8,0)","v":66},{"$f":"VLOOKUP($D13,'Resultados Gerais'!$B$8:$W$1048576,9,0)","v":98},{"$f":"VLOOKUP($D13,'Resultados Gerais'!$B$8:$W$1048576,10,0)","v":83},{"$f":"VLOOKUP($D13,'Resultados Gerais'!$B$8:$W$1048576,11,0)","v":37},{"$f":"VLOOKUP($D13,'Resultados Gerais'!$B$8:$W$1048576,12,0)","v":16},{"$f":"VLOOKUP($D13,'Resultados Gerais'!$B$8:$W$1048576,13,0)","v":85},{"$f":"VLOOKUP($D13,'Resultados Gerais'!$B$8:$W$1048576,14,0)","v":60},{"$f":"VLOOKUP($D13,'Resultados Gerais'!$B$8:$W$1048576,15,0)","v":44},{"$f":"VLOOKUP($D13,'Resultados Gerais'!$B$8:$W$1048576,16,0)","v":55},{"$f":"VLOOKUP($D13,'Resultados Gerais'!$B$8:$W$1048576,17,0)","v":31},{"$f":"VLOOKUP($D13,'Resultados Gerais'!$B$8:$W$1048576,18,0)","v":19},{"$f":"VLOOKUP($D13,'Resultados Gerais'!$B$8:$W$1048576,19,0)","v":22},{"$f":"VLOOKUP($D13,'Resultados Gerais'!$B$8:$W$1048576,20,0)","v":11},{"$f":"VLOOKUP($D13,'Resultados Gerais'!$B$8:$W$1048576,21,0)","v":73},{"$f":"VLOOKUP($D13,'Resultados Gerais'!$B$8:$W$1048576,22,0)","v":92},null,null,null,31,{"$f":"COUNTIF(F$12:$Y$111,AC13)","v":28},{"$f":"AD13","v":28}]
[null,null,2,{"$f":"COUNT('Resultados Gerais'!$B$8:$B$1048576)-C14","v":1417},{"$f":"VLOOKUP(D14,'Resultados Gerais'!B$8:C$1048576,2,0)","v":"2014-01-11"},{"$f":"VLOOKUP($D14,'Resultados Gerais'!$B$8:$W$1048576,3,0)","v":34},{"$f":"VLOOKUP($D14,'Resultados Gerais'!$B$8:$W$1048576,4,0)","v":14},{"$f":"VLOOKUP($D14,'Resultados Gerais'!$B$8:$W$1048576,5,0)","v":56},{"$f":"VLOOKUP($D14,'Resultados Gerais'!$B$8:$W$1048576,6,0)","v":74},{"$f":"VLOOKUP($D14,'Resultados Gerais'!$B$8:$W$1048576,7,0)","v":17},{"$f":"VLOOKUP($D14,'Resultados Gerais'!$B$8:$W$1048576,8,0)","v":70},{"$f":"VLOOKUP($D14,'Resultados Gerais'!$B$8:$W$1048576,9,0)","v":40},{"$f":"VLOOKUP($D14,'Resultados Gerais'!$B$8:$W$1048576,10,0)","v":62},{"$f":"VLOOKUP($D14,'Resultados Gerais'!$B$8:$W$1048576,11,0)","v":54},{"$f":"VLOOKUP($D14,'Resultados Gerais'!$B$8:$W$1048576,12,0)","v":85},{"$f":"VLOOKUP($D14,'Resultados Gerais'!$B$8:$W$1048576,13,0)","v":16},{"$f":"VLOOKUP($D14,'Resultados Gerais'!$B$8:$W$1048576,14,0)","v":24},{"$f":"VLOOKUP($D14,'Resultados Gerais'!$B$8:$W$1048576,15,0)","v":76},{"$f":"VLOOKUP($D14,'Resultados Gerais'!$B$8:$W$1048576,16,0)","v":55},{"$f":"VLOOKUP($D14,'Resultados Gerais'!$B$8:$W$1048576,17,0)","v":25},{"$f":"VLOOKUP($D14,'Resultados Gerais'!$B$8:$W$1048576,18,0)","v":46},{"$f":"VLOOKUP($D14,'Resultados Gerais'!$B$8:$W$1048576,19,0)","v":3},{"$f":"VLOOKUP($D14,'Resultados Gerais'!$B$8:$W$1048576,20,0)","v":71},{"$f":"VLOOKUP($D14,'Resultados Gerais'!$B$8:$W$1048576,21,0)","v":37},{"$f":"VLOOKUP($D14,'Resultados Gerais'!$B$8:$W$1048576,22,0)","v":35},null,null,null,90,{"$f":"COUNTIF(F$12:$Y$111,AC14)","v":27},{"$f":"AD14","v":27}]
[null,null,3,{"$f":"COUNT('Resultados Gerais'!$B$8:$B$1048576)-C15","v":1416},{"$f":"VLOOKUP(D15,'Resultados Gerais'!B$8:C$1048576,2,0)","v":"2014-01-09"},{"$f":"VLOOKUP($D15,'Resultados Gerais'!$B$8:$W$1048576,3,0)","v":31},{"$f":"VLOOKUP($D15,'Resultados Gerais'!$B$8:$W$1048576,4,0)","v":67},{"$f":"VLOOKUP($D15,'Resultados Gerais'!$B$8:$W$1048576,5,0)","v":42},{"$f":"VLOOKUP($D15,'Resultados Gerais'!$B$8:$W$1048576,6,0)","v":22},{"$f":"VLOOKUP($D15,'Resultados Gerais'!$B$8:$W$1048576,7,0)","v":33},{"$f":"VLOOKUP($D15,'Resultados Gerais'!$B$8:$W$1048576,8,0)","v":82},{"$f":"VLOOKUP($D15,'Resultados Gerais'!$B$8:$W$1048576,9,0)","v":53},{"$f":"VLOOKUP($D15,'Resultados Gerais'!$B$8:$W$1048576,10,0)","v":57},{"$f":"VLOOKUP($D15,'Resultados Gerais'!$B$8:$W$1048576,11,0)","v":15},{"$f":"VLOOKUP($D15,'Resultados Gerais'!$B$8:$W$1048576,12,0)","v":40},{"$f":"VLOOKUP($D15,'Resultados Gerais'!$B$8:$W$1048576,13,0)","v":99},{"$f":"VLOOKUP($D15,'Resultados Gerais'!$B$8:$W$1048576,14,0)","v":85},{"$f":"VLOOKUP($D15,'Resultados Gerais'!$B$8:$W$1048576,15,0)","v":37},{"$f":"VLOOKUP($D15,'Resultados Gerais'!$B$8:$W$1048576,16,0)","v":83},{"$f":"VLOOKUP($D15,'Resultados Gerais'!$B$8:$W$1048576,17,0)","v":73},{"$f":"VLOOKUP($D15,'Resultados Gerais'!$B$8:$W$1048576,18,0)","v":45},{"$f":"VLOOKUP($D15,'Resultados Gerais'!$B$8:$W$1048576,19,0)","v":46},{"$f":"VLOOKUP($D15,'Resultados Gerais'!$B$8:$W$1048576,20,0)","v":95},{"$f":"VLOOKUP($D15,'Resultados Gerais'!$B$8:$W$1048576,21,0)","v":88},{"$f":"VLOOKUP($D15,'Resultados Gerais'!$B$8:$W$1048576,22,0)","v":12},null,null,null,58,{"$f":"COUNTIF(F$12:$Y$111,AC15)","v":27},27]
[null,null,4,{"$f":"COUNT('Resultados Gerais'!$B$8:$B$1048576)-C16","v":1415},{"$f":"VLOOKUP(D16,'Resultados Gerais'!B$8:C$1048576,2,0)","v":"2014-01-04"},{"$f":"VLOOKUP($D16,'Resultados Gerais'!$B$8:$W$1048576,3,0)","v":46},{"$f":"VLOOKUP($D16,'Resultados Gerais'!$B$8:$W$1048576,4,0)","v":61},{"$f":"VLOOKUP($D16,'Resultados Gerais'!$B$8:$W$1048576,5,0)","v":62},{"$f":"VLOOKUP($D16,'Resultados Gerais'!$B$8:$W$1048576,6,0)","v":21},{"$f":"VLOOKUP($D16,'Resultados Gerais'!$B$8:$W$1048576,7,0)","v":9},{"$f":"VLOOKUP($D16,'Resultados Gerais'!$B$8:$W$1048576,8,0)","v":18},{"$f":"VLOOKUP($D16,'Resultados Gerais'!$B$8:$W$1048576,9,0)","v":75},{"$f":"VLOOKUP($D16,'Resultados Gerais'!$B$8:$W$1048576,10,0)","v":69},{"$f":"VLOOKUP($D16,'Resultados Gerais'!$B$8:$W$1048576,11,0)","v":1},{"$f":"VLOOKUP($D16,'Resultados Gerais'!$B$8:$W$1048576,12,0)","v":4},{"$f":"VLOOKUP($D16,'Resultados Gerais'!$B$8:$W$1048576,13,0)","v":40},{"$f":"VLOOKUP($D16,'Resultados Gerais'!$B$8:$W$1048576,14,0)","v":52},{"$f":"VLOOKUP($D16,'Resultados Gerais'!$B$8:$W$1048576,15,0)","v":10},{"$f":"VLOOKUP($D16,'Resultados Gerais'!$B$8:$W$1048576,16,0)","v":6},{"$f":"VLOOKUP($D16,'Resultados Gerais'!$B$8:$W$1048576,17,0)","v":33},{"$f":"VLOOKUP($D16,'Resultados Gerais'!$B$8:$W$1048576,18,0)","v":22},{"$f":"VLOOKUP($D16,'Resultados Gerais'!$B$8:$W$1048576,19,0)","v":95},{"$f":"VLOOKUP($D16,'Resultados Gerais'!$B$8:$W$1048576,20,0)","v":87},{"$f":"VLOOKUP($D16,'Resultados Gerais'!$B$8:$W$1048576,21,0)","v":84},{"$f":"VLOOKUP($D16,'Resultados Gerais'!$B$8:$W$1048576,22,0)","v":7},null,null,null,41,{"$f":"COUNTIF(F$12:$Y$111,AC16)","v":27},27]
[null,null,5,{"$f":"COUNT('Resultados Gerais'!$B$8:$B$1048576)-C17","v":1414},{"$f":"VLOOKUP(D17,'Resultados Gerais'!B$8:C$1048576,2,0)","v":"2013-12-31"},{"$f":"VLOOKUP($D17,'Resultados Gerais'!$B$8:$W$1048576,3,0)","v":75},{"$f":"VLOOKUP($D17,'Resultados Gerais'!$B$8:$W$1048576,4,0)","v":81},{"$f":"VLOOKUP($D17,'Resultados Gerais'!$B$8:$W$1048576,5,0)","v":59},{"$f":"VLOOKUP($D17,'Resultados Gerais'!$B$8:$W$1048576,6,0)","v":76},{"$f":"VLOOKUP($D17,'Resultados Gerais'!$B$8:$W$1048576,7,0)","v":36},{"$f":"VLOOKUP($D17,'Resultados Gerais'!$B$8:$W$1048576,8,0)","v":66},{"$f":"VLOOKUP($D17,'Resultados Gerais'!$B$8:$W$1048576,9,0)","v":98},{"$f":"VLOOKUP($D17,'Resultados Gerais'!$B$8:$W$1048576,10,0)","v":29},{"$f":"VLOOKUP($D17,'Resultados Gerais'!$B$8:$W$1048576,11,0)","v":39},{"$f":"VLOOKUP($D17,'Resultados Gerais'!$B$8:$W$1048576,12,0)","v":95},{"$f":"VLOOKUP($D17,'Resultados Gerais'!$B$8:$W$1048576,13,0)","v":45},{"$f":"VLOOKUP($D17,'Resultados Gerais'!$B$8:$W$1048576,14,0)","v":94},{"$f":"VLOOKUP($D17,'Resultados Gerais'!$B$8:$W$1048576,15,0)","v":60},{"$f":"VLOOKUP($D17,'Resultados Gerais'!$B$8:$W$1048576,16,0)","v":86},{"$f":"VLOOKUP($D17,'Resultados Gerais'!$B$8:$W$1048576,17,0)","v":58},{"$f":"VLOOKUP($D17,'Resultados Gerais'!$B$8:$W$1048576,18,0)","v":43},{"$f":"VLOOKUP($D17,'Resultados Gerais'!$B$8:$W$1048576,19,0)","v":54},{"$f":"VLOOKUP($D17,'Resultados Gerais'!$B$8:$W$1048576,20,0)","v":70},{"$f":"VLOOKUP($D17,'Resultados Gerais'!$B$8:$W$1048576,21,0)","v":83},{"$f":"VLOOKUP($D17,'Resultados Gerais'!$B$8:$W$1048576,22,0)","v":41},null,null,null,73,{"$f":"COUNTIF(F$12:$Y$111,AC17)","v":27},{"$f":"AD17","v":27}]
[null,null,6,{"$f":"COUNT('Resultados Gerais'!$B$8:$B$1048576)-C18","v":1413},{"$f":"VLOOKUP(D18,'Resultados Gerais'!B$8:C$1048576,2,0)","v":"2013-12-28"},{"$f":"VLOOKUP($D18,'Resultados Gerais'!$B$8:$W$1048576,3,0)","v":53},{"$f":"VLOOKUP($D18,'Resultados Gerais'!$B$8:$W$1048576,4,0)","v":76},{"$f":"VLOOKUP($D18,'Resultados Gerais'!$B$8:$W$1048576,5,0)","v":39},{"$f":"VLOOKUP($D18,'Resultados Gerais'!$B$8:$W$1048576,6,0)","v":21},{"$f":"VLOOKUP($D18,'Resultados Gerais'!$B$8:$W$1048576,7,0)","v":58},{"$f":"VLOOKUP($D18,'Resultados Gerais'!$B$8:$W$1048576,8,0)","v":87},{"$f":"VLOOKUP($D18,'Resultados Gerais'!$B$8:$W$1048576,9,0)","v":48},{"$f":"VLOOKUP($D18,'Resultados Gerais'!$B$8:$W$1048576,10,0)","v":90},{"$f":"VLOOKUP($D18,'Resultados Gerais'!$B$8:$W$1048576,11,0)","v":24},{"$f":"VLOOKUP($D18,'Resultados Gerais'!$B$8:$W$1048576,12,0)","v":94},{"$f":"VLOOKUP($D18,'Resultados Gerais'!$B$8:$W$1048576,13,0)","v":13},{"$f":"VLOOKUP($D18,'Resultados Gerais'!$B$8:$W$1048576,14,0)","v":81},{"$f":"VLOOKUP($D18,'Resultados Gerais'!$B$8:$W$1048576,15,0)","v":83},{"$f":"VLOOKUP($D18,'Resultados Gerais'!$B$8:$W$1048576,16,0)","v":47},{"$f":"VLOOKUP($D18,'Resultados Gerais'!$B$8:$W$1048576,17,0)","v":97},{"$f":"VLOOKUP($D18,'Resultados Gerais'!$B$8:$W$1048576,18,0)","v":43},{"$f":"VLOOKUP($D18,'Resultados Gerais'!$B$8:$W$1048576,19,0)","v":37},{"$f":"VLOOKUP($D18,'Resultados Gerais'!$B$8:$W$1048576,20,0)","v":60},{"$f":"VLOOKUP($D18,'Resultados Gerais'!$B$8:$W$1048576,21,0)","v":8},{"$f":"VLOOKUP($D18,'Resultados Gerais'!$B$8:$W$1048576,22,0)","v":35},null,null,null,57,{"$f":"COUNTIF(F$12:$Y$111,AC18)","v":26},26]
[null,null,7,{"$f":"COUNT('Resultados Gerais'!$B$8:$B$1048576)-C19","v":1412},{"$f":"VLOOKUP(D19,'Resultados Gerais'!B$8:C$1048576,2,0)","v":"2013-12-26"},{"$f":"VLOOKUP($D19,'Resultados Gerais'!$B$8:$W$1048576,3,0)","v":67},{"$f":"VLOOKUP($D19,'Resultados Gerais'!$B$8:$W$1048576,4,0)","v":19},{"$f":"VLOOKUP($D19,'Resultados Gerais'!$B$8:$W$1048576,5,0)","v":20},{"$f":"VLOOKUP($D19,'Resultados Gerais'!$B$8:$W$1048576,6,0)","v":88},{"$f":"VLOOKUP($D19,'Resultados Gerais'!$B$8:$W$1048576,7,0)","v":36},{"$f":"VLOOKUP($D19,'Resultados Gerais'!$B$8:$W$1048576,8,0)","v":62},{"$f":"VLOOKUP($D19,'Resultados Gerais'!$B$8:$W$1048576,9,0)","v":76},{"$f":"VLOOKUP($D19,'Resultados Gerais'!$B$8:$W$1048576,10,0)","v":66},{"$f":"VLOOKUP($D19,'Resultados Gerais'!$B$8:$W$1048576,11,0)","v":30},{"$f":"VLOOKUP($D19,'Resultados Gerais'!$B$8:$W$1048576,12,0)","v":21},{"$f":"VLOOKUP($D19,'Resultados Gerais'!$B$8:$W$1048576,13,0)","v":12},{"$f":"VLOOKUP($D19,'Resultados Gerais'!$B$8:$W$1048576,14,0)","v":58},{"$f":"VLOOKUP($D19,'Resultados Gerais'!$B$8:$W$1048576,15,0)","v":33},{"$f":"VLOOKUP($D19,'Resultados Gerais'!$B$8:$W$1048576,16,0)","v":13},{"$f":"VLOOKUP($D19,'Resultados Gerais'!$B$8:$W$1048576,17,0)","v":37},{"$f":"VLOOKUP($D19,'Resultados Gerais'!$B$8:$W$1048576,18,0)","v":83},{"$f":"VLOOKUP($D19,'Resultados Gerais'!$B$8:$W$1048576,19,0)","v":48},{"$f":"VLOOKUP($D19,'Resultados Gerais'!$B$8:$W$1048576,20,0)","v":35},{"$f":"VLOOKUP($D19,'Resultados Gerais'!$B$8:$W$1048576,21,0)","v":0},{"$f":"VLOOKUP($D19,'Resultados Gerais'!$B$8:$W$1048576,22,0)","v":23},null,null,null,18,{"$f":"COUNTIF(F$12:$Y$111,AC19)","v":26},26]
[null,null,8,{"$f":"COUNT('Resultados Gerais'!$B$8:$B$1048576)-C20","v":1411},{"$f":"VLOOKUP(D20,'Resultados Gerais'!B$8:C$1048576,2,0)","v":"2013-12-21"},{"$f":"VLOOKUP($D20,'Resultados Gerais'!$B$8:$W$1048576,3,0)","v":6},{"$f":"VLOOKUP($D20,'Resultados Gerais'!$B$8:$W$1048576,4,0)","v":59},{"$f":"VLOOKUP($D20,'Resultados Gerais'!$B$8:$W$1048576,5,0)","v":94},{"$f":"VLOOKUP($D20,'Resultados Gerais'!$B$8:$W$1048576,6,0)","v":27},{"$f":"VLOOKUP($D20,'Resultados Gerais'!$B$8:$W$1048576,7,0)","v":47},{"$f":"VLOOKUP($D20,'Resultados Gerais'!$B$8:$W$1048576,8,0)","v":55},{"$f":"VLOOKUP($D20,'Resultados Gerais'!$B$8:$W$1048576,9,0)","v":9},{"$f":"VLOOKUP($D20,'Resultados Gerais'!$B$8:$W$1048576,10,0)","v":5},{"$f":"VLOOKUP($D20,'Resultados Gerais'!$B$8:$W$1048576,11,0)","v":0},{"$f":"VLOOKUP($D20,'Resultados Gerais'!$B$8:$W$1048576,12,0)","v":43},{"$f":"VLOOKUP($D20,'Resultados Gerais'!$B$8:$W$1048576,13,0)","v":83},{"$f":"VLOOKUP($D20,'Resultados Gerais'!$B$8:$W$1048576,14,0)","v":69},{"$f":"VLOOKUP($D20,'Resultados Gerais'!$B$8:$W$1048576,15,0)","v":45},{"$f":"VLOOKUP($D20,'Resultados Gerais'!$B$8:$W$1048576,16,0)","v":25},{"$f":"VLOOKUP($D20,'Resultados Gerais'!$B$8:$W$1048576,17,0)","v":51},{"$f":"VLOOKUP($D20,'Resultados Gerais'!$B$8:$W$1048576,18,0)","v":36},{"$f":"VLOOKUP($D20,'Resultados Gerais'!$B$8:$W$1048576,19,0)","v":89},{"$f":"VLOOKUP($D20,'Resultados Gerais'!$B$8:$W$1048576,20,0)","v":23},{"$f":"VLOOKUP($D20,'Resultados Gerais'!$B$8:$W$1048576,21,0)","v":15},{"$f":"VLOOKUP($D20,'Resultados Gerais'!$B$8:$W$1048576,22,0)","v":97},null,null,null,93,{"$f":"COUNTIF(F$12:$Y$111,AC20)","v":26},26]
[null,null,9,{"$f":"COUNT('Resultados Gerais'!$B$8:$B$1048576)-C21","v":1410},{"$f":"VLOOKUP(D21,'Resultados Gerais'!B$8:C$1048576,2,0)","v":"2013-12-18"},{"$f":"VLOOKUP($D21,'Resultados Gerais'!$B$8:$W$1048576,3,0)","v":39},{"$f":"VLOOKUP($D21,'Resultados Gerais'!$B$8:$W$1048576,4,0)","v":13},{"$f":"VLOOKUP($D21,'Resultados Gerais'!$B$8:$W$1048576,5,0)","v":21},{"$f":"VLOOKUP($D21,'Resultados Gerais'!$B$8:$W$1048576,6,0)","v":73},{"$f":"VLOOKUP($D21,'Resultados Gerais'!$B$8:$W$1048576,7,0)","v":72},{"$f":"VLOOKUP($D21,'Resultados Gerais'!$B$8:$W$1048576,8,0)","v":55},{"$f":"VLOOKUP($D21,'Resultados Gerais'!$B$8:$W$1048576,9,0)","v":38},{"$f":"VLOOKUP($D21,'Resultados Gerais'!$B$8:$W$1048576,10,0)","v":11},{"$f":"VLOOKUP($D21,'Resultados Gerais'!$B$8:$W$1048576,11,0)","v":25},{"$f":"VLOOKUP($D21,'Resultados Gerais'!$B$8:$W$1048576,12,0)","v":48},{"$f":"VLOOKUP($D21,'Resultados Gerais'!$B$8:$W$1048576,13,0)","v":56},{"$f":"VLOOKUP($D21,'Resultados Gerais'!$B$8:$W$1048576,14,0)","v":60},{"$f":"VLOOKUP($D21,'Resultados Gerais'!$B$8:$W$1048576,15,0)","v":22},{"$f":"VLOOKUP($D21,'Resultados Gerais'!$B$8:$W$1048576,16,0)","v":14},{"$f":"VLOOKUP($D21,'Resultados Gerais'!$B$8:$W$1048576,17,0)","v":10},{"$f":"VLOOKUP($D21,'Resultados Gerais'!$B$8:$W$1048576,18,0)","v":85},{"$f":"VLOOKUP($D21,'Resultados Gerais'!$B$8:$W$1048576,19,0)","v":76},{"$f":"VLOOKUP($D21,'Resultados Gerais'!$B$8:$W$1048576,20,0)","v":54},{"$f":"VLOOKUP($D21,'Resultados Gerais'!$B$8:$W$1048576,21,0)","v":69},{"$f":"VLOOKUP($D21,'Resultados Gerais'!$B$8:$W$1048576,22,0)","v":41},null,null,null,45,{"$f":"COUNTIF(F$12:$Y$111,AC21)","v":26},26]
[null,null,10,{"$f":"COUNT('Resultados Gerais'!$B$8:$B$1048576)-C22","v":1409},{"$f":"VLOOKUP(D22,'Resultados Gerais'!B$8:C$1048576,2,0)","v":"2013-12-14"},{"$f":"VLOOKUP($D22,'Resultados Gerais'!$B$8:$W$1048576,3,0)","v":34},{"$f":"VLOOKUP($D22,'Resultados Gerais'!$B$8:$W$1048576,4,0)","v":84},{"$f":"VLOOKUP($D22,'Resultados Gerais'!$B$8:$W$1048576,5,0)","v":25},{"$f":"VLOOKUP($D22,'Resultados Gerais'!$B$8:$W$1048576,6,0)","v":92},{"$f":"VLOOKUP($D22,'Resultados Gerais'!$B$8:$W$1048576,7,0)","v":44},{"$f":"VLOOKUP($D22,'Resultados Gerais'!$B$8:$W$1048576,8,0)","v":63},{"$f":"VLOOKUP($D22,'Resultados Gerais'!$B$8:$W$1048576,9,0)","v":69},{"$f":"VLOOKUP($D22,'Resultados Gerais'!$B$8:$W$1048576,10,0)","v":87},{"$f":"VLOOKUP($D22,'Resultados Gerais'!$B$8:$W$1048576,11,0)","v":72},{"$f":"VLOOKUP($D22,'Resultados Gerais'!$B$8:$W$1048576,12,0)","v":73},{"$f":"VLOOKUP($D22,'Resultados Gerais'!$B$8:$W$1048576,13,0)","v":83},{"$f":"VLOOKUP($D22,'Resultados Gerais'!$B$8:$W$1048576,14,0)","v":79},{"$f":"VLOOKUP($D22,'Resultados Gerais'!$B$8:$W$1048576,15,0)","v":86},{"$f":"VLOOKUP($D22,'Resultados Gerais'!$B$8:$W$1048576,16,0)","v":26},{"$f":"VLOOKUP($D22,'Resultados Gerais'!$B$8:$W$1048576,17,0)","v":89},{"$f":"VLOOKUP($D22,'Resultados Gerais'!$B$8:$W$1048576,18,0)","v":15},{"$f":"VLOOKUP($D22,'Resultados Gerais'!$B$8:$W$1048576,19,0)","v":78},{"$f":"VLOOKUP($D22,'Resultados Gerais'!$B$8:$W$1048576,20,0)","v":4},{"$f":"VLOOKUP($D22,'Resultados Gerais'!$B$8:$W$1048576,21,0)","v":58},{"$f":"VLOOKUP($D22,'Resultados Gerais'!$B$8:$W$1048576,22,0)","v":93},null,null,null,76,{"$f":"COUNTIF(F$12:$Y$111,AC22)","v":26},26]
[null,null,11,{"$f":"COUNT('Resultados Gerais'!$B$8:$B$1048576)-C23","v":1408},{"$f":"VLOOKUP(D23,'Resultados Gerais'!B$8:C$1048576,2,0)","v":"2013-12-11"},{"$f":"VLOOKUP($D23,'Resultados Gerais'!$B$8:$W$1048576,3,0)","v":20},{"$f":"VLOOKUP($D23,'Resultados Gerais'!$B$8:$W$1048576,4,0)","v":85},{"$f":"VLOOKUP($D23,'Resultados Gerais'!$B$8:$W$1048576,5,0)","v":33},{"$f":"VLOOKUP($D23,'Resultados Gerais'!$B$8:$W$1048576,6,0)","v":74},{"$f":"VLOOKUP($D23,'Resultados Gerais'!$B$8:$W$1048576,7,0)","v":51},{"$f":"VLOOKUP($D23,'Resultados Gerais'!$B$8:$W$1048576,8,0)","v":43},{"$f":"VLOOKUP($D23,'Resultados Gerais'!$B$8:$W$1048576,9,0)","v":50},{"$f":"VLOOKUP($D23,'Resultados Gerais'!$B$8:$W$1048576,10,0)","v":72},{"$f":"VLOOKUP($D23,'Resultados Gerais'!$B$8:$W$1048576,11,0)","v":57},{"$f":"VLOOKUP($D23,'Resultados Gerais'!$B$8:$W$1048576,12,0)","v":9},{"$f":"VLOOKUP($D23,'Resultados Gerais'!$B$8:$W$1048576,13,0)","v":48},{"$f":"VLOOKUP($D23,'Resultados Gerais'!$B$8:$W$1048576,14,0)","v":89},{"$f":"VLOOKUP($D23,'Resultados Gerais'!$B$8:$W$1048576,15,0)","v":88},{"$f":"VLOOKUP($D23,'Resultados Gerais'!$B$8:$W$1048576,16,0)","v":46},{"$f":"VLOOKUP($D23,'Resultados Gerais'!$B$8:$W$1048576,17,0)","v":32},{"$f":"VLOOKUP($D23,'Resultados Gerais'!$B$8:$W$1048576,18,0)","v":95},{"$f":"VLOOKUP($D23,'Resultados Gerais'!$B$8:$W$1048576,19,0)","v":5},{"$f":"VLOOKUP($D23,'Resultados Gerais'!$B$8:$W$1048576,20,0)","v":52},{"$f":"VLOOKUP($D23,'Resultados Gerais'!$B$8:$W$1048576,21,0)","v":78},{"$f":"VLOOKUP($D23,'Resultados Gerais'!$B$8:$W$1048576,22,0)","v":23},null,null,null,16,{"$f":"COUNTIF(F$12:$Y$111,AC23)","v":25},25]
[null,null,12,{"$f":"COUNT('Resultados Gerais'!$B$8:$B$1048576)-C24","v":1407},{"$f":"VLOOKUP(D24,'Resultados Gerais'!B$8:C$1048576,2,0)","v":"2013-12-07"},{"$f":"VLOOKUP($D24,'Resultados Gerais'!$B$8:$W$1048576,3,0)","v":70},{"$f":"VLOOKUP($D24,'Resultados Gerais'!$B$8:$W$1048576,4,0)","v":84},{"$f":"VLOOKUP($D24,'Resultados Gerais'!$B$8:$W$1048576,5,0)","v":14},{"$f":"VLOOKUP($D24,'Resultados Gerais'!$B$8:$W$1048576,6,0)","v":78},{"$f":"VLOOKUP($D24,'Resultados Gerais'!$B$8:$W$1048576,7,0)","v":83},{"$f":"VLOOKUP($D24,'Resultados Gerais'!$B$8:$W$1048576,8,0)","v":40},{"$f":"VLOOKUP($D24,'Resultados Gerais'!$B$8:$W$1048576,9,0)","v":26},{"$f":"VLOOKUP($D24,'Resultados Gerais'!$B$8:$W$1048576,10,0)","v":93},{"$f":"VLOOKUP($D24,'Resultados Gerais'!$B$8:$W$1048576,11,0)","v":56},{"$f":"VLOOKUP($D24,'Resultados Gerais'!$B$8:$W$1048576,12,0)","v":24},{"$f":"VLOOKUP($D24,'Resultados Gerais'!$B$8:$W$1048576,13,0)","v":6},{"$f":"VLOOKUP($D24,'Resultados Gerais'!$B$8:$W$1048576,14,0)","v":73},{"$f":"VLOOKUP($D24,'Resultados Gerais'!$B$8:$W$1048576,15,0)","v":17},{"$f":"VLOOKUP($D24,'Resultados Gerais'!$B$8:$W$1048576,16,0)","v":51},{"$f":"VLOOKUP($D24,'Resultados Gerais'!$B$8:$W$1048576,17,0)","v":86},{"$f":"VLOOKUP($D24,'Resultados Gerais'!$B$8:$W$1048576,18,0)","v":75},{"$f":"VLOOKUP($D24,'Resultados Gerais'!$B$8:$W$1048576,19,0)","v":90},{"$f":"VLOOKUP($D24,'Resultados Gerais'!$B$8:$W$1048576,20,0)","v":85},{"$f":"VLOOKUP($D24,'Resultados Gerais'!$B$8:$W$1048576,21,0)","v":68},{"$f":"VLOOKUP($D24,'Resultados Gerais'!$B$8:$W$1048576,22,0)","v":54},null,null,null,80,{"$f":"COUNTIF(F$12:$Y$111,AC24)","v":25},25]
[null,null,13,{"$f":"COUNT('Resultados Gerais'!$B$8:$B$1048576)-C25","v":1406},{"$f":"VLOOKUP(D25,'Resultados Gerais'!B$8:C$1048576,2,0)","v":"2013-12-04"},{"$f":"VLOOKUP($D25,'Resultados Gerais'!$B$8:$W$1048576,3,0)","v":87},{"$f":"VLOOKUP($D25,'Resultados Gerais'!$B$8:$W$1048576,4,0)","v":9},{"$f":"VLOOKUP($D25,'Resultados Gerais'!$B$8:$W$1048576,5,0)","v":2},{"$f":"VLOOKUP($D25,'Resultados Gerais'!$B$8:$W$1048576,6,0)","v":94},{"$f":"VLOOKUP($D25,'Resultados Gerais'!$B$8:$W$1048576,7,0)","v":60},{"$f":"VLOOKUP($D25,'Resultados Gerais'!$B$8:$W$1048576,8,0)","v":25},{"$f":"VLOOKUP($D25,'Resultados Gerais'!$B$8:$W$1048576,9,0)","v":82},{"$f":"VLOOKUP($D25,'Resultados Gerais'!$B$8:$W$1048576,10,0)","v":97},{"$f":"VLOOKUP($D25,'Resultados Gerais'!$B$8:$W$1048576,11,0)","v":29},{"$f":"VLOOKUP($D25,'Resultados Gerais'!$B$8:$W$1048576,12,0)","v":27},{"$f":"VLOOKUP($D25,'Resultados Gerais'!$B$8:$W$1048576,13,0)","v":21},{"$f":"VLOOKUP($D25,'Resultados Gerais'!$B$8:$W$1048576,14,0)","v":32},{"$f":"VLOOKUP($D25,'Resultados Gerais'!$B$8:$W$1048576,15,0)","v":17},{"$f":"VLOOKUP($D25,'Resultados Gerais'!$B$8:$W$1048576,16,0)","v":38},{"$f":"VLOOKUP($D25,'Resultados Gerais'!$B$8:$W$1048576,17,0)","v":84},{"$f":"VLOOKUP($D25,'Resultados Gerais'!$B$8:$W$1048576,18,0)","v":43},{"$f":"VLOOKUP($D25,'Resultados Gerais'!$B$8:$W$1048576,19,0)","v":70},{"$f":"VLOOKUP($D25,'Resultados Gerais'!$B$8:$W$1048576,20,0)","v":69},{"$f":"VLOOKUP($D25,'Resultados Gerais'!$B$8:$W$1048576,21,0)","v":67},{"$f":"VLOOKUP($D25,'Resultados Gerais'!$B$8:$W$1048576,22,0)","v":79},null,null,null,17,{"$f":"COUNTIF(F$12:$Y$111,AC25)","v":25},25]
[null,null,14,{"$f":"COUNT('Resultados Gerais'!$B$8:$B$1048576)-C26","v":1405},{"$f":"VLOOKUP(D26,'Resultados Gerais'!B$8:C$1048576,2,0)","v":"2013-11-30"},{"$f":"VLOOKUP($D26,'Resultados Gerais'!$B$8:$W$1048576,3,0)","v":87},{"$f":"VLOOKUP($D26,'Resultados Gerais'!$B$8:$W$1048576,4,0)","v":4},{"$f":"VLOOKUP($D26,'Resultados Gerais'!$B$8:$W$1048576,5,0)","v":15},{"$f":"VLOOKUP($D26,'Resultados Gerais'!$B$8:$W$1048576,6,0)","v":25},{"$f":"VLOOKUP($D26,'Resultados Gerais'!$B$8:$W$1048576,7,0)","v":55},{"$f":"VLOOKUP($D26,'Resultados Gerais'!$B$8:$W$1048576,8,0)","v":71},{"$f":"VLOOKUP($D26,'Resultados Gerais'!$B$8:$W$1048576,9,0)","v":38},{"$f":"VLOOKUP($D26,'Resultados Gerais'!$B$8:$W$1048576,10,0)","v":35},{"$f":"VLOOKUP($D26,'Resultados Gerais'!$B$8:$W$1048576,11,0)","v":89},{"$f":"VLOOKUP($D26,'Resultados Gerais'!$B$8:$W$1048576,12,0)","v":80},{"$f":"VLOOKUP($D26,'Resultados Gerais'!$B$8:$W$1048576,13,0)","v":0},{"$f":"VLOOKUP($D26,'Resultados Gerais'!$B$8:$W$1048576,14,0)","v":50},{"$f":"VLOOKUP($D26,'Resultados Gerais'!$B$8:$W$1048576,15,0)","v":65},{"$f":"VLOOKUP($D26,'Resultados Gerais'!$B$8:$W$1048576,16,0)","v":24},{"$f":"VLOOKUP($D26,'Resultados Gerais'!$B$8:$W$1048576,17,0)","v":42},{"$f":"VLOOKUP($D26,'Resultados Gerais'!$B$8:$W$1048576,18,0)","v":96},{"$f":"VLOOKUP($D26,'Resultados Gerais'!$B$8:$W$1048576,19,0)","v":41},{"$f":"VLOOKUP($D26,'Resultados Gerais'!$B$8:$W$1048576,20,0)","v":58},{"$f":"VLOOKUP($D26,'Resultados Gerais'!$B$8:$W$1048576,21,0)","v":6},{"$f":"VLOOKUP($D26,'Resultados Gerais'!$B$8:$W$1048576,22,0)","v":97},null,null,null,35,{"$f":"COUNTIF(F$12:$Y$111,AC26)","v":25},25]
[null,null,15,{"$f":"COUNT('Resultados Gerais'!$B$8:$B$1048576)-C27","v":1404},{"$f":"VLOOKUP(D27,'Resultados Gerais'!B$8:C$1048576,2,0)","v":"2013-11-27"},{"$f":"VLOOKUP($D27,'Resultados Gerais'!$B$8:$W$1048576,3,0)","v":54},{"$f":"VLOOKUP($D27,'Resultados Gerais'!$B$8:$W$1048576,4,0)","v":51},{"$f":"VLOOKUP($D27,'Resultados Gerais'!$B$8:$W$1048576,5,0)","v":71},{"$f":"VLOOKUP($D27,'Resultados Gerais'!$B$8:$W$1048576,6,0)","v":23},{"$f":"VLOOKUP($D27,'Resultados Gerais'!$B$8:$W$1048576,7,0)","v":9},{"$f":"VLOOKUP($D27,'Resultados Gerais'!$B$8:$W$1048576,8,0)","v":49},{"$f":"VLOOKUP($D27,'Resultados Gerais'!$B$8:$W$1048576,9,0)","v":24},{"$f":"VLOOKUP($D27,'Resultados Gerais'!$B$8:$W$1048576,10,0)","v":40},{"$f":"VLOOKUP($D27,'Resultados Gerais'!$B$8:$W$1048576,11,0)","v":29},{"$f":"VLOOKUP($D27,'Resultados Gerais'!$B$8:$W$1048576,12,0)","v":43},{"$f":"VLOOKUP($D27,'Resultados Gerais'!$B$8:$W$1048576,13,0)","v":95},{"$f":"VLOOKUP($D27,'Resultados Gerais'!$B$8:$W$1048576,14,0)","v":84},{"$f":"VLOOKUP($D27,'Resultados Gerais'!$B$8:$W$1048576,15,0)","v":73},{"$f":"VLOOKUP($D27,'Resultados Gerais'!$B$8:$W$1048576,16,0)","v":86},{"$f":"VLOOKUP($D27,'Resultados Gerais'!$B$8:$W$1048576,17,0)","v":33},{"$f":"VLOOKUP($D27,'Resultados Gerais'!$B$8:$W$1048576,18,0)","v":46},{"$f":"VLOOKUP($D27,'Resultados Gerais'!$B$8:$W$1048576,19,0)","v":44},{"$f":"VLOOKUP($D27,'Resultados Gerais'!$B$8:$W$1048576,20,0)","v":30},{"$f":"VLOOKUP($D27,'Resultados Gerais'!$B$8:$W$1048576,21,0)","v":15},{"$f":"VLOOKUP($D27,'Resultados Gerais'!$B$8:$W$1048576,22,0)","v":4},null,null,null,20,{"$f":"COUNTIF(F$12:$Y$111,AC27)","v":24},24]
[null,null,16,{"$f":"COUNT('Resultados Gerais'!$B$8:$B$1048576)-C28","v":1403},{"$f":"VLOOKUP(D28,'Resultados Gerais'!B$8:C$1048576,2,0)","v":"2013-11-23"},{"$f":"VLOOKUP($D28,'Resultados Gerais'!$B$8:$W$1048576,3,0)","v":51},{"$f":"VLOOKUP($D28,'Resultados Gerais'!$B$8:$W$1048576,4,0)","v":72},{"$f":"VLOOKUP($D28,'Resultados Gerais'!$B$8:$W$1048576,5,0)","v":46},{"$f":"VLOOKUP($D28,'Resultados Gerais'!$B$8:$W$1048576,6,0)","v":68},{"$f":"VLOOKUP($D28,'Resultados Gerais'!$B$8:$W$1048576,7,0)","v":36},{"$f":"VLOOKUP($D28,'Resultados Gerais'!$B$8:$W$1048576,8,0)","v":31},{"$f":"VLOOKUP($D28,'Resultados Gerais'!$B$8:$W$1048576,9,0)","v":20},{"$f":"VLOOKUP($D28,'Resultados Gerais'!$B$8:$W$1048576,10,0)","v":2},{"$f":"VLOOKUP($D28,'Resultados Gerais'!$B$8:$W$1048576,11,0)","v":98},{"$f":"VLOOKUP($D28,'Resultados Gerais'!$B$8:$W$1048576,12,0)","v":7},{"$f":"VLOOKUP($D28,'Resultados Gerais'!$B$8:$W$1048576,13,0)","v":14},{"$f":"VLOOKUP($D28,'Resultados Gerais'!$B$8:$W$1048576,14,0)","v":65},{"$f":"VLOOKUP($D28,'Resultados Gerais'!$B$8:$W$1048576,15,0)","v":25},{"$f":"VLOOKUP($D28,'Resultados Gerais'!$B$8:$W$1048576,16,0)","v":27},{"$f":"VLOOKUP($D28,'Resultados Gerais'!$B$8:$W$1048576,17,0)","v":30},{"$f":"VLOOKUP($D28,'Resultados Gerais'!$B$8:$W$1048576,18,0)","v":42},{"$f":"VLOOKUP($D28,'Resultados Gerais'!$B$8:$W$1048576,19,0)","v":82},{"$f":"VLOOKUP($D28,'Resultados Gerais'!$B$8:$W$1048576,20,0)","v":40},{"$f":"VLOOKUP($D28,'Resultados Gerais'!$B$8:$W$1048576,21,0)","v":16},{"$f":"VLOOKUP($D28,'Resultados Gerais'!$B$8:$W$1048576,22,0)","v":35},null,null,null,24,{"$f":"COUNTIF(F$12:$Y$111,AC28)","v":24},24]
[null,null,17,{"$f":"COUNT('Resultados Gerais'!$B$8:$B$1048576)-C29","v":1402},{"$f":"VLOOKUP(D29,'Resultados Gerais'!B$8:C$1048576,2,0)","v":"2013-11-20"},{"$f":"VLOOKUP($D29,'Resultados Gerais'!$B$8:$W$1048576,3,0)","v":93},{"$f":"VLOOKUP($D29,'Resultados Gerais'!$B$8:$W$1048576,4,0)","v":49},{"$f":"VLOOKUP($D29,'Resultados Gerais'!$B$8:$W$1048576,5,0)","v":86},{"$f":"VLOOKUP($D29,'Resultados Gerais'!$B$8:$W$1048576,6,0)","v":13},{"$f":"VLOOKUP($D29,'Resultados Gerais'!$B$8:$W$1048576,7,0)","v":29},{"$f":"VLOOKUP($D29,'Resultados Gerais'!$B$8:$W$1048576,8,0)","v":34},{"$f":"VLOOKUP($D29,'Resultados Gerais'!$B$8:$W$1048576,9,0)","v":37},{"$f":"VLOOKUP($D29,'Resultados Gerais'!$B$8:$W$1048576,10,0)","v":38},{"$f":"VLOOKUP($D29,'Resultados Gerais'!$B$8:$W$1048576,11,0)","v":16},{"$f":"VLOOKUP($D29,'Resultados Gerais'!$B$8:$W$1048576,12,0)","v":85},{"$f":"VLOOKUP($D29,'Resultados Gerais'!$B$8:$W$1048576,13,0)","v":80},{"$f":"VLOOKUP($D29,'Resultados Gerais'!$B$8:$W$1048576,14,0)","v":61},{"$f":"VLOOKUP($D29,'Resultados Gerais'!$B$8:$W$1048576,15,0)","v":15},{"$f":"VLOOKUP($D29,'Resultados Gerais'!$B$8:$W$1048576,16,0)","v":47},{"$f":"VLOOKUP($D29,'Resultados Gerais'!$B$8:$W$1048576,17,0)","v":82},{"$f":"VLOOKUP($D29,'Resultados Gerais'!$B$8:$W$1048576,18,0)","v":6},{"$f":"VLOOKUP($D29,'Resultados Gerais'!$B$8:$W$1048576,19,0)","v":67},{"$f":"VLOOKUP($D29,'Resultados Gerais'!$B$8:$W$1048576,20,0)","v":66},{"$f":"VLOOKUP($D29,'Resultados Gerais'!$B$8:$W$1048576,21,0)","v":20},{"$f":"VLOOKUP($D29,'Resultados Gerais'!$B$8:$W$1048576,22,0)","v":58},null,null,null,68,{"$f":"COUNTIF(F$12:$Y$111,AC29)","v":24},24]
[null,null,18,{"$f":"COUNT('Resultados Gerais'!$B$8:$B$1048576)-C30","v":1401},{"$f":"VLOOKUP(D30,'Resultados Gerais'!B$8:C$1048576,2,0)","v":"2013-11-16"},{"$f":"VLOOKUP($D30,'Resultados Gerais'!$B$8:$W$1048576,3,0)","v":1},{"$f":"VLOOKUP($D30,'Resultados Gerais'!$B$8:$W$1048576,4,0)","v":88},{"$f":"VLOOKUP($D30,'Resultados Gerais'!$B$8:$W$1048576,5,0)","v":4},{"$f":"VLOOKUP($D30,'Resultados Gerais'!$B$8:$W$1048576,6,0)","v":77},{"$f":"VLOOKUP($D30,'Resultados Gerais'!$B$8:$W$1048576,7,0)","v":10},{"$f":"VLOOKUP($D30,'Resultados Gerais'!$B$8:$W$1048576,8,0)","v":23},{"$f":"VLOOKUP($D30,'Resultados Gerais'!$B$8:$W$1048576,9,0)","v":35},{"$f":"VLOOKUP($D30,'Resultados Gerais'!$B$8:$W$1048576,10,0)","v":15},{"$f":"VLOOKUP($D30,'Resultados Gerais'!$B$8:$W$1048576,11,0)","v":72},{"$f":"VLOOKUP($D30,'Resultados Gerais'!$B$8:$W$1048576,12,0)","v":29},{"$f":"VLOOKUP($D30,'Resultados Gerais'!$B$8:$W$1048576,13,0)","v":30},{"$f":"VLOOKUP($D30,'Resultados Gerais'!$B$8:$W$1048576,14,0)","v":16},{"$f":"VLOOKUP($D30,'Resultados Gerais'!$B$8:$W$1048576,15,0)","v":22},{"$f":"VLOOKUP($D30,'Resultados Gerais'!$B$8:$W$1048576,16,0)","v":90},{"$f":"VLOOKUP($D30,'Resultados Gerais'!$B$8:$W$1048576,17,0)","v":13},{"$f":"VLOOKUP($D30,'Resultados Gerais'!$B$8:$W$1048576,18,0)","v":79},{"$f":"VLOOKUP($D30,'Resultados Gerais'!$B$8:$W$1048576,19,0)","v":21},{"$f":"VLOOKUP($D30,'Resultados Gerais'!$B$8:$W$1048576,20,0)","v":80},{"$f":"VLOOKUP($D30,'Resultados Gerais'!$B$8:$W$1048576,21,0)","v":64},{"$f":"VLOOKUP($D30,'Resultados Gerais'!$B$8:$W$1048576,22,0)","v":49},null,null,null,46,{"$f":"COUNTIF(F$12:$Y$111,AC30)","v":24},24]
[null,null,19,{"$f":"COUNT('Resultados Gerais'!$B$8:$B$1048576)-C31","v":1400},{"$f":"VLOOKUP(D31,'Resultados Gerais'!B$8:C$1048576,2,0)","v":"2013-11-13"},{"$f":"VLOOKUP($D31,'Resultados Gerais'!$B$8:$W$1048576,3,0)","v":66},{"$f":"VLOOKUP($D31,'Resultados Gerais'!$B$8:$W$1048576,4,0)","v":64},{"$f":"VLOOKUP($D31,'Resultados Gerais'!$B$8:$W$1048576,5,0)","v":9},{"$f":"VLOOKUP($D31,'Resultados Gerais'!$B$8:$W$1048576,6,0)","v":26},{"$f":"VLOOKUP($D31,'Resultados Gerais'!$B$8:$W$1048576,7,0)","v":70},{"$f":"VLOOKUP($D31,'Resultados Gerais'!$B$8:$W$1048576,8,0)","v":29},{"$f":"VLOOKUP($D31,'Resultados Gerais'!$B$8:$W$1048576,9,0)","v":58},{"$f":"VLOOKUP($D31,'Resultados Gerais'!$B$8:$W$1048576,10,0)","v":91},{"$f":"VLOOKUP($D31,'Resultados Gerais'!$B$8:$W$1048576,11,0)","v":34},{"$f":"VLOOKUP($D31,'Resultados Gerais'!$B$8:$W$1048576,12,0)","v":39},{"$f":"VLOOKUP($D31,'Resultados Gerais'!$B$8:$W$1048576,13,0)","v":62},{"$f":"VLOOKUP($D31,'Resultados Gerais'!$B$8:$W$1048576,14,0)","v":33},{"$f":"VLOOKUP($D31,'Resultados Gerais'!$B$8:$W$1048576,15,0)","v":20},{"$f":"VLOOKUP($D31,'Resultados Gerais'!$B$8:$W$1048576,16,0)","v":99},{"$f":"VLOOKUP($D31,'Resultados Gerais'!$B$8:$W$1048576,17,0)","v":74},{"$f":"VLOOKUP($D31,'Resultados Gerais'!$B$8:$W$1048576,18,0)","v":17},{"$f":"VLOOKUP($D31,'Resultados Gerais'!$B$8:$W$1048576,19,0)","v":5},{"$f":"VLOOKUP($D31,'Resultados Gerais'!$B$8:$W$1048576,20,0)","v":77},{"$f":"VLOOKUP($D31,'Resultados Gerais'!$B$8:$W$1048576,21,0)","v":85},{"$f":"VLOOKUP($D31,'Resultados Gerais'!$B$8:$W$1048576,22,0)","v":11},null,null,null,69,{"$f":"COUNTIF(F$12:$Y$111,AC31)","v":24},24]
[null,null,20,{"$f":"COUNT('Resultados Gerais'!$B$8:$B$1048576)-C32","v":1399},{"$f":"VLOOKUP(D32,'Resultados Gerais'!B$8:C$1048576,2,0)","v":"2013-11-09"},{"$f":"VLOOKUP($D32,'Resultados Gerais'!$B$8:$W$1048576,3,0)","v":65},{"$f":"VLOOKUP($D32,'Resultados Gerais'!$B$8:$W$1048576,4,0)","v":45},{"$f":"VLOOKUP($D32,'Resultados Gerais'!$B$8:$W$1048576,5,0)","v":24},{"$f":"VLOOKUP($D32,'Resultados Gerais'!$B$8:$W$1048576,6,0)","v":15},{"$f":"VLOOKUP($D32,'Resultados Gerais'!$B$8:$W$1048576,7,0)","v":22},{"$f":"VLOOKUP($D32,'Resultados Gerais'!$B$8:$W$1048576,8,0)","v":44},{"$f":"VLOOKUP($D32,'Resultados Gerais'!$B$8:$W$1048576,9,0)","v":57},{"$f":"VLOOKUP($D32,'Resultados Gerais'!$B$8:$W$1048576,10,0)","v":60},{"$f":"VLOOKUP($D32,'Resultados Gerais'!$B$8:$W$1048576,11,0)","v":48},{"$f":"VLOOKUP($D32,'Resultados Gerais'!$B$8:$W$1048576,12,0)","v":70},{"$f":"VLOOKUP($D32,'Resultados Gerais'!$B$8:$W$1048576,13,0)","v":56},{"$f":"VLOOKUP($D32,'Resultados Gerais'!$B$8:$W$1048576,14,0)","v":18},{"$f":"VLOOKUP($D32,'Resultados Gerais'!$B$8:$W$1048576,15,0)","v":80},{"$f":"VLOOKUP($D32,'Resultados Gerais'!$B$8:$W$1048576,16,0)","v":33},{"$f":"VLOOKUP($D32,'Resultados Gerais'!$B$8:$W$1048576,17,0)","v":5},{"$f":"VLOOKUP($D32,'Resultados Gerais'!$B$8:$W$1048576,18,0)","v":73},{"$f":"VLOOKUP($D32,'Resultados Gerais'!$B$8:$W$1048576,19,0)","v":40},{"$f":"VLOOKUP($D32,'Resultados Gerais'!$B$8:$W$1048576,20,0)","v":20},{"$f":"VLOOKUP($D32,'Resultados Gerais'!$B$8:$W$1048576,21,0)","v":83},{"$f":"VLOOKUP($D32,'Resultados Gerais'!$B$8:$W$1048576,22,0)","v":69},null,null,null,83,{"$f":"COUNTIF(F$12:$Y$111,AC32)","v":24},24]
[null,null,21,{"$f":"COUNT('Resultados Gerais'!$B$8:$B$1048576)-C33","v":1398},{"$f":"VLOOKUP(D33,'Resultados Gerais'!B$8:C$1048576,2,0)","v":"2013-11-06"},{"$f":"VLOOKUP($D33,'Resultados Gerais'!$B$8:$W$1048576,3,0)","v":30},{"$f":"VLOOKUP($D33,'Resultados Gerais'!$B$8:$W$1048576,4,0)","v":16},{"$f":"VLOOKUP($D33,'Resultados Gerais'!$B$8:$W$1048576,5,0)","v":11},{"$f":"VLOOKUP($D33,'Resultados Gerais'!$B$8:$W$1048576,6,0)","v":81},{"$f":"VLOOKUP($D33,'Resultados Gerais'!$B$8:$W$1048576,7,0)","v":38},{"$f":"VLOOKUP($D33,'Resultados Gerais'!$B$8:$W$1048576,8,0)","v":42},{"$f":"VLOOKUP($D33,'Resultados Gerais'!$B$8:$W$1048576,9,0)","v":37},{"$f":"VLOOKUP($D33,'Resultados Gerais'!$B$8:$W$1048576,10,0)","v":79},{"$f":"VLOOKUP($D33,'Resultados Gerais'!$B$8:$W$1048576,11,0)","v":22},{"$f":"VLOOKUP($D33,'Resultados Gerais'!$B$8:$W$1048576,12,0)","v":87},{"$f":"VLOOKUP($D33,'Resultados Gerais'!$B$8:$W$1048576,13,0)","v":90},{"$f":"VLOOKUP($D33,'Resultados Gerais'!$B$8:$W$1048576,14,0)","v":53},{"$f":"VLOOKUP($D33,'Resultados Gerais'!$B$8:$W$1048576,15,0)","v":36},{"$f":"VLOOKUP($D33,'Resultados Gerais'!$B$8:$W$1048576,16,0)","v":43},{"$f":"VLOOKUP($D33,'Resultados Gerais'!$B$8:$W$1048576,17,0)","v":31},{"$f":"VLOOKUP($D33,'Resultados Gerais'!$B$8:$W$1048576,18,0)","v":29},{"$f":"VLOOKUP($D33,'Resultados Gerais'!$B$8:$W$1048576,19,0)","v":25},{"$f":"VLOOKUP($D33,'Resultados Gerais'!$B$8:$W$1048576,20,0)","v":65},{"$f":"VLOOKUP($D33,'Resultados Gerais'!$B$8:$W$1048576,21,0)","v":91},{"$f":"VLOOKUP($D33,'Resultados Gerais'!$B$8:$W$1048576,22,0)","v":78},null,null,null,91,{"$f":"COUNTIF(F$12:$Y$111,AC33)","v":23},23]
[null,null,22,{"$f":"COUNT('Resultados Gerais'!$B$8:$B$1048576)-C34","v":1397},{"$f":"VLOOKUP(D34,'Resultados Gerais'!B$8:C$1048576,2,0)","v":"2013-11-01"},{"$f":"VLOOKUP($D34,'Resultados Gerais'!$B$8:$W$1048576,3,0)","v":5},{"$f":"VLOOKUP($D34,'Resultados Gerais'!$B$8:$W$1048576,4,0)","v":50},{"$f":"VLOOKUP($D34,'Resultados Gerais'!$B$8:$W$1048576,5,0)","v":26},{"$f":"VLOOKUP($D34,'Resultados Gerais'!$B$8:$W$1048576,6,0)","v":66},{"$f":"VLOOKUP($D34,'Resultados Gerais'!$B$8:$W$1048576,7,0)","v":67},{"$f":"VLOOKUP($D34,'Resultados Gerais'!$B$8:$W$1048576,8,0)","v":13},{"$f":"VLOOKUP($D34,'Resultados Gerais'!$B$8:$W$1048576,9,0)","v":82},{"$f":"VLOOKUP($D34,'Resultados Gerais'!$B$8:$W$1048576,10,0)","v":55},{"$f":"VLOOKUP($D34,'Resultados Gerais'!$B$8:$W$1048576,11,0)","v":56},{"$f":"VLOOKUP($D34,'Resultados Gerais'!$B$8:$W$1048576,12,0)","v":31},{"$f":"VLOOKUP($D34,'Resultados Gerais'!$B$8:$W$1048576,13,0)","v":28},{"$f":"VLOOKUP($D34,'Resultados Gerais'!$B$8:$W$1048576,14,0)","v":76},{"$f":"VLOOKUP($D34,'Resultados Gerais'!$B$8:$W$1048576,15,0)","v":24},{"$f":"VLOOKUP($D34,'Resultados Gerais'!$B$8:$W$1048576,16,0)","v":53},{"$f":"VLOOKUP($D34,'Resultados Gerais'!$B$8:$W$1048576,17,0)","v":73},{"$f":"VLOOKUP($D34,'Resultados Gerais'!$B$8:$W$1048576,18,0)","v":33},{"$f":"VLOOKUP($D34,'Resultados Gerais'!$B$8:$W$1048576,19,0)","v":90},{"$f":"VLOOKUP($D34,'Resultados Gerais'!$B$8:$W$1048576,20,0)","v":88},{"$f":"VLOOKUP($D34,'Resultados Gerais'!$B$8:$W$1048576,21,0)","v":3},{"$f":"VLOOKUP($D34,'Resultados Gerais'!$B$8:$W$1048576,22,0)","v":84},null,null,null,79,{"$f":"COUNTIF(F$12:$Y$111,AC34)","v":23},23]
[null,null,23,{"$f":"COUNT('Resultados Gerais'!$B$8:$B$1048576)-C35","v":1396},{"$f":"VLOOKUP(D35,'Resultados Gerais'!B$8:C$1048576,2,0)","v":"2013-10-30"},{"$f":"VLOOKUP($D35,'Resultados Gerais'!$B$8:$W$1048576,3,0)","v":82},{"$f":"VLOOKUP($D35,'Resultados Gerais'!$B$8:$W$1048576,4,0)","v":24},{"$f":"VLOOKUP($D35,'Resultados Gerais'!$B$8:$W$1048576,5,0)","v":9},{"$f":"VLOOKUP($D35,'Resultados Gerais'!$B$8:$W$1048576,6,0)","v":56},{"$f":"VLOOKUP($D35,'Resultados Gerais'!$B$8:$W$1048576,7,0)","v":80},{"$f":"VLOOKUP($D35,'Resultados Gerais'!$B$8:$W$1048576,8,0)","v":52},{"$f":"VLOOKUP($D35,'Resultados Gerais'!$B$8:$W$1048576,9,0)","v":25},{"$f":"VLOOKUP($D35,'Resultados Gerais'!$B$8:$W$1048576,10,0)","v":36},{"$f":"VLOOKUP($D35,'Resultados Gerais'!$B$8:$W$1048576,11,0)","v":4},{"$f":"VLOOKUP($D35,'Resultados Gerais'!$B$8:$W$1048576,12,0)","v":50},{"$f":"VLOOKUP($D35,'Resultados Gerais'!$B$8:$W$1048576,13,0)","v":70},{"$f":"VLOOKUP($D35,'Resultados Gerais'!$B$8:$W$1048576,14,0)","v":63},{"$f":"VLOOKUP($D35,'Resultados Gerais'!$B$8:$W$1048576,15,0)","v":87},{"$f":"VLOOKUP($D35,'Resultados Gerais'!$B$8:$W$1048576,16,0)","v":83},{"$f":"VLOOKUP($D35,'Resultados Gerais'!$B$8:$W$1048576,17,0)","v":18},{"$f":"VLOOKUP($D35,'Resultados Gerais'!$B$8:$W$1048576,18,0)","v":79},{"$f":"VLOOKUP($D35,'Resultados Gerais'!$B$8:$W$1048576,19,0)","v":74},{"$f":"VLOOKUP($D35,'Resultados Gerais'!$B$8:$W$1048576,20,0)","v":47},{"$f":"VLOOKUP($D35,'Resultados Gerais'!$B$8:$W$1048576,21,0)","v":54},{"$f":"VLOOKUP($D35,'Resultados Gerais'!$B$8:$W$1048576,22,0)","v":39},null,null,null,82,{"$f":"COUNTIF(F$12:$Y$111,AC35)","v":23},23]
[null,null,24,{"$f":"COUNT('Resultados Gerais'!$B$8:$B$1048576)-C36","v":1395},{"$f":"VLOOKUP(D36,'Resultados Gerais'!B$8:C$1048576,2,0)","v":"2013-10-26"},{"$f":"VLOOKUP($D36,'Resultados Gerais'!$B$8:$W$1048576,3,0)","v":42},{"$f":"VLOOKUP($D36,'Resultados Gerais'!$B$8:$W$1048576,4,0)","v":54},{"$f":"VLOOKUP($D36,'Resultados Gerais'!$B$8:$W$1048576,5,0)","v":18},{"$f":"VLOOKUP($D36,'Resultados Gerais'!$B$8:$W$1048576,6,0)","v":3},{"$f":"VLOOKUP($D36,'Resultados Gerais'!$B$8:$W$1048576,7,0)","v":79},{"$f":"VLOOKUP($D36,'Resultados Gerais'!$B$8:$W$1048576,8,0)","v":71},{"$f":"VLOOKUP($D36,'Resultados Gerais'!$B$8:$W$1048576,9,0)","v":77},{"$f":"VLOOKUP($D36,'Resultados Gerais'!$B$8:$W$1048576,10,0)","v":82},{"$f":"VLOOKUP($D36,'Resultados Gerais'!$B$8:$W$1048576,11,0)","v":7},{"$f":"VLOOKUP($D36,'Resultados Gerais'!$B$8:$W$1048576,12,0)","v":90},{"$f":"VLOOKUP($D36,'Resultados Gerais'!$B$8:$W$1048576,13,0)","v":15},{"$f":"VLOOKUP($D36,'Resultados Gerais'!$B$8:$W$1048576,14,0)","v":45},{"$f":"VLOOKUP($D36,'Resultados Gerais'!$B$8:$W$1048576,15,0)","v":91},{"$f":"VLOOKUP($D36,'Resultados Gerais'!$B$8:$W$1048576,16,0)","v":57},{"$f":"VLOOKUP($D36,'Resultados Gerais'!$B$8:$W$1048576,17,0)","v":48},{"$f":"VLOOKUP($D36,'Resultados Gerais'!$B$8:$W$1048576,18,0)","v":11},{"$f":"VLOOKUP($D36,'Resultados Gerais'!$B$8:$W$1048576,19,0)","v":6},{"$f":"VLOOKUP($D36,'Resultados Gerais'!$B$8:$W$1048576,20,0)","v":97},{"$f":"VLOOKUP($D36,'Resultados Gerais'!$B$8:$W$1048576,21,0)","v":55},{"$f":"VLOOKUP($D36,'Resultados Gerais'!$B$8:$W$1048576,22,0)","v":51},null,null,null,87,{"$f":"COUNTIF(F$12:$Y$111,AC36)","v":23},23]
[null,null,25,{"$f":"COUNT('Resultados Gerais'!$B$8:$B$1048576)-C37","v":1394},{"$f":"VLOOKUP(D37,'Resultados Gerais'!B$8:C$1048576,2,0)","v":"2013-10-23"},{"$f":"VLOOKUP($D37,'Resultados Gerais'!$B$8:$W$1048576,3,0)","v":53},{"$f":"VLOOKUP($D37,'Resultados Gerais'!$B$8:$W$1048576,4,0)","v":60},{"$f":"VLOOKUP($D37,'Resultados Gerais'!$B$8:$W$1048576,5,0)","v":17},{"$f":"VLOOKUP($D37,'Resultados Gerais'!$B$8:$W$1048576,6,0)","v":1},{"$f":"VLOOKUP($D37,'Resultados Gerais'!$B$8:$W$1048576,7,0)","v":91},{"$f":"VLOOKUP($D37,'Resultados Gerais'!$B$8:$W$1048576,8,0)","v":5},{"$f":"VLOOKUP($D37,'Resultados Gerais'!$B$8:$W$1048576,9,0)","v":38},{"$f":"VLOOKUP($D37,'Resultados Gerais'!$B$8:$W$1048576,10,0)","v":16},{"$f":"VLOOKUP($D37,'Resultados Gerais'!$B$8:$W$1048576,11,0)","v":14},{"$f":"VLOOKUP($D37,'Resultados Gerais'!$B$8:$W$1048576,12,0)","v":59},{"$f":"VLOOKUP($D37,'Resultados Gerais'!$B$8:$W$1048576,13,0)","v":78},{"$f":"VLOOKUP($D37,'Resultados Gerais'!$B$8:$W$1048576,14,0)","v":69},{"$f":"VLOOKUP($D37,'Resultados Gerais'!$B$8:$W$1048576,15,0)","v":68},{"$f":"VLOOKUP($D37,'Resultados Gerais'!$B$8:$W$1048576,16,0)","v":81},{"$f":"VLOOKUP($D37,'Resultados Gerais'!$B$8:$W$1048576,17,0)","v":26},{"$f":"VLOOKUP($D37,'Resultados Gerais'!$B$8:$W$1048576,18,0)","v":79},{"$f":"VLOOKUP($D37,'Resultados Gerais'!$B$8:$W$1048576,19,0)","v":54},{"$f":"VLOOKUP($D37,'Resultados Gerais'!$B$8:$W$1048576,20,0)","v":63},{"$f":"VLOOKUP($D37,'Resultados Gerais'!$B$8:$W$1048576,21,0)","v":19},{"$f":"VLOOKUP($D37,'Resultados Gerais'!$B$8:$W$1048576,22,0)","v":56},null,null,null,5,{"$f":"COUNTIF(F$12:$Y$111,AC37)","v":23},23]
[null,null,26,{"$f":"COUNT('Resultados Gerais'!$B$8:$B$1048576)-C38","v":1393},{"$f":"VLOOKUP(D38,'Resultados Gerais'!B$8:C$1048576,2,0)","v":"2013-10-19"},{"$f":"VLOOKUP($D38,'Resultados Gerais'!$B$8:$W$1048576,3,0)","v":5},{"$f":"VLOOKUP($D38,'Resultados Gerais'!$B$8:$W$1048576,4,0)","v":43},{"$f":"VLOOKUP($D38,'Resultados Gerais'!$B$8:$W$1048576,5,0)","v":78},{"$f":"VLOOKUP($D38,'Resultados Gerais'!$B$8:$W$1048576,6,0)","v":0},{"$f":"VLOOKUP($D38,'Resultados Gerais'!$B$8:$W$1048576,7,0)","v":54},{"$f":"VLOOKUP($D38,'Resultados Gerais'!$B$8:$W$1048576,8,0)","v":45},{"$f":"VLOOKUP($D38,'Resultados Gerais'!$B$8:$W$1048576,9,0)","v":33},{"$f":"VLOOKUP($D38,'Resultados Gerais'!$B$8:$W$1048576,10,0)","v":88},{"$f":"VLOOKUP($D38,'Resultados Gerais'!$B$8:$W$1048576,11,0)","v":3},{"$f":"VLOOKUP($D38,'Resultados Gerais'!$B$8:$W$1048576,12,0)","v":61},{"$f":"VLOOKUP($D38,'Resultados Gerais'!$B$8:$W$1048576,13,0)","v":73},{"$f":"VLOOKUP($D38,'Resultados Gerais'!$B$8:$W$1048576,14,0)","v":37},{"$f":"VLOOKUP($D38,'Resultados Gerais'!$B$8:$W$1048576,15,0)","v":29},{"$f":"VLOOKUP($D38,'Resultados Gerais'!$B$8:$W$1048576,16,0)","v":23},{"$f":"VLOOKUP($D38,'Resultados Gerais'!$B$8:$W$1048576,17,0)","v":41},{"$f":"VLOOKUP($D38,'Resultados Gerais'!$B$8:$W$1048576,18,0)","v":46},{"$f":"VLOOKUP($D38,'Resultados Gerais'!$B$8:$W$1048576,19,0)","v":65},{"$f":"VLOOKUP($D38,'Resultados Gerais'!$B$8:$W$1048576,20,0)","v":77},{"$f":"VLOOKUP($D38,'Resultados Gerais'!$B$8:$W$1048576,21,0)","v":56},{"$f":"VLOOKUP($D38,'Resultados Gerais'!$B$8:$W$1048576,22,0)","v":31},null,null,null,2,{"$f":"COUNTIF(F$12:$Y$111,AC38)","v":22},22]
[null,null,27,{"$f":"COUNT('Resultados Gerais'!$B$8:$B$1048576)-C39","v":1392},{"$f":"VLOOKUP(D39,'Resultados Gerais'!B$8:C$1048576,2,0)","v":"2013-10-16"},{"$f":"VLOOKUP($D39,'Resultados Gerais'!$B$8:$W$1048576,3,0)","v":3},{"$f":"VLOOKUP($D39,'Resultados Gerais'!$B$8:$W$1048576,4,0)","v":91},{"$f":"VLOOKUP($D39,'Resultados Gerais'!$B$8:$W$1048576,5,0)","v":7},{"$f":"VLOOKUP($D39,'Resultados Gerais'!$B$8:$W$1048576,6,0)","v":86},{"$f":"VLOOKUP($D39,'Resultados Gerais'!$B$8:$W$1048576,7,0)","v":90},{"$f":"VLOOKUP($D39,'Resultados Gerais'!$B$8:$W$1048576,8,0)","v":36},{"$f":"VLOOKUP($D39,'Resultados Gerais'!$B$8:$W$1048576,9,0)","v":58},{"$f":"VLOOKUP($D39,'Resultados Gerais'!$B$8:$W$1048576,10,0)","v":84},{"$f":"VLOOKUP($D39,'Resultados Gerais'!$B$8:$W$1048576,11,0)","v":74},{"$f":"VLOOKUP($D39,'Resultados Gerais'!$B$8:$W$1048576,12,0)","v":2},{"$f":"VLOOKUP($D39,'Resultados Gerais'!$B$8:$W$1048576,13,0)","v":76},{"$f":"VLOOKUP($D39,'Resultados Gerais'!$B$8:$W$1048576,14,0)","v":65},{"$f":"VLOOKUP($D39,'Resultados Gerais'!$B$8:$W$1048576,15,0)","v":57},{"$f":"VLOOKUP($D39,'Resultados Gerais'!$B$8:$W$1048576,16,0)","v":85},{"$f":"VLOOKUP($D39,'Resultados Gerais'!$B$8:$W$1048576,17,0)","v":54},{"$f":"VLOOKUP($D39,'Resultados Gerais'!$B$8:$W$1048576,18,0)","v":29},{"$f":"VLOOKUP($D39,'Resultados Gerais'!$B$8:$W$1048576,19,0)","v":28},{"$f":"VLOOKUP($D39,'Resultados Gerais'!$B$8:$W$1048576,20,0)","v":15},{"$f":"VLOOKUP($D39,'Resultados Gerais'!$B$8:$W$1048576,21,0)","v":38},{"$f":"VLOOKUP($D39,'Resultados Gerais'!$B$8:$W$1048576,22,0)","v":77},null,null,null,48,{"$f":"COUNTIF(F$12:$Y$111,AC39)","v":22},22]
[null,null,28,{"$f":"COUNT('Resultados Gerais'!$B$8:$B$1048576)-C40","v":1391},{"$f":"VLOOKUP(D40,'Resultados Gerais'!B$8:C$1048576,2,0)","v":"2013-10-11"},{"$f":"VLOOKUP($D40,'Resultados Gerais'!$B$8:$W$1048576,3,0)","v":70},{"$f":"VLOOKUP($D40,'Resultados Gerais'!$B$8:$W$1048576,4,0)","v":1},{"$f":"VLOOKUP($D40,'Resultados Gerais'!$B$8:$W$1048576,5,0)","v":19},{"$f":"VLOOKUP($D40,'Resultados Gerais'!$B$8:$W$1048576,6,0)","v":75},{"$f":"VLOOKUP($D40,'Resultados Gerais'!$B$8:$W$1048576,7,0)","v":72},{"$f":"VLOOKUP($D40,'Resultados Gerais'!$B$8:$W$1048576,8,0)","v":53},{"$f":"VLOOKUP($D40,'Resultados Gerais'!$B$8:$W$1048576,9,0)","v":68},{"$f":"VLOOKUP($D40,'Resultados Gerais'!$B$8:$W$1048576,10,0)","v":18},{"$f":"VLOOKUP($D40,'Resultados Gerais'!$B$8:$W$1048576,11,0)","v":55},{"$f":"VLOOKUP($D40,'Resultados Gerais'!$B$8:$W$1048576,12,0)","v":82},{"$f":"VLOOKUP($D40,'Resultados Gerais'!$B$8:$W$1048576,13,0)","v":36},{"$f":"VLOOKUP($D40,'Resultados Gerais'!$B$8:$W$1048576,14,0)","v":28},{"$f":"VLOOKUP($D40,'Resultados Gerais'!$B$8:$W$1048576,15,0)","v":49},{"$f":"VLOOKUP($D40,'Resultados Gerais'!$B$8:$W$1048576,16,0)","v":14},{"$f":"VLOOKUP($D40,'Resultados Gerais'!$B$8:$W$1048576,17,0)","v":4},{"$f":"VLOOKUP($D40,'Resultados Gerais'!$B$8:$W$1048576,18,0)","v":41},{"$f":"VLOOKUP($D40,'Resultados Gerais'!$B$8:$W$1048576,19,0)","v":92},{"$f":"VLOOKUP($D40,'Resultados Gerais'!$B$8:$W$1048576,20,0)","v":10},{"$f":"VLOOKUP($D40,'Resultados Gerais'!$B$8:$W$1048576,21,0)","v":66},{"$f":"VLOOKUP($D40,'Resultados Gerais'!$B$8:$W$1048576,22,0)","v":89},null,null,null,60,{"$f":"COUNTIF(F$12:$Y$111,AC40)","v":22},22]
[null,null,29,{"$f":"COUNT('Resultados Gerais'!$B$8:$B$1048576)-C41","v":1390},{"$f":"VLOOKUP(D41,'Resultados Gerais'!B$8:C$1048576,2,0)","v":"2013-10-09"},{"$f":"VLOOKUP($D41,'Resultados Gerais'!$B$8:$W$1048576,3,0)","v":89},{"$f":"VLOOKUP($D41,'Resultados Gerais'!$B$8:$W$1048576,4,0)","v":67},{"$f":"VLOOKUP($D41,'Resultados Gerais'!$B$8:$W$1048576,5,0)","v":95},{"$f":"VLOOKUP($D41,'Resultados Gerais'!$B$8:$W$1048576,6,0)","v":62},{"$f":"VLOOKUP($D41,'Resultados Gerais'!$B$8:$W$1048576,7,0)","v":66},{"$f":"VLOOKUP($D41,'Resultados Gerais'!$B$8:$W$1048576,8,0)","v":96},{"$f":"VLOOKUP($D41,'Resultados Gerais'!$B$8:$W$1048576,9,0)","v":78},{"$f":"VLOOKUP($D41,'Resultados Gerais'!$B$8:$W$1048576,10,0)","v":41},{"$f":"VLOOKUP($D41,'Resultados Gerais'!$B$8:$W$1048576,11,0)","v":2},{"$f":"VLOOKUP($D41,'Resultados Gerais'!$B$8:$W$1048576,12,0)","v":70},{"$f":"VLOOKUP($D41,'Resultados Gerais'!$B$8:$W$1048576,13,0)","v":40},{"$f":"VLOOKUP($D41,'Resultados Gerais'!$B$8:$W$1048576,14,0)","v":4},{"$f":"VLOOKUP($D41,'Resultados Gerais'!$B$8:$W$1048576,15,0)","v":80},{"$f":"VLOOKUP($D41,'Resultados Gerais'!$B$8:$W$1048576,16,0)","v":64},{"$f":"VLOOKUP($D41,'Resultados Gerais'!$B$8:$W$1048576,17,0)","v":43},{"$f":"VLOOKUP($D41,'Resultados Gerais'!$B$8:$W$1048576,18,0)","v":16},{"$f":"VLOOKUP($D41,'Resultados Gerais'!$B$8:$W$1048576,19,0)","v":3},{"$f":"VLOOKUP($D41,'Resultados Gerais'!$B$8:$W$1048576,20,0)","v":35},{"$f":"VLOOKUP($D41,'Resultados Gerais'!$B$8:$W$1048576,21,0)","v":76},{"$f":"VLOOKUP($D41,'Resultados Gerais'!$B$8:$W$1048576,22,0)","v":99},null,null,null,14,{"$f":"COUNTIF(F$12:$Y$111,AC41)","v":22},22]
[null,null,30,{"$f":"COUNT('Resultados Gerais'!$B$8:$B$1048576)-C42","v":1389},{"$f":"VLOOKUP(D42,'Resultados Gerais'!B$8:C$1048576,2,0)","v":"2013-10-05"},{"$f":"VLOOKUP($D42,'Resultados Gerais'!$B$8:$W$1048576,3,0)","v":2},{"$f":"VLOOKUP($D42,'Resultados Gerais'!$B$8:$W$1048576,4,0)","v":14},{"$f":"VLOOKUP($D42,'Resultados Gerais'!$B$8:$W$1048576,5,0)","v":72},{"$f":"VLOOKUP($D42,'Resultados Gerais'!$B$8:$W$1048576,6,0)","v":64},{"$f":"VLOOKUP($D42,'Resultados Gerais'!$B$8:$W$1048576,7,0)","v":71},{"$f":"VLOOKUP($D42,'Resultados Gerais'!$B$8:$W$1048576,8,0)","v":76},{"$f":"VLOOKUP($D42,'Resultados Gerais'!$B$8:$W$1048576,9,0)","v":32},{"$f":"VLOOKUP($D42,'Resultados Gerais'!$B$8:$W$1048576,10,0)","v":73},{"$f":"VLOOKUP($D42,'Resultados Gerais'!$B$8:$W$1048576,11,0)","v":52},{"$f":"VLOOKUP($D42,'Resultados Gerais'!$B$8:$W$1048576,12,0)","v":82},{"$f":"VLOOKUP($D42,'Resultados Gerais'!$B$8:$W$1048576,13,0)","v":86},{"$f":"VLOOKUP($D42,'Resultados Gerais'!$B$8:$W$1048576,14,0)","v":49},{"$f":"VLOOKUP($D42,'Resultados Gerais'!$B$8:$W$1048576,15,0)","v":23},{"$f":"VLOOKUP($D42,'Resultados Gerais'!$B$8:$W$1048576,16,0)","v":17},{"$f":"VLOOKUP($D42,'Resultados Gerais'!$B$8:$W$1048576,17,0)","v":36},{"$f":"VLOOKUP($D42,'Resultados Gerais'!$B$8:$W$1048576,18,0)","v":94},{"$f":"VLOOKUP($D42,'Resultados Gerais'!$B$8:$W$1048576,19,0)","v":91},{"$f":"VLOOKUP($D42,'Resultados Gerais'!$B$8:$W$1048576,20,0)","v":46},{"$f":"VLOOKUP($D42,'Resultados Gerais'!$B$8:$W$1048576,21,0)","v":85},{"$f":"VLOOKUP($D42,'Resultados Gerais'!$B$8:$W$1048576,22,0)","v":60},null,null,null,10,{"$f":"COUNTIF(F$12:$Y$111,AC42)","v":22},22]
[null,null,31,{"$f":"COUNT('Resultados Gerais'!$B$8:$B$1048576)-C43","v":1388},{"$f":"VLOOKUP(D43,'Resultados Gerais'!B$8:C$1048576,2,0)","v":"2013-10-02"},{"$f":"VLOOKUP($D43,'Resultados Gerais'!$B$8:$W$1048576,3,0)","v":54},{"$f":"VLOOKUP($D43,'Resultados Gerais'!$B$8:$W$1048576,4,0)","v":18},{"$f":"VLOOKUP($D43,'Resultados Gerais'!$B$8:$W$1048576,5,0)","v":50},{"$f":"VLOOKUP($D43,'Resultados Gerais'!$B$8:$W$1048576,6,0)","v":8},{"$f":"VLOOKUP($D43,'Resultados Gerais'!$B$8:$W$1048576,7,0)","v":39},{"$f":"VLOOKUP($D43,'Resultados Gerais'!$B$8:$W$1048576,8,0)","v":80},{"$f":"VLOOKUP($D43,'Resultados Gerais'!$B$8:$W$1048576,9,0)","v":62},{"$f":"VLOOKUP($D43,'Resultados Gerais'!$B$8:$W$1048576,10,0)","v":45},{"$f":"VLOOKUP($D43,'Resultados Gerais'!$B$8:$W$1048576,11,0)","v":12},{"$f":"VLOOKUP($D43,'Resultados Gerais'!$B$8:$W$1048576,12,0)","v":89},{"$f":"VLOOKUP($D43,'Resultados Gerais'!$B$8:$W$1048576,13,0)","v":93},{"$f":"VLOOKUP($D43,'Resultados Gerais'!$B$8:$W$1048576,14,0)","v":95},{"$f":"VLOOKUP($D43,'Resultados Gerais'!$B$8:$W$1048576,15,0)","v":7},{"$f":"VLOOKUP($D43,'Resultados Gerais'!$B$8:$W$1048576,16,0)","v":48},{"$f":"VLOOKUP($D43,'Resultados Gerais'!$B$8:$W$1048576,17,0)","v":87},{"$f":"VLOOKUP($D43,'Resultados Gerais'!$B$8:$W$1048576,18,0)","v":37},{"$f":"VLOOKUP($D43,'Resultados Gerais'!$B$8:$W$1048576,19,0)","v":49},{"$f":"VLOOKUP($D43,'Resultados Gerais'!$B$8:$W$1048576,20,0)","v":19},{"$f":"VLOOKUP($D43,'Resultados Gerais'!$B$8:$W$1048576,21,0)","v":46},{"$f":"VLOOKUP($D43,'Resultados Gerais'!$B$8:$W$1048576,22,0)","v":74},null,null,null,86,{"$f":"COUNTIF(F$12:$Y$111,AC43)","v":22},22]
[null,null,32,{"$f":"COUNT('Resultados Gerais'!$B$8:$B$1048576)-C44","v":1387},{"$f":"VLOOKUP(D44,'Resultados Gerais'!B$8:C$1048576,2,0)","v":"2013-09-28"},{"$f":"VLOOKUP($D44,'Resultados Gerais'!$B$8:$W$1048576,3,0)","v":17},{"$f":"VLOOKUP($D44,'Resultados Gerais'!$B$8:$W$1048576,4,0)","v":82},{"$f":"VLOOKUP($D44,'Resultados Gerais'!$B$8:$W$1048576,5,0)","v":73},{"$f":"VLOOKUP($D44,'Resultados Gerais'!$B$8:$W$1048576,6,0)","v":22},{"$f":"VLOOKUP($D44,'Resultados Gerais'!$B$8:$W$1048576,7,0)","v":2},{"$f":"VLOOKUP($D44,'Resultados Gerais'!$B$8:$W$1048576,8,0)","v":15},{"$f":"VLOOKUP($D44,'Resultados Gerais'!$B$8:$W$1048576,9,0)","v":29},{"$f":"VLOOKUP($D44,'Resultados Gerais'!$B$8:$W$1048576,10,0)","v":93},{"$f":"VLOOKUP($D44,'Resultados Gerais'!$B$8:$W$1048576,11,0)","v":95},{"$f":"VLOOKUP($D44,'Resultados Gerais'!$B$8:$W$1048576,12,0)","v":35},{"$f":"VLOOKUP($D44,'Resultados Gerais'!$B$8:$W$1048576,13,0)","v":25},{"$f":"VLOOKUP($D44,'Resultados Gerais'!$B$8:$W$1048576,14,0)","v":80},{"$f":"VLOOKUP($D44,'Resultados Gerais'!$B$8:$W$1048576,15,0)","v":6},{"$f":"VLOOKUP($D44,'Resultados Gerais'!$B$8:$W$1048576,16,0)","v":66},{"$f":"VLOOKUP($D44,'Resultados Gerais'!$B$8:$W$1048576,17,0)","v":62},{"$f":"VLOOKUP($D44,'Resultados Gerais'!$B$8:$W$1048576,18,0)","v":92},{"$f":"VLOOKUP($D44,'Resultados Gerais'!$B$8:$W$1048576,19,0)","v":72},{"$f":"VLOOKUP($D44,'Resultados Gerais'!$B$8:$W$1048576,20,0)","v":96},{"$f":"VLOOKUP($D44,'Resultados Gerais'!$B$8:$W$1048576,21,0)","v":42},{"$f":"VLOOKUP($D44,'Resultados Gerais'!$B$8:$W$1048576,22,0)","v":26},null,null,null,43,{"$f":"COUNTIF(F$12:$Y$111,AC44)","v":22},22]
[null,null,33,{"$f":"COUNT('Resultados Gerais'!$B$8:$B$1048576)-C45","v":1386},{"$f":"VLOOKUP(D45,'Resultados Gerais'!B$8:C$1048576,2,0)","v":"2013-09-25"},{"$f":"VLOOKUP($D45,'Resultados Gerais'!$B$8:$W$1048576,3,0)","v":95},{"$f":"VLOOKUP($D45,'Resultados Gerais'!$B$8:$W$1048576,4,0)","v":55},{"$f":"VLOOKUP($D45,'Resultados Gerais'!$B$8:$W$1048576,5,0)","v":90},{"$f":"VLOOKUP($D45,'Resultados Gerais'!$B$8:$W$1048576,6,0)","v":67},{"$f":"VLOOKUP($D45,'Resultados Gerais'!$B$8:$W$1048576,7,0)","v":82},{"$f":"VLOOKUP($D45,'Resultados Gerais'!$B$8:$W$1048576,8,0)","v":7},{"$f":"VLOOKUP($D45,'Resultados Gerais'!$B$8:$W$1048576,9,0)","v":43},{"$f":"VLOOKUP($D45,'Resultados Gerais'!$B$8:$W$1048576,10,0)","v":80},{"$f":"VLOOKUP($D45,'Resultados Gerais'!$B$8:$W$1048576,11,0)","v":97},{"$f":"VLOOKUP($D45,'Resultados Gerais'!$B$8:$W$1048576,12,0)","v":92},{"$f":"VLOOKUP($D45,'Resultados Gerais'!$B$8:$W$1048576,13,0)","v":83},{"$f":"VLOOKUP($D45,'Resultados Gerais'!$B$8:$W$1048576,14,0)","v":45},{"$f":"VLOOKUP($D45,'Resultados Gerais'!$B$8:$W$1048576,15,0)","v":93},{"$f":"VLOOKUP($D45,'Resultados Gerais'!$B$8:$W$1048576,16,0)","v":44},{"$f":"VLOOKUP($D45,'Resultados Gerais'!$B$8:$W$1048576,17,0)","v":31},{"$f":"VLOOKUP($D45,'Resultados Gerais'!$B$8:$W$1048576,18,0)","v":25},{"$f":"VLOOKUP($D45,'Resultados Gerais'!$B$8:$W$1048576,19,0)","v":28},{"$f":"VLOOKUP($D45,'Resultados Gerais'!$B$8:$W$1048576,20,0)","v":71},{"$f":"VLOOKUP($D45,'Resultados Gerais'!$B$8:$W$1048576,21,0)","v":33},{"$f":"VLOOKUP($D45,'Resultados Gerais'!$B$8:$W$1048576,22,0)","v":36},null,null,null,9,{"$f":"COUNTIF(F$12:$Y$111,AC45)","v":22},22]
[null,null,34,{"$f":"COUNT('Resultados Gerais'!$B$8:$B$1048576)-C46","v":1385},{"$f":"VLOOKUP(D46,'Resultados Gerais'!B$8:C$1048576,2,0)","v":"2013-09-21"},{"$f":"VLOOKUP($D46,'Resultados Gerais'!$B$8:$W$1048576,3,0)","v":43},{"$f":"VLOOKUP($D46,'Resultados Gerais'!$B$8:$W$1048576,4,0)","v":63},{"$f":"VLOOKUP($D46,'Resultados Gerais'!$B$8:$W$1048576,5,0)","v":77},{"$f":"VLOOKUP($D46,'Resultados Gerais'!$B$8:$W$1048576,6,0)","v":27},{"$f":"VLOOKUP($D46,'Resultados Gerais'!$B$8:$W$1048576,7,0)","v":69},{"$f":"VLOOKUP($D46,'Resultados Gerais'!$B$8:$W$1048576,8,0)","v":74},{"$f":"VLOOKUP($D46,'Resultados Gerais'!$B$8:$W$1048576,9,0)","v":34},{"$f":"VLOOKUP($D46,'Resultados Gerais'!$B$8:$W$1048576,10,0)","v":15},{"$f":"VLOOKUP($D46,'Resultados Gerais'!$B$8:$W$1048576,11,0)","v":20},{"$f":"VLOOKUP($D46,'Resultados Gerais'!$B$8:$W$1048576,12,0)","v":65},{"$f":"VLOOKUP($D46,'Resultados Gerais'!$B$8:$W$1048576,13,0)","v":40},{"$f":"VLOOKUP($D46,'Resultados Gerais'!$B$8:$W$1048576,14,0)","v":90},{"$f":"VLOOKUP($D46,'Resultados Gerais'!$B$8:$W$1048576,15,0)","v":13},{"$f":"VLOOKUP($D46,'Resultados Gerais'!$B$8:$W$1048576,16,0)","v":32},{"$f":"VLOOKUP($D46,'Resultados Gerais'!$B$8:$W$1048576,17,0)","v":81},{"$f":"VLOOKUP($D46,'Resultados Gerais'!$B$8:$W$1048576,18,0)","v":23},{"$f":"VLOOKUP($D46,'Resultados Gerais'!$B$8:$W$1048576,19,0)","v":97},{"$f":"VLOOKUP($D46,'Resultados Gerais'!$B$8:$W$1048576,20,0)","v":38},{"$f":"VLOOKUP($D46,'Resultados Gerais'!$B$8:$W$1048576,21,0)","v":58},{"$f":"VLOOKUP($D46,'Resultados Gerais'!$B$8:$W$1048576,22,0)","v":10},null,null,null,54,{"$f":"COUNTIF(F$12:$Y$111,AC46)","v":22},22]
[null,null,35,{"$f":"COUNT('Resultados Gerais'!$B$8:$B$1048576)-C47","v":1384},{"$f":"VLOOKUP(D47,'Resultados Gerais'!B$8:C$1048576,2,0)","v":"2013-09-18"},{"$f":"VLOOKUP($D47,'Resultados Gerais'!$B$8:$W$1048576,3,0)","v":70},{"$f":"VLOOKUP($D47,'Resultados Gerais'!$B$8:$W$1048576,4,0)","v":71},{"$f":"VLOOKUP($D47,'Resultados Gerais'!$B$8:$W$1048576,5,0)","v":56},{"$f":"VLOOKUP($D47,'Resultados Gerais'!$B$8:$W$1048576,6,0)","v":54},{"$f":"VLOOKUP($D47,'Resultados Gerais'!$B$8:$W$1048576,7,0)","v":90},{"$f":"VLOOKUP($D47,'Resultados Gerais'!$B$8:$W$1048576,8,0)","v":65},{"$f":"VLOOKUP($D47,'Resultados Gerais'!$B$8:$W$1048576,9,0)","v":49},{"$f":"VLOOKUP($D47,'Resultados Gerais'!$B$8:$W$1048576,10,0)","v":27},{"$f":"VLOOKUP($D47,'Resultados Gerais'!$B$8:$W$1048576,11,0)","v":18},{"$f":"VLOOKUP($D47,'Resultados Gerais'!$B$8:$W$1048576,12,0)","v":92},{"$f":"VLOOKUP($D47,'Resultados Gerais'!$B$8:$W$1048576,13,0)","v":10},{"$f":"VLOOKUP($D47,'Resultados Gerais'!$B$8:$W$1048576,14,0)","v":69},{"$f":"VLOOKUP($D47,'Resultados Gerais'!$B$8:$W$1048576,15,0)","v":58},{"$f":"VLOOKUP($D47,'Resultados Gerais'!$B$8:$W$1048576,16,0)","v":32},{"$f":"VLOOKUP($D47,'Resultados Gerais'!$B$8:$W$1048576,17,0)","v":11},{"$f":"VLOOKUP($D47,'Resultados Gerais'!$B$8:$W$1048576,18,0)","v":30},{"$f":"VLOOKUP($D47,'Resultados Gerais'!$B$8:$W$1048576,19,0)","v":4},{"$f":"VLOOKUP($D47,'Resultados Gerais'!$B$8:$W$1048576,20,0)","v":97},{"$f":"VLOOKUP($D47,'Resultados Gerais'!$B$8:$W$1048576,21,0)","v":19},{"$f":"VLOOKUP($D47,'Resultados Gerais'!$B$8:$W$1048576,22,0)","v":45},null,null,null,49,{"$f":"COUNTIF(F$12:$Y$111,AC47)","v":21},21]
[null,null,36,{"$f":"COUNT('Resultados Gerais'!$B$8:$B$1048576)-C48","v":1383},{"$f":"VLOOKUP(D48,'Resultados Gerais'!B$8:C$1048576,2,0)","v":"2013-09-14"},{"$f":"VLOOKUP($D48,'Resultados Gerais'!$B$8:$W$1048576,3,0)","v":39},{"$f":"VLOOKUP($D48,'Resultados Gerais'!$B$8:$W$1048576,4,0)","v":8},{"$f":"VLOOKUP($D48,'Resultados Gerais'!$B$8:$W$1048576,5,0)","v":87},{"$f":"VLOOKUP($D48,'Resultados Gerais'!$B$8:$W$1048576,6,0)","v":59},{"$f":"VLOOKUP($D48,'Resultados Gerais'!$B$8:$W$1048576,7,0)","v":46},{"$f":"VLOOKUP($D48,'Resultados Gerais'!$B$8:$W$1048576,8,0)","v":14},{"$f":"VLOOKUP($D48,'Resultados Gerais'!$B$8:$W$1048576,9,0)","v":95},{"$f":"VLOOKUP($D48,'Resultados Gerais'!$B$8:$W$1048576,10,0)","v":73},{"$f":"VLOOKUP($D48,'Resultados Gerais'!$B$8:$W$1048576,11,0)","v":96},{"$f":"VLOOKUP($D48,'Resultados Gerais'!$B$8:$W$1048576,12,0)","v":90},{"$f":"VLOOKUP($D48,'Resultados Gerais'!$B$8:$W$1048576,13,0)","v":58},{"$f":"VLOOKUP($D48,'Resultados Gerais'!$B$8:$W$1048576,14,0)","v":25},{"$f":"VLOOKUP($D48,'Resultados Gerais'!$B$8:$W$1048576,15,0)","v":43},{"$f":"VLOOKUP($D48,'Resultados Gerais'!$B$8:$W$1048576,16,0)","v":74},{"$f":"VLOOKUP($D48,'Resultados Gerais'!$B$8:$W$1048576,17,0)","v":9},{"$f":"VLOOKUP($D48,'Resultados Gerais'!$B$8:$W$1048576,18,0)","v":62},{"$f":"VLOOKUP($D48,'Resultados Gerais'!$B$8:$W$1048576,19,0)","v":31},{"$f":"VLOOKUP($D48,'Resultados Gerais'!$B$8:$W$1048576,20,0)","v":47},{"$f":"VLOOKUP($D48,'Resultados Gerais'!$B$8:$W$1048576,21,0)","v":66},{"$f":"VLOOKUP($D48,'Resultados Gerais'!$B$8:$W$1048576,22,0)","v":27},null,null,null,29,{"$f":"COUNTIF(F$12:$Y$111,AC48)","v":21},21]
[null,null,37,{"$f":"COUNT('Resultados Gerais'!$B$8:$B$1048576)-C49","v":1382},{"$f":"VLOOKUP(D49,'Resultados Gerais'!B$8:C$1048576,2,0)","v":"2013-09-11"},{"$f":"VLOOKUP($D49,'Resultados Gerais'!$B$8:$W$1048576,3,0)","v":14},{"$f":"VLOOKUP($D49,'Resultados Gerais'!$B$8:$W$1048576,4,0)","v":58},{"$f":"VLOOKUP($D49,'Resultados Gerais'!$B$8:$W$1048576,5,0)","v":20},{"$f":"VLOOKUP($D49,'Resultados Gerais'!$B$8:$W$1048576,6,0)","v":82},{"$f":"VLOOKUP($D49,'Resultados Gerais'!$B$8:$W$1048576,7,0)","v":98},{"$f":"VLOOKUP($D49,'Resultados Gerais'!$B$8:$W$1048576,8,0)","v":12},{"$f":"VLOOKUP($D49,'Resultados Gerais'!$B$8:$W$1048576,9,0)","v":28},{"$f":"VLOOKUP($D49,'Resultados Gerais'!$B$8:$W$1048576,10,0)","v":33},{"$f":"VLOOKUP($D49,'Resultados Gerais'!$B$8:$W$1048576,11,0)","v":95},{"$f":"VLOOKUP($D49,'Resultados Gerais'!$B$8:$W$1048576,12,0)","v":43},{"$f":"VLOOKUP($D49,'Resultados Gerais'!$B$8:$W$1048576,13,0)","v":36},{"$f":"VLOOKUP($D49,'Resultados Gerais'!$B$8:$W$1048576,14,0)","v":35},{"$f":"VLOOKUP($D49,'Resultados Gerais'!$B$8:$W$1048576,15,0)","v":80},{"$f":"VLOOKUP($D49,'Resultados Gerais'!$B$8:$W$1048576,16,0)","v":92},{"$f":"VLOOKUP($D49,'Resultados Gerais'!$B$8:$W$1048576,17,0)","v":73},{"$f":"VLOOKUP($D49,'Resultados Gerais'!$B$8:$W$1048576,18,0)","v":3},{"$f":"VLOOKUP($D49,'Resultados Gerais'!$B$8:$W$1048576,19,0)","v":34},{"$f":"VLOOKUP($D49,'Resultados Gerais'!$B$8:$W$1048576,20,0)","v":70},{"$f":"VLOOKUP($D49,'Resultados Gerais'!$B$8:$W$1048576,21,0)","v":31},{"$f":"VLOOKUP($D49,'Resultados Gerais'!$B$8:$W$1048576,22,0)","v":54},null,null,null,8,{"$f":"COUNTIF(F$12:$Y$111,AC49)","v":21},21]
[null,null,38,{"$f":"COUNT('Resultados Gerais'!$B$8:$B$1048576)-C50","v":1381},{"$f":"VLOOKUP(D50,'Resultados Gerais'!B$8:C$1048576,2,0)","v":"2013-09-06"},{"$f":"VLOOKUP($D50,'Resultados Gerais'!$B$8:$W$1048576,3,0)","v":41},{"$f":"VLOOKUP($D50,'Resultados Gerais'!$B$8:$W$1048576,4,0)","v":18},{"$f":"VLOOKUP($D50,'Resultados Gerais'!$B$8:$W$1048576,5,0)","v":38},{"$f":"VLOOKUP($D50,'Resultados Gerais'!$B$8:$W$1048576,6,0)","v":84},{"$f":"VLOOKUP($D50,'Resultados Gerais'!$B$8:$W$1048576,7,0)","v":59},{"$f":"VLOOKUP($D50,'Resultados Gerais'!$B$8:$W$1048576,8,0)","v":89},{"$f":"VLOOKUP($D50,'Resultados Gerais'!$B$8:$W$1048576,9,0)","v":1},{"$f":"VLOOKUP($D50,'Resultados Gerais'!$B$8:$W$1048576,10,0)","v":49},{"$f":"VLOOKUP($D50,'Resultados Gerais'!$B$8:$W$1048576,11,0)","v":82},{"$f":"VLOOKUP($D50,'Resultados Gerais'!$B$8:$W$1048576,12,0)","v":46},{"$f":"VLOOKUP($D50,'Resultados Gerais'!$B$8:$W$1048576,13,0)","v":98},{"$f":"VLOOKUP($D50,'Resultados Gerais'!$B$8:$W$1048576,14,0)","v":57},{"$f":"VLOOKUP($D50,'Resultados Gerais'!$B$8:$W$1048576,15,0)","v":96},{"$f":"VLOOKUP($D50,'Resultados Gerais'!$B$8:$W$1048576,16,0)","v":44},{"$f":"VLOOKUP($D50,'Resultados Gerais'!$B$8:$W$1048576,17,0)","v":91},{"$f":"VLOOKUP($D50,'Resultados Gerais'!$B$8:$W$1048576,18,0)","v":33},{"$f":"VLOOKUP($D50,'Resultados Gerais'!$B$8:$W$1048576,19,0)","v":8},{"$f":"VLOOKUP($D50,'Resultados Gerais'!$B$8:$W$1048576,20,0)","v":17},{"$f":"VLOOKUP($D50,'Resultados Gerais'!$B$8:$W$1048576,21,0)","v":65},{"$f":"VLOOKUP($D50,'Resultados Gerais'!$B$8:$W$1048576,22,0)","v":58},null,null,null,74,{"$f":"COUNTIF(F$12:$Y$111,AC50)","v":21},21]
[null,null,39,{"$f":"COUNT('Resultados Gerais'!$B$8:$B$1048576)-C51","v":1380},{"$f":"VLOOKUP(D51,'Resultados Gerais'!B$8:C$1048576,2,0)","v":"2013-09-04"},{"$f":"VLOOKUP($D51,'Resultados Gerais'!$B$8:$W$1048576,3,0)","v":25},{"$f":"VLOOKUP($D51,'Resultados Gerais'!$B$8:$W$1048576,4,0)","v":16},{"$f":"VLOOKUP($D51,'Resultados Gerais'!$B$8:$W$1048576,5,0)","v":27},{"$f":"VLOOKUP($D51,'Resultados Gerais'!$B$8:$W$1048576,6,0)","v":53},{"$f":"VLOOKUP($D51,'Resultados Gerais'!$B$8:$W$1048576,7,0)","v":79},{"$f":"VLOOKUP($D51,'Resultados Gerais'!$B$8:$W$1048576,8,0)","v":80},{"$f":"VLOOKUP($D51,'Resultados Gerais'!$B$8:$W$1048576,9,0)","v":22},{"$f":"VLOOKUP($D51,'Resultados Gerais'!$B$8:$W$1048576,10,0)","v":12},{"$f":"VLOOKUP($D51,'Resultados Gerais'!$B$8:$W$1048576,11,0)","v":67},{"$f":"VLOOKUP($D51,'Resultados Gerais'!$B$8:$W$1048576,12,0)","v":97},{"$f":"VLOOKUP($D51,'Resultados Gerais'!$B$8:$W$1048576,13,0)","v":29},{"$f":"VLOOKUP($D51,'Resultados Gerais'!$B$8:$W$1048576,14,0)","v":14},{"$f":"VLOOKUP($D51,'Resultados Gerais'!$B$8:$W$1048576,15,0)","v":64},{"$f":"VLOOKUP($D51,'Resultados Gerais'!$B$8:$W$1048576,16,0)","v":47},{"$f":"VLOOKUP($D51,'Resultados Gerais'!$B$8:$W$1048576,17,0)","v":76},{"$f":"VLOOKUP($D51,'Resultados Gerais'!$B$8:$W$1048576,18,0)","v":21},{"$f":"VLOOKUP($D51,'Resultados Gerais'!$B$8:$W$1048576,19,0)","v":17},{"$f":"VLOOKUP($D51,'Resultados Gerais'!$B$8:$W$1048576,20,0)","v":8},{"$f":"VLOOKUP($D51,'Resultados Gerais'!$B$8:$W$1048576,21,0)","v":63},{"$f":"VLOOKUP($D51,'Resultados Gerais'!$B$8:$W$1048576,22,0)","v":23},null,null,null,6,{"$f":"COUNTIF(F$12:$Y$111,AC51)","v":21},21]
[null,null,40,{"$f":"COUNT('Resultados Gerais'!$B$8:$B$1048576)-C52","v":1379},{"$f":"VLOOKUP(D52,'Resultados Gerais'!B$8:C$1048576,2,0)","v":"2013-08-31"},{"$f":"VLOOKUP($D52,'Resultados Gerais'!$B$8:$W$1048576,3,0)","v":76},{"$f":"VLOOKUP($D52,'Resultados Gerais'!$B$8:$W$1048576,4,0)","v":26},{"$f":"VLOOKUP($D52,'Resultados Gerais'!$B$8:$W$1048576,5,0)","v":95},{"$f":"VLOOKUP($D52,'Resultados Gerais'!$B$8:$W$1048576,6,0)","v":37},{"$f":"VLOOKUP($D52,'Resultados Gerais'!$B$8:$W$1048576,7,0)","v":61},{"$f":"VLOOKUP($D52,'Resultados Gerais'!$B$8:$W$1048576,8,0)","v":16},{"$f":"VLOOKUP($D52,'Resultados Gerais'!$B$8:$W$1048576,9,0)","v":6},{"$f":"VLOOKUP($D52,'Resultados Gerais'!$B$8:$W$1048576,10,0)","v":58},{"$f":"VLOOKUP($D52,'Resultados Gerais'!$B$8:$W$1048576,11,0)","v":77},{"$f":"VLOOKUP($D52,'Resultados Gerais'!$B$8:$W$1048576,12,0)","v":57},{"$f":"VLOOKUP($D52,'Resultados Gerais'!$B$8:$W$1048576,13,0)","v":24},{"$f":"VLOOKUP($D52,'Resultados Gerais'!$B$8:$W$1048576,14,0)","v":69},{"$f":"VLOOKUP($D52,'Resultados Gerais'!$B$8:$W$1048576,15,0)","v":88},{"$f":"VLOOKUP($D52,'Resultados Gerais'!$B$8:$W$1048576,16,0)","v":79},{"$f":"VLOOKUP($D52,'Resultados Gerais'!$B$8:$W$1048576,17,0)","v":40},{"$f":"VLOOKUP($D52,'Resultados Gerais'!$B$8:$W$1048576,18,0)","v":55},{"$f":"VLOOKUP($D52,'Resultados Gerais'!$B$8:$W$1048576,19,0)","v":80},{"$f":"VLOOKUP($D52,'Resultados Gerais'!$B$8:$W$1048576,20,0)","v":73},{"$f":"VLOOKUP($D52,'Resultados Gerais'!$B$8:$W$1048576,21,0)","v":75},{"$f":"VLOOKUP($D52,'Resultados Gerais'!$B$8:$W$1048576,22,0)","v":67},null,null,null,56,{"$f":"COUNTIF(F$12:$Y$111,AC52)","v":21},21]
[null,null,41,{"$f":"COUNT('Resultados Gerais'!$B$8:$B$1048576)-C53","v":1378},{"$f":"VLOOKUP(D53,'Resultados Gerais'!B$8:C$1048576,2,0)","v":"2013-08-28"},{"$f":"VLOOKUP($D53,'Resultados Gerais'!$B$8:$W$1048576,3,0)","v":93},{"$f":"VLOOKUP($D53,'Resultados Gerais'!$B$8:$W$1048576,4,0)","v":32},{"$f":"VLOOKUP($D53,'Resultados Gerais'!$B$8:$W$1048576,5,0)","v":69},{"$f":"VLOOKUP($D53,'Resultados Gerais'!$B$8:$W$1048576,6,0)","v":72},{"$f":"VLOOKUP($D53,'Resultados Gerais'!$B$8:$W$1048576,7,0)","v":17},{"$f":"VLOOKUP($D53,'Resultados Gerais'!$B$8:$W$1048576,8,0)","v":16},{"$f":"VLOOKUP($D53,'Resultados Gerais'!$B$8:$W$1048576,9,0)","v":35},{"$f":"VLOOKUP($D53,'Resultados Gerais'!$B$8:$W$1048576,10,0)","v":9},{"$f":"VLOOKUP($D53,'Resultados Gerais'!$B$8:$W$1048576,11,0)","v":43},{"$f":"VLOOKUP($D53,'Resultados Gerais'!$B$8:$W$1048576,12,0)","v":49},{"$f":"VLOOKUP($D53,'Resultados Gerais'!$B$8:$W$1048576,13,0)","v":70},{"$f":"VLOOKUP($D53,'Resultados Gerais'!$B$8:$W$1048576,14,0)","v":82},{"$f":"VLOOKUP($D53,'Resultados Gerais'!$B$8:$W$1048576,15,0)","v":23},{"$f":"VLOOKUP($D53,'Resultados Gerais'!$B$8:$W$1048576,16,0)","v":45},{"$f":"VLOOKUP($D53,'Resultados Gerais'!$B$8:$W$1048576,17,0)","v":64},{"$f":"VLOOKUP($D53,'Resultados Gerais'!$B$8:$W$1048576,18,0)","v":96},{"$f":"VLOOKUP($D53,'Resultados Gerais'!$B$8:$W$1048576,19,0)","v":24},{"$f":"VLOOKUP($D53,'Resultados Gerais'!$B$8:$W$1048576,20,0)","v":83},{"$f":"VLOOKUP($D53,'Resultados Gerais'!$B$8:$W$1048576,21,0)","v":61},{"$f":"VLOOKUP($D53,'Resultados Gerais'!$B$8:$W$1048576,22,0)","v":39},null,null,null,66,{"$f":"COUNTIF(F$12:$Y$111,AC53)","v":21},21]
[null,null,42,{"$f":"COUNT('Resultados Gerais'!$B$8:$B$1048576)-C54","v":1377},{"$f":"VLOOKUP(D54,'Resultados Gerais'!B$8:C$1048576,2,0)","v":"2013-08-24"},{"$f":"VLOOKUP($D54,'Resultados Gerais'!$B$8:$W$1048576,3,0)","v":60},{"$f":"VLOOKUP($D54,'Resultados Gerais'!$B$8:$W$1048576,4,0)","v":51},{"$f":"VLOOKUP($D54,'Resultados Gerais'!$B$8:$W$1048576,5,0)","v":58},{"$f":"VLOOKUP($D54,'Resultados Gerais'!$B$8:$W$1048576,6,0)","v":85},{"$f":"VLOOKUP($D54,'Resultados Gerais'!$B$8:$W$1048576,7,0)","v":80},{"$f":"VLOOKUP($D54,'Resultados Gerais'!$B$8:$W$1048576,8,0)","v":2},{"$f":"VLOOKUP($D54,'Resultados Gerais'!$B$8:$W$1048576,9,0)","v":77},{"$f":"VLOOKUP($D54,'Resultados Gerais'!$B$8:$W$1048576,10,0)","v":21},{"$f":"VLOOKUP($D54,'Resultados Gerais'!$B$8:$W$1048576,11,0)","v":46},{"$f":"VLOOKUP($D54,'Resultados Gerais'!$B$8:$W$1048576,12,0)","v":17},{"$f":"VLOOKUP($D54,'Resultados Gerais'!$B$8:$W$1048576,13,0)","v":10},{"$f":"VLOOKUP($D54,'Resultados Gerais'!$B$8:$W$1048576,14,0)","v":31},{"$f":"VLOOKUP($D54,'Resultados Gerais'!$B$8:$W$1048576,15,0)","v":25},{"$f":"VLOOKUP($D54,'Resultados Gerais'!$B$8:$W$1048576,16,0)","v":34},{"$f":"VLOOKUP($D54,'Resultados Gerais'!$B$8:$W$1048576,17,0)","v":87},{"$f":"VLOOKUP($D54,'Resultados Gerais'!$B$8:$W$1048576,18,0)","v":69},{"$f":"VLOOKUP($D54,'Resultados Gerais'!$B$8:$W$1048576,19,0)","v":28},{"$f":"VLOOKUP($D54,'Resultados Gerais'!$B$8:$W$1048576,20,0)","v":32},{"$f":"VLOOKUP($D54,'Resultados Gerais'!$B$8:$W$1048576,21,0)","v":5},{"$f":"VLOOKUP($D54,'Resultados Gerais'!$B$8:$W$1048576,22,0)","v":6},null,null,null,27,{"$f":"COUNTIF(F$12:$Y$111,AC54)","v":21},21]
[null,null,43,{"$f":"COUNT('Resultados Gerais'!$B$8:$B$1048576)-C55","v":1376},{"$f":"VLOOKUP(D55,'Resultados Gerais'!B$8:C$1048576,2,0)","v":"2013-08-21"},{"$f":"VLOOKUP($D55,'Resultados Gerais'!$B$8:$W$1048576,3,0)","v":31},{"$f":"VLOOKUP($D55,'Resultados Gerais'!$B$8:$W$1048576,4,0)","v":45},{"$f":"VLOOKUP($D55,'Resultados Gerais'!$B$8:$W$1048576,5,0)","v":58},{"$f":"VLOOKUP($D55,'Resultados Gerais'!$B$8:$W$1048576,6,0)","v":4},{"$f":"VLOOKUP($D55,'Resultados Gerais'!$B$8:$W$1048576,7,0)","v":13},{"$f":"VLOOKUP($D55,'Resultados Gerais'!$B$8:$W$1048576,8,0)","v":56},{"$f":"VLOOKUP($D55,'Resultados Gerais'!$B$8:$W$1048576,9,0)","v":11},{"$f":"VLOOKUP($D55,'Resultados Gerais'!$B$8:$W$1048576,10,0)","v":88},{"$f":"VLOOKUP($D55,'Resultados Gerais'!$B$8:$W$1048576,11,0)","v":84},{"$f":"VLOOKUP($D55,'Resultados Gerais'!$B$8:$W$1048576,12,0)","v":61},{"$f":"VLOOKUP($D55,'Resultados Gerais'!$B$8:$W$1048576,13,0)","v":16},{"$f":"VLOOKUP($D55,'Resultados Gerais'!$B$8:$W$1048576,14,0)","v":97},{"$f":"VLOOKUP($D55,'Resultados Gerais'!$B$8:$W$1048576,15,0)","v":92},{"$f":"VLOOKUP($D55,'Resultados Gerais'!$B$8:$W$1048576,16,0)","v":91},{"$f":"VLOOKUP($D55,'Resultados Gerais'!$B$8:$W$1048576,17,0)","v":36},{"$f":"VLOOKUP($D55,'Resultados Gerais'!$B$8:$W$1048576,18,0)","v":32},{"$f":"VLOOKUP($D55,'Resultados Gerais'!$B$8:$W$1048576,19,0)","v":47},{"$f":"VLOOKUP($D55,'Resultados Gerais'!$B$8:$W$1048576,20,0)","v":71},{"$f":"VLOOKUP($D55,'Resultados Gerais'!$B$8:$W$1048576,21,0)","v":60},{"$f":"VLOOKUP($D55,'Resultados Gerais'!$B$8:$W$1048576,22,0)","v":77},null,null,null,33,{"$f":"COUNTIF(F$12:$Y$111,AC55)","v":21},21]
[null,null,44,{"$f":"COUNT('Resultados Gerais'!$B$8:$B$1048576)-C56","v":1375},{"$f":"VLOOKUP(D56,'Resultados Gerais'!B$8:C$1048576,2,0)","v":"2013-08-17"},{"$f":"VLOOKUP($D56,'Resultados Gerais'!$B$8:$W$1048576,3,0)","v":42},{"$f":"VLOOKUP($D56,'Resultados Gerais'!$B$8:$W$1048576,4,0)","v":68},{"$f":"VLOOKUP($D56,'Resultados Gerais'!$B$8:$W$1048576,5,0)","v":21},{"$f":"VLOOKUP($D56,'Resultados Gerais'!$B$8:$W$1048576,6,0)","v":59},{"$f":"VLOOKUP($D56,'Resultados Gerais'!$B$8:$W$1048576,7,0)","v":30},{"$f":"VLOOKUP($D56,'Resultados Gerais'!$B$8:$W$1048576,8,0)","v":83},{"$f":"VLOOKUP($D56,'Resultados Gerais'!$B$8:$W$1048576,9,0)","v":10},{"$f":"VLOOKUP($D56,'Resultados Gerais'!$B$8:$W$1048576,10,0)","v":57},{"$f":"VLOOKUP($D56,'Resultados Gerais'!$B$8:$W$1048576,11,0)","v":93},{"$f":"VLOOKUP($D56,'Resultados Gerais'!$B$8:$W$1048576,12,0)","v":31},{"$f":"VLOOKUP($D56,'Resultados Gerais'!$B$8:$W$1048576,13,0)","v":3},{"$f":"VLOOKUP($D56,'Resultados Gerais'!$B$8:$W$1048576,14,0)","v":60},{"$f":"VLOOKUP($D56,'Resultados Gerais'!$B$8:$W$1048576,15,0)","v":1},{"$f":"VLOOKUP($D56,'Resultados Gerais'!$B$8:$W$1048576,16,0)","v":9},{"$f":"VLOOKUP($D56,'Resultados Gerais'!$B$8:$W$1048576,17,0)","v":87},{"$f":"VLOOKUP($D56,'Resultados Gerais'!$B$8:$W$1048576,18,0)","v":85},{"$f":"VLOOKUP($D56,'Resultados Gerais'!$B$8:$W$1048576,19,0)","v":90},{"$f":"VLOOKUP($D56,'Resultados Gerais'!$B$8:$W$1048576,20,0)","v":28},{"$f":"VLOOKUP($D56,'Resultados Gerais'!$B$8:$W$1048576,21,0)","v":6},{"$f":"VLOOKUP($D56,'Resultados Gerais'!$B$8:$W$1048576,22,0)","v":61},null,null,null,36,{"$f":"COUNTIF(F$12:$Y$111,AC56)","v":21},21]
[null,null,45,{"$f":"COUNT('Resultados Gerais'!$B$8:$B$1048576)-C57","v":1374},{"$f":"VLOOKUP(D57,'Resultados Gerais'!B$8:C$1048576,2,0)","v":"2013-08-14"},{"$f":"VLOOKUP($D57,'Resultados Gerais'!$B$8:$W$1048576,3,0)","v":0},{"$f":"VLOOKUP($D57,'Resultados Gerais'!$B$8:$W$1048576,4,0)","v":90},{"$f":"VLOOKUP($D57,'Resultados Gerais'!$B$8:$W$1048576,5,0)","v":41},{"$f":"VLOOKUP($D57,'Resultados Gerais'!$B$8:$W$1048576,6,0)","v":56},{"$f":"VLOOKUP($D57,'Resultados Gerais'!$B$8:$W$1048576,7,0)","v":33},{"$f":"VLOOKUP($D57,'Resultados Gerais'!$B$8:$W$1048576,8,0)","v":32},{"$f":"VLOOKUP($D57,'Resultados Gerais'!$B$8:$W$1048576,9,0)","v":18},{"$f":"VLOOKUP($D57,'Resultados Gerais'!$B$8:$W$1048576,10,0)","v":13},{"$f":"VLOOKUP($D57,'Resultados Gerais'!$B$8:$W$1048576,11,0)","v":4},{"$f":"VLOOKUP($D57,'Resultados Gerais'!$B$8:$W$1048576,12,0)","v":20},{"$f":"VLOOKUP($D57,'Resultados Gerais'!$B$8:$W$1048576,13,0)","v":94},{"$f":"VLOOKUP($D57,'Resultados Gerais'!$B$8:$W$1048576,14,0)","v":2},{"$f":"VLOOKUP($D57,'Resultados Gerais'!$B$8:$W$1048576,15,0)","v":93},{"$f":"VLOOKUP($D57,'Resultados Gerais'!$B$8:$W$1048576,16,0)","v":64},{"$f":"VLOOKUP($D57,'Resultados Gerais'!$B$8:$W$1048576,17,0)","v":69},{"$f":"VLOOKUP($D57,'Resultados Gerais'!$B$8:$W$1048576,18,0)","v":31},{"$f":"VLOOKUP($D57,'Resultados Gerais'!$B$8:$W$1048576,19,0)","v":68},{"$f":"VLOOKUP($D57,'Resultados Gerais'!$B$8:$W$1048576,20,0)","v":5},{"$f":"VLOOKUP($D57,'Resultados Gerais'!$B$8:$W$1048576,21,0)","v":19},{"$f":"VLOOKUP($D57,'Resultados Gerais'!$B$8:$W$1048576,22,0)","v":61},null,null,null,37,{"$f":"COUNTIF(F$12:$Y$111,AC57)","v":21},21]
[null,null,46,{"$f":"COUNT('Resultados Gerais'!$B$8:$B$1048576)-C58","v":1373},{"$f":"VLOOKUP(D58,'Resultados Gerais'!B$8:C$1048576,2,0)","v":"2013-08-10"},{"$f":"VLOOKUP($D58,'Resultados Gerais'!$B$8:$W$1048576,3,0)","v":63},{"$f":"VLOOKUP($D58,'Resultados Gerais'!$B$8:$W$1048576,4,0)","v":73},{"$f":"VLOOKUP($D58,'Resultados Gerais'!$B$8:$W$1048576,5,0)","v":33},{"$f":"VLOOKUP($D58,'Resultados Gerais'!$B$8:$W$1048576,6,0)","v":70},{"$f":"VLOOKUP($D58,'Resultados Gerais'!$B$8:$W$1048576,7,0)","v":18},{"$f":"VLOOKUP($D58,'Resultados Gerais'!$B$8:$W$1048576,8,0)","v":74},{"$f":"VLOOKUP($D58,'Resultados Gerais'!$B$8:$W$1048576,9,0)","v":30},{"$f":"VLOOKUP($D58,'Resultados Gerais'!$B$8:$W$1048576,10,0)","v":43},{"$f":"VLOOKUP($D58,'Resultados Gerais'!$B$8:$W$1048576,11,0)","v":68},{"$f":"VLOOKUP($D58,'Resultados Gerais'!$B$8:$W$1048576,12,0)","v":57},{"$f":"VLOOKUP($D58,'Resultados Gerais'!$B$8:$W$1048576,13,0)","v":93},{"$f":"VLOOKUP($D58,'Resultados Gerais'!$B$8:$W$1048576,14,0)","v":38},{"$f":"VLOOKUP($D58,'Resultados Gerais'!$B$8:$W$1048576,15,0)","v":86},{"$f":"VLOOKUP($D58,'Resultados Gerais'!$B$8:$W$1048576,16,0)","v":97},{"$f":"VLOOKUP($D58,'Resultados Gerais'!$B$8:$W$1048576,17,0)","v":44},{"$f":"VLOOKUP($D58,'Resultados Gerais'!$B$8:$W$1048576,18,0)","v":55},{"$f":"VLOOKUP($D58,'Resultados Gerais'!$B$8:$W$1048576,19,0)","v":24},{"$f":"VLOOKUP($D58,'Resultados Gerais'!$B$8:$W$1048576,20,0)","v":87},{"$f":"VLOOKUP($D58,'Resultados Gerais'!$B$8:$W$1048576,21,0)","v":90},{"$f":"VLOOKUP($D58,'Resultados Gerais'!$B$8:$W$1048576,22,0)","v":29},null,null,null,40,{"$f":"COUNTIF(F$12:$Y$111,AC58)","v":21},21]
[null,null,47,{"$f":"COUNT('Resultados Gerais'!$B$8:$B$1048576)-C59","v":1372},{"$f":"VLOOKUP(D59,'Resultados Gerais'!B$8:C$1048576,2,0)","v":"2013-08-07"},{"$f":"VLOOKUP($D59,'Resultados Gerais'!$B$8:$W$1048576,3,0)","v":19},{"$f":"VLOOKUP($D59,'Resultados Gerais'!$B$8:$W$1048576,4,0)","v":5},{"$f":"VLOOKUP($D59,'Resultados Gerais'!$B$8:$W$1048576,5,0)","v":50},{"$f":"VLOOKUP($D59,'Resultados Gerais'!$B$8:$W$1048576,6,0)","v":20},{"$f":"VLOOKUP($D59,'Resultados Gerais'!$B$8:$W$1048576,7,0)","v":54},{"$f":"VLOOKUP($D59,'Resultados Gerais'!$B$8:$W$1048576,8,0)","v":23},{"$f":"VLOOKUP($D59,'Resultados Gerais'!$B$8:$W$1048576,9,0)","v":99},{"$f":"VLOOKUP($D59,'Resultados Gerais'!$B$8:$W$1048576,10,0)","v":64},{"$f":"VLOOKUP($D59,'Resultados Gerais'!$B$8:$W$1048576,11,0)","v":35},{"$f":"VLOOKUP($D59,'Resultados Gerais'!$B$8:$W$1048576,12,0)","v":66},{"$f":"VLOOKUP($D59,'Resultados Gerais'!$B$8:$W$1048576,13,0)","v":28},{"$f":"VLOOKUP($D59,'Resultados Gerais'!$B$8:$W$1048576,14,0)","v":26},{"$f":"VLOOKUP($D59,'Resultados Gerais'!$B$8:$W$1048576,15,0)","v":34},{"$f":"VLOOKUP($D59,'Resultados Gerais'!$B$8:$W$1048576,16,0)","v":3},{"$f":"VLOOKUP($D59,'Resultados Gerais'!$B$8:$W$1048576,17,0)","v":86},{"$f":"VLOOKUP($D59,'Resultados Gerais'!$B$8:$W$1048576,18,0)","v":87},{"$f":"VLOOKUP($D59,'Resultados Gerais'!$B$8:$W$1048576,19,0)","v":12},{"$f":"VLOOKUP($D59,'Resultados Gerais'!$B$8:$W$1048576,20,0)","v":39},{"$f":"VLOOKUP($D59,'Resultados Gerais'!$B$8:$W$1048576,21,0)","v":68},{"$f":"VLOOKUP($D59,'Resultados Gerais'!$B$8:$W$1048576,22,0)","v":91},null,null,null,97,{"$f":"COUNTIF(F$12:$Y$111,AC59)","v":21},21]
[null,null,48,{"$f":"COUNT('Resultados Gerais'!$B$8:$B$1048576)-C60","v":1371},{"$f":"VLOOKUP(D60,'Resultados Gerais'!B$8:C$1048576,2,0)","v":"2013-08-03"},{"$f":"VLOOKUP($D60,'Resultados Gerais'!$B$8:$W$1048576,3,0)","v":42},{"$f":"VLOOKUP($D60,'Resultados Gerais'!$B$8:$W$1048576,4,0)","v":41},{"$f":"VLOOKUP($D60,'Resultados Gerais'!$B$8:$W$1048576,5,0)","v":79},{"$f":"VLOOKUP($D60,'Resultados Gerais'!$B$8:$W$1048576,6,0)","v":71},{"$f":"VLOOKUP($D60,'Resultados Gerais'!$B$8:$W$1048576,7,0)","v":24},{"$f":"VLOOKUP($D60,'Resultados Gerais'!$B$8:$W$1048576,8,0)","v":57},{"$f":"VLOOKUP($D60,'Resultados Gerais'!$B$8:$W$1048576,9,0)","v":60},{"$f":"VLOOKUP($D60,'Resultados Gerais'!$B$8:$W$1048576,10,0)","v":18},{"$f":"VLOOKUP($D60,'Resultados Gerais'!$B$8:$W$1048576,11,0)","v":13},{"$f":"VLOOKUP($D60,'Resultados Gerais'!$B$8:$W$1048576,12,0)","v":69},{"$f":"VLOOKUP($D60,'Resultados Gerais'!$B$8:$W$1048576,13,0)","v":35},{"$f":"VLOOKUP($D60,'Resultados Gerais'!$B$8:$W$1048576,14,0)","v":44},{"$f":"VLOOKUP($D60,'Resultados Gerais'!$B$8:$W$1048576,15,0)","v":73},{"$f":"VLOOKUP($D60,'Resultados Gerais'!$B$8:$W$1048576,16,0)","v":90},{"$f":"VLOOKUP($D60,'Resultados Gerais'!$B$8:$W$1048576,17,0)","v":86},{"$f":"VLOOKUP($D60,'Resultados Gerais'!$B$8:$W$1048576,18,0)","v":99},{"$f":"VLOOKUP($D60,'Resultados Gerais'!$B$8:$W$1048576,19,0)","v":16},{"$f":"VLOOKUP($D60,'Resultados Gerais'!$B$8:$W$1048576,20,0)","v":39},{"$f":"VLOOKUP($D60,'Resultados Gerais'!$B$8:$W$1048576,21,0)","v":94},{"$f":"VLOOKUP($D60,'Resultados Gerais'!$B$8:$W$1048576,22,0)","v":1},null,null,null,19,{"$f":"COUNTIF(F$12:$Y$111,AC60)","v":20},20]
[null,null,49,{"$f":"COUNT('Resultados Gerais'!$B$8:$B$1048576)-C61","v":1370},{"$f":"VLOOKUP(D61,'Resultados Gerais'!B$8:C$1048576,2,0)","v":"2013-07-31"},{"$f":"VLOOKUP($D61,'Resultados Gerais'!$B$8:$W$1048576,3,0)","v":88},{"$f":"VLOOKUP($D61,'Resultados Gerais'!$B$8:$W$1048576,4,0)","v":5},{"$f":"VLOOKUP($D61,'Resultados Gerais'!$B$8:$W$1048576,5,0)","v":78},{"$f":"VLOOKUP($D61,'Resultados Gerais'!$B$8:$W$1048576,6,0)","v":21},{"$f":"VLOOKUP($D61,'Resultados Gerais'!$B$8:$W$1048576,7,0)","v":58},{"$f":"VLOOKUP($D61,'Resultados Gerais'!$B$8:$W$1048576,8,0)","v":40},{"$f":"VLOOKUP($D61,'Resultados Gerais'!$B$8:$W$1048576,9,0)","v":9},{"$f":"VLOOKUP($D61,'Resultados Gerais'!$B$8:$W$1048576,10,0)","v":7},{"$f":"VLOOKUP($D61,'Resultados Gerais'!$B$8:$W$1048576,11,0)","v":57},{"$f":"VLOOKUP($D61,'Resultados Gerais'!$B$8:$W$1048576,12,0)","v":10},{"$f":"VLOOKUP($D61,'Resultados Gerais'!$B$8:$W$1048576,13,0)","v":20},{"$f":"VLOOKUP($D61,'Resultados Gerais'!$B$8:$W$1048576,14,0)","v":75},{"$f":"VLOOKUP($D61,'Resultados Gerais'!$B$8:$W$1048576,15,0)","v":46},{"$f":"VLOOKUP($D61,'Resultados Gerais'!$B$8:$W$1048576,16,0)","v":43},{"$f":"VLOOKUP($D61,'Resultados Gerais'!$B$8:$W$1048576,17,0)","v":53},{"$f":"VLOOKUP($D61,'Resultados Gerais'!$B$8:$W$1048576,18,0)","v":66},{"$f":"VLOOKUP($D61,'Resultados Gerais'!$B$8:$W$1048576,19,0)","v":24},{"$f":"VLOOKUP($D61,'Resultados Gerais'!$B$8:$W$1048576,20,0)","v":3},{"$f":"VLOOKUP($D61,'Resultados Gerais'!$B$8:$W$1048576,21,0)","v":48},{"$f":"VLOOKUP($D61,'Resultados Gerais'!$B$8:$W$1048576,22,0)","v":97},null,null,null,65,{"$f":"COUNTIF(F$12:$Y$111,AC61)","v":20},20]
[null,null,50,{"$f":"COUNT('Resultados Gerais'!$B$8:$B$1048576)-C62","v":1369},{"$f":"VLOOKUP(D62,'Resultados Gerais'!B$8:C$1048576,2,0)","v":"2013-07-27"},{"$f":"VLOOKUP($D62,'Resultados Gerais'!$B$8:$W$1048576,3,0)","v":9},{"$f":"VLOOKUP($D62,'Resultados Gerais'!$B$8:$W$1048576,4,0)","v":1},{"$f":"VLOOKUP($D62,'Resultados Gerais'!$B$8:$W$1048576,5,0)","v":31},{"$f":"VLOOKUP($D62,'Resultados Gerais'!$B$8:$W$1048576,6,0)","v":15},{"$f":"VLOOKUP($D62,'Resultados Gerais'!$B$8:$W$1048576,7,0)","v":68},{"$f":"VLOOKUP($D62,'Resultados Gerais'!$B$8:$W$1048576,8,0)","v":72},{"$f":"VLOOKUP($D62,'Resultados Gerais'!$B$8:$W$1048576,9,0)","v":81},{"$f":"VLOOKUP($D62,'Resultados Gerais'!$B$8:$W$1048576,10,0)","v":6},{"$f":"VLOOKUP($D62,'Resultados Gerais'!$B$8:$W$1048576,11,0)","v":24},{"$f":"VLOOKUP($D62,'Resultados Gerais'!$B$8:$W$1048576,12,0)","v":60},{"$f":"VLOOKUP($D62,'Resultados Gerais'!$B$8:$W$1048576,13,0)","v":75},{"$f":"VLOOKUP($D62,'Resultados Gerais'!$B$8:$W$1048576,14,0)","v":40},{"$f":"VLOOKUP($D62,'Resultados Gerais'!$B$8:$W$1048576,15,0)","v":87},{"$f":"VLOOKUP($D62,'Resultados Gerais'!$B$8:$W$1048576,16,0)","v":13},{"$f":"VLOOKUP($D62,'Resultados Gerais'!$B$8:$W$1048576,17,0)","v":23},{"$f":"VLOOKUP($D62,'Resultados Gerais'!$B$8:$W$1048576,18,0)","v":41},{"$f":"VLOOKUP($D62,'Resultados Gerais'!$B$8:$W$1048576,19,0)","v":69},{"$f":"VLOOKUP($D62,'Resultados Gerais'!$B$8:$W$1048576,20,0)","v":5},{"$f":"VLOOKUP($D62,'Resultados Gerais'!$B$8:$W$1048576,21,0)","v":55},{"$f":"VLOOKUP($D62,'Resultados Gerais'!$B$8:$W$1048576,22,0)","v":65},null,null,null,13,{"$f":"COUNTIF(F$12:$Y$111,AC62)","v":20},20]
[null,null,51,{"$f":"COUNT('Resultados Gerais'!$B$8:$B$1048576)-C63","v":1368},{"$f":"VLOOKUP(D63,'Resultados Gerais'!B$8:C$1048576,2,0)","v":"2013-07-24"},{"$f":"VLOOKUP($D63,'Resultados Gerais'!$B$8:$W$1048576,3,0)","v":15},{"$f":"VLOOKUP($D63,'Resultados Gerais'!$B$8:$W$1048576,4,0)","v":37},{"$f":"VLOOKUP($D63,'Resultados Gerais'!$B$8:$W$1048576,5,0)","v":50},{"$f":"VLOOKUP($D63,'Resultados Gerais'!$B$8:$W$1048576,6,0)","v":13},{"$f":"VLOOKUP($D63,'Resultados Gerais'!$B$8:$W$1048576,7,0)","v":28},{"$f":"VLOOKUP($D63,'Resultados Gerais'!$B$8:$W$1048576,8,0)","v":34},{"$f":"VLOOKUP($D63,'Resultados Gerais'!$B$8:$W$1048576,9,0)","v":60},{"$f":"VLOOKUP($D63,'Resultados Gerais'!$B$8:$W$1048576,10,0)","v":47},{"$f":"VLOOKUP($D63,'Resultados Gerais'!$B$8:$W$1048576,11,0)","v":40},{"$f":"VLOOKUP($D63,'Resultados Gerais'!$B$8:$W$1048576,12,0)","v":30},{"$f":"VLOOKUP($D63,'Resultados Gerais'!$B$8:$W$1048576,13,0)","v":8},{"$f":"VLOOKUP($D63,'Resultados Gerais'!$B$8:$W$1048576,14,0)","v":36},{"$f":"VLOOKUP($D63,'Resultados Gerais'!$B$8:$W$1048576,15,0)","v":42},{"$f":"VLOOKUP($D63,'Resultados Gerais'!$B$8:$W$1048576,16,0)","v":73},{"$f":"VLOOKUP($D63,'Resultados Gerais'!$B$8:$W$1048576,17,0)","v":66},{"$f":"VLOOKUP($D63,'Resultados Gerais'!$B$8:$W$1048576,18,0)","v":19},{"$f":"VLOOKUP($D63,'Resultados Gerais'!$B$8:$W$1048576,19,0)","v":95},{"$f":"VLOOKUP($D63,'Resultados Gerais'!$B$8:$W$1048576,20,0)","v":45},{"$f":"VLOOKUP($D63,'Resultados Gerais'!$B$8:$W$1048576,21,0)","v":90},{"$f":"VLOOKUP($D63,'Resultados Gerais'!$B$8:$W$1048576,22,0)","v":22},null,null,null,21,{"$f":"COUNTIF(F$12:$Y$111,AC63)","v":20},20]
[null,null,52,{"$f":"COUNT('Resultados Gerais'!$B$8:$B$1048576)-C64","v":1367},{"$f":"VLOOKUP(D64,'Resultados Gerais'!B$8:C$1048576,2,0)","v":"2013-07-20"},{"$f":"VLOOKUP($D64,'Resultados Gerais'!$B$8:$W$1048576,3,0)","v":42},{"$f":"VLOOKUP($D64,'Resultados Gerais'!$B$8:$W$1048576,4,0)","v":90},{"$f":"VLOOKUP($D64,'Resultados Gerais'!$B$8:$W$1048576,5,0)","v":1},{"$f":"VLOOKUP($D64,'Resultados Gerais'!$B$8:$W$1048576,6,0)","v":31},{"$f":"VLOOKUP($D64,'Resultados Gerais'!$B$8:$W$1048576,7,0)","v":97},{"$f":"VLOOKUP($D64,'Resultados Gerais'!$B$8:$W$1048576,8,0)","v":99},{"$f":"VLOOKUP($D64,'Resultados Gerais'!$B$8:$W$1048576,9,0)","v":43},{"$f":"VLOOKUP($D64,'Resultados Gerais'!$B$8:$W$1048576,10,0)","v":18},{"$f":"VLOOKUP($D64,'Resultados Gerais'!$B$8:$W$1048576,11,0)","v":83},{"$f":"VLOOKUP($D64,'Resultados Gerais'!$B$8:$W$1048576,12,0)","v":62},{"$f":"VLOOKUP($D64,'Resultados Gerais'!$B$8:$W$1048576,13,0)","v":81},{"$f":"VLOOKUP($D64,'Resultados Gerais'!$B$8:$W$1048576,14,0)","v":78},{"$f":"VLOOKUP($D64,'Resultados Gerais'!$B$8:$W$1048576,15,0)","v":26},{"$f":"VLOOKUP($D64,'Resultados Gerais'!$B$8:$W$1048576,16,0)","v":21},{"$f":"VLOOKUP($D64,'Resultados Gerais'!$B$8:$W$1048576,17,0)","v":19},{"$f":"VLOOKUP($D64,'Resultados Gerais'!$B$8:$W$1048576,18,0)","v":0},{"$f":"VLOOKUP($D64,'Resultados Gerais'!$B$8:$W$1048576,19,0)","v":89},{"$f":"VLOOKUP($D64,'Resultados Gerais'!$B$8:$W$1048576,20,0)","v":41},{"$f":"VLOOKUP($D64,'Resultados Gerais'!$B$8:$W$1048576,21,0)","v":36},{"$f":"VLOOKUP($D64,'Resultados Gerais'!$B$8:$W$1048576,22,0)","v":76},null,null,null,55,{"$f":"COUNTIF(F$12:$Y$111,AC64)","v":20},20]
[null,null,53,{"$f":"COUNT('Resultados Gerais'!$B$8:$B$1048576)-C65","v":1366},{"$f":"VLOOKUP(D65,'Resultados Gerais'!B$8:C$1048576,2,0)","v":"2013-07-17"},{"$f":"VLOOKUP($D65,'Resultados Gerais'!$B$8:$W$1048576,3,0)","v":3},{"$f":"VLOOKUP($D65,'Resultados Gerais'!$B$8:$W$1048576,4,0)","v":2},{"$f":"VLOOKUP($D65,'Resultados Gerais'!$B$8:$W$1048576,5,0)","v":54},{"$f":"VLOOKUP($D65,'Resultados Gerais'!$B$8:$W$1048576,6,0)","v":8},{"$f":"VLOOKUP($D65,'Resultados Gerais'!$B$8:$W$1048576,7,0)","v":27},{"$f":"VLOOKUP($D65,'Resultados Gerais'!$B$8:$W$1048576,8,0)","v":53},{"$f":"VLOOKUP($D65,'Resultados Gerais'!$B$8:$W$1048576,9,0)","v":38},{"$f":"VLOOKUP($D65,'Resultados Gerais'!$B$8:$W$1048576,10,0)","v":93},{"$f":"VLOOKUP($D65,'Resultados Gerais'!$B$8:$W$1048576,11,0)","v":73},{"$f":"VLOOKUP($D65,'Resultados Gerais'!$B$8:$W$1048576,12,0)","v":71},{"$f":"VLOOKUP($D65,'Resultados Gerais'!$B$8:$W$1048576,13,0)","v":7},{"$f":"VLOOKUP($D65,'Resultados Gerais'!$B$8:$W$1048576,14,0)","v":33},{"$f":"VLOOKUP($D65,'Resultados Gerais'!$B$8:$W$1048576,15,0)","v":94},{"$f":"VLOOKUP($D65,'Resultados Gerais'!$B$8:$W$1048576,16,0)","v":80},{"$f":"VLOOKUP($D65,'Resultados Gerais'!$B$8:$W$1048576,17,0)","v":88},{"$f":"VLOOKUP($D65,'Resultados Gerais'!$B$8:$W$1048576,18,0)","v":91},{"$f":"VLOOKUP($D65,'Resultados Gerais'!$B$8:$W$1048576,19,0)","v":65},{"$f":"VLOOKUP($D65,'Resultados Gerais'!$B$8:$W$1048576,20,0)","v":79},{"$f":"VLOOKUP($D65,'Resultados Gerais'!$B$8:$W$1048576,21,0)","v":60},{"$f":"VLOOKUP($D65,'Resultados Gerais'!$B$8:$W$1048576,22,0)","v":15},null,null,null,38,{"$f":"COUNTIF(F$12:$Y$111,AC65)","v":20},20]
[null,null,54,{"$f":"COUNT('Resultados Gerais'!$B$8:$B$1048576)-C66","v":1365},{"$f":"VLOOKUP(D66,'Resultados Gerais'!B$8:C$1048576,2,0)","v":"2013-07-13"},{"$f":"VLOOKUP($D66,'Resultados Gerais'!$B$8:$W$1048576,3,0)","v":65},{"$f":"VLOOKUP($D66,'Resultados Gerais'!$B$8:$W$1048576,4,0)","v":16},{"$f":"VLOOKUP($D66,'Resultados Gerais'!$B$8:$W$1048576,5,0)","v":81},{"$f":"VLOOKUP($D66,'Resultados Gerais'!$B$8:$W$1048576,6,0)","v":89},{"$f":"VLOOKUP($D66,'Resultados Gerais'!$B$8:$W$1048576,7,0)","v":44},{"$f":"VLOOKUP($D66,'Resultados Gerais'!$B$8:$W$1048576,8,0)","v":64},{"$f":"VLOOKUP($D66,'Resultados Gerais'!$B$8:$W$1048576,9,0)","v":6},{"$f":"VLOOKUP($D66,'Resultados Gerais'!$B$8:$W$1048576,10,0)","v":76},{"$f":"VLOOKUP($D66,'Resultados Gerais'!$B$8:$W$1048576,11,0)","v":27},{"$f":"VLOOKUP($D66,'Resultados Gerais'!$B$8:$W$1048576,12,0)","v":82},{"$f":"VLOOKUP($D66,'Resultados Gerais'!$B$8:$W$1048576,13,0)","v":62},{"$f":"VLOOKUP($D66,'Resultados Gerais'!$B$8:$W$1048576,14,0)","v":84},{"$f":"VLOOKUP($D66,'Resultados Gerais'!$B$8:$W$1048576,15,0)","v":2},{"$f":"VLOOKUP($D66,'Resultados Gerais'!$B$8:$W$1048576,16,0)","v":18},{"$f":"VLOOKUP($D66,'Resultados Gerais'!$B$8:$W$1048576,17,0)","v":40},{"$f":"VLOOKUP($D66,'Resultados Gerais'!$B$8:$W$1048576,18,0)","v":54},{"$f":"VLOOKUP($D66,'Resultados Gerais'!$B$8:$W$1048576,19,0)","v":80},{"$f":"VLOOKUP($D66,'Resultados Gerais'!$B$8:$W$1048576,20,0)","v":77},{"$f":"VLOOKUP($D66,'Resultados Gerais'!$B$8:$W$1048576,21,0)","v":92},{"$f":"VLOOKUP($D66,'Resultados Gerais'!$B$8:$W$1048576,22,0)","v":53},null,null,null,95,{"$f":"COUNTIF(F$12:$Y$111,AC66)","v":20},20]
[null,null,55,{"$f":"COUNT('Resultados Gerais'!$B$8:$B$1048576)-C67","v":1364},{"$f":"VLOOKUP(D67,'Resultados Gerais'!B$8:C$1048576,2,0)","v":"2013-07-10"},{"$f":"VLOOKUP($D67,'Resultados Gerais'!$B$8:$W$1048576,3,0)","v":66},{"$f":"VLOOKUP($D67,'Resultados Gerais'!$B$8:$W$1048576,4,0)","v":94},{"$f":"VLOOKUP($D67,'Resultados Gerais'!$B$8:$W$1048576,5,0)","v":14},{"$f":"VLOOKUP($D67,'Resultados Gerais'!$B$8:$W$1048576,6,0)","v":42},{"$f":"VLOOKUP($D67,'Resultados Gerais'!$B$8:$W$1048576,7,0)","v":53},{"$f":"VLOOKUP($D67,'Resultados Gerais'!$B$8:$W$1048576,8,0)","v":91},{"$f":"VLOOKUP($D67,'Resultados Gerais'!$B$8:$W$1048576,9,0)","v":41},{"$f":"VLOOKUP($D67,'Resultados Gerais'!$B$8:$W$1048576,10,0)","v":51},{"$f":"VLOOKUP($D67,'Resultados Gerais'!$B$8:$W$1048576,11,0)","v":37},{"$f":"VLOOKUP($D67,'Resultados Gerais'!$B$8:$W$1048576,12,0)","v":67},{"$f":"VLOOKUP($D67,'Resultados Gerais'!$B$8:$W$1048576,13,0)","v":69},{"$f":"VLOOKUP($D67,'Resultados Gerais'!$B$8:$W$1048576,14,0)","v":68},{"$f":"VLOOKUP($D67,'Resultados Gerais'!$B$8:$W$1048576,15,0)","v":29},{"$f":"VLOOKUP($D67,'Resultados Gerais'!$B$8:$W$1048576,16,0)","v":26},{"$f":"VLOOKUP($D67,'Resultados Gerais'!$B$8:$W$1048576,17,0)","v":38},{"$f":"VLOOKUP($D67,'Resultados Gerais'!$B$8:$W$1048576,18,0)","v":78},{"$f":"VLOOKUP($D67,'Resultados Gerais'!$B$8:$W$1048576,19,0)","v":17},{"$f":"VLOOKUP($D67,'Resultados Gerais'!$B$8:$W$1048576,20,0)","v":64},{"$f":"VLOOKUP($D67,'Resultados Gerais'!$B$8:$W$1048576,21,0)","v":57},{"$f":"VLOOKUP($D67,'Resultados Gerais'!$B$8:$W$1048576,22,0)","v":6},null,null,null,15,{"$f":"COUNTIF(F$12:$Y$111,AC67)","v":20},20]
[null,null,56,{"$f":"COUNT('Resultados Gerais'!$B$8:$B$1048576)-C68","v":1363},{"$f":"VLOOKUP(D68,'Resultados Gerais'!B$8:C$1048576,2,0)","v":"2013-07-06"},{"$f":"VLOOKUP($D68,'Resultados Gerais'!$B$8:$W$1048576,3,0)","v":17},{"$f":"VLOOKUP($D68,'Resultados Gerais'!$B$8:$W$1048576,4,0)","v":25},{"$f":"VLOOKUP($D68,'Resultados Gerais'!$B$8:$W$1048576,5,0)","v":64},{"$f":"VLOOKUP($D68,'Resultados Gerais'!$B$8:$W$1048576,6,0)","v":66},{"$f":"VLOOKUP($D68,'Resultados Gerais'!$B$8:$W$1048576,7,0)","v":35},{"$f":"VLOOKUP($D68,'Resultados Gerais'!$B$8:$W$1048576,8,0)","v":63},{"$f":"VLOOKUP($D68,'Resultados Gerais'!$B$8:$W$1048576,9,0)","v":81},{"$f":"VLOOKUP($D68,'Resultados Gerais'!$B$8:$W$1048576,10,0)","v":57},{"$f":"VLOOKUP($D68,'Resultados Gerais'!$B$8:$W$1048576,11,0)","v":65},{"$f":"VLOOKUP($D68,'Resultados Gerais'!$B$8:$W$1048576,12,0)","v":51},{"$f":"VLOOKUP($D68,'Resultados Gerais'!$B$8:$W$1048576,13,0)","v":14},{"$f":"VLOOKUP($D68,'Resultados Gerais'!$B$8:$W$1048576,14,0)","v":50},{"$f":"VLOOKUP($D68,'Resultados Gerais'!$B$8:$W$1048576,15,0)","v":84},{"$f":"VLOOKUP($D68,'Resultados Gerais'!$B$8:$W$1048576,16,0)","v":36},{"$f":"VLOOKUP($D68,'Resultados Gerais'!$B$8:$W$1048576,17,0)","v":74},{"$f":"VLOOKUP($D68,'Resultados Gerais'!$B$8:$W$1048576,18,0)","v":85},{"$f":"VLOOKUP($D68,'Resultados Gerais'!$B$8:$W$1048576,19,0)","v":2},{"$f":"VLOOKUP($D68,'Resultados Gerais'!$B$8:$W$1048576,20,0)","v":3},{"$f":"VLOOKUP($D68,'Resultados Gerais'!$B$8:$W$1048576,21,0)","v":46},{"$f":"VLOOKUP($D68,'Resultados Gerais'!$B$8:$W$1048576,22,0)","v":32},null,null,null,75,{"$f":"COUNTIF(F$12:$Y$111,AC68)","v":20},20]
[null,null,57,{"$f":"COUNT('Resultados Gerais'!$B$8:$B$1048576)-C69","v":1362},{"$f":"VLOOKUP(D69,'Resultados Gerais'!B$8:C$1048576,2,0)","v":"2013-07-03"},{"$f":"VLOOKUP($D69,'Resultados Gerais'!$B$8:$W$1048576,3,0)","v":51},{"$f":"VLOOKUP($D69,'Resultados Gerais'!$B$8:$W$1048576,4,0)","v":32},{"$f":"VLOOKUP($D69,'Resultados Gerais'!$B$8:$W$1048576,5,0)","v":22},{"$f":"VLOOKUP($D69,'Resultados Gerais'!$B$8:$W$1048576,6,0)","v":34},{"$f":"VLOOKUP($D69,'Resultados Gerais'!$B$8:$W$1048576,7,0)","v":65},{"$f":"VLOOKUP($D69,'Resultados Gerais'!$B$8:$W$1048576,8,0)","v":99},{"$f":"VLOOKUP($D69,'Resultados Gerais'!$B$8:$W$1048576,9,0)","v":64},{"$f":"VLOOKUP($D69,'Resultados Gerais'!$B$8:$W$1048576,10,0)","v":48},{"$f":"VLOOKUP($D69,'Resultados Gerais'!$B$8:$W$1048576,11,0)","v":20},{"$f":"VLOOKUP($D69,'Resultados Gerais'!$B$8:$W$1048576,12,0)","v":41},{"$f":"VLOOKUP($D69,'Resultados Gerais'!$B$8:$W$1048576,13,0)","v":26},{"$f":"VLOOKUP($D69,'Resultados Gerais'!$B$8:$W$1048576,14,0)","v":31},{"$f":"VLOOKUP($D69,'Resultados Gerais'!$B$8:$W$1048576,15,0)","v":76},{"$f":"VLOOKUP($D69,'Resultados Gerais'!$B$8:$W$1048576,16,0)","v":58},{"$f":"VLOOKUP($D69,'Resultados Gerais'!$B$8:$W$1048576,17,0)","v":86},{"$f":"VLOOKUP($D69,'Resultados Gerais'!$B$8:$W$1048576,18,0)","v":19},{"$f":"VLOOKUP($D69,'Resultados Gerais'!$B$8:$W$1048576,19,0)","v":83},{"$f":"VLOOKUP($D69,'Resultados Gerais'!$B$8:$W$1048576,20,0)","v":75},{"$f":"VLOOKUP($D69,'Resultados Gerais'!$B$8:$W$1048576,21,0)","v":52},{"$f":"VLOOKUP($D69,'Resultados Gerais'!$B$8:$W$1048576,22,0)","v":35},null,null,null,23,{"$f":"COUNTIF(F$12:$Y$111,AC69)","v":20},20]
[null,null,58,{"$f":"COUNT('Resultados Gerais'!$B$8:$B$1048576)-C70","v":1361},{"$f":"VLOOKUP(D70,'Resultados Gerais'!B$8:C$1048576,2,0)","v":"2013-06-29"},{"$f":"VLOOKUP($D70,'Resultados Gerais'!$B$8:$W$1048576,3,0)","v":60},{"$f":"VLOOKUP($D70,'Resultados Gerais'!$B$8:$W$1048576,4,0)","v":68},{"$f":"VLOOKUP($D70,'Resultados Gerais'!$B$8:$W$1048576,5,0)","v":71},{"$f":"VLOOKUP($D70,'Resultados Gerais'!$B$8:$W$1048576,6,0)","v":48},{"$f":"VLOOKUP($D70,'Resultados Gerais'!$B$8:$W$1048576,7,0)","v":34},{"$f":"VLOOKUP($D70,'Resultados Gerais'!$B$8:$W$1048576,8,0)","v":73},{"$f":"VLOOKUP($D70,'Resultados Gerais'!$B$8:$W$1048576,9,0)","v":31},{"$f":"VLOOKUP($D70,'Resultados Gerais'!$B$8:$W$1048576,10,0)","v":52},{"$f":"VLOOKUP($D70,'Resultados Gerais'!$B$8:$W$1048576,11,0)","v":59},{"$f":"VLOOKUP($D70,'Resultados Gerais'!$B$8:$W$1048576,12,0)","v":61},{"$f":"VLOOKUP($D70,'Resultados Gerais'!$B$8:$W$1048576,13,0)","v":20},{"$f":"VLOOKUP($D70,'Resultados Gerais'!$B$8:$W$1048576,14,0)","v":37},{"$f":"VLOOKUP($D70,'Resultados Gerais'!$B$8:$W$1048576,15,0)","v":54},{"$f":"VLOOKUP($D70,'Resultados Gerais'!$B$8:$W$1048576,16,0)","v":45},{"$f":"VLOOKUP($D70,'Resultados Gerais'!$B$8:$W$1048576,17,0)","v":27},{"$f":"VLOOKUP($D70,'Resultados Gerais'!$B$8:$W$1048576,18,0)","v":32},{"$f":"VLOOKUP($D70,'Resultados Gerais'!$B$8:$W$1048576,19,0)","v":94},{"$f":"VLOOKUP($D70,'Resultados Gerais'!$B$8:$W$1048576,20,0)","v":57},{"$f":"VLOOKUP($D70,'Resultados Gerais'!$B$8:$W$1048576,21,0)","v":10},{"$f":"VLOOKUP($D70,'Resultados Gerais'!$B$8:$W$1048576,22,0)","v":56},null,null,null,25,{"$f":"COUNTIF(F$12:$Y$111,AC70)","v":20},20]
[null,null,59,{"$f":"COUNT('Resultados Gerais'!$B$8:$B$1048576)-C71","v":1360},{"$f":"VLOOKUP(D71,'Resultados Gerais'!B$8:C$1048576,2,0)","v":"2013-06-26"},{"$f":"VLOOKUP($D71,'Resultados Gerais'!$B$8:$W$1048576,3,0)","v":76},{"$f":"VLOOKUP($D71,'Resultados Gerais'!$B$8:$W$1048576,4,0)","v":71},{"$f":"VLOOKUP($D71,'Resultados Gerais'!$B$8:$W$1048576,5,0)","v":47},{"$f":"VLOOKUP($D71,'Resultados Gerais'!$B$8:$W$1048576,6,0)","v":70},{"$f":"VLOOKUP($D71,'Resultados Gerais'!$B$8:$W$1048576,7,0)","v":61},{"$f":"VLOOKUP($D71,'Resultados Gerais'!$B$8:$W$1048576,8,0)","v":96},{"$f":"VLOOKUP($D71,'Resultados Gerais'!$B$8:$W$1048576,9,0)","v":59},{"$f":"VLOOKUP($D71,'Resultados Gerais'!$B$8:$W$1048576,10,0)","v":2},{"$f":"VLOOKUP($D71,'Resultados Gerais'!$B$8:$W$1048576,11,0)","v":29},{"$f":"VLOOKUP($D71,'Resultados Gerais'!$B$8:$W$1048576,12,0)","v":58},{"$f":"VLOOKUP($D71,'Resultados Gerais'!$B$8:$W$1048576,13,0)","v":72},{"$f":"VLOOKUP($D71,'Resultados Gerais'!$B$8:$W$1048576,14,0)","v":37},{"$f":"VLOOKUP($D71,'Resultados Gerais'!$B$8:$W$1048576,15,0)","v":53},{"$f":"VLOOKUP($D71,'Resultados Gerais'!$B$8:$W$1048576,16,0)","v":17},{"$f":"VLOOKUP($D71,'Resultados Gerais'!$B$8:$W$1048576,17,0)","v":49},{"$f":"VLOOKUP($D71,'Resultados Gerais'!$B$8:$W$1048576,18,0)","v":14},{"$f":"VLOOKUP($D71,'Resultados Gerais'!$B$8:$W$1048576,19,0)","v":1},{"$f":"VLOOKUP($D71,'Resultados Gerais'!$B$8:$W$1048576,20,0)","v":95},{"$f":"VLOOKUP($D71,'Resultados Gerais'!$B$8:$W$1048576,21,0)","v":35},{"$f":"VLOOKUP($D71,'Resultados Gerais'!$B$8:$W$1048576,22,0)","v":26},null,null,null,61,{"$f":"COUNTIF(F$12:$Y$111,AC71)","v":19},19]
[null,null,60,{"$f":"COUNT('Resultados Gerais'!$B$8:$B$1048576)-C72","v":1359},{"$f":"VLOOKUP(D72,'Resultados Gerais'!B$8:C$1048576,2,0)","v":"2013-06-22"},{"$f":"VLOOKUP($D72,'Resultados Gerais'!$B$8:$W$1048576,3,0)","v":75},{"$f":"VLOOKUP($D72,'Resultados Gerais'!$B$8:$W$1048576,4,0)","v":68},{"$f":"VLOOKUP($D72,'Resultados Gerais'!$B$8:$W$1048576,5,0)","v":77},{"$f":"VLOOKUP($D72,'Resultados Gerais'!$B$8:$W$1048576,6,0)","v":83},{"$f":"VLOOKUP($D72,'Resultados Gerais'!$B$8:$W$1048576,7,0)","v":25},{"$f":"VLOOKUP($D72,'Resultados Gerais'!$B$8:$W$1048576,8,0)","v":2},{"$f":"VLOOKUP($D72,'Resultados Gerais'!$B$8:$W$1048576,9,0)","v":28},{"$f":"VLOOKUP($D72,'Resultados Gerais'!$B$8:$W$1048576,10,0)","v":93},{"$f":"VLOOKUP($D72,'Resultados Gerais'!$B$8:$W$1048576,11,0)","v":91},{"$f":"VLOOKUP($D72,'Resultados Gerais'!$B$8:$W$1048576,12,0)","v":40},{"$f":"VLOOKUP($D72,'Resultados Gerais'!$B$8:$W$1048576,13,0)","v":9},{"$f":"VLOOKUP($D72,'Resultados Gerais'!$B$8:$W$1048576,14,0)","v":99},{"$f":"VLOOKUP($D72,'Resultados Gerais'!$B$8:$W$1048576,15,0)","v":38},{"$f":"VLOOKUP($D72,'Resultados Gerais'!$B$8:$W$1048576,16,0)","v":76},{"$f":"VLOOKUP($D72,'Resultados Gerais'!$B$8:$W$1048576,17,0)","v":46},{"$f":"VLOOKUP($D72,'Resultados Gerais'!$B$8:$W$1048576,18,0)","v":61},{"$f":"VLOOKUP($D72,'Resultados Gerais'!$B$8:$W$1048576,19,0)","v":33},{"$f":"VLOOKUP($D72,'Resultados Gerais'!$B$8:$W$1048576,20,0)","v":60},{"$f":"VLOOKUP($D72,'Resultados Gerais'!$B$8:$W$1048576,21,0)","v":10},{"$f":"VLOOKUP($D72,'Resultados Gerais'!$B$8:$W$1048576,22,0)","v":53},null,null,null,32,{"$f":"COUNTIF(F$12:$Y$111,AC72)","v":19},19]
[null,null,61,{"$f":"COUNT('Resultados Gerais'!$B$8:$B$1048576)-C73","v":1358},{"$f":"VLOOKUP(D73,'Resultados Gerais'!B$8:C$1048576,2,0)","v":"2013-06-19"},{"$f":"VLOOKUP($D73,'Resultados Gerais'!$B$8:$W$1048576,3,0)","v":42},{"$f":"VLOOKUP($D73,'Resultados Gerais'!$B$8:$W$1048576,4,0)","v":17},{"$f":"VLOOKUP($D73,'Resultados Gerais'!$B$8:$W$1048576,5,0)","v":4},{"$f":"VLOOKUP($D73,'Resultados Gerais'!$B$8:$W$1048576,6,0)","v":22},{"$f":"VLOOKUP($D73,'Resultados Gerais'!$B$8:$W$1048576,7,0)","v":16},{"$f":"VLOOKUP($D73,'Resultados Gerais'!$B$8:$W$1048576,8,0)","v":49},{"$f":"VLOOKUP($D73,'Resultados Gerais'!$B$8:$W$1048576,9,0)","v":35},{"$f":"VLOOKUP($D73,'Resultados Gerais'!$B$8:$W$1048576,10,0)","v":27},{"$f":"VLOOKUP($D73,'Resultados Gerais'!$B$8:$W$1048576,11,0)","v":41},{"$f":"VLOOKUP($D73,'Resultados Gerais'!$B$8:$W$1048576,12,0)","v":72},{"$f":"VLOOKUP($D73,'Resultados Gerais'!$B$8:$W$1048576,13,0)","v":65},{"$f":"VLOOKUP($D73,'Resultados Gerais'!$B$8:$W$1048576,14,0)","v":46},{"$f":"VLOOKUP($D73,'Resultados Gerais'!$B$8:$W$1048576,15,0)","v":7},{"$f":"VLOOKUP($D73,'Resultados Gerais'!$B$8:$W$1048576,16,0)","v":57},{"$f":"VLOOKUP($D73,'Resultados Gerais'!$B$8:$W$1048576,17,0)","v":37},{"$f":"VLOOKUP($D73,'Resultados Gerais'!$B$8:$W$1048576,18,0)","v":59},{"$f":"VLOOKUP($D73,'Resultados Gerais'!$B$8:$W$1048576,19,0)","v":20},{"$f":"VLOOKUP($D73,'Resultados Gerais'!$B$8:$W$1048576,20,0)","v":18},{"$f":"VLOOKUP($D73,'Resultados Gerais'!$B$8:$W$1048576,21,0)","v":3},{"$f":"VLOOKUP($D73,'Resultados Gerais'!$B$8:$W$1048576,22,0)","v":87},null,null,null,64,{"$f":"COUNTIF(F$12:$Y$111,AC73)","v":19},19]
[null,null,62,{"$f":"COUNT('Resultados Gerais'!$B$8:$B$1048576)-C74","v":1357},{"$f":"VLOOKUP(D74,'Resultados Gerais'!B$8:C$1048576,2,0)","v":"2013-06-15"},{"$f":"VLOOKUP($D74,'Resultados Gerais'!$B$8:$W$1048576,3,0)","v":6},{"$f":"VLOOKUP($D74,'Resultados Gerais'!$B$8:$W$1048576,4,0)","v":78},{"$f":"VLOOKUP($D74,'Resultados Gerais'!$B$8:$W$1048576,5,0)","v":39},{"$f":"VLOOKUP($D74,'Resultados Gerais'!$B$8:$W$1048576,6,0)","v":37},{"$f":"VLOOKUP($D74,'Resultados Gerais'!$B$8:$W$1048576,7,0)","v":80},{"$f":"VLOOKUP($D74,'Resultados Gerais'!$B$8:$W$1048576,8,0)","v":83},{"$f":"VLOOKUP($D74,'Resultados Gerais'!$B$8:$W$1048576,9,0)","v":93},{"$f":"VLOOKUP($D74,'Resultados Gerais'!$B$8:$W$1048576,10,0)","v":75},{"$f":"VLOOKUP($D74,'Resultados Gerais'!$B$8:$W$1048576,11,0)","v":53},{"$f":"VLOOKUP($D74,'Resultados Gerais'!$B$8:$W$1048576,12,0)","v":4},{"$f":"VLOOKUP($D74,'Resultados Gerais'!$B$8:$W$1048576,13,0)","v":8},{"$f":"VLOOKUP($D74,'Resultados Gerais'!$B$8:$W$1048576,14,0)","v":30},{"$f":"VLOOKUP($D74,'Resultados Gerais'!$B$8:$W$1048576,15,0)","v":48},{"$f":"VLOOKUP($D74,'Resultados Gerais'!$B$8:$W$1048576,16,0)","v":7},{"$f":"VLOOKUP($D74,'Resultados Gerais'!$B$8:$W$1048576,17,0)","v":69},{"$f":"VLOOKUP($D74,'Resultados Gerais'!$B$8:$W$1048576,18,0)","v":45},{"$f":"VLOOKUP($D74,'Resultados Gerais'!$B$8:$W$1048576,19,0)","v":34},{"$f":"VLOOKUP($D74,'Resultados Gerais'!$B$8:$W$1048576,20,0)","v":74},{"$f":"VLOOKUP($D74,'Resultados Gerais'!$B$8:$W$1048576,21,0)","v":68},{"$f":"VLOOKUP($D74,'Resultados Gerais'!$B$8:$W$1048576,22,0)","v":31},null,null,null,39,{"$f":"COUNTIF(F$12:$Y$111,AC74)","v":19},19]
[null,null,63,{"$f":"COUNT('Resultados Gerais'!$B$8:$B$1048576)-C75","v":1356},{"$f":"VLOOKUP(D75,'Resultados Gerais'!B$8:C$1048576,2,0)","v":"2013-06-12"},{"$f":"VLOOKUP($D75,'Resultados Gerais'!$B$8:$W$1048576,3,0)","v":45},{"$f":"VLOOKUP($D75,'Resultados Gerais'!$B$8:$W$1048576,4,0)","v":81},{"$f":"VLOOKUP($D75,'Resultados Gerais'!$B$8:$W$1048576,5,0)","v":51},{"$f":"VLOOKUP($D75,'Resultados Gerais'!$B$8:$W$1048576,6,0)","v":16},{"$f":"VLOOKUP($D75,'Resultados Gerais'!$B$8:$W$1048576,7,0)","v":68},{"$f":"VLOOKUP($D75,'Resultados Gerais'!$B$8:$W$1048576,8,0)","v":27},{"$f":"VLOOKUP($D75,'Resultados Gerais'!$B$8:$W$1048576,9,0)","v":63},{"$f":"VLOOKUP($D75,'Resultados Gerais'!$B$8:$W$1048576,10,0)","v":99},{"$f":"VLOOKUP($D75,'Resultados Gerais'!$B$8:$W$1048576,11,0)","v":20},{"$f":"VLOOKUP($D75,'Resultados Gerais'!$B$8:$W$1048576,12,0)","v":91},{"$f":"VLOOKUP($D75,'Resultados Gerais'!$B$8:$W$1048576,13,0)","v":6},{"$f":"VLOOKUP($D75,'Resultados Gerais'!$B$8:$W$1048576,14,0)","v":35},{"$f":"VLOOKUP($D75,'Resultados Gerais'!$B$8:$W$1048576,15,0)","v":90},{"$f":"VLOOKUP($D75,'Resultados Gerais'!$B$8:$W$1048576,16,0)","v":41},{"$f":"VLOOKUP($D75,'Resultados Gerais'!$B$8:$W$1048576,17,0)","v":77},{"$f":"VLOOKUP($D75,'Resultados Gerais'!$B$8:$W$1048576,18,0)","v":75},{"$f":"VLOOKUP($D75,'Resultados Gerais'!$B$8:$W$1048576,19,0)","v":15},{"$f":"VLOOKUP($D75,'Resultados Gerais'!$B$8:$W$1048576,20,0)","v":64},{"$f":"VLOOKUP($D75,'Resultados Gerais'!$B$8:$W$1048576,21,0)","v":74},{"$f":"VLOOKUP($D75,'Resultados Gerais'!$B$8:$W$1048576,22,0)","v":11},null,null,null,4,{"$f":"COUNTIF(F$12:$Y$111,AC75)","v":19},19]
[null,null,64,{"$f":"COUNT('Resultados Gerais'!$B$8:$B$1048576)-C76","v":1355},{"$f":"VLOOKUP(D76,'Resultados Gerais'!B$8:C$1048576,2,0)","v":"2013-06-08"},{"$f":"VLOOKUP($D76,'Resultados Gerais'!$B$8:$W$1048576,3,0)","v":57},{"$f":"VLOOKUP($D76,'Resultados Gerais'!$B$8:$W$1048576,4,0)","v":14},{"$f":"VLOOKUP($D76,'Resultados Gerais'!$B$8:$W$1048576,5,0)","v":46},{"$f":"VLOOKUP($D76,'Resultados Gerais'!$B$8:$W$1048576,6,0)","v":96},{"$f":"VLOOKUP($D76,'Resultados Gerais'!$B$8:$W$1048576,7,0)","v":3},{"$f":"VLOOKUP($D76,'Resultados Gerais'!$B$8:$W$1048576,8,0)","v":79},{"$f":"VLOOKUP($D76,'Resultados Gerais'!$B$8:$W$1048576,9,0)","v":41},{"$f":"VLOOKUP($D76,'Resultados Gerais'!$B$8:$W$1048576,10,0)","v":61},{"$f":"VLOOKUP($D76,'Resultados Gerais'!$B$8:$W$1048576,11,0)","v":73},{"$f":"VLOOKUP($D76,'Resultados Gerais'!$B$8:$W$1048576,12,0)","v":48},{"$f":"VLOOKUP($D76,'Resultados Gerais'!$B$8:$W$1048576,13,0)","v":43},{"$f":"VLOOKUP($D76,'Resultados Gerais'!$B$8:$W$1048576,14,0)","v":97},{"$f":"VLOOKUP($D76,'Resultados Gerais'!$B$8:$W$1048576,15,0)","v":49},{"$f":"VLOOKUP($D76,'Resultados Gerais'!$B$8:$W$1048576,16,0)","v":11},{"$f":"VLOOKUP($D76,'Resultados Gerais'!$B$8:$W$1048576,17,0)","v":26},{"$f":"VLOOKUP($D76,'Resultados Gerais'!$B$8:$W$1048576,18,0)","v":56},{"$f":"VLOOKUP($D76,'Resultados Gerais'!$B$8:$W$1048576,19,0)","v":19},{"$f":"VLOOKUP($D76,'Resultados Gerais'!$B$8:$W$1048576,20,0)","v":93},{"$f":"VLOOKUP($D76,'Resultados Gerais'!$B$8:$W$1048576,21,0)","v":13},{"$f":"VLOOKUP($D76,'Resultados Gerais'!$B$8:$W$1048576,22,0)","v":47},null,null,null,42,{"$f":"COUNTIF(F$12:$Y$111,AC76)","v":19},19]
[null,null,65,{"$f":"COUNT('Resultados Gerais'!$B$8:$B$1048576)-C77","v":1354},{"$f":"VLOOKUP(D77,'Resultados Gerais'!B$8:C$1048576,2,0)","v":"2013-06-05"},{"$f":"VLOOKUP($D77,'Resultados Gerais'!$B$8:$W$1048576,3,0)","v":16},{"$f":"VLOOKUP($D77,'Resultados Gerais'!$B$8:$W$1048576,4,0)","v":82},{"$f":"VLOOKUP($D77,'Resultados Gerais'!$B$8:$W$1048576,5,0)","v":4},{"$f":"VLOOKUP($D77,'Resultados Gerais'!$B$8:$W$1048576,6,0)","v":59},{"$f":"VLOOKUP($D77,'Resultados Gerais'!$B$8:$W$1048576,7,0)","v":29},{"$f":"VLOOKUP($D77,'Resultados Gerais'!$B$8:$W$1048576,8,0)","v":7},{"$f":"VLOOKUP($D77,'Resultados Gerais'!$B$8:$W$1048576,9,0)","v":81},{"$f":"VLOOKUP($D77,'Resultados Gerais'!$B$8:$W$1048576,10,0)","v":58},{"$f":"VLOOKUP($D77,'Resultados Gerais'!$B$8:$W$1048576,11,0)","v":68},{"$f":"VLOOKUP($D77,'Resultados Gerais'!$B$8:$W$1048576,12,0)","v":51},{"$f":"VLOOKUP($D77,'Resultados Gerais'!$B$8:$W$1048576,13,0)","v":83},{"$f":"VLOOKUP($D77,'Resultados Gerais'!$B$8:$W$1048576,14,0)","v":30},{"$f":"VLOOKUP($D77,'Resultados Gerais'!$B$8:$W$1048576,15,0)","v":76},{"$f":"VLOOKUP($D77,'Resultados Gerais'!$B$8:$W$1048576,16,0)","v":61},{"$f":"VLOOKUP($D77,'Resultados Gerais'!$B$8:$W$1048576,17,0)","v":79},{"$f":"VLOOKUP($D77,'Resultados Gerais'!$B$8:$W$1048576,18,0)","v":48},{"$f":"VLOOKUP($D77,'Resultados Gerais'!$B$8:$W$1048576,19,0)","v":22},{"$f":"VLOOKUP($D77,'Resultados Gerais'!$B$8:$W$1048576,20,0)","v":41},{"$f":"VLOOKUP($D77,'Resultados Gerais'!$B$8:$W$1048576,21,0)","v":91},{"$f":"VLOOKUP($D77,'Resultados Gerais'!$B$8:$W$1048576,22,0)","v":24},null,null,null,88,{"$f":"COUNTIF(F$12:$Y$111,AC77)","v":19},19]
[null,null,66,{"$f":"COUNT('Resultados Gerais'!$B$8:$B$1048576)-C78","v":1353},{"$f":"VLOOKUP(D78,'Resultados Gerais'!B$8:C$1048576,2,0)","v":"2013-06-01"},{"$f":"VLOOKUP($D78,'Resultados Gerais'!$B$8:$W$1048576,3,0)","v":85},{"$f":"VLOOKUP($D78,'Resultados Gerais'!$B$8:$W$1048576,4,0)","v":42},{"$f":"VLOOKUP($D78,'Resultados Gerais'!$B$8:$W$1048576,5,0)","v":76},{"$f":"VLOOKUP($D78,'Resultados Gerais'!$B$8:$W$1048576,6,0)","v":93},{"$f":"VLOOKUP($D78,'Resultados Gerais'!$B$8:$W$1048576,7,0)","v":67},{"$f":"VLOOKUP($D78,'Resultados Gerais'!$B$8:$W$1048576,8,0)","v":0},{"$f":"VLOOKUP($D78,'Resultados Gerais'!$B$8:$W$1048576,9,0)","v":46},{"$f":"VLOOKUP($D78,'Resultados Gerais'!$B$8:$W$1048576,10,0)","v":20},{"$f":"VLOOKUP($D78,'Resultados Gerais'!$B$8:$W$1048576,11,0)","v":45},{"$f":"VLOOKUP($D78,'Resultados Gerais'!$B$8:$W$1048576,12,0)","v":91},{"$f":"VLOOKUP($D78,'Resultados Gerais'!$B$8:$W$1048576,13,0)","v":15},{"$f":"VLOOKUP($D78,'Resultados Gerais'!$B$8:$W$1048576,14,0)","v":5},{"$f":"VLOOKUP($D78,'Resultados Gerais'!$B$8:$W$1048576,15,0)","v":4},{"$f":"VLOOKUP($D78,'Resultados Gerais'!$B$8:$W$1048576,16,0)","v":23},{"$f":"VLOOKUP($D78,'Resultados Gerais'!$B$8:$W$1048576,17,0)","v":58},{"$f":"VLOOKUP($D78,'Resultados Gerais'!$B$8:$W$1048576,18,0)","v":71},{"$f":"VLOOKUP($D78,'Resultados Gerais'!$B$8:$W$1048576,19,0)","v":65},{"$f":"VLOOKUP($D78,'Resultados Gerais'!$B$8:$W$1048576,20,0)","v":75},{"$f":"VLOOKUP($D78,'Resultados Gerais'!$B$8:$W$1048576,21,0)","v":38},{"$f":"VLOOKUP($D78,'Resultados Gerais'!$B$8:$W$1048576,22,0)","v":98},null,null,null,26,{"$f":"COUNTIF(F$12:$Y$111,AC78)","v":19},19]
[null,null,67,{"$f":"COUNT('Resultados Gerais'!$B$8:$B$1048576)-C79","v":1352},{"$f":"VLOOKUP(D79,'Resultados Gerais'!B$8:C$1048576,2,0)","v":"2013-05-29"},{"$f":"VLOOKUP($D79,'Resultados Gerais'!$B$8:$W$1048576,3,0)","v":79},{"$f":"VLOOKUP($D79,'Resultados Gerais'!$B$8:$W$1048576,4,0)","v":10},{"$f":"VLOOKUP($D79,'Resultados Gerais'!$B$8:$W$1048576,5,0)","v":70},{"$f":"VLOOKUP($D79,'Resultados Gerais'!$B$8:$W$1048576,6,0)","v":0},{"$f":"VLOOKUP($D79,'Resultados Gerais'!$B$8:$W$1048576,7,0)","v":49},{"$f":"VLOOKUP($D79,'Resultados Gerais'!$B$8:$W$1048576,8,0)","v":76},{"$f":"VLOOKUP($D79,'Resultados Gerais'!$B$8:$W$1048576,9,0)","v":28},{"$f":"VLOOKUP($D79,'Resultados Gerais'!$B$8:$W$1048576,10,0)","v":75},{"$f":"VLOOKUP($D79,'Resultados Gerais'!$B$8:$W$1048576,11,0)","v":30},{"$f":"VLOOKUP($D79,'Resultados Gerais'!$B$8:$W$1048576,12,0)","v":82},{"$f":"VLOOKUP($D79,'Resultados Gerais'!$B$8:$W$1048576,13,0)","v":63},{"$f":"VLOOKUP($D79,'Resultados Gerais'!$B$8:$W$1048576,14,0)","v":72},{"$f":"VLOOKUP($D79,'Resultados Gerais'!$B$8:$W$1048576,15,0)","v":50},{"$f":"VLOOKUP($D79,'Resultados Gerais'!$B$8:$W$1048576,16,0)","v":21},{"$f":"VLOOKUP($D79,'Resultados Gerais'!$B$8:$W$1048576,17,0)","v":77},{"$f":"VLOOKUP($D79,'Resultados Gerais'!$B$8:$W$1048576,18,0)","v":1},{"$f":"VLOOKUP($D79,'Resultados Gerais'!$B$8:$W$1048576,19,0)","v":74},{"$f":"VLOOKUP($D79,'Resultados Gerais'!$B$8:$W$1048576,20,0)","v":48},{"$f":"VLOOKUP($D79,'Resultados Gerais'!$B$8:$W$1048576,21,0)","v":83},{"$f":"VLOOKUP($D79,'Resultados Gerais'!$B$8:$W$1048576,22,0)","v":36},null,null,null,30,{"$f":"COUNTIF(F$12:$Y$111,AC79)","v":19},19]
[null,null,68,{"$f":"COUNT('Resultados Gerais'!$B$8:$B$1048576)-C80","v":1351},{"$f":"VLOOKUP(D80,'Resultados Gerais'!B$8:C$1048576,2,0)","v":"2013-05-25"},{"$f":"VLOOKUP($D80,'Resultados Gerais'!$B$8:$W$1048576,3,0)","v":51},{"$f":"VLOOKUP($D80,'Resultados Gerais'!$B$8:$W$1048576,4,0)","v":82},{"$f":"VLOOKUP($D80,'Resultados Gerais'!$B$8:$W$1048576,5,0)","v":2},{"$f":"VLOOKUP($D80,'Resultados Gerais'!$B$8:$W$1048576,6,0)","v":81},{"$f":"VLOOKUP($D80,'Resultados Gerais'!$B$8:$W$1048576,7,0)","v":39},{"$f":"VLOOKUP($D80,'Resultados Gerais'!$B$8:$W$1048576,8,0)","v":42},{"$f":"VLOOKUP($D80,'Resultados Gerais'!$B$8:$W$1048576,9,0)","v":96},{"$f":"VLOOKUP($D80,'Resultados Gerais'!$B$8:$W$1048576,10,0)","v":40},{"$f":"VLOOKUP($D80,'Resultados Gerais'!$B$8:$W$1048576,11,0)","v":9},{"$f":"VLOOKUP($D80,'Resultados Gerais'!$B$8:$W$1048576,12,0)","v":93},{"$f":"VLOOKUP($D80,'Resultados Gerais'!$B$8:$W$1048576,13,0)","v":90},{"$f":"VLOOKUP($D80,'Resultados Gerais'!$B$8:$W$1048576,14,0)","v":53},{"$f":"VLOOKUP($D80,'Resultados Gerais'!$B$8:$W$1048576,15,0)","v":79},{"$f":"VLOOKUP($D80,'Resultados Gerais'!$B$8:$W$1048576,16,0)","v":33},{"$f":"VLOOKUP($D80,'Resultados Gerais'!$B$8:$W$1048576,17,0)","v":76},{"$f":"VLOOKUP($D80,'Resultados Gerais'!$B$8:$W$1048576,18,0)","v":34},{"$f":"VLOOKUP($D80,'Resultados Gerais'!$B$8:$W$1048576,19,0)","v":45},{"$f":"VLOOKUP($D80,'Resultados Gerais'!$B$8:$W$1048576,20,0)","v":18},{"$f":"VLOOKUP($D80,'Resultados Gerais'!$B$8:$W$1048576,21,0)","v":5},{"$f":"VLOOKUP($D80,'Resultados Gerais'!$B$8:$W$1048576,22,0)","v":8},null,null,null,85,{"$f":"COUNTIF(F$12:$Y$111,AC80)","v":19},19]
[null,null,69,{"$f":"COUNT('Resultados Gerais'!$B$8:$B$1048576)-C81","v":1350},{"$f":"VLOOKUP(D81,'Resultados Gerais'!B$8:C$1048576,2,0)","v":"2013-05-22"},{"$f":"VLOOKUP($D81,'Resultados Gerais'!$B$8:$W$1048576,3,0)","v":96},{"$f":"VLOOKUP($D81,'Resultados Gerais'!$B$8:$W$1048576,4,0)","v":47},{"$f":"VLOOKUP($D81,'Resultados Gerais'!$B$8:$W$1048576,5,0)","v":79},{"$f":"VLOOKUP($D81,'Resultados Gerais'!$B$8:$W$1048576,6,0)","v":46},{"$f":"VLOOKUP($D81,'Resultados Gerais'!$B$8:$W$1048576,7,0)","v":22},{"$f":"VLOOKUP($D81,'Resultados Gerais'!$B$8:$W$1048576,8,0)","v":31},{"$f":"VLOOKUP($D81,'Resultados Gerais'!$B$8:$W$1048576,9,0)","v":44},{"$f":"VLOOKUP($D81,'Resultados Gerais'!$B$8:$W$1048576,10,0)","v":26},{"$f":"VLOOKUP($D81,'Resultados Gerais'!$B$8:$W$1048576,11,0)","v":16},{"$f":"VLOOKUP($D81,'Resultados Gerais'!$B$8:$W$1048576,12,0)","v":30},{"$f":"VLOOKUP($D81,'Resultados Gerais'!$B$8:$W$1048576,13,0)","v":97},{"$f":"VLOOKUP($D81,'Resultados Gerais'!$B$8:$W$1048576,14,0)","v":32},{"$f":"VLOOKUP($D81,'Resultados Gerais'!$B$8:$W$1048576,15,0)","v":93},{"$f":"VLOOKUP($D81,'Resultados Gerais'!$B$8:$W$1048576,16,0)","v":39},{"$f":"VLOOKUP($D81,'Resultados Gerais'!$B$8:$W$1048576,17,0)","v":95},{"$f":"VLOOKUP($D81,'Resultados Gerais'!$B$8:$W$1048576,18,0)","v":6},{"$f":"VLOOKUP($D81,'Resultados Gerais'!$B$8:$W$1048576,19,0)","v":38},{"$f":"VLOOKUP($D81,'Resultados Gerais'!$B$8:$W$1048576,20,0)","v":0},{"$f":"VLOOKUP($D81,'Resultados Gerais'!$B$8:$W$1048576,21,0)","v":74},{"$f":"VLOOKUP($D81,'Resultados Gerais'!$B$8:$W$1048576,22,0)","v":35},null,null,null,77,{"$f":"COUNTIF(F$12:$Y$111,AC81)","v":18},{"$f":"AD81","v":18}]
[null,null,70,{"$f":"COUNT('Resultados Gerais'!$B$8:$B$1048576)-C82","v":1349},{"$f":"VLOOKUP(D82,'Resultados Gerais'!B$8:C$1048576,2,0)","v":"2013-05-18"},{"$f":"VLOOKUP($D82,'Resultados Gerais'!$B$8:$W$1048576,3,0)","v":44},{"$f":"VLOOKUP($D82,'Resultados Gerais'!$B$8:$W$1048576,4,0)","v":16},{"$f":"VLOOKUP($D82,'Resultados Gerais'!$B$8:$W$1048576,5,0)","v":14},{"$f":"VLOOKUP($D82,'Resultados Gerais'!$B$8:$W$1048576,6,0)","v":10},{"$f":"VLOOKUP($D82,'Resultados Gerais'!$B$8:$W$1048576,7,0)","v":33},{"$f":"VLOOKUP($D82,'Resultados Gerais'!$B$8:$W$1048576,8,0)","v":68},{"$f":"VLOOKUP($D82,'Resultados Gerais'!$B$8:$W$1048576,9,0)","v":55},{"$f":"VLOOKUP($D82,'Resultados Gerais'!$B$8:$W$1048576,10,0)","v":8},{"$f":"VLOOKUP($D82,'Resultados Gerais'!$B$8:$W$1048576,11,0)","v":23},{"$f":"VLOOKUP($D82,'Resultados Gerais'!$B$8:$W$1048576,12,0)","v":31},{"$f":"VLOOKUP($D82,'Resultados Gerais'!$B$8:$W$1048576,13,0)","v":87},{"$f":"VLOOKUP($D82,'Resultados Gerais'!$B$8:$W$1048576,14,0)","v":3},{"$f":"VLOOKUP($D82,'Resultados Gerais'!$B$8:$W$1048576,15,0)","v":78},{"$f":"VLOOKUP($D82,'Resultados Gerais'!$B$8:$W$1048576,16,0)","v":17},{"$f":"VLOOKUP($D82,'Resultados Gerais'!$B$8:$W$1048576,17,0)","v":41},{"$f":"VLOOKUP($D82,'Resultados Gerais'!$B$8:$W$1048576,18,0)","v":2},{"$f":"VLOOKUP($D82,'Resultados Gerais'!$B$8:$W$1048576,19,0)","v":45},{"$f":"VLOOKUP($D82,'Resultados Gerais'!$B$8:$W$1048576,20,0)","v":65},{"$f":"VLOOKUP($D82,'Resultados Gerais'!$B$8:$W$1048576,21,0)","v":6},{"$f":"VLOOKUP($D82,'Resultados Gerais'!$B$8:$W$1048576,22,0)","v":99},null,null,null,67,{"$f":"COUNTIF(F$12:$Y$111,AC82)","v":18},18]
[null,null,71,{"$f":"COUNT('Resultados Gerais'!$B$8:$B$1048576)-C83","v":1348},{"$f":"VLOOKUP(D83,'Resultados Gerais'!B$8:C$1048576,2,0)","v":"2013-05-15"},{"$f":"VLOOKUP($D83,'Resultados Gerais'!$B$8:$W$1048576,3,0)","v":57},{"$f":"VLOOKUP($D83,'Resultados Gerais'!$B$8:$W$1048576,4,0)","v":1},{"$f":"VLOOKUP($D83,'Resultados Gerais'!$B$8:$W$1048576,5,0)","v":97},{"$f":"VLOOKUP($D83,'Resultados Gerais'!$B$8:$W$1048576,6,0)","v":18},{"$f":"VLOOKUP($D83,'Resultados Gerais'!$B$8:$W$1048576,7,0)","v":50},{"$f":"VLOOKUP($D83,'Resultados Gerais'!$B$8:$W$1048576,8,0)","v":65},{"$f":"VLOOKUP($D83,'Resultados Gerais'!$B$8:$W$1048576,9,0)","v":74},{"$f":"VLOOKUP($D83,'Resultados Gerais'!$B$8:$W$1048576,10,0)","v":86},{"$f":"VLOOKUP($D83,'Resultados Gerais'!$B$8:$W$1048576,11,0)","v":41},{"$f":"VLOOKUP($D83,'Resultados Gerais'!$B$8:$W$1048576,12,0)","v":8},{"$f":"VLOOKUP($D83,'Resultados Gerais'!$B$8:$W$1048576,13,0)","v":16},{"$f":"VLOOKUP($D83,'Resultados Gerais'!$B$8:$W$1048576,14,0)","v":73},{"$f":"VLOOKUP($D83,'Resultados Gerais'!$B$8:$W$1048576,15,0)","v":60},{"$f":"VLOOKUP($D83,'Resultados Gerais'!$B$8:$W$1048576,16,0)","v":27},{"$f":"VLOOKUP($D83,'Resultados Gerais'!$B$8:$W$1048576,17,0)","v":87},{"$f":"VLOOKUP($D83,'Resultados Gerais'!$B$8:$W$1048576,18,0)","v":5},{"$f":"VLOOKUP($D83,'Resultados Gerais'!$B$8:$W$1048576,19,0)","v":46},{"$f":"VLOOKUP($D83,'Resultados Gerais'!$B$8:$W$1048576,20,0)","v":84},{"$f":"VLOOKUP($D83,'Resultados Gerais'!$B$8:$W$1048576,21,0)","v":94},{"$f":"VLOOKUP($D83,'Resultados Gerais'!$B$8:$W$1048576,22,0)","v":17},null,null,null,22,{"$f":"COUNTIF(F$12:$Y$111,AC83)","v":18},18]
[null,null,72,{"$f":"COUNT('Resultados Gerais'!$B$8:$B$1048576)-C84","v":1347},{"$f":"VLOOKUP(D84,'Resultados Gerais'!B$8:C$1048576,2,0)","v":"2013-05-11"},{"$f":"VLOOKUP($D84,'Resultados Gerais'!$B$8:$W$1048576,3,0)","v":28},{"$f":"VLOOKUP($D84,'Resultados Gerais'!$B$8:$W$1048576,4,0)","v":67},{"$f":"VLOOKUP($D84,'Resultados Gerais'!$B$8:$W$1048576,5,0)","v":24},{"$f":"VLOOKUP($D84,'Resultados Gerais'!$B$8:$W$1048576,6,0)","v":88},{"$f":"VLOOKUP($D84,'Resultados Gerais'!$B$8:$W$1048576,7,0)","v":81},{"$f":"VLOOKUP($D84,'Resultados Gerais'!$B$8:$W$1048576,8,0)","v":15},{"$f":"VLOOKUP($D84,'Resultados Gerais'!$B$8:$W$1048576,9,0)","v":35},{"$f":"VLOOKUP($D84,'Resultados Gerais'!$B$8:$W$1048576,10,0)","v":46},{"$f":"VLOOKUP($D84,'Resultados Gerais'!$B$8:$W$1048576,11,0)","v":73},{"$f":"VLOOKUP($D84,'Resultados Gerais'!$B$8:$W$1048576,12,0)","v":86},{"$f":"VLOOKUP($D84,'Resultados Gerais'!$B$8:$W$1048576,13,0)","v":97},{"$f":"VLOOKUP($D84,'Resultados Gerais'!$B$8:$W$1048576,14,0)","v":64},{"$f":"VLOOKUP($D84,'Resultados Gerais'!$B$8:$W$1048576,15,0)","v":82},{"$f":"VLOOKUP($D84,'Resultados Gerais'!$B$8:$W$1048576,16,0)","v":92},{"$f":"VLOOKUP($D84,'Resultados Gerais'!$B$8:$W$1048576,17,0)","v":37},{"$f":"VLOOKUP($D84,'Resultados Gerais'!$B$8:$W$1048576,18,0)","v":17},{"$f":"VLOOKUP($D84,'Resultados Gerais'!$B$8:$W$1048576,19,0)","v":32},{"$f":"VLOOKUP($D84,'Resultados Gerais'!$B$8:$W$1048576,20,0)","v":19},{"$f":"VLOOKUP($D84,'Resultados Gerais'!$B$8:$W$1048576,21,0)","v":14},{"$f":"VLOOKUP($D84,'Resultados Gerais'!$B$8:$W$1048576,22,0)","v":8},null,null,null,84,{"$f":"COUNTIF(F$12:$Y$111,AC84)","v":18},18]
[null,null,73,{"$f":"COUNT('Resultados Gerais'!$B$8:$B$1048576)-C85","v":1346},{"$f":"VLOOKUP(D85,'Resultados Gerais'!B$8:C$1048576,2,0)","v":"2013-05-08"},{"$f":"VLOOKUP($D85,'Resultados Gerais'!$B$8:$W$1048576,3,0)","v":58},{"$f":"VLOOKUP($D85,'Resultados Gerais'!$B$8:$W$1048576,4,0)","v":18},{"$f":"VLOOKUP($D85,'Resultados Gerais'!$B$8:$W$1048576,5,0)","v":86},{"$f":"VLOOKUP($D85,'Resultados Gerais'!$B$8:$W$1048576,6,0)","v":88},{"$f":"VLOOKUP($D85,'Resultados Gerais'!$B$8:$W$1048576,7,0)","v":80},{"$f":"VLOOKUP($D85,'Resultados Gerais'!$B$8:$W$1048576,8,0)","v":62},{"$f":"VLOOKUP($D85,'Resultados Gerais'!$B$8:$W$1048576,9,0)","v":54},{"$f":"VLOOKUP($D85,'Resultados Gerais'!$B$8:$W$1048576,10,0)","v":77},{"$f":"VLOOKUP($D85,'Resultados Gerais'!$B$8:$W$1048576,11,0)","v":96},{"$f":"VLOOKUP($D85,'Resultados Gerais'!$B$8:$W$1048576,12,0)","v":49},{"$f":"VLOOKUP($D85,'Resultados Gerais'!$B$8:$W$1048576,13,0)","v":14},{"$f":"VLOOKUP($D85,'Resultados Gerais'!$B$8:$W$1048576,14,0)","v":25},{"$f":"VLOOKUP($D85,'Resultados Gerais'!$B$8:$W$1048576,15,0)","v":74},{"$f":"VLOOKUP($D85,'Resultados Gerais'!$B$8:$W$1048576,16,0)","v":31},{"$f":"VLOOKUP($D85,'Resultados Gerais'!$B$8:$W$1048576,17,0)","v":10},{"$f":"VLOOKUP($D85,'Resultados Gerais'!$B$8:$W$1048576,18,0)","v":99},{"$f":"VLOOKUP($D85,'Resultados Gerais'!$B$8:$W$1048576,19,0)","v":4},{"$f":"VLOOKUP($D85,'Resultados Gerais'!$B$8:$W$1048576,20,0)","v":47},{"$f":"VLOOKUP($D85,'Resultados Gerais'!$B$8:$W$1048576,21,0)","v":60},{"$f":"VLOOKUP($D85,'Resultados Gerais'!$B$8:$W$1048576,22,0)","v":67},null,null,null,28,{"$f":"COUNTIF(F$12:$Y$111,AC85)","v":17},17]
[null,null,74,{"$f":"COUNT('Resultados Gerais'!$B$8:$B$1048576)-C86","v":1345},{"$f":"VLOOKUP(D86,'Resultados Gerais'!B$8:C$1048576,2,0)","v":"2013-05-04"},{"$f":"VLOOKUP($D86,'Resultados Gerais'!$B$8:$W$1048576,3,0)","v":64},{"$f":"VLOOKUP($D86,'Resultados Gerais'!$B$8:$W$1048576,4,0)","v":36},{"$f":"VLOOKUP($D86,'Resultados Gerais'!$B$8:$W$1048576,5,0)","v":86},{"$f":"VLOOKUP($D86,'Resultados Gerais'!$B$8:$W$1048576,6,0)","v":69},{"$f":"VLOOKUP($D86,'Resultados Gerais'!$B$8:$W$1048576,7,0)","v":8},{"$f":"VLOOKUP($D86,'Resultados Gerais'!$B$8:$W$1048576,8,0)","v":24},{"$f":"VLOOKUP($D86,'Resultados Gerais'!$B$8:$W$1048576,9,0)","v":38},{"$f":"VLOOKUP($D86,'Resultados Gerais'!$B$8:$W$1048576,10,0)","v":23},{"$f":"VLOOKUP($D86,'Resultados Gerais'!$B$8:$W$1048576,11,0)","v":82},{"$f":"VLOOKUP($D86,'Resultados Gerais'!$B$8:$W$1048576,12,0)","v":17},{"$f":"VLOOKUP($D86,'Resultados Gerais'!$B$8:$W$1048576,13,0)","v":93},{"$f":"VLOOKUP($D86,'Resultados Gerais'!$B$8:$W$1048576,14,0)","v":21},{"$f":"VLOOKUP($D86,'Resultados Gerais'!$B$8:$W$1048576,15,0)","v":42},{"$f":"VLOOKUP($D86,'Resultados Gerais'!$B$8:$W$1048576,16,0)","v":79},{"$f":"VLOOKUP($D86,'Resultados Gerais'!$B$8:$W$1048576,17,0)","v":9},{"$f":"VLOOKUP($D86,'Resultados Gerais'!$B$8:$W$1048576,18,0)","v":89},{"$f":"VLOOKUP($D86,'Resultados Gerais'!$B$8:$W$1048576,19,0)","v":66},{"$f":"VLOOKUP($D86,'Resultados Gerais'!$B$8:$W$1048576,20,0)","v":63},{"$f":"VLOOKUP($D86,'Resultados Gerais'!$B$8:$W$1048576,21,0)","v":22},{"$f":"VLOOKUP($D86,'Resultados Gerais'!$B$8:$W$1048576,22,0)","v":7},null,null,null,53,{"$f":"COUNTIF(F$12:$Y$111,AC86)","v":17},17]
[null,null,75,{"$f":"COUNT('Resultados Gerais'!$B$8:$B$1048576)-C87","v":1344},{"$f":"VLOOKUP(D87,'Resultados Gerais'!B$8:C$1048576,2,0)","v":"2013-05-02"},{"$f":"VLOOKUP($D87,'Resultados Gerais'!$B$8:$W$1048576,3,0)","v":1},{"$f":"VLOOKUP($D87,'Resultados Gerais'!$B$8:$W$1048576,4,0)","v":19},{"$f":"VLOOKUP($D87,'Resultados Gerais'!$B$8:$W$1048576,5,0)","v":17},{"$f":"VLOOKUP($D87,'Resultados Gerais'!$B$8:$W$1048576,6,0)","v":79},{"$f":"VLOOKUP($D87,'Resultados Gerais'!$B$8:$W$1048576,7,0)","v":56},{"$f":"VLOOKUP($D87,'Resultados Gerais'!$B$8:$W$1048576,8,0)","v":74},{"$f":"VLOOKUP($D87,'Resultados Gerais'!$B$8:$W$1048576,9,0)","v":35},{"$f":"VLOOKUP($D87,'Resultados Gerais'!$B$8:$W$1048576,10,0)","v":38},{"$f":"VLOOKUP($D87,'Resultados Gerais'!$B$8:$W$1048576,11,0)","v":49},{"$f":"VLOOKUP($D87,'Resultados Gerais'!$B$8:$W$1048576,12,0)","v":8},{"$f":"VLOOKUP($D87,'Resultados Gerais'!$B$8:$W$1048576,13,0)","v":14},{"$f":"VLOOKUP($D87,'Resultados Gerais'!$B$8:$W$1048576,14,0)","v":27},{"$f":"VLOOKUP($D87,'Resultados Gerais'!$B$8:$W$1048576,15,0)","v":82},{"$f":"VLOOKUP($D87,'Resultados Gerais'!$B$8:$W$1048576,16,0)","v":99},{"$f":"VLOOKUP($D87,'Resultados Gerais'!$B$8:$W$1048576,17,0)","v":58},{"$f":"VLOOKUP($D87,'Resultados Gerais'!$B$8:$W$1048576,18,0)","v":21},{"$f":"VLOOKUP($D87,'Resultados Gerais'!$B$8:$W$1048576,19,0)","v":18},{"$f":"VLOOKUP($D87,'Resultados Gerais'!$B$8:$W$1048576,20,0)","v":87},{"$f":"VLOOKUP($D87,'Resultados Gerais'!$B$8:$W$1048576,21,0)","v":45},{"$f":"VLOOKUP($D87,'Resultados Gerais'!$B$8:$W$1048576,22,0)","v":91},null,null,null,1,{"$f":"COUNTIF(F$12:$Y$111,AC87)","v":17},17]
[null,null,76,{"$f":"COUNT('Resultados Gerais'!$B$8:$B$1048576)-C88","v":1343},{"$f":"VLOOKUP(D88,'Resultados Gerais'!B$8:C$1048576,2,0)","v":"2013-04-27"},{"$f":"VLOOKUP($D88,'Resultados Gerais'!$B$8:$W$1048576,3,0)","v":90},{"$f":"VLOOKUP($D88,'Resultados Gerais'!$B$8:$W$1048576,4,0)","v":69},{"$f":"VLOOKUP($D88,'Resultados Gerais'!$B$8:$W$1048576,5,0)","v":45},{"$f":"VLOOKUP($D88,'Resultados Gerais'!$B$8:$W$1048576,6,0)","v":0},{"$f":"VLOOKUP($D88,'Resultados Gerais'!$B$8:$W$1048576,7,0)","v":58},{"$f":"VLOOKUP($D88,'Resultados Gerais'!$B$8:$W$1048576,8,0)","v":92},{"$f":"VLOOKUP($D88,'Resultados Gerais'!$B$8:$W$1048576,9,0)","v":36},{"$f":"VLOOKUP($D88,'Resultados Gerais'!$B$8:$W$1048576,10,0)","v":66},{"$f":"VLOOKUP($D88,'Resultados Gerais'!$B$8:$W$1048576,11,0)","v":39},{"$f":"VLOOKUP($D88,'Resultados Gerais'!$B$8:$W$1048576,12,0)","v":97},{"$f":"VLOOKUP($D88,'Resultados Gerais'!$B$8:$W$1048576,13,0)","v":48},{"$f":"VLOOKUP($D88,'Resultados Gerais'!$B$8:$W$1048576,14,0)","v":40},{"$f":"VLOOKUP($D88,'Resultados Gerais'!$B$8:$W$1048576,15,0)","v":78},{"$f":"VLOOKUP($D88,'Resultados Gerais'!$B$8:$W$1048576,16,0)","v":68},{"$f":"VLOOKUP($D88,'Resultados Gerais'!$B$8:$W$1048576,17,0)","v":82},{"$f":"VLOOKUP($D88,'Resultados Gerais'!$B$8:$W$1048576,18,0)","v":88},{"$f":"VLOOKUP($D88,'Resultados Gerais'!$B$8:$W$1048576,19,0)","v":84},{"$f":"VLOOKUP($D88,'Resultados Gerais'!$B$8:$W$1048576,20,0)","v":52},{"$f":"VLOOKUP($D88,'Resultados Gerais'!$B$8:$W$1048576,21,0)","v":17},{"$f":"VLOOKUP($D88,'Resultados Gerais'!$B$8:$W$1048576,22,0)","v":18},null,null,null,78,{"$f":"COUNTIF(F$12:$Y$111,AC88)","v":17},17]
[null,null,77,{"$f":"COUNT('Resultados Gerais'!$B$8:$B$1048576)-C89","v":1342},{"$f":"VLOOKUP(D89,'Resultados Gerais'!B$8:C$1048576,2,0)","v":"2013-04-24"},{"$f":"VLOOKUP($D89,'Resultados Gerais'!$B$8:$W$1048576,3,0)","v":39},{"$f":"VLOOKUP($D89,'Resultados Gerais'!$B$8:$W$1048576,4,0)","v":23},{"$f":"VLOOKUP($D89,'Resultados Gerais'!$B$8:$W$1048576,5,0)","v":45},{"$f":"VLOOKUP($D89,'Resultados Gerais'!$B$8:$W$1048576,6,0)","v":50},{"$f":"VLOOKUP($D89,'Resultados Gerais'!$B$8:$W$1048576,7,0)","v":17},{"$f":"VLOOKUP($D89,'Resultados Gerais'!$B$8:$W$1048576,8,0)","v":59},{"$f":"VLOOKUP($D89,'Resultados Gerais'!$B$8:$W$1048576,9,0)","v":38},{"$f":"VLOOKUP($D89,'Resultados Gerais'!$B$8:$W$1048576,10,0)","v":55},{"$f":"VLOOKUP($D89,'Resultados Gerais'!$B$8:$W$1048576,11,0)","v":5},{"$f":"VLOOKUP($D89,'Resultados Gerais'!$B$8:$W$1048576,12,0)","v":0},{"$f":"VLOOKUP($D89,'Resultados Gerais'!$B$8:$W$1048576,13,0)","v":18},{"$f":"VLOOKUP($D89,'Resultados Gerais'!$B$8:$W$1048576,14,0)","v":69},{"$f":"VLOOKUP($D89,'Resultados Gerais'!$B$8:$W$1048576,15,0)","v":74},{"$f":"VLOOKUP($D89,'Resultados Gerais'!$B$8:$W$1048576,16,0)","v":88},{"$f":"VLOOKUP($D89,'Resultados Gerais'!$B$8:$W$1048576,17,0)","v":76},{"$f":"VLOOKUP($D89,'Resultados Gerais'!$B$8:$W$1048576,18,0)","v":44},{"$f":"VLOOKUP($D89,'Resultados Gerais'!$B$8:$W$1048576,19,0)","v":28},{"$f":"VLOOKUP($D89,'Resultados Gerais'!$B$8:$W$1048576,20,0)","v":29},{"$f":"VLOOKUP($D89,'Resultados Gerais'!$B$8:$W$1048576,21,0)","v":52},{"$f":"VLOOKUP($D89,'Resultados Gerais'!$B$8:$W$1048576,22,0)","v":58},null,null,null,51,{"$f":"COUNTIF(F$12:$Y$111,AC89)","v":17},17]
[null,null,78,{"$f":"COUNT('Resultados Gerais'!$B$8:$B$1048576)-C90","v":1341},{"$f":"VLOOKUP(D90,'Resultados Gerais'!B$8:C$1048576,2,0)","v":"2013-04-20"},{"$f":"VLOOKUP($D90,'Resultados Gerais'!$B$8:$W$1048576,3,0)","v":24},{"$f":"VLOOKUP($D90,'Resultados Gerais'!$B$8:$W$1048576,4,0)","v":61},{"$f":"VLOOKUP($D90,'Resultados Gerais'!$B$8:$W$1048576,5,0)","v":45},{"$f":"VLOOKUP($D90,'Resultados Gerais'!$B$8:$W$1048576,6,0)","v":22},{"$f":"VLOOKUP($D90,'Resultados Gerais'!$B$8:$W$1048576,7,0)","v":2},{"$f":"VLOOKUP($D90,'Resultados Gerais'!$B$8:$W$1048576,8,0)","v":75},{"$f":"VLOOKUP($D90,'Resultados Gerais'!$B$8:$W$1048576,9,0)","v":79},{"$f":"VLOOKUP($D90,'Resultados Gerais'!$B$8:$W$1048576,10,0)","v":31},{"$f":"VLOOKUP($D90,'Resultados Gerais'!$B$8:$W$1048576,11,0)","v":37},{"$f":"VLOOKUP($D90,'Resultados Gerais'!$B$8:$W$1048576,12,0)","v":13},{"$f":"VLOOKUP($D90,'Resultados Gerais'!$B$8:$W$1048576,13,0)","v":30},{"$f":"VLOOKUP($D90,'Resultados Gerais'!$B$8:$W$1048576,14,0)","v":14},{"$f":"VLOOKUP($D90,'Resultados Gerais'!$B$8:$W$1048576,15,0)","v":10},{"$f":"VLOOKUP($D90,'Resultados Gerais'!$B$8:$W$1048576,16,0)","v":73},{"$f":"VLOOKUP($D90,'Resultados Gerais'!$B$8:$W$1048576,17,0)","v":80},{"$f":"VLOOKUP($D90,'Resultados Gerais'!$B$8:$W$1048576,18,0)","v":93},{"$f":"VLOOKUP($D90,'Resultados Gerais'!$B$8:$W$1048576,19,0)","v":18},{"$f":"VLOOKUP($D90,'Resultados Gerais'!$B$8:$W$1048576,20,0)","v":7},{"$f":"VLOOKUP($D90,'Resultados Gerais'!$B$8:$W$1048576,21,0)","v":60},{"$f":"VLOOKUP($D90,'Resultados Gerais'!$B$8:$W$1048576,22,0)","v":20},null,null,null,7,{"$f":"COUNTIF(F$12:$Y$111,AC90)","v":17},17]
[null,null,79,{"$f":"COUNT('Resultados Gerais'!$B$8:$B$1048576)-C91","v":1340},{"$f":"VLOOKUP(D91,'Resultados Gerais'!B$8:C$1048576,2,0)","v":"2013-04-17"},{"$f":"VLOOKUP($D91,'Resultados Gerais'!$B$8:$W$1048576,3,0)","v":92},{"$f":"VLOOKUP($D91,'Resultados Gerais'!$B$8:$W$1048576,4,0)","v":87},{"$f":"VLOOKUP($D91,'Resultados Gerais'!$B$8:$W$1048576,5,0)","v":66},{"$f":"VLOOKUP($D91,'Resultados Gerais'!$B$8:$W$1048576,6,0)","v":74},{"$f":"VLOOKUP($D91,'Resultados Gerais'!$B$8:$W$1048576,7,0)","v":68},{"$f":"VLOOKUP($D91,'Resultados Gerais'!$B$8:$W$1048576,8,0)","v":21},{"$f":"VLOOKUP($D91,'Resultados Gerais'!$B$8:$W$1048576,9,0)","v":85},{"$f":"VLOOKUP($D91,'Resultados Gerais'!$B$8:$W$1048576,10,0)","v":4},{"$f":"VLOOKUP($D91,'Resultados Gerais'!$B$8:$W$1048576,11,0)","v":95},{"$f":"VLOOKUP($D91,'Resultados Gerais'!$B$8:$W$1048576,12,0)","v":98},{"$f":"VLOOKUP($D91,'Resultados Gerais'!$B$8:$W$1048576,13,0)","v":79},{"$f":"VLOOKUP($D91,'Resultados Gerais'!$B$8:$W$1048576,14,0)","v":64},{"$f":"VLOOKUP($D91,'Resultados Gerais'!$B$8:$W$1048576,15,0)","v":84},{"$f":"VLOOKUP($D91,'Resultados Gerais'!$B$8:$W$1048576,16,0)","v":15},{"$f":"VLOOKUP($D91,'Resultados Gerais'!$B$8:$W$1048576,17,0)","v":22},{"$f":"VLOOKUP($D91,'Resultados Gerais'!$B$8:$W$1048576,18,0)","v":12},{"$f":"VLOOKUP($D91,'Resultados Gerais'!$B$8:$W$1048576,19,0)","v":35},{"$f":"VLOOKUP($D91,'Resultados Gerais'!$B$8:$W$1048576,20,0)","v":91},{"$f":"VLOOKUP($D91,'Resultados Gerais'!$B$8:$W$1048576,21,0)","v":67},{"$f":"VLOOKUP($D91,'Resultados Gerais'!$B$8:$W$1048576,22,0)","v":31},null,null,null,94,{"$f":"COUNTIF(F$12:$Y$111,AC91)","v":17},17]
[null,null,80,{"$f":"COUNT('Resultados Gerais'!$B$8:$B$1048576)-C92","v":1339},{"$f":"VLOOKUP(D92,'Resultados Gerais'!B$8:C$1048576,2,0)","v":"2013-04-13"},{"$f":"VLOOKUP($D92,'Resultados Gerais'!$B$8:$W$1048576,3,0)","v":85},{"$f":"VLOOKUP($D92,'Resultados Gerais'!$B$8:$W$1048576,4,0)","v":94},{"$f":"VLOOKUP($D92,'Resultados Gerais'!$B$8:$W$1048576,5,0)","v":56},{"$f":"VLOOKUP($D92,'Resultados Gerais'!$B$8:$W$1048576,6,0)","v":31},{"$f":"VLOOKUP($D92,'Resultados Gerais'!$B$8:$W$1048576,7,0)","v":49},{"$f":"VLOOKUP($D92,'Resultados Gerais'!$B$8:$W$1048576,8,0)","v":8},{"$f":"VLOOKUP($D92,'Resultados Gerais'!$B$8:$W$1048576,9,0)","v":79},{"$f":"VLOOKUP($D92,'Resultados Gerais'!$B$8:$W$1048576,10,0)","v":75},{"$f":"VLOOKUP($D92,'Resultados Gerais'!$B$8:$W$1048576,11,0)","v":93},{"$f":"VLOOKUP($D92,'Resultados Gerais'!$B$8:$W$1048576,12,0)","v":33},{"$f":"VLOOKUP($D92,'Resultados Gerais'!$B$8:$W$1048576,13,0)","v":90},{"$f":"VLOOKUP($D92,'Resultados Gerais'!$B$8:$W$1048576,14,0)","v":16},{"$f":"VLOOKUP($D92,'Resultados Gerais'!$B$8:$W$1048576,15,0)","v":80},{"$f":"VLOOKUP($D92,'Resultados Gerais'!$B$8:$W$1048576,16,0)","v":26},{"$f":"VLOOKUP($D92,'Resultados Gerais'!$B$8:$W$1048576,17,0)","v":74},{"$f":"VLOOKUP($D92,'Resultados Gerais'!$B$8:$W$1048576,18,0)","v":7},{"$f":"VLOOKUP($D92,'Resultados Gerais'!$B$8:$W$1048576,19,0)","v":0},{"$f":"VLOOKUP($D92,'Resultados Gerais'!$B$8:$W$1048576,20,0)","v":63},{"$f":"VLOOKUP($D92,'Resultados Gerais'!$B$8:$W$1048576,21,0)","v":12},{"$f":"VLOOKUP($D92,'Resultados Gerais'!$B$8:$W$1048576,22,0)","v":57},null,null,null,70,{"$f":"COUNTIF(F$12:$Y$111,AC92)","v":17},17]
[null,null,81,{"$f":"COUNT('Resultados Gerais'!$B$8:$B$1048576)-C93","v":1338},{"$f":"VLOOKUP(D93,'Resultados Gerais'!B$8:C$1048576,2,0)","v":"2013-04-10"},{"$f":"VLOOKUP($D93,'Resultados Gerais'!$B$8:$W$1048576,3,0)","v":9},{"$f":"VLOOKUP($D93,'Resultados Gerais'!$B$8:$W$1048576,4,0)","v":11},{"$f":"VLOOKUP($D93,'Resultados Gerais'!$B$8:$W$1048576,5,0)","v":55},{"$f":"VLOOKUP($D93,'Resultados Gerais'!$B$8:$W$1048576,6,0)","v":57},{"$f":"VLOOKUP($D93,'Resultados Gerais'!$B$8:$W$1048576,7,0)","v":68},{"$f":"VLOOKUP($D93,'Resultados Gerais'!$B$8:$W$1048576,8,0)","v":64},{"$f":"VLOOKUP($D93,'Resultados Gerais'!$B$8:$W$1048576,9,0)","v":13},{"$f":"VLOOKUP($D93,'Resultados Gerais'!$B$8:$W$1048576,10,0)","v":89},{"$f":"VLOOKUP($D93,'Resultados Gerais'!$B$8:$W$1048576,11,0)","v":46},{"$f":"VLOOKUP($D93,'Resultados Gerais'!$B$8:$W$1048576,12,0)","v":14},{"$f":"VLOOKUP($D93,'Resultados Gerais'!$B$8:$W$1048576,13,0)","v":27},{"$f":"VLOOKUP($D93,'Resultados Gerais'!$B$8:$W$1048576,14,0)","v":29},{"$f":"VLOOKUP($D93,'Resultados Gerais'!$B$8:$W$1048576,15,0)","v":80},{"$f":"VLOOKUP($D93,'Resultados Gerais'!$B$8:$W$1048576,16,0)","v":49},{"$f":"VLOOKUP($D93,'Resultados Gerais'!$B$8:$W$1048576,17,0)","v":32},{"$f":"VLOOKUP($D93,'Resultados Gerais'!$B$8:$W$1048576,18,0)","v":41},{"$f":"VLOOKUP($D93,'Resultados Gerais'!$B$8:$W$1048576,19,0)","v":91},{"$f":"VLOOKUP($D93,'Resultados Gerais'!$B$8:$W$1048576,20,0)","v":12},{"$f":"VLOOKUP($D93,'Resultados Gerais'!$B$8:$W$1048576,21,0)","v":34},{"$f":"VLOOKUP($D93,'Resultados Gerais'!$B$8:$W$1048576,22,0)","v":93},null,null,null,63,{"$f":"COUNTIF(F$12:$Y$111,AC93)","v":16},16]
[null,null,82,{"$f":"COUNT('Resultados Gerais'!$B$8:$B$1048576)-C94","v":1337},{"$f":"VLOOKUP(D94,'Resultados Gerais'!B$8:C$1048576,2,0)","v":"2013-04-06"},{"$f":"VLOOKUP($D94,'Resultados Gerais'!$B$8:$W$1048576,3,0)","v":16},{"$f":"VLOOKUP($D94,'Resultados Gerais'!$B$8:$W$1048576,4,0)","v":57},{"$f":"VLOOKUP($D94,'Resultados Gerais'!$B$8:$W$1048576,5,0)","v":17},{"$f":"VLOOKUP($D94,'Resultados Gerais'!$B$8:$W$1048576,6,0)","v":35},{"$f":"VLOOKUP($D94,'Resultados Gerais'!$B$8:$W$1048576,7,0)","v":38},{"$f":"VLOOKUP($D94,'Resultados Gerais'!$B$8:$W$1048576,8,0)","v":63},{"$f":"VLOOKUP($D94,'Resultados Gerais'!$B$8:$W$1048576,9,0)","v":90},{"$f":"VLOOKUP($D94,'Resultados Gerais'!$B$8:$W$1048576,10,0)","v":47},{"$f":"VLOOKUP($D94,'Resultados Gerais'!$B$8:$W$1048576,11,0)","v":48},{"$f":"VLOOKUP($D94,'Resultados Gerais'!$B$8:$W$1048576,12,0)","v":25},{"$f":"VLOOKUP($D94,'Resultados Gerais'!$B$8:$W$1048576,13,0)","v":73},{"$f":"VLOOKUP($D94,'Resultados Gerais'!$B$8:$W$1048576,14,0)","v":0},{"$f":"VLOOKUP($D94,'Resultados Gerais'!$B$8:$W$1048576,15,0)","v":93},{"$f":"VLOOKUP($D94,'Resultados Gerais'!$B$8:$W$1048576,16,0)","v":12},{"$f":"VLOOKUP($D94,'Resultados Gerais'!$B$8:$W$1048576,17,0)","v":26},{"$f":"VLOOKUP($D94,'Resultados Gerais'!$B$8:$W$1048576,18,0)","v":52},{"$f":"VLOOKUP($D94,'Resultados Gerais'!$B$8:$W$1048576,19,0)","v":69},{"$f":"VLOOKUP($D94,'Resultados Gerais'!$B$8:$W$1048576,20,0)","v":41},{"$f":"VLOOKUP($D94,'Resultados Gerais'!$B$8:$W$1048576,21,0)","v":45},{"$f":"VLOOKUP($D94,'Resultados Gerais'!$B$8:$W$1048576,22,0)","v":70},null,null,null,0,{"$f":"COUNTIF(F$12:$Y$111,AC94)","v":16},16]
[null,null,83,{"$f":"COUNT('Resultados Gerais'!$B$8:$B$1048576)-C95","v":1336},{"$f":"VLOOKUP(D95,'Resultados Gerais'!B$8:C$1048576,2,0)","v":"2013-04-03"},{"$f":"VLOOKUP($D95,'Resultados Gerais'!$B$8:$W$1048576,3,0)","v":67},{"$f":"VLOOKUP($D95,'Resultados Gerais'!$B$8:$W$1048576,4,0)","v":37},{"$f":"VLOOKUP($D95,'Resultados Gerais'!$B$8:$W$1048576,5,0)","v":78},{"$f":"VLOOKUP($D95,'Resultados Gerais'!$B$8:$W$1048576,6,0)","v":40},{"$f":"VLOOKUP($D95,'Resultados Gerais'!$B$8:$W$1048576,7,0)","v":63},{"$f":"VLOOKUP($D95,'Resultados Gerais'!$B$8:$W$1048576,8,0)","v":24},{"$f":"VLOOKUP($D95,'Resultados Gerais'!$B$8:$W$1048576,9,0)","v":88},{"$f":"VLOOKUP($D95,'Resultados Gerais'!$B$8:$W$1048576,10,0)","v":84},{"$f":"VLOOKUP($D95,'Resultados Gerais'!$B$8:$W$1048576,11,0)","v":2},{"$f":"VLOOKUP($D95,'Resultados Gerais'!$B$8:$W$1048576,12,0)","v":68},{"$f":"VLOOKUP($D95,'Resultados Gerais'!$B$8:$W$1048576,13,0)","v":77},{"$f":"VLOOKUP($D95,'Resultados Gerais'!$B$8:$W$1048576,14,0)","v":41},{"$f":"VLOOKUP($D95,'Resultados Gerais'!$B$8:$W$1048576,15,0)","v":20},{"$f":"VLOOKUP($D95,'Resultados Gerais'!$B$8:$W$1048576,16,0)","v":16},{"$f":"VLOOKUP($D95,'Resultados Gerais'!$B$8:$W$1048576,17,0)","v":70},{"$f":"VLOOKUP($D95,'Resultados Gerais'!$B$8:$W$1048576,18,0)","v":60},{"$f":"VLOOKUP($D95,'Resultados Gerais'!$B$8:$W$1048576,19,0)","v":72},{"$f":"VLOOKUP($D95,'Resultados Gerais'!$B$8:$W$1048576,20,0)","v":64},{"$f":"VLOOKUP($D95,'Resultados Gerais'!$B$8:$W$1048576,21,0)","v":92},{"$f":"VLOOKUP($D95,'Resultados Gerais'!$B$8:$W$1048576,22,0)","v":9},null,null,null,3,{"$f":"COUNTIF(F$12:$Y$111,AC95)","v":16},16]
[null,null,84,{"$f":"COUNT('Resultados Gerais'!$B$8:$B$1048576)-C96","v":1335},{"$f":"VLOOKUP(D96,'Resultados Gerais'!B$8:C$1048576,2,0)","v":"2013-03-30"},{"$f":"VLOOKUP($D96,'Resultados Gerais'!$B$8:$W$1048576,3,0)","v":11},{"$f":"VLOOKUP($D96,'Resultados Gerais'!$B$8:$W$1048576,4,0)","v":75},{"$f":"VLOOKUP($D96,'Resultados Gerais'!$B$8:$W$1048576,5,0)","v":31},{"$f":"VLOOKUP($D96,'Resultados Gerais'!$B$8:$W$1048576,6,0)","v":28},{"$f":"VLOOKUP($D96,'Resultados Gerais'!$B$8:$W$1048576,7,0)","v":76},{"$f":"VLOOKUP($D96,'Resultados Gerais'!$B$8:$W$1048576,8,0)","v":53},{"$f":"VLOOKUP($D96,'Resultados Gerais'!$B$8:$W$1048576,9,0)","v":2},{"$f":"VLOOKUP($D96,'Resultados Gerais'!$B$8:$W$1048576,10,0)","v":93},{"$f":"VLOOKUP($D96,'Resultados Gerais'!$B$8:$W$1048576,11,0)","v":40},{"$f":"VLOOKUP($D96,'Resultados Gerais'!$B$8:$W$1048576,12,0)","v":60},{"$f":"VLOOKUP($D96,'Resultados Gerais'!$B$8:$W$1048576,13,0)","v":92},{"$f":"VLOOKUP($D96,'Resultados Gerais'!$B$8:$W$1048576,14,0)","v":3},{"$f":"VLOOKUP($D96,'Resultados Gerais'!$B$8:$W$1048576,15,0)","v":90},{"$f":"VLOOKUP($D96,'Resultados Gerais'!$B$8:$W$1048576,16,0)","v":52},{"$f":"VLOOKUP($D96,'Resultados Gerais'!$B$8:$W$1048576,17,0)","v":83},{"$f":"VLOOKUP($D96,'Resultados Gerais'!$B$8:$W$1048576,18,0)","v":56},{"$f":"VLOOKUP($D96,'Resultados Gerais'!$B$8:$W$1048576,19,0)","v":81},{"$f":"VLOOKUP($D96,'Resultados Gerais'!$B$8:$W$1048576,20,0)","v":61},{"$f":"VLOOKUP($D96,'Resultados Gerais'!$B$8:$W$1048576,21,0)","v":24},{"$f":"VLOOKUP($D96,'Resultados Gerais'!$B$8:$W$1048576,22,0)","v":29},null,null,null,71,{"$f":"COUNTIF(F$12:$Y$111,AC96)","v":16},16]
[null,null,85,{"$f":"COUNT('Resultados Gerais'!$B$8:$B$1048576)-C97","v":1334},{"$f":"VLOOKUP(D97,'Resultados Gerais'!B$8:C$1048576,2,0)","v":"2013-03-23"},{"$f":"VLOOKUP($D97,'Resultados Gerais'!$B$8:$W$1048576,3,0)","v":43},{"$f":"VLOOKUP($D97,'Resultados Gerais'!$B$8:$W$1048576,4,0)","v":38},{"$f":"VLOOKUP($D97,'Resultados Gerais'!$B$8:$W$1048576,5,0)","v":91},{"$f":"VLOOKUP($D97,'Resultados Gerais'!$B$8:$W$1048576,6,0)","v":36},{"$f":"VLOOKUP($D97,'Resultados Gerais'!$B$8:$W$1048576,7,0)","v":27},{"$f":"VLOOKUP($D97,'Resultados Gerais'!$B$8:$W$1048576,8,0)","v":5},{"$f":"VLOOKUP($D97,'Resultados Gerais'!$B$8:$W$1048576,9,0)","v":76},{"$f":"VLOOKUP($D97,'Resultados Gerais'!$B$8:$W$1048576,10,0)","v":97},{"$f":"VLOOKUP($D97,'Resultados Gerais'!$B$8:$W$1048576,11,0)","v":9},{"$f":"VLOOKUP($D97,'Resultados Gerais'!$B$8:$W$1048576,12,0)","v":39},{"$f":"VLOOKUP($D97,'Resultados Gerais'!$B$8:$W$1048576,13,0)","v":24},{"$f":"VLOOKUP($D97,'Resultados Gerais'!$B$8:$W$1048576,14,0)","v":63},{"$f":"VLOOKUP($D97,'Resultados Gerais'!$B$8:$W$1048576,15,0)","v":90},{"$f":"VLOOKUP($D97,'Resultados Gerais'!$B$8:$W$1048576,16,0)","v":89},{"$f":"VLOOKUP($D97,'Resultados Gerais'!$B$8:$W$1048576,17,0)","v":57},{"$f":"VLOOKUP($D97,'Resultados Gerais'!$B$8:$W$1048576,18,0)","v":85},{"$f":"VLOOKUP($D97,'Resultados Gerais'!$B$8:$W$1048576,19,0)","v":88},{"$f":"VLOOKUP($D97,'Resultados Gerais'!$B$8:$W$1048576,20,0)","v":54},{"$f":"VLOOKUP($D97,'Resultados Gerais'!$B$8:$W$1048576,21,0)","v":93},{"$f":"VLOOKUP($D97,'Resultados Gerais'!$B$8:$W$1048576,22,0)","v":41},null,null,null,81,{"$f":"COUNTIF(F$12:$Y$111,AC97)","v":16},16]
[null,null,86,{"$f":"COUNT('Resultados Gerais'!$B$8:$B$1048576)-C98","v":1333},{"$f":"VLOOKUP(D98,'Resultados Gerais'!B$8:C$1048576,2,0)","v":"2013-03-20"},{"$f":"VLOOKUP($D98,'Resultados Gerais'!$B$8:$W$1048576,3,0)","v":55},{"$f":"VLOOKUP($D98,'Resultados Gerais'!$B$8:$W$1048576,4,0)","v":86},{"$f":"VLOOKUP($D98,'Resultados Gerais'!$B$8:$W$1048576,5,0)","v":44},{"$f":"VLOOKUP($D98,'Resultados Gerais'!$B$8:$W$1048576,6,0)","v":24},{"$f":"VLOOKUP($D98,'Resultados Gerais'!$B$8:$W$1048576,7,0)","v":75},{"$f":"VLOOKUP($D98,'Resultados Gerais'!$B$8:$W$1048576,8,0)","v":81},{"$f":"VLOOKUP($D98,'Resultados Gerais'!$B$8:$W$1048576,9,0)","v":97},{"$f":"VLOOKUP($D98,'Resultados Gerais'!$B$8:$W$1048576,10,0)","v":92},{"$f":"VLOOKUP($D98,'Resultados Gerais'!$B$8:$W$1048576,11,0)","v":34},{"$f":"VLOOKUP($D98,'Resultados Gerais'!$B$8:$W$1048576,12,0)","v":76},{"$f":"VLOOKUP($D98,'Resultados Gerais'!$B$8:$W$1048576,13,0)","v":51},{"$f":"VLOOKUP($D98,'Resultados Gerais'!$B$8:$W$1048576,14,0)","v":48},{"$f":"VLOOKUP($D98,'Resultados Gerais'!$B$8:$W$1048576,15,0)","v":73},{"$f":"VLOOKUP($D98,'Resultados Gerais'!$B$8:$W$1048576,16,0)","v":21},{"$f":"VLOOKUP($D98,'Resultados Gerais'!$B$8:$W$1048576,17,0)","v":88},{"$f":"VLOOKUP($D98,'Resultados Gerais'!$B$8:$W$1048576,18,0)","v":26},{"$f":"VLOOKUP($D98,'Resultados Gerais'!$B$8:$W$1048576,19,0)","v":5},{"$f":"VLOOKUP($D98,'Resultados Gerais'!$B$8:$W$1048576,20,0)","v":78},{"$f":"VLOOKUP($D98,'Resultados Gerais'!$B$8:$W$1048576,21,0)","v":58},{"$f":"VLOOKUP($D98,'Resultados Gerais'!$B$8:$W$1048576,22,0)","v":71},null,null,null,34,{"$f":"COUNTIF(F$12:$Y$111,AC98)","v":16},16]
[null,null,87,{"$f":"COUNT('Resultados Gerais'!$B$8:$B$1048576)-C99","v":1332},{"$f":"VLOOKUP(D99,'Resultados Gerais'!B$8:C$1048576,2,0)","v":"2013-03-16"},{"$f":"VLOOKUP($D99,'Resultados Gerais'!$B$8:$W$1048576,3,0)","v":68},{"$f":"VLOOKUP($D99,'Resultados Gerais'!$B$8:$W$1048576,4,0)","v":57},{"$f":"VLOOKUP($D99,'Resultados Gerais'!$B$8:$W$1048576,5,0)","v":43},{"$f":"VLOOKUP($D99,'Resultados Gerais'!$B$8:$W$1048576,6,0)","v":80},{"$f":"VLOOKUP($D99,'Resultados Gerais'!$B$8:$W$1048576,7,0)","v":51},{"$f":"VLOOKUP($D99,'Resultados Gerais'!$B$8:$W$1048576,8,0)","v":44},{"$f":"VLOOKUP($D99,'Resultados Gerais'!$B$8:$W$1048576,9,0)","v":5},{"$f":"VLOOKUP($D99,'Resultados Gerais'!$B$8:$W$1048576,10,0)","v":42},{"$f":"VLOOKUP($D99,'Resultados Gerais'!$B$8:$W$1048576,11,0)","v":13},{"$f":"VLOOKUP($D99,'Resultados Gerais'!$B$8:$W$1048576,12,0)","v":87},{"$f":"VLOOKUP($D99,'Resultados Gerais'!$B$8:$W$1048576,13,0)","v":90},{"$f":"VLOOKUP($D99,'Resultados Gerais'!$B$8:$W$1048576,14,0)","v":69},{"$f":"VLOOKUP($D99,'Resultados Gerais'!$B$8:$W$1048576,15,0)","v":81},{"$f":"VLOOKUP($D99,'Resultados Gerais'!$B$8:$W$1048576,16,0)","v":79},{"$f":"VLOOKUP($D99,'Resultados Gerais'!$B$8:$W$1048576,17,0)","v":62},{"$f":"VLOOKUP($D99,'Resultados Gerais'!$B$8:$W$1048576,18,0)","v":54},{"$f":"VLOOKUP($D99,'Resultados Gerais'!$B$8:$W$1048576,19,0)","v":8},{"$f":"VLOOKUP($D99,'Resultados Gerais'!$B$8:$W$1048576,20,0)","v":93},{"$f":"VLOOKUP($D99,'Resultados Gerais'!$B$8:$W$1048576,21,0)","v":37},{"$f":"VLOOKUP($D99,'Resultados Gerais'!$B$8:$W$1048576,22,0)","v":23},null,null,null,72,{"$f":"COUNTIF(F$12:$Y$111,AC99)","v":16},16]
[null,null,88,{"$f":"COUNT('Resultados Gerais'!$B$8:$B$1048576)-C100","v":1331},{"$f":"VLOOKUP(D100,'Resultados Gerais'!B$8:C$1048576,2,0)","v":"2013-03-13"},{"$f":"VLOOKUP($D100,'Resultados Gerais'!$B$8:$W$1048576,3,0)","v":56},{"$f":"VLOOKUP($D100,'Resultados Gerais'!$B$8:$W$1048576,4,0)","v":86},{"$f":"VLOOKUP($D100,'Resultados Gerais'!$B$8:$W$1048576,5,0)","v":82},{"$f":"VLOOKUP($D100,'Resultados Gerais'!$B$8:$W$1048576,6,0)","v":1},{"$f":"VLOOKUP($D100,'Resultados Gerais'!$B$8:$W$1048576,7,0)","v":6},{"$f":"VLOOKUP($D100,'Resultados Gerais'!$B$8:$W$1048576,8,0)","v":2},{"$f":"VLOOKUP($D100,'Resultados Gerais'!$B$8:$W$1048576,9,0)","v":25},{"$f":"VLOOKUP($D100,'Resultados Gerais'!$B$8:$W$1048576,10,0)","v":63},{"$f":"VLOOKUP($D100,'Resultados Gerais'!$B$8:$W$1048576,11,0)","v":11},{"$f":"VLOOKUP($D100,'Resultados Gerais'!$B$8:$W$1048576,12,0)","v":10},{"$f":"VLOOKUP($D100,'Resultados Gerais'!$B$8:$W$1048576,13,0)","v":65},{"$f":"VLOOKUP($D100,'Resultados Gerais'!$B$8:$W$1048576,14,0)","v":93},{"$f":"VLOOKUP($D100,'Resultados Gerais'!$B$8:$W$1048576,15,0)","v":80},{"$f":"VLOOKUP($D100,'Resultados Gerais'!$B$8:$W$1048576,16,0)","v":99},{"$f":"VLOOKUP($D100,'Resultados Gerais'!$B$8:$W$1048576,17,0)","v":27},{"$f":"VLOOKUP($D100,'Resultados Gerais'!$B$8:$W$1048576,18,0)","v":42},{"$f":"VLOOKUP($D100,'Resultados Gerais'!$B$8:$W$1048576,19,0)","v":23},{"$f":"VLOOKUP($D100,'Resultados Gerais'!$B$8:$W$1048576,20,0)","v":30},{"$f":"VLOOKUP($D100,'Resultados Gerais'!$B$8:$W$1048576,21,0)","v":68},{"$f":"VLOOKUP($D100,'Resultados Gerais'!$B$8:$W$1048576,22,0)","v":18},null,null,null,47,{"$f":"COUNTIF(F$12:$Y$111,AC100)","v":15},15]
[null,null,89,{"$f":"COUNT('Resultados Gerais'!$B$8:$B$1048576)-C101","v":1330},{"$f":"VLOOKUP(D101,'Resultados Gerais'!B$8:C$1048576,2,0)","v":"2013-03-09"},{"$f":"VLOOKUP($D101,'Resultados Gerais'!$B$8:$W$1048576,3,0)","v":5},{"$f":"VLOOKUP($D101,'Resultados Gerais'!$B$8:$W$1048576,4,0)","v":10},{"$f":"VLOOKUP($D101,'Resultados Gerais'!$B$8:$W$1048576,5,0)","v":83},{"$f":"VLOOKUP($D101,'Resultados Gerais'!$B$8:$W$1048576,6,0)","v":56},{"$f":"VLOOKUP($D101,'Resultados Gerais'!$B$8:$W$1048576,7,0)","v":85},{"$f":"VLOOKUP($D101,'Resultados Gerais'!$B$8:$W$1048576,8,0)","v":14},{"$f":"VLOOKUP($D101,'Resultados Gerais'!$B$8:$W$1048576,9,0)","v":88},{"$f":"VLOOKUP($D101,'Resultados Gerais'!$B$8:$W$1048576,10,0)","v":86},{"$f":"VLOOKUP($D101,'Resultados Gerais'!$B$8:$W$1048576,11,0)","v":20},{"$f":"VLOOKUP($D101,'Resultados Gerais'!$B$8:$W$1048576,12,0)","v":78},{"$f":"VLOOKUP($D101,'Resultados Gerais'!$B$8:$W$1048576,13,0)","v":33},{"$f":"VLOOKUP($D101,'Resultados Gerais'!$B$8:$W$1048576,14,0)","v":18},{"$f":"VLOOKUP($D101,'Resultados Gerais'!$B$8:$W$1048576,15,0)","v":58},{"$f":"VLOOKUP($D101,'Resultados Gerais'!$B$8:$W$1048576,16,0)","v":13},{"$f":"VLOOKUP($D101,'Resultados Gerais'!$B$8:$W$1048576,17,0)","v":62},{"$f":"VLOOKUP($D101,'Resultados Gerais'!$B$8:$W$1048576,18,0)","v":35},{"$f":"VLOOKUP($D101,'Resultados Gerais'!$B$8:$W$1048576,19,0)","v":19},{"$f":"VLOOKUP($D101,'Resultados Gerais'!$B$8:$W$1048576,20,0)","v":75},{"$f":"VLOOKUP($D101,'Resultados Gerais'!$B$8:$W$1048576,21,0)","v":27},{"$f":"VLOOKUP($D101,'Resultados Gerais'!$B$8:$W$1048576,22,0)","v":72},null,null,null,92,{"$f":"COUNTIF(F$12:$Y$111,AC101)","v":15},15]
[null,null,90,{"$f":"COUNT('Resultados Gerais'!$B$8:$B$1048576)-C102","v":1329},{"$f":"VLOOKUP(D102,'Resultados Gerais'!B$8:C$1048576,2,0)","v":"2013-03-06"},{"$f":"VLOOKUP($D102,'Resultados Gerais'!$B$8:$W$1048576,3,0)","v":11},{"$f":"VLOOKUP($D102,'Resultados Gerais'!$B$8:$W$1048576,4,0)","v":49},{"$f":"VLOOKUP($D102,'Resultados Gerais'!$B$8:$W$1048576,5,0)","v":91},{"$f":"VLOOKUP($D102,'Resultados Gerais'!$B$8:$W$1048576,6,0)","v":57},{"$f":"VLOOKUP($D102,'Resultados Gerais'!$B$8:$W$1048576,7,0)","v":12},{"$f":"VLOOKUP($D102,'Resultados Gerais'!$B$8:$W$1048576,8,0)","v":39},{"$f":"VLOOKUP($D102,'Resultados Gerais'!$B$8:$W$1048576,9,0)","v":46},{"$f":"VLOOKUP($D102,'Resultados Gerais'!$B$8:$W$1048576,10,0)","v":18},{"$f":"VLOOKUP($D102,'Resultados Gerais'!$B$8:$W$1048576,11,0)","v":9},{"$f":"VLOOKUP($D102,'Resultados Gerais'!$B$8:$W$1048576,12,0)","v":66},{"$f":"VLOOKUP($D102,'Resultados Gerais'!$B$8:$W$1048576,13,0)","v":20},{"$f":"VLOOKUP($D102,'Resultados Gerais'!$B$8:$W$1048576,14,0)","v":95},{"$f":"VLOOKUP($D102,'Resultados Gerais'!$B$8:$W$1048576,15,0)","v":40},{"$f":"VLOOKUP($D102,'Resultados Gerais'!$B$8:$W$1048576,16,0)","v":94},{"$f":"VLOOKUP($D102,'Resultados Gerais'!$B$8:$W$1048576,17,0)","v":6},{"$f":"VLOOKUP($D102,'Resultados Gerais'!$B$8:$W$1048576,18,0)","v":55},{"$f":"VLOOKUP($D102,'Resultados Gerais'!$B$8:$W$1048576,19,0)","v":85},{"$f":"VLOOKUP($D102,'Resultados Gerais'!$B$8:$W$1048576,20,0)","v":21},{"$f":"VLOOKUP($D102,'Resultados Gerais'!$B$8:$W$1048576,21,0)","v":48},{"$f":"VLOOKUP($D102,'Resultados Gerais'!$B$8:$W$1048576,22,0)","v":17},null,null,null,99,{"$f":"COUNTIF(F$12:$Y$111,AC102)","v":15},15]
[null,null,91,{"$f":"COUNT('Resultados Gerais'!$B$8:$B$1048576)-C103","v":1328},{"$f":"VLOOKUP(D103,'Resultados Gerais'!B$8:C$1048576,2,0)","v":"2013-03-02"},{"$f":"VLOOKUP($D103,'Resultados Gerais'!$B$8:$W$1048576,3,0)","v":9},{"$f":"VLOOKUP($D103,'Resultados Gerais'!$B$8:$W$1048576,4,0)","v":14},{"$f":"VLOOKUP($D103,'Resultados Gerais'!$B$8:$W$1048576,5,0)","v":69},{"$f":"VLOOKUP($D103,'Resultados Gerais'!$B$8:$W$1048576,6,0)","v":66},{"$f":"VLOOKUP($D103,'Resultados Gerais'!$B$8:$W$1048576,7,0)","v":80},{"$f":"VLOOKUP($D103,'Resultados Gerais'!$B$8:$W$1048576,8,0)","v":45},{"$f":"VLOOKUP($D103,'Resultados Gerais'!$B$8:$W$1048576,9,0)","v":26},{"$f":"VLOOKUP($D103,'Resultados Gerais'!$B$8:$W$1048576,10,0)","v":68},{"$f":"VLOOKUP($D103,'Resultados Gerais'!$B$8:$W$1048576,11,0)","v":61},{"$f":"VLOOKUP($D103,'Resultados Gerais'!$B$8:$W$1048576,12,0)","v":0},{"$f":"VLOOKUP($D103,'Resultados Gerais'!$B$8:$W$1048576,13,0)","v":86},{"$f":"VLOOKUP($D103,'Resultados Gerais'!$B$8:$W$1048576,14,0)","v":94},{"$f":"VLOOKUP($D103,'Resultados Gerais'!$B$8:$W$1048576,15,0)","v":30},{"$f":"VLOOKUP($D103,'Resultados Gerais'!$B$8:$W$1048576,16,0)","v":23},{"$f":"VLOOKUP($D103,'Resultados Gerais'!$B$8:$W$1048576,17,0)","v":28},{"$f":"VLOOKUP($D103,'Resultados Gerais'!$B$8:$W$1048576,18,0)","v":10},{"$f":"VLOOKUP($D103,'Resultados Gerais'!$B$8:$W$1048576,19,0)","v":1},{"$f":"VLOOKUP($D103,'Resultados Gerais'!$B$8:$W$1048576,20,0)","v":55},{"$f":"VLOOKUP($D103,'Resultados Gerais'!$B$8:$W$1048576,21,0)","v":52},{"$f":"VLOOKUP($D103,'Resultados Gerais'!$B$8:$W$1048576,22,0)","v":32},null,null,null,89,{"$f":"COUNTIF(F$12:$Y$111,AC103)","v":15},15]
[null,null,92,{"$f":"COUNT('Resultados Gerais'!$B$8:$B$1048576)-C104","v":1327},{"$f":"VLOOKUP(D104,'Resultados Gerais'!B$8:C$1048576,2,0)","v":"2013-02-27"},{"$f":"VLOOKUP($D104,'Resultados Gerais'!$B$8:$W$1048576,3,0)","v":95},{"$f":"VLOOKUP($D104,'Resultados Gerais'!$B$8:$W$1048576,4,0)","v":21},{"$f":"VLOOKUP($D104,'Resultados Gerais'!$B$8:$W$1048576,5,0)","v":68},{"$f":"VLOOKUP($D104,'Resultados Gerais'!$B$8:$W$1048576,6,0)","v":99},{"$f":"VLOOKUP($D104,'Resultados Gerais'!$B$8:$W$1048576,7,0)","v":53},{"$f":"VLOOKUP($D104,'Resultados Gerais'!$B$8:$W$1048576,8,0)","v":42},{"$f":"VLOOKUP($D104,'Resultados Gerais'!$B$8:$W$1048576,9,0)","v":47},{"$f":"VLOOKUP($D104,'Resultados Gerais'!$B$8:$W$1048576,10,0)","v":59},{"$f":"VLOOKUP($D104,'Resultados Gerais'!$B$8:$W$1048576,11,0)","v":20},{"$f":"VLOOKUP($D104,'Resultados Gerais'!$B$8:$W$1048576,12,0)","v":27},{"$f":"VLOOKUP($D104,'Resultados Gerais'!$B$8:$W$1048576,13,0)","v":23},{"$f":"VLOOKUP($D104,'Resultados Gerais'!$B$8:$W$1048576,14,0)","v":19},{"$f":"VLOOKUP($D104,'Resultados Gerais'!$B$8:$W$1048576,15,0)","v":56},{"$f":"VLOOKUP($D104,'Resultados Gerais'!$B$8:$W$1048576,16,0)","v":2},{"$f":"VLOOKUP($D104,'Resultados Gerais'!$B$8:$W$1048576,17,0)","v":96},{"$f":"VLOOKUP($D104,'Resultados Gerais'!$B$8:$W$1048576,18,0)","v":54},{"$f":"VLOOKUP($D104,'Resultados Gerais'!$B$8:$W$1048576,19,0)","v":76},{"$f":"VLOOKUP($D104,'Resultados Gerais'!$B$8:$W$1048576,20,0)","v":57},{"$f":"VLOOKUP($D104,'Resultados Gerais'!$B$8:$W$1048576,21,0)","v":4},{"$f":"VLOOKUP($D104,'Resultados Gerais'!$B$8:$W$1048576,22,0)","v":8},null,null,null,44,{"$f":"COUNTIF(F$12:$Y$111,AC104)","v":15},15]
[null,null,93,{"$f":"COUNT('Resultados Gerais'!$B$8:$B$1048576)-C105","v":1326},{"$f":"VLOOKUP(D105,'Resultados Gerais'!B$8:C$1048576,2,0)","v":"2013-02-23"},{"$f":"VLOOKUP($D105,'Resultados Gerais'!$B$8:$W$1048576,3,0)","v":4},{"$f":"VLOOKUP($D105,'Resultados Gerais'!$B$8:$W$1048576,4,0)","v":75},{"$f":"VLOOKUP($D105,'Resultados Gerais'!$B$8:$W$1048576,5,0)","v":54},{"$f":"VLOOKUP($D105,'Resultados Gerais'!$B$8:$W$1048576,6,0)","v":31},{"$f":"VLOOKUP($D105,'Resultados Gerais'!$B$8:$W$1048576,7,0)","v":13},{"$f":"VLOOKUP($D105,'Resultados Gerais'!$B$8:$W$1048576,8,0)","v":50},{"$f":"VLOOKUP($D105,'Resultados Gerais'!$B$8:$W$1048576,9,0)","v":0},{"$f":"VLOOKUP($D105,'Resultados Gerais'!$B$8:$W$1048576,10,0)","v":67},{"$f":"VLOOKUP($D105,'Resultados Gerais'!$B$8:$W$1048576,11,0)","v":59},{"$f":"VLOOKUP($D105,'Resultados Gerais'!$B$8:$W$1048576,12,0)","v":8},{"$f":"VLOOKUP($D105,'Resultados Gerais'!$B$8:$W$1048576,13,0)","v":29},{"$f":"VLOOKUP($D105,'Resultados Gerais'!$B$8:$W$1048576,14,0)","v":41},{"$f":"VLOOKUP($D105,'Resultados Gerais'!$B$8:$W$1048576,15,0)","v":19},{"$f":"VLOOKUP($D105,'Resultados Gerais'!$B$8:$W$1048576,16,0)","v":27},{"$f":"VLOOKUP($D105,'Resultados Gerais'!$B$8:$W$1048576,17,0)","v":61},{"$f":"VLOOKUP($D105,'Resultados Gerais'!$B$8:$W$1048576,18,0)","v":15},{"$f":"VLOOKUP($D105,'Resultados Gerais'!$B$8:$W$1048576,19,0)","v":10},{"$f":"VLOOKUP($D105,'Resultados Gerais'!$B$8:$W$1048576,20,0)","v":47},{"$f":"VLOOKUP($D105,'Resultados Gerais'!$B$8:$W$1048576,21,0)","v":32},{"$f":"VLOOKUP($D105,'Resultados Gerais'!$B$8:$W$1048576,22,0)","v":83},null,null,null,62,{"$f":"COUNTIF(F$12:$Y$111,AC105)","v":14},14]
[null,null,94,{"$f":"COUNT('Resultados Gerais'!$B$8:$B$1048576)-C106","v":1325},{"$f":"VLOOKUP(D106,'Resultados Gerais'!B$8:C$1048576,2,0)","v":"2013-02-20"},{"$f":"VLOOKUP($D106,'Resultados Gerais'!$B$8:$W$1048576,3,0)","v":98},{"$f":"VLOOKUP($D106,'Resultados Gerais'!$B$8:$W$1048576,4,0)","v":35},{"$f":"VLOOKUP($D106,'Resultados Gerais'!$B$8:$W$1048576,5,0)","v":12},{"$f":"VLOOKUP($D106,'Resultados Gerais'!$B$8:$W$1048576,6,0)","v":9},{"$f":"VLOOKUP($D106,'Resultados Gerais'!$B$8:$W$1048576,7,0)","v":39},{"$f":"VLOOKUP($D106,'Resultados Gerais'!$B$8:$W$1048576,8,0)","v":79},{"$f":"VLOOKUP($D106,'Resultados Gerais'!$B$8:$W$1048576,9,0)","v":29},{"$f":"VLOOKUP($D106,'Resultados Gerais'!$B$8:$W$1048576,10,0)","v":30},{"$f":"VLOOKUP($D106,'Resultados Gerais'!$B$8:$W$1048576,11,0)","v":51},{"$f":"VLOOKUP($D106,'Resultados Gerais'!$B$8:$W$1048576,12,0)","v":83},{"$f":"VLOOKUP($D106,'Resultados Gerais'!$B$8:$W$1048576,13,0)","v":57},{"$f":"VLOOKUP($D106,'Resultados Gerais'!$B$8:$W$1048576,14,0)","v":62},{"$f":"VLOOKUP($D106,'Resultados Gerais'!$B$8:$W$1048576,15,0)","v":77},{"$f":"VLOOKUP($D106,'Resultados Gerais'!$B$8:$W$1048576,16,0)","v":86},{"$f":"VLOOKUP($D106,'Resultados Gerais'!$B$8:$W$1048576,17,0)","v":87},{"$f":"VLOOKUP($D106,'Resultados Gerais'!$B$8:$W$1048576,18,0)","v":84},{"$f":"VLOOKUP($D106,'Resultados Gerais'!$B$8:$W$1048576,19,0)","v":49},{"$f":"VLOOKUP($D106,'Resultados Gerais'!$B$8:$W$1048576,20,0)","v":25},{"$f":"VLOOKUP($D106,'Resultados Gerais'!$B$8:$W$1048576,21,0)","v":41},{"$f":"VLOOKUP($D106,'Resultados Gerais'!$B$8:$W$1048576,22,0)","v":5},null,null,null,96,{"$f":"COUNTIF(F$12:$Y$111,AC106)","v":13},13]
[null,null,95,{"$f":"COUNT('Resultados Gerais'!$B$8:$B$1048576)-C107","v":1324},{"$f":"VLOOKUP(D107,'Resultados Gerais'!B$8:C$1048576,2,0)","v":"2013-02-16"},{"$f":"VLOOKUP($D107,'Resultados Gerais'!$B$8:$W$1048576,3,0)","v":69},{"$f":"VLOOKUP($D107,'Resultados Gerais'!$B$8:$W$1048576,4,0)","v":63},{"$f":"VLOOKUP($D107,'Resultados Gerais'!$B$8:$W$1048576,5,0)","v":56},{"$f":"VLOOKUP($D107,'Resultados Gerais'!$B$8:$W$1048576,6,0)","v":91},{"$f":"VLOOKUP($D107,'Resultados Gerais'!$B$8:$W$1048576,7,0)","v":94},{"$f":"VLOOKUP($D107,'Resultados Gerais'!$B$8:$W$1048576,8,0)","v":65},{"$f":"VLOOKUP($D107,'Resultados Gerais'!$B$8:$W$1048576,9,0)","v":46},{"$f":"VLOOKUP($D107,'Resultados Gerais'!$B$8:$W$1048576,10,0)","v":84},{"$f":"VLOOKUP($D107,'Resultados Gerais'!$B$8:$W$1048576,11,0)","v":49},{"$f":"VLOOKUP($D107,'Resultados Gerais'!$B$8:$W$1048576,12,0)","v":22},{"$f":"VLOOKUP($D107,'Resultados Gerais'!$B$8:$W$1048576,13,0)","v":48},{"$f":"VLOOKUP($D107,'Resultados Gerais'!$B$8:$W$1048576,14,0)","v":67},{"$f":"VLOOKUP($D107,'Resultados Gerais'!$B$8:$W$1048576,15,0)","v":41},{"$f":"VLOOKUP($D107,'Resultados Gerais'!$B$8:$W$1048576,16,0)","v":20},{"$f":"VLOOKUP($D107,'Resultados Gerais'!$B$8:$W$1048576,17,0)","v":29},{"$f":"VLOOKUP($D107,'Resultados Gerais'!$B$8:$W$1048576,18,0)","v":83},{"$f":"VLOOKUP($D107,'Resultados Gerais'!$B$8:$W$1048576,19,0)","v":88},{"$f":"VLOOKUP($D107,'Resultados Gerais'!$B$8:$W$1048576,20,0)","v":66},{"$f":"VLOOKUP($D107,'Resultados Gerais'!$B$8:$W$1048576,21,0)","v":10},{"$f":"VLOOKUP($D107,'Resultados Gerais'!$B$8:$W$1048576,22,0)","v":43},null,null,null,11,{"$f":"COUNTIF(F$12:$Y$111,AC107)","v":13},13]
[null,null,96,{"$f":"COUNT('Resultados Gerais'!$B$8:$B$1048576)-C108","v":1323},{"$f":"VLOOKUP(D108,'Resultados Gerais'!B$8:C$1048576,2,0)","v":"2013-02-13"},{"$f":"VLOOKUP($D108,'Resultados Gerais'!$B$8:$W$1048576,3,0)","v":19},{"$f":"VLOOKUP($D108,'Resultados Gerais'!$B$8:$W$1048576,4,0)","v":87},{"$f":"VLOOKUP($D108,'Resultados Gerais'!$B$8:$W$1048576,5,0)","v":67},{"$f":"VLOOKUP($D108,'Resultados Gerais'!$B$8:$W$1048576,6,0)","v":73},{"$f":"VLOOKUP($D108,'Resultados Gerais'!$B$8:$W$1048576,7,0)","v":55},{"$f":"VLOOKUP($D108,'Resultados Gerais'!$B$8:$W$1048576,8,0)","v":8},{"$f":"VLOOKUP($D108,'Resultados Gerais'!$B$8:$W$1048576,9,0)","v":2},{"$f":"VLOOKUP($D108,'Resultados Gerais'!$B$8:$W$1048576,10,0)","v":6},{"$f":"VLOOKUP($D108,'Resultados Gerais'!$B$8:$W$1048576,11,0)","v":37},{"$f":"VLOOKUP($D108,'Resultados Gerais'!$B$8:$W$1048576,12,0)","v":13},{"$f":"VLOOKUP($D108,'Resultados Gerais'!$B$8:$W$1048576,13,0)","v":90},{"$f":"VLOOKUP($D108,'Resultados Gerais'!$B$8:$W$1048576,14,0)","v":77},{"$f":"VLOOKUP($D108,'Resultados Gerais'!$B$8:$W$1048576,15,0)","v":43},{"$f":"VLOOKUP($D108,'Resultados Gerais'!$B$8:$W$1048576,16,0)","v":71},{"$f":"VLOOKUP($D108,'Resultados Gerais'!$B$8:$W$1048576,17,0)","v":10},{"$f":"VLOOKUP($D108,'Resultados Gerais'!$B$8:$W$1048576,18,0)","v":1},{"$f":"VLOOKUP($D108,'Resultados Gerais'!$B$8:$W$1048576,19,0)","v":28},{"$f":"VLOOKUP($D108,'Resultados Gerais'!$B$8:$W$1048576,20,0)","v":98},{"$f":"VLOOKUP($D108,'Resultados Gerais'!$B$8:$W$1048576,21,0)","v":7},{"$f":"VLOOKUP($D108,'Resultados Gerais'!$B$8:$W$1048576,22,0)","v":89},null,null,null,59,{"$f":"COUNTIF(F$12:$Y$111,AC108)","v":13},13]
[null,null,97,{"$f":"COUNT('Resultados Gerais'!$B$8:$B$1048576)-C109","v":1322},{"$f":"VLOOKUP(D109,'Resultados Gerais'!B$8:C$1048576,2,0)","v":"2013-02-09"},{"$f":"VLOOKUP($D109,'Resultados Gerais'!$B$8:$W$1048576,3,0)","v":89},{"$f":"VLOOKUP($D109,'Resultados Gerais'!$B$8:$W$1048576,4,0)","v":20},{"$f":"VLOOKUP($D109,'Resultados Gerais'!$B$8:$W$1048576,5,0)","v":34},{"$f":"VLOOKUP($D109,'Resultados Gerais'!$B$8:$W$1048576,6,0)","v":84},{"$f":"VLOOKUP($D109,'Resultados Gerais'!$B$8:$W$1048576,7,0)","v":86},{"$f":"VLOOKUP($D109,'Resultados Gerais'!$B$8:$W$1048576,8,0)","v":6},{"$f":"VLOOKUP($D109,'Resultados Gerais'!$B$8:$W$1048576,9,0)","v":24},{"$f":"VLOOKUP($D109,'Resultados Gerais'!$B$8:$W$1048576,10,0)","v":19},{"$f":"VLOOKUP($D109,'Resultados Gerais'!$B$8:$W$1048576,11,0)","v":16},{"$f":"VLOOKUP($D109,'Resultados Gerais'!$B$8:$W$1048576,12,0)","v":98},{"$f":"VLOOKUP($D109,'Resultados Gerais'!$B$8:$W$1048576,13,0)","v":2},{"$f":"VLOOKUP($D109,'Resultados Gerais'!$B$8:$W$1048576,14,0)","v":30},{"$f":"VLOOKUP($D109,'Resultados Gerais'!$B$8:$W$1048576,15,0)","v":56},{"$f":"VLOOKUP($D109,'Resultados Gerais'!$B$8:$W$1048576,16,0)","v":49},{"$f":"VLOOKUP($D109,'Resultados Gerais'!$B$8:$W$1048576,17,0)","v":91},{"$f":"VLOOKUP($D109,'Resultados Gerais'!$B$8:$W$1048576,18,0)","v":80},{"$f":"VLOOKUP($D109,'Resultados Gerais'!$B$8:$W$1048576,19,0)","v":77},{"$f":"VLOOKUP($D109,'Resultados Gerais'!$B$8:$W$1048576,20,0)","v":90},{"$f":"VLOOKUP($D109,'Resultados Gerais'!$B$8:$W$1048576,21,0)","v":61},{"$f":"VLOOKUP($D109,'Resultados Gerais'!$B$8:$W$1048576,22,0)","v":13},null,null,null,12,{"$f":"COUNTIF(F$12:$Y$111,AC109)","v":12},12]
[null,null,98,{"$f":"COUNT('Resultados Gerais'!$B$8:$B$1048576)-C110","v":1321},{"$f":"VLOOKUP(D110,'Resultados Gerais'!B$8:C$1048576,2,0)","v":"2013-02-06"},{"$f":"VLOOKUP($D110,'Resultados Gerais'!$B$8:$W$1048576,3,0)","v":28},{"$f":"VLOOKUP($D110,'Resultados Gerais'!$B$8:$W$1048576,4,0)","v":48},{"$f":"VLOOKUP($D110,'Resultados Gerais'!$B$8:$W$1048576,5,0)","v":27},{"$f":"VLOOKUP($D110,'Resultados Gerais'!$B$8:$W$1048576,6,0)","v":73},{"$f":"VLOOKUP($D110,'Resultados Gerais'!$B$8:$W$1048576,7,0)","v":32},{"$f":"VLOOKUP($D110,'Resultados Gerais'!$B$8:$W$1048576,8,0)","v":95},{"$f":"VLOOKUP($D110,'Resultados Gerais'!$B$8:$W$1048576,9,0)","v":31},{"$f":"VLOOKUP($D110,'Resultados Gerais'!$B$8:$W$1048576,10,0)","v":0},{"$f":"VLOOKUP($D110,'Resultados Gerais'!$B$8:$W$1048576,11,0)","v":8},{"$f":"VLOOKUP($D110,'Resultados Gerais'!$B$8:$W$1048576,12,0)","v":57},{"$f":"VLOOKUP($D110,'Resultados Gerais'!$B$8:$W$1048576,13,0)","v":26},{"$f":"VLOOKUP($D110,'Resultados Gerais'!$B$8:$W$1048576,14,0)","v":16},{"$f":"VLOOKUP($D110,'Resultados Gerais'!$B$8:$W$1048576,15,0)","v":1},{"$f":"VLOOKUP($D110,'Resultados Gerais'!$B$8:$W$1048576,16,0)","v":74},{"$f":"VLOOKUP($D110,'Resultados Gerais'!$B$8:$W$1048576,17,0)","v":45},{"$f":"VLOOKUP($D110,'Resultados Gerais'!$B$8:$W$1048576,18,0)","v":35},{"$f":"VLOOKUP($D110,'Resultados Gerais'!$B$8:$W$1048576,19,0)","v":94},{"$f":"VLOOKUP($D110,'Resultados Gerais'!$B$8:$W$1048576,20,0)","v":7},{"$f":"VLOOKUP($D110,'Resultados Gerais'!$B$8:$W$1048576,21,0)","v":99},{"$f":"VLOOKUP($D110,'Resultados Gerais'!$B$8:$W$1048576,22,0)","v":30},null,null,null,50,{"$f":"COUNTIF(F$12:$Y$111,AC110)","v":12},12]
[null,null,99,{"$f":"COUNT('Resultados Gerais'!$B$8:$B$1048576)-C111","v":1320},{"$f":"VLOOKUP(D111,'Resultados Gerais'!B$8:C$1048576,2,0)","v":"2013-02-02"},{"$f":"VLOOKUP($D111,'Resultados Gerais'!$B$8:$W$1048576,3,0)","v":17},{"$f":"VLOOKUP($D111,'Resultados Gerais'!$B$8:$W$1048576,4,0)","v":61},{"$f":"VLOOKUP($D111,'Resultados Gerais'!$B$8:$W$1048576,5,0)","v":55},{"$f":"VLOOKUP($D111,'Resultados Gerais'!$B$8:$W$1048576,6,0)","v":18},{"$f":"VLOOKUP($D111,'Resultados Gerais'!$B$8:$W$1048576,7,0)","v":87},{"$f":"VLOOKUP($D111,'Resultados Gerais'!$B$8:$W$1048576,8,0)","v":5},{"$f":"VLOOKUP($D111,'Resultados Gerais'!$B$8:$W$1048576,9,0)","v":96},{"$f":"VLOOKUP($D111,'Resultados Gerais'!$B$8:$W$1048576,10,0)","v":94},{"$f":"VLOOKUP($D111,'Resultados Gerais'!$B$8:$W$1048576,11,0)","v":48},{"$f":"VLOOKUP($D111,'Resultados Gerais'!$B$8:$W$1048576,12,0)","v":36},{"$f":"VLOOKUP($D111,'Resultados Gerais'!$B$8:$W$1048576,13,0)","v":24},{"$f":"VLOOKUP($D111,'Resultados Gerais'!$B$8:$W$1048576,14,0)","v":75},{"$f":"VLOOKUP($D111,'Resultados Gerais'!$B$8:$W$1048576,15,0)","v":33},{"$f":"VLOOKUP($D111,'Resultados Gerais'!$B$8:$W$1048576,16,0)","v":40},{"$f":"VLOOKUP($D111,'Resultados Gerais'!$B$8:$W$1048576,17,0)","v":9},{"$f":"VLOOKUP($D111,'Resultados Gerais'!$B$8:$W$1048576,18,0)","v":44},{"$f":"VLOOKUP($D111,'Resultados Gerais'!$B$8:$W$1048576,19,0)","v":91},{"$f":"VLOOKUP($D111,'Resultados Gerais'!$B$8:$W$1048576,20,0)","v":51},{"$f":"VLOOKUP($D111,'Resultados Gerais'!$B$8:$W$1048576,21,0)","v":20},21,null,null,null,52,{"$f":"COUNTIF(F$12:$Y$111,AC111)","v":11},11]
[null,null,null,null,null,null,null,null,null,null,null,null,null,null,null,null,null,null,null,null,null,null,null,null,null,null,null,null,98,{"$f":"COUNTIF(F$12:$Y$111,AC112)","v":11},11]