{"text_format":"1","workbook":"xlsx","n_sheets":6,"sheets":["Resultados Gerais","Total de Saída de Cada Dezena","10 Últimos Sorteios","20 Últimos Sorteios","50 Últimos Sorteios","100 Últimos Sorteios"],"not_rendered":{"charts":1,"images":3,"macros":1,"external_links":0,"defined_names":6,"comments":0,"pivot_tables":0},"unopened":[],"bounds":{"document_bytes":16777216,"sheet_cells":100000,"rows_first":2000,"rows_last":500,"rows_between":2000,"halvings":0,"cell_chars":16384,"cell_head_chars":4096},"cells_cut":0,"cells_raw":0,"read":"whole","date_system":"1900"}

{"sheet":"Resultados Gerais","index":0,"n_rows":1514,"n_cols":20,"rows_kept":1514,"cut":false,"hidden":false,"merged":[[1,1,1,12],[2,1,2,12],[3,1,3,12],[5,1,5,13]]}
[]
[null,"Atenção!"]
[null,"Esta planilha é de uso pessoal, é restritamente proibida a distribuição da mesma a terceiros, sujeito a punições de acordo com as leis de direitos autorais"]
[null,"Todos os direitos reservados ao site www.ApostaEsperta.com "]
[]
[null,"Planilha de Análise Estatística Mega Sena"]
[null,"Concurso","Data Sorteio","1ª Dezena","2ª Dezena","3ª Dezena","4ª Dezena","5ª Dezena","6ª Dezena","Arrecadacao_Total","Ganhadores_Sena","Rateio_Sena","Ganhadores_Quina","Rateio_Quina","Ganhadores_Quadra","Rateio_Quadra","Acumulado","Valor_Acumulado","Estimativa_Prêmio","Acumulado_Mega_da_Virada"]
[null,1,"1996-03-11",41,5,4,52,30,33,0,0,0,17,39158.92,2016,330.21,"SIM",1714650.23,0,0]
[null,2,"1996-03-18",9,39,37,49,43,41,0,1,2307162.23,65,14424.02,4488,208.91,"NÃO",0,0,0]
[null,3,"1996-03-25",36,30,10,11,29,47,0,2,391192.51,62,10515.93,4261,153.01,"NÃO",0,0,0]
[null,4,"1996-04-01",6,59,42,27,1,5,0,0,0,39,15322.24,3311,180.48,"SIM",717080.75,0,0]
[null,5,"1996-04-08",1,19,46,6,16,2,0,0,0,98,5318.1,5399,96.53,"SIM",1342488.85,0,0]
[null,6,"1996-04-15",19,40,7,13,22,47,0,0,0,109,7214.66,7147,110.03,"SIM",2286166.33,0,0]
[null,7,"1996-04-22",56,38,21,20,3,5,0,0,0,100,8746.0499999999993,5736,152.47999999999999,"SIM",3335692.28,0,0]
[null,8,"1996-04-29",53,17,38,4,47,37,0,0,0,60,16084.11,5262,183.4,"SIM",4493748.1900000004,0,0]
[null,9,"1996-05-06",55,43,56,54,8,60,0,0,0,17,60043.79,2175,469.31,"SIM",5718641.4900000002,0,0]
[null,10,"1996-05-13",25,4,18,57,21,38,0,0,0,251,6638.45,12590,132.35,"SIM",13334769.810000001,0,0]
[null,11,"1996-05-20",25,15,58,37,59,38,0,1,15591365.07,148,12706.05,9442,199.16,"NÃO",0,0,0]
[null,12,"1996-05-27",20,27,43,16,19,4,0,0,0,108,6791.17,6454,113.64,"SIM",880136.24,0,0]
[null,13,"1996-06-03",47,32,50,54,18,56,0,0,0,43,20543.98,2934,301.08999999999997,"SIM",1940205.35,0,0]
[null,14,"1996-06-10",16,2,27,47,23,53,0,0,0,85,10458.19,5323,167,"SIM",3006941.32,0,0]
[null,15,"1996-06-17",60,12,33,52,35,51,0,0,0,57,17919.89,3931,259.83999999999997,"SIM",4232661.3499999996,0,0]
[null,16,"1996-06-24",60,58,49,32,20,34,0,0,0,31,33307.129999999997,3250,317.7,"SIM",5471686.6200000001,0,0]
[null,17,"1996-07-01",10,20,6,19,51,13,0,1,6789869.0800000001,144,7628.37,9376,117.16,"NÃO",0,0,0]
[null,18,"1996-07-08",37,36,56,27,42,23,0,0,0,52,13763.52,4484,159.61000000000001,"SIM",858843.48,0,0]
[null,19,"1996-07-15",5,25,12,10,60,24,0,0,0,159,5380.14,9250,92.48,"SIM",10506266.73,0,0]
[null,20,"1996-07-22",25,28,30,33,51,11,0,0,0,72,15486.97,5728,194.67,"SIM",11844340.83,0,0]
[null,21,"1996-07-29",49,46,6,53,33,36,0,0,0,63,17694.189999999999,5030,221.62,"SIM",13182021.439999999,0,0]
[null,22,"1996-08-05",9,38,56,1,31,46,0,0,0,47,27212.9,4865,262.89999999999998,"SIM",14716828.84,0,0]
[null,23,"1996-08-12",17,52,51,59,39,37,0,0,0,74,20198.46,4897,305.23,"SIM",16510452,0,0]
[null,24,"1996-08-19",1,8,14,28,33,43,0,1,18661679.609999999,227,7897.31,13486,132.93,"NÃO",0,0,0]
[null,25,"1996-08-25",56,50,55,54,24,43,0,0,0,28,26338.5,2741,269.06,"SIM",884973.5,0,0]
[null,26,"1996-09-01",50,53,57,10,58,22,0,0,0,16,52473.74,1823,460.55,"SIM",1892469.3,0,0]
[null,27,"1996-09-08",44,33,13,51,17,20,0,0,0,99,9306.24,6466,142.49,"SIM",2998050.68,0,0]
[null,28,"1996-09-15",60,6,22,3,24,54,0,0,0,50,19749.22,4895,201.73,"SIM",4183003.48,0,0]
[null,29,"1996-09-22",14,56,58,8,43,3,0,1,5401793.5999999996,44,23083.15,5248,193.53,"NÃO",0,0,0]
[null,30,"1996-09-29",38,50,7,29,15,14,0,0,0,80,11347.74,5885,154.26,"SIM",10127520.800000001,0,0]
[null,31,"1996-10-06",56,19,28,48,17,45,0,0,0,103,8793.0400000000009,5680,159.44999999999999,"SIM",11214340.460000001,0,0]
[null,32,"1996-10-13",43,33,14,36,5,44,0,0,0,96,11430.91,6876,159.6,"SIM",12531181.83,0,0]
[null,33,"1996-10-20",5,33,49,17,42,39,0,1,13997410.74,128,9545.76,8722,140.09,"NÃO",0,0,0]
[null,34,"1996-10-27",15,13,57,53,40,17,0,0,0,51,13604.06,2627,264.11,"SIM",832568.2,0,0]
[null,35,"1996-11-03",21,57,16,23,54,4,0,0,0,39,20051.18,3576,218.68,"SIM",1770963.49,0,0]
[null,36,"1996-11-10",13,3,51,17,29,25,0,0,0,143,6238.12,8548,104.36,"SIM",2841425.78,0,0]
[null,37,"1996-11-17",22,6,7,52,38,60,0,0,0,47,16848.61,3695,214.32,"SIM",3791687.26,0,0]
[null,38,"1996-11-24",55,42,10,43,45,54,0,0,0,24,38863.1,1999,466.59,"SIM",4910944.53,0,0]
[null,39,"1996-12-01",16,37,45,52,56,12,0,0,0,73,13459.05,4444,221.09,"SIM",13456111.33,0,0]
[null,40,"1996-12-08",3,12,46,5,47,8,0,0,0,189,7789.93,12117,121.51,"SIM",15222867.039999999,0,0]
[null,41,"1996-12-15",38,26,35,39,12,47,0,1,17019238.5,148,10114.700000000001,10182,147.03,"NÃO",0,0,0]
[null,42,"1996-12-22",24,36,19,33,7,11,0,0,0,201,3684.64,9580,77.31,"SIM",888735.02,0,0]
[null,43,"1996-12-29",2,58,25,6,26,17,0,0,0,75,9738.0300000000007,5070,144.06,"SIM",1765157.22,0,0]
[null,44,"1997-01-05",47,38,18,14,29,44,0,0,0,103,7099.32,7742,94.45,"SIM",2642633.14,0,0]
[null,45,"1997-01-12",30,7,37,55,44,53,0,0,0,33,27201.47,3004,298.82,"SIM",3719811.46,0,0]
[null,46,"1997-01-19",32,46,1,60,24,23,0,0,0,91,9982.42,6263,145.04,"SIM",4809891.5599999996,0,0]
[null,47,"1997-01-26",35,17,3,48,25,56,0,0,0,210,4458.4399999999996,10873,85.94,"SIM",5933418.5099999998,0,0]
[null,48,"1997-02-02",47,5,34,28,2,50,0,0,0,132,7482.95,7454,132.25,"SIM",7118717.3799999999,0,0]
[null,49,"1997-02-09",33,7,43,35,13,55,0,1,8405156.7599999998,155,6916.34,9830,108.85,"NÃO",0,0,0]
[null,50,"1997-02-16",57,44,21,16,58,6,0,0,0,31,25241.25,2800,278.91000000000003,"SIM",8917830.3900000006,0,0]
[null,51,"1997-02-23",23,24,42,25,17,47,0,0,0,143,7231.47,9361,110.25,"SIM",10158749.73,0,0]
[null,52,"1997-03-02",58,15,59,30,38,46,0,0,0,77,15544.23,6442,185.43,"SIM",11595036.710000001,0,0]
[null,53,"1997-03-09",42,13,3,46,38,16,0,0,0,210,6337.79,10941,121.41,"SIM",13192159.460000001,0,0]
[null,54,"1997-03-16",5,21,9,56,18,36,0,2,7469653.9900000002,207,7033.61,13067,111.2,"NÃO",0,0,0]
[null,55,"1997-03-23",29,2,14,38,23,52,0,0,0,66,10817.63,3840,185.56,"SIM",856756.39,0,0]
[null,56,"1997-03-30",51,35,59,7,20,2,0,0,0,48,12142.2,2599,223.81,"SIM",1556147.46,0,0]
[null,57,"1997-04-06",27,17,16,34,7,59,0,0,0,79,10699.1,6173,136.65,"SIM",2570421.7999999998,0,0]
[null,58,"1997-04-13",30,49,27,37,12,44,0,1,3631304.91,65,13601.07,5040,175.06,"NÃO",0,0,0]
[null,59,"1997-04-20",28,13,34,2,8,54,0,0,0,90,7312.34,5351,122.75,"SIM",789733.42,0,0]
[null,60,"1997-04-27",38,14,21,15,3,20,0,0,0,129,7111.47,7914,115.69,"SIM",9478249.2599999998,0,0]
[null,61,"1997-05-04",59,8,18,29,42,44,0,0,0,52,18902.939999999999,3866,253.76,"SIM",10657792.449999999,0,0]
[null,62,"1997-05-11",52,13,6,24,8,31,0,0,0,119,9968.7000000000007,8613,137.46,"SIM",12081323.449999999,0,0]
[null,63,"1997-05-18",26,9,41,49,25,40,0,1,13680019.57,82,16246.91,6359,209.1,"NÃO",0,0,0]
[null,64,"1997-05-25",8,54,50,60,23,12,0,0,0,29,23309.96,2441,276.38,"SIM",811186.58,0,0]
[null,65,"1997-06-01",20,1,5,32,25,34,0,0,0,61,11542.37,4932,142.47999999999999,"SIM",1656088.09,0,0]
[null,66,"1997-06-08",15,26,12,33,48,13,0,0,0,102,8054.25,7686,106.68,"SIM",2641927.81,0,0]
[null,67,"1997-06-15",47,14,27,52,17,12,0,0,0,83,10617.25,5479,160.52000000000001,"SIM",3699406.44,0,0]
[null,68,"1997-06-22",53,13,3,1,12,59,0,0,0,49,18496.73,4758,190.11,"SIM",4787014.46,0,0]
[null,69,"1997-06-29",56,58,34,53,25,45,0,0,0,55,17271.48,3661,258.95999999999998,"SIM",5926931.9299999997,0,0]
[null,70,"1997-07-06",40,17,23,43,27,58,0,0,0,95,12899.52,6071,201.46,"SIM",14883849.289999999,0,0]
[null,71,"1997-07-13",53,16,45,43,33,27,0,0,0,115,12451.74,7430,192.35,"SIM",16602188.449999999,0,0]
[null,72,"1997-07-20",19,48,43,1,34,44,0,0,0,85,19676.330000000002,7982,209.13,"SIM",18609174.260000002,0,0]
[null,73,"1997-07-27",57,25,45,28,51,26,0,1,21026575.399999999,95,21205.27,8222,244.52,"NÃO",0,0,0]
[null,74,"1997-08-03",2,24,34,50,38,37,0,0,0,40,18257.68,3321,219.48,"SIM",876368.71,0,0]
[null,75,"1997-08-10",36,49,37,35,24,21,0,0,0,70,12395.02,5032,172.09,"SIM",1917550.02,0,0]
[null,76,"1997-08-17",33,18,23,8,17,53,0,0,0,92,10247.61,6399,147.04,"SIM",3048886.14,0,0]
[null,77,"1997-08-24",29,54,40,57,49,21,0,0,0,20,49648.81,2635,376.09,"SIM",4240457.5999999996,0,0]
[null,78,"1997-08-31",22,32,46,12,25,31,0,0,0,103,9907.36,5984,170.19,"SIM",5465006.3899999997,0,0]
[null,79,"1997-09-07",43,25,2,13,31,17,0,1,6770601.75,247,4404.8500000000004,13375,81.180000000000007,"NÃO",0,0,0]
[null,80,"1997-09-14",51,40,37,23,48,28,0,0,0,43,26443,4284,264.89,"SIM",10953707.529999999,0,0]
[null,81,"1997-09-21",47,41,10,60,54,23,0,0,0,62,19453.150000000001,4870,247.17,"SIM",12401021.68,0,0]
[null,82,"1997-09-28",51,36,53,29,18,15,0,1,13877826.02,77,15982.73,5889,208.57,"NÃO",0,0,0]
[null,83,"1997-10-05",24,16,4,42,57,15,0,0,0,76,9408.43,4756,150.04,"SIM",858048.93,0,0]
[null,84,"1997-10-12",10,34,4,6,25,40,0,0,0,102,7539.68,5546,138.4,"SIM",1780905.8,0,0]
[null,85,"1997-10-19",47,15,30,37,45,6,0,0,0,45,17279.25,4312,179.96,"SIM",2713984.86,0,0]
[null,86,"1997-10-26",54,21,6,34,36,22,0,0,0,48,16752.96,3752,213.9,"SIM",3678955.17,0,0]
[null,87,"1997-11-02",40,4,28,32,11,5,0,0,0,64,12696.6,5195,156.11000000000001,"SIM",4654053.8600000003,0,0]
[null,88,"1997-11-09",45,37,29,4,43,18,0,0,0,110,7965.82,6805,128.51,"SIM",5705540.9900000002,0,0]
[null,89,"1997-11-16",59,42,34,13,44,55,0,0,0,36,24246,3847,226.45,"SIM",6752968.2599999998,0,0]
[null,90,"1997-11-23",21,26,40,54,9,52,0,1,15764300.869999999,74,18584.490000000002,4763,288.17,"NÃO",0,0,0]
[null,91,"1997-11-30",60,4,10,35,39,2,0,0,0,68,9588.7999999999993,3878,167.81,"SIM",782445.93,0,0]
[null,92,"1997-12-07",5,23,51,3,1,24,0,0,0,75,9792.64,5530,132.56,"SIM",1663783.45,0,0]
[null,93,"1997-12-14",22,53,31,28,2,36,0,0,0,61,12369.31,3795,198.44,"SIM",2569217.31,0,0]
[null,94,"1997-12-21",28,51,55,18,52,8,0,0,0,25,31457.49,2086,376.26,"SIM",3512942.16,0,0]
[null,95,"1997-12-28",46,60,6,40,50,45,0,0,0,22,30807.89,2185,309.58,"SIM",4326270.55,0,0]
[null,96,"1998-01-04",4,42,58,26,7,40,0,1,5218562.47,62,11993.17,3984,186.27,"NÃO",0,0,0]
[null,97,"1998-01-11",56,53,11,14,5,35,0,1,727932.66,56,10832.33,3441,175.94,"NÃO",0,0,0]
[null,98,"1998-01-18",43,33,14,31,35,13,0,0,0,89,6508.88,4972,116.28,"SIM",695149.05,0,0]
[null,99,"1998-01-25",30,33,24,11,46,60,0,0,0,46,14037.92,3015,213.76,"SIM",1470041.96,0,0]
[null,100,"1998-02-01",46,48,30,14,29,51,0,0,0,56,15930.48,3600,247.32,"SIM",8585129.4700000007,0,0]
[null,101,"1998-02-08",39,1,37,31,29,18,0,0,0,52,20589.41,4653,229.64,"SIM",9869908.6500000004,0,0]
[null,102,"1998-02-15",44,42,37,56,19,20,0,1,11336626.880000001,73,16743.36,6197,196.85,"NÃO",0,0,0]
[null,103,"1998-02-22",9,1,57,7,54,49,0,1,696984.24,28,20743.580000000002,2632,220.24,"NÃO",0,0,0]
[null,104,"1998-03-01",13,1,38,21,52,4,0,0,0,37,14006.33,2588,199.85,"SIM",621880.72,0,0]
[null,105,"1998-03-08",3,13,31,43,46,49,0,0,0,55,11824.08,4875,133.13999999999999,"SIM",1402269.88,0,0]
[null,106,"1998-03-15",24,16,38,5,39,35,9795278,0,0,94,7678.27,5390,133.65,"SIM",2268378.66,3000000,0]
[null,107,"1998-03-22",2,24,52,4,16,51,0,0,0,35,21494.23,3554,211.26,"SIM",3171136.01,0,0]
[null,108,"1998-03-29",60,29,34,24,21,59,0,0,0,35,22511.72,2453,320.57,"SIM",4116628.49,0,0]
[null,109,"1998-04-04",54,13,44,49,48,1,0,0,0,39,21153.3,3881,212.15,"SIM",11523677.380000001,0,0]
[null,110,"1998-04-11",57,58,18,31,43,52,0,0,0,35,27771.48,3212,302.01,"SIM",12690079.16,0,0]
[null,111,"1998-04-18",52,32,4,33,25,22,0,0,0,68,18082.939999999999,6109,200.88,"SIM",14165647.189999999,0,0]
[null,112,"1998-04-25",37,43,34,20,12,42,0,1,15802579.93,137,9957.01,8340,163.25,"NÃO",0,0,0]
[null,113,"1998-05-02",34,54,26,28,55,7,0,0,0,38,14269.55,2572,210.4,"SIM",650691.4,0,0]
[null,114,"1998-05-09",47,54,18,6,12,37,0,0,0,71,9626.08,4908,138.99,"SIM",1470833.69,0,0]
[null,115,"1998-05-16",6,14,24,20,4,38,0,0,0,78,9283.1,5091,141.94999999999999,"SIM",2339731.79,0,0]
[null,116,"1998-05-23",36,42,32,5,13,51,10384878,0,0,64,11956.28,5270,144.91,"SIM",3257973.62,4200000,0]
[null,117,"1998-05-30",53,42,27,20,33,25,0,0,0,36,22046.87,3822,207.26,"SIM",4210398.41,0,0]
[null,118,"1998-06-06",22,57,37,9,25,56,0,0,0,53,16052.88,4342,195.56,"SIM",5231361.3600000003,0,0]
[null,119,"1998-06-13",47,21,1,50,36,38,0,0,0,21,38921.160000000003,2691,303.13,"SIM",13206225.91,0,0]
[null,120,"1998-06-20",46,45,16,40,27,3,0,0,0,92,13020.97,7073,169.04,"SIM",14643740.699999999,0,0]
[null,121,"1998-06-27",53,41,44,2,29,55,0,0,0,45,28917,4554,285.17,"SIM",16205258.33,0,0]
[null,122,"1998-07-04",20,43,39,11,53,17,0,0,0,83,18210.45,7203,209.43,"SIM",18019018.949999999,0,0]
[null,123,"1998-07-11",13,42,16,32,14,26,0,0,0,176,12440.56,13159,166.06,"SIM",20646465.280000001,0,0]
[null,124,"1998-07-18",52,5,34,57,15,41,0,1,24536288.719999999,188,17242.12,14019,230.76,"NÃO",0,0,0]
[null,125,"1998-07-25",56,47,25,59,53,41,0,0,0,46,15425.68,2784,254.38,"SIM",851497.47,0,0]
[null,126,"1998-08-01",32,28,6,10,11,40,0,0,0,83,10052.56,5510,151.13,"SIM",1852731.83,0,0]
[null,127,"1998-08-08",59,21,51,54,29,50,0,0,0,40,23638.47,2613,361.14,"SIM",2987378.17,0,0]
[null,128,"1998-08-15",23,43,3,21,9,18,0,0,0,973,1024.4100000000001,11715,84.91,"SIM",4183483.5,0,0]
[null,129,"1998-08-22",46,54,10,9,1,32,0,0,0,67,15634.41,5320,196.51,"SIM",5440490,0,0]
[null,130,"1998-08-29",13,42,38,49,53,29,0,0,0,155,11796.24,11403,160.03,"SIM",18814958.309999999,0,0]
[null,131,"1998-09-05",30,9,17,27,4,44,0,0,0,361,6811.67,21683,113.19,"SIM",21765774.489999998,0,0]
[null,132,"1998-09-12",44,35,50,41,9,7,0,0,0,143,20846.64,12179,244.29,"SIM",25343057.890000001,0,0]
[null,133,"1998-09-19",19,57,6,39,34,5,0,1,30533241.120000001,431,10035.16,29264,147.51,"NÃO",0,0,0]
[null,134,"1998-09-26",60,32,25,36,52,4,0,0,0,82,10253.379999999999,4575,183.42,"SIM",1008932.39,0,0]
[null,135,"1998-10-03",35,40,21,59,53,22,0,0,0,40,24573.18,3604,272.19,"SIM",2188444.7200000002,0,0]
[null,136,"1998-10-10",17,25,45,38,1,59,0,0,0,126,8435.36,7403,143.29,"SIM",3463871.17,0,0]
[null,137,"1998-10-17",26,15,16,22,19,49,0,0,0,88,12675.49,6701,166.13,"SIM",4802402.93,0,0]
[null,138,"1998-10-24",41,14,37,5,40,27,0,0,0,86,14074.36,6953,173.74,"SIM",6254876.7999999998,0,0]
[null,139,"1998-10-31",26,27,13,42,41,3,0,2,3902486.14,179,7216.46,9401,137.13999999999999,"NÃO",0,0,0]
[null,140,"1998-11-07",55,31,46,44,41,7,0,0,0,45,36581.33,4945,332.24,"SIM",16453628.310000001,0,0]
[null,141,"1998-11-14",10,22,42,13,41,58,0,0,0,119,20106.099999999999,10533,226.7,"SIM",19324778.899999999,0,0]
[null,142,"1998-11-21",20,59,19,54,15,8,0,0,0,162,18143.560000000001,13991,209.66,"SIM",22851887.239999998,0,0]
[null,143,"1998-11-28",40,18,6,20,50,53,0,0,0,144,24792.99,10994,324.10000000000002,"SIM",27136115.879999999,0,0]
[null,144,"1998-12-05",8,32,44,36,45,55,0,1,33597755.210000001,257,20952.14,23952,224.38,"NÃO",0,0,0]
[null,145,"1998-12-12",43,15,41,51,16,31,0,0,0,71,15061.27,3389,314.91000000000003,"SIM",1283220.5900000001,0,0]
[null,146,"1998-12-19",51,34,25,60,42,32,0,0,0,51,23923.45,4079,298.52,"SIM",2747335.81,0,0]
[null,147,"1998-12-24",24,6,38,23,28,16,0,1,3805750.38,75,11760.17,5418,162.47999999999999,"NÃO",0,0,0]
[null,148,"1998-12-31",32,55,59,41,58,35,0,0,0,15,53660.04,2322,345.95,"SIM",965880.61,0,0]
[null,149,"1999-01-09",11,45,48,7,28,20,0,0,0,106,9795.1299999999992,6290,164.74,"SIM",2211820.94,0,0]
[null,150,"1999-01-16",50,44,12,55,52,54,0,0,0,56,36378.71,5540,367,"SIM",21414530.140000001,0,0]
[null,151,"1999-01-23",3,43,16,56,52,20,0,1,24091811.02,152,14678.07,9869,225.62,"NÃO",0,0,0]
[null,152,"1999-01-30",12,5,15,51,58,29,0,0,0,75,11562.39,5041,172.03,"SIM",1040614.8,0,0]
[null,153,"1999-02-06",47,2,31,42,45,30,0,0,0,47,22846.45,4218,254.57,"SIM",2329154.62,0,0]
[null,154,"1999-02-13",8,10,24,33,45,48,0,0,0,144,7888.29,9252,122.78,"SIM",3692251.6,0,0]
[null,155,"1999-02-20",12,32,44,43,35,30,0,1,4988808.21,67,16126.32,4974,217.22,"NÃO",0,0,0]
[null,156,"1999-02-27",52,23,42,17,55,49,0,0,0,74,11018.1,4455,183.02,"SIM",978407.41,0,0]
[null,157,"1999-03-06",17,13,4,44,41,21,0,1,2140030.92,134,7224.03,8894,108.84,"NÃO",0,0,0]
[null,158,"1999-03-13",58,43,51,14,17,4,0,0,0,31,25856.53,3630,220.81,"SIM",961863.12,0,0]
[null,159,"1999-03-20",16,9,50,58,11,35,0,1,2038170.67,57,15735.49,4124,217.49,"NÃO",0,0,0]
[null,160,"1999-03-27",13,42,52,58,2,54,0,0,0,74,19431.89,6132,234.5,"SIM",11251511.630000001,0,0]
[null,161,"1999-04-03",25,37,30,39,6,41,0,0,0,95,14430.61,6865,199.69,"SIM",12896601.039999999,0,0]
[null,162,"1999-04-10",23,33,51,38,48,21,0,0,0,92,20941.3,7244,265.95999999999998,"SIM",15208520.83,0,0]
[null,163,"1999-04-17",41,56,27,36,53,8,0,2,8975833.3599999994,146,15657.23,10793,211.8,"NÃO",0,0,0]
[null,164,"1999-04-24",4,19,14,10,44,28,0,0,0,111,7595.63,8386,100.54,"SIM",1011737.9,0,0]
[null,165,"1999-05-01",39,56,19,23,10,35,0,2,1044444.54,75,11968.35,5378,166.91,"NÃO",0,0,0]
[null,166,"1999-05-08",60,57,59,13,12,22,0,0,0,47,17424.669999999998,3371,242.95,"SIM",982751.54,0,0]
[null,167,"1999-05-15",1,38,48,28,11,33,0,1,2100980.21,82,11364.11,4997,186.48,"NÃO",0,0,0]
[null,168,"1999-05-22",45,2,35,9,50,31,0,0,0,48,15743.7,3528,214.2,"SIM",906836.93,0,0]
[null,169,"1999-05-29",52,51,37,13,21,1,0,0,0,65,13679.08,4489,198.07,"SIM",1973804.91,0,0]
[null,170,"1999-06-05",7,51,55,41,58,46,0,0,0,50,32383.95,6257,258.77999999999997,"SIM",13643095.710000001,0,0]
[null,171,"1999-06-12",54,27,4,43,40,46,0,1,16052410.83,134,14983.3,10378,193.46,"NÃO",0,0,0]
[null,172,"1999-06-19",49,36,14,26,35,10,0,0,0,64,13460.12,4592,186.89,"SIM",1033736.7,0,0]
[null,173,"1999-06-26",29,28,49,17,42,50,0,1,2148316.42,40,23220.41,3610,256.32,"NÃO",0,0,0]
[null,174,"1999-07-03",11,52,22,23,36,59,0,0,0,44,17846.849999999999,3217,243.18,"SIM",942313.58,0,0]
[null,175,"1999-07-10",10,20,13,1,42,50,0,0,0,114,8094.08,7058,130.25,"SIM",2049582.99,0,0]
[null,176,"1999-07-17",28,4,1,45,53,3,0,0,0,62,16696.39,5405,190.8,"SIM",3291794.61,0,0]
[null,177,"1999-07-24",35,22,39,41,59,38,0,0,0,52,21716.29,4408,255.21,"SIM",4646890.8099999996,0,0]
[null,178,"1999-07-31",5,27,19,26,15,33,0,1,6129539.4299999997,198,6240.11,13086,94.07,"NÃO",0,0,0]
[null,179,"1999-08-07",6,53,5,26,27,23,0,0,0,78,10281.59,5646,141.51,"SIM",962357.04,0,0]
[null,180,"1999-08-14",39,6,29,60,51,23,0,0,0,111,15907.98,6978,252.09,"SIM",12143009.93,0,0]
[null,181,"1999-08-21",33,1,55,35,51,27,0,0,0,182,11127.07,11797,171.02,"SIM",14573162.710000001,0,0]
[null,182,"1999-08-28",46,60,5,10,28,3,0,0,0,239,9954.7800000000007,17413,136.13,"SIM",17428194.219999999,0,0]
[null,183,"1999-09-04",16,11,7,40,44,2,0,0,0,306,9468.7900000000009,20677,139.6,"SIM",20905131.399999999,0,0]
[null,184,"1999-09-11",9,60,21,16,41,34,0,0,0,217,14699.97,15462,205.53,"SIM",24733003.149999999,0,0]
[null,185,"1999-09-18",59,17,22,46,43,55,0,0,0,366,12275.86,24849,180.13,"SIM",30124561.09,0,0]
[null,186,"1999-09-25",24,26,51,25,14,23,0,0,0,352,17072.240000000002,31164,192.1,"SIM",37335874.859999999,0,0]
[null,187,"1999-10-02",6,44,58,41,36,48,0,0,0,397,23058.35,39365,231.66,"SIM",48320873.600000001,0,0]
[null,188,"1999-10-10",34,42,43,46,27,17,0,1,64905517.649999999,1200,11517.11,90235,152.58000000000001,"NÃO",0,0,0]
[null,189,"1999-10-16",41,53,38,4,31,15,0,0,0,61,23476.18,5485,260.08999999999997,"SIM",1718456.25,0,0]
[null,190,"1999-10-24",32,40,42,21,10,5,0,0,0,304,14923.96,21481,210.41,"SIM",44895988.049999997,0,0]
[null,191,"1999-10-31",58,5,41,3,1,23,0,1,50968412.579999998,383,13212.41,30477,165.41,"NÃO",0,0,0]
[null,192,"1999-11-06",1,60,26,41,28,54,0,0,0,53,23005.08,4403,275.87,"SIM",1463122.78,0,0]
[null,193,"1999-11-13",12,4,11,49,43,19,0,0,0,190,7199.87,11415,119.39,"SIM",3104692.58,0,0]
[null,194,"1999-11-20",32,42,43,25,28,33,0,0,0,106,12862.4,7456,182.18,"SIM",4740789.92,0,0]
[null,195,"1999-11-27",17,3,44,37,9,32,0,1,6370250.6399999997,339,4005.56,13819,97.89,"NÃO",0,0,0]
[null,196,"1999-12-04",32,17,9,14,24,7,0,0,0,182,5309.16,10493,91.75,"SIM",1159520.95,0,0]
[null,197,"1999-12-11",19,52,29,15,12,5,0,0,0,128,8259.15,8720,120.78,"SIM",2428125.98,0,0]
[null,198,"1999-12-18",40,23,1,18,35,8,0,0,0,125,8881.02,7134,155.02000000000001,"SIM",3760278.08,0,0]
[null,199,"1999-12-24",52,37,57,16,10,50,0,1,4915593.2,34,28316.55,3143,305.16000000000003,"NÃO",0,0,0]
[null,200,"1999-12-31",12,15,44,34,51,19,0,2,8829389.1999999993,186,11008.48,13027,156.59,"NÃO",0,0,0]
[null,201,"2000-01-08",55,22,5,30,35,20,0,1,1038373.94,77,11237.81,4502,191.48,"NÃO",0,0,0]
[null,202,"2000-01-15",49,53,44,12,24,45,0,0,0,65,12412.65,4279,187.85,"SIM",968186.82,0,0]
[null,203,"2000-01-22",11,55,44,19,29,47,0,0,0,63,14099.33,5417,163.36000000000001,"SIM",2034096.14,0,0]
[null,204,"2000-01-29",31,41,51,39,58,29,0,0,0,32,30221.85,2400,401.43,"SIM",3194615.19,0,0]
[null,205,"2000-02-05",26,32,54,43,46,40,0,1,4490339.49,71,15208.03,6014,178.86,"NÃO",0,0,0]
[null,206,"2000-02-12",20,26,56,18,34,51,0,0,0,43,17769.34,3478,218.86,"SIM",916897.74,0,0]
[null,207,"2000-02-19",19,7,3,55,24,53,0,0,0,90,9663.76,6510,133.1,"SIM",1960583.04,0,0]
[null,208,"2000-02-26",23,15,57,24,47,25,0,0,0,72,12679.18,5232,173.83,"SIM",3056064.34,0,0]
[null,209,"2000-03-04",13,52,32,41,21,26,0,0,0,81,12349.82,5496,181.32,"SIM",4256466.9400000004,0,0]
[null,210,"2000-03-11",37,58,20,38,48,32,0,0,0,29,46721.17,3921,344.24,"SIM",14043878.83,0,0]
[null,211,"2000-03-18",10,20,40,45,50,33,0,0,0,164,10880.27,16680,106.58,"SIM",16185115.029999999,0,0]
[null,212,"2000-03-25",29,57,15,45,59,6,0,0,0,147,13318.79,9880,197.42,"SIM",18534548.530000001,0,0]
[null,213,"2000-04-01",3,30,9,35,23,32,0,3,7089194.54,312,7299.77,18348,123.66,"NÃO",0,0,0]
[null,214,"2000-04-08",30,12,6,50,35,31,0,0,0,54,15578.04,3769,222.35,"SIM",1009456.63,0,0]
[null,215,"2000-04-15",7,58,28,53,37,46,0,0,0,78,12078.4,4942,189.92,"SIM",2139994.41,0,0]
[null,216,"2000-04-22",35,42,59,18,30,14,0,4,801057.55,91,9745.75,5049,175,"NÃO",0,0,0]
[null,217,"2000-04-29",27,32,3,51,49,45,0,0,0,159,4599.62,5820,125.19,"SIM",877607.32,0,0]
[null,218,"2000-05-06",54,40,42,17,47,12,0,1,1878255.09,95,8777.61,4679,177.55,"NÃO",0,0,0]
[null,219,"2000-05-13",26,23,49,28,42,36,0,0,0,80,9221.7800000000007,5139,143.02000000000001,"SIM",885291.29,0,0]
[null,220,"2000-05-20",36,53,55,13,60,14,0,1,12636751.119999999,125,12488.05,8067,192.78,"NÃO",0,0,0]
[null,221,"2000-05-27",54,13,58,43,50,27,0,0,0,49,14565.66,3793,187.45,"SIM",856460.89,0,0]
[null,222,"2000-06-03",5,48,30,55,52,19,0,0,0,55,15243.16,4462,187.18,"SIM",1862509.6,0,0]
[null,223,"2000-06-10",28,24,22,2,58,6,0,0,0,163,5838.31,7780,121.86,"SIM",3004483.21,0,0]
[null,224,"2000-06-17",20,16,18,7,44,21,0,0,0,119,8706.35,7185,143.77000000000001,"SIM",4247750.04,0,0]
[null,225,"2000-06-24",21,16,4,37,2,58,0,0,0,83,12542.39,5517,188.14,"SIM",5496971.7599999998,0,0]
[null,226,"2000-07-01",2,50,59,38,49,1,0,1,6916920.1299999999,78,15170.39,4123,286.14,"NÃO",0,0,0]
[null,227,"2000-07-08",37,26,27,42,11,48,0,0,0,51,14471.45,3648,201.72,"SIM",885652.57,0,0]
[null,228,"2000-07-15",16,40,45,59,43,13,0,0,0,64,13240.28,4497,187.87,"SIM",1902506.15,0,0]
[null,229,"2000-07-22",39,45,11,21,33,13,0,1,2992781.57,121,7508.79,7685,117.88,"NÃO",0,0,0]
[null,230,"2000-07-29",56,44,41,40,8,53,0,0,0,94,15000.56,5820,241.56,"SIM",9547336,0,0]
[null,231,"2000-08-05",16,59,27,42,44,36,0,0,0,125,12896.11,9458,169.93,"SIM",11481752.439999999,0,0]
[null,232,"2000-08-12",29,19,41,22,37,59,0,0,0,124,14598.36,8807,204.93,"SIM",13653988.77,0,0]
[null,233,"2000-08-19",45,3,24,36,7,32,0,5,3196547.03,512,3790.28,21452,90.2,"NÃO",0,0,0]
[null,234,"2000-08-26",15,45,54,25,42,41,0,0,0,39,19369.91,3505,214.89,"SIM",906511.63,0,0]
[null,235,"2000-09-02",29,41,55,2,31,22,0,0,0,52,16604.490000000002,3086,278.95999999999998,"SIM",1942631.63,0,0]
[null,236,"2000-09-09",10,52,50,57,25,60,0,0,0,76,12197.95,4703,196.53,"SIM",3055084.91,0,0]
[null,237,"2000-09-16",36,7,45,31,56,57,0,0,0,54,19896.75,4145,258.44,"SIM",4344394.18,0,0]
[null,238,"2000-09-23",15,9,41,13,37,42,0,4,1429476.11,188,6088.25,10483,108.86,"NÃO",0,0,0]
[null,239,"2000-09-30",33,21,44,46,47,6,0,1,866183.32,30,24060.65,3826,188.1,"NÃO",0,0,0]
[null,240,"2000-10-07",59,28,25,41,57,38,0,0,0,103,15200.74,6244,250,"SIM",11686511.34,0,0]
[null,241,"2000-10-14",11,57,40,35,56,31,0,0,0,74,22811.94,5485,306.85000000000002,"SIM",13712211.550000001,0,0]
[null,242,"2000-10-21",22,7,4,21,28,56,0,0,0,203,9933.73,13497,148.97,"SIM",16132069.109999999,0,0]
[null,243,"2000-10-28",20,47,23,32,16,11,0,0,0,180,12019.97,13705,157.4,"SIM",18728383.129999999,0,0]
[null,244,"2000-11-04",19,60,50,24,47,33,0,0,0,204,13698.02,14735,189.08,"SIM",22081659.670000002,0,0]
[null,245,"2000-11-11",44,51,27,53,8,60,0,3,9153484.8800000008,283,15838.62,21593,206.96,"NÃO",0,0,0]
[null,246,"2000-11-18",2,57,32,43,16,37,0,0,0,93,9292.06,5429,158.71,"SIM",1036993.8,0,0]
[null,247,"2000-11-25",34,3,30,10,23,46,0,0,0,80,12080.19,6425,149.96,"SIM",2196692.29,0,0]
[null,248,"2000-12-02",56,16,34,41,35,32,0,0,0,50,21550.720000000001,4862,220.96,"SIM",3489735.08,0,0]
[null,249,"2000-12-09",21,55,54,40,36,49,0,0,0,60,19680.2,4247,277.20999999999998,"SIM",4906709.76,0,0]
[null,250,"2000-12-16",55,25,41,42,43,7,0,0,0,203,10867.31,15545,141.5,"SIM",22593628.59,0,0]
[null,251,"2000-12-23",34,15,23,55,49,30,0,0,0,180,15473.98,12813,216.73,"SIM",25936007.670000002,0,0]
[null,252,"2000-12-30",17,54,4,51,32,26,0,2,15107002.24,354,10070.620000000001,22122,160.66999999999999,"NÃO",0,0,0]
[null,253,"2001-01-06",12,11,56,44,24,37,0,0,0,126,6985.77,7260,120.88,"SIM",1056248.75,0,0]
[null,254,"2001-01-13",4,30,56,21,22,1,0,0,0,66,16400.47,6381,169.14,"SIM",2355166.17,0,0]
[null,255,"2001-01-20",32,44,55,19,20,16,0,0,0,80,14363.63,6812,168.19,"SIM",3734074.48,0,0]
[null,256,"2001-01-27",21,52,34,26,2,32,0,0,0,91,13336.96,6319,191.49,"SIM",5190470.09,0,0]
[null,257,"2001-02-03",28,5,1,34,4,19,0,1,6808483.96,175,7704.83,11706,114.84,"NÃO",0,0,0]
[null,258,"2001-02-10",12,60,54,7,55,50,0,0,0,53,15960.68,3615,233.3,"SIM",1015099.19,0,0]
[null,259,"2001-02-17",20,43,33,13,15,58,0,0,0,65,15136.22,5581,175.77,"SIM",2195724.0299999998,0,0]
[null,260,"2001-02-24",43,4,60,59,6,33,0,0,0,120,16065.94,8956,214.63,"SIM",17357124.850000001,0,0]
[null,261,"2001-03-03",5,54,20,56,30,16,0,0,0,91,22350.19,7281,278.51,"SIM",19797765.32,0,0]
[null,262,"2001-03-10",53,60,48,20,58,11,0,0,0,108,24643.78,8838,300.24,"SIM",22991600.18,0,0]
[null,263,"2001-03-17",8,50,26,9,53,43,0,0,0,136,24937.18,12752,265.17,"SIM",27061348.120000001,0,0]
[null,264,"2001-03-24",5,25,31,13,1,33,0,2,16055880.73,979,4298.96,50364,83.25,"NÃO",0,0,0]
[null,265,"2001-03-31",7,50,53,16,41,34,0,0,0,64,14676.59,3855,242.74,"SIM",1127161.81,0,0]
[null,266,"2001-04-07",38,54,48,23,2,46,0,0,0,89,12318.14,6687,163.33000000000001,"SIM",2442739.4900000002,0,0]
[null,267,"2001-04-14",58,1,45,55,8,46,0,0,0,46,23142.59,4076,260.19,"SIM",3720210.04,0,0]
[null,268,"2001-04-21",21,10,47,6,5,33,0,0,0,111,10348.290000000001,10133,112.93,"SIM",5098601.74,0,0]
[null,269,"2001-04-28",19,18,52,25,17,49,0,0,0,110,12115.7,8717,152.31,"SIM",6697873.6600000001,0,0]
[null,270,"2001-05-05",45,27,35,40,5,9,0,1,25186260.210000001,228,9665.14,16867,130.16,"NÃO",0,0,0]
[null,271,"2001-05-12",14,31,54,29,26,24,0,0,0,43,19939.25,4385,194.79,"SIM",1028865.23,0,0]
[null,272,"2001-05-19",36,58,9,10,56,24,0,0,0,70,14013.37,5491,177.97,"SIM",2205988.15,0,0]
[null,273,"2001-05-26",47,52,10,27,23,17,0,1,3456480.23,92,11326.92,7241,143.38,"NÃO",0,0,0]
[null,274,"2001-06-02",11,39,47,18,13,26,0,0,0,142,5488.22,7420,104.64,"SIM",935192.94,0,0]
[null,275,"2001-06-09",16,30,19,38,48,37,0,0,0,41,22897.52,3737,250.27,"SIM",2061751.1,0,0]
[null,276,"2001-06-16",53,59,39,45,22,57,0,0,0,79,12486.98,5172,190.01,"SIM",3245516.79,0,0]
[null,277,"2001-06-23",40,26,38,4,56,52,0,0,0,95,11578.72,5404,202.78,"SIM",4565490.29,0,0]
[null,278,"2001-06-30",22,10,18,55,15,31,0,0,0,99,11868.09,6996,167.32,"SIM",5975419.0999999996,0,0]
[null,279,"2001-07-07",31,59,4,58,23,47,0,0,0,58,23664.880000000001,6137,222.81,"SIM",7622494.2400000002,0,0]
[null,280,"2001-07-14",5,16,30,25,58,20,0,0,0,192,11199.47,14673,146,"SIM",19351758.16,0,0]
[null,281,"2001-07-21",11,5,47,31,53,38,0,1,22414093.5,188,13574.18,12864,197.63,"NÃO",0,0,0]
[null,282,"2001-07-28",33,24,36,9,14,23,0,1,958878.82,76,10514.03,6064,131.27000000000001,"NÃO",0,0,0]
[null,283,"2001-08-01",48,34,28,54,25,42,0,1,367173.22,36,8499.3799999999992,2126,143.38,"NÃO",0,0,0]
[null,284,"2001-08-04",8,36,14,32,30,7,0,1,901884.48,75,10020.94,5358,139.74,"NÃO",0,0,0]
[null,285,"2001-08-08",50,56,41,12,32,37,0,0,0,17,20875.96,1173,301.41000000000003,"SIM",425869.64,0,0]
[null,286,"2001-08-11",44,37,56,29,47,35,0,0,0,59,13743.96,3739,216.06,"SIM",1398941.94,0,0]
[null,287,"2001-08-15",60,47,3,33,25,13,0,1,1931474.8,110,4034.34,5633,78.489999999999995,"NÃO",0,0,0]
[null,288,"2001-08-18",50,9,18,11,6,17,0,0,0,82,8749.64,4763,150.07,"SIM",860964.72,0,0]
[null,289,"2001-08-22",36,6,30,20,7,25,0,0,0,29,13819.12,2197,181.72,"SIM",1341870.1100000001,0,0]
[null,290,"2001-08-25",57,30,7,25,40,26,0,0,0,56,20662.23,4869,236.75,"SIM",10159688.470000001,0,0]
[null,291,"2001-08-29",22,16,5,41,18,17,0,0,0,71,11244.78,4870,163.32,"SIM",11117743.68,0,0]
[null,292,"2001-09-01",24,34,53,45,23,13,0,0,0,116,11313.3,8670,150.80000000000001,"SIM",12692554.4,0,0]
[null,293,"2001-09-05",6,12,35,5,28,7,0,0,0,167,5817.88,10185,95.03,"SIM",13858457.029999999,0,0]
[null,294,"2001-09-08",28,45,41,22,57,25,0,2,7696680.3300000001,130,9839.1299999999992,7434,171.41,"NÃO",0,0,0]
[null,295,"2001-09-12",24,44,7,31,12,50,0,0,0,36,10242.27,2055,178.75,"SIM",442466.08,0,0]
[null,296,"2001-09-15",20,51,42,3,52,46,0,0,0,29,26582.95,2348,327.08999999999997,"SIM",1367552.68,0,0]
[null,297,"2001-09-19",20,28,41,1,33,36,0,0,0,25,19353.560000000001,1920,251.05,"SIM",1948159.43,0,0]
[null,298,"2001-09-22",22,34,24,23,5,60,0,1,2994572.21,50,17440.22,4372,198.71,"NÃO",0,0,0]
[null,299,"2001-09-26",7,5,2,53,33,49,0,0,0,33,10538.82,2049,169.09,"SIM",417337.23,0,0]
[null,300,"2001-09-29",27,57,41,38,28,24,0,0,0,48,22820.73,4820,226.4,"SIM",8421199.7400000002,0,0]
[null,301,"2001-10-03",58,26,49,57,48,9,0,0,0,28,29571.34,2892,285.22000000000003,"SIM",9414796.9100000001,0,0]
[null,302,"2001-10-06",25,40,12,60,30,41,0,0,0,101,13505.06,6361,213.63,"SIM",11051609.380000001,0,0]
[null,303,"2001-10-10",7,13,30,37,47,17,0,1,12257748.27,215,4674.95,12861,77.86,"NÃO",0,0,0]
[null,304,"2001-10-13",42,7,11,34,59,41,0,0,0,58,11050.1,3274,195.02,"SIM",769087.04,0,0]
[null,305,"2001-10-17",11,5,27,60,38,53,0,0,0,47,10013.620000000001,3770,124.37,"SIM",1333855.18,0,0]
[null,306,"2001-10-20",30,19,57,41,56,47,0,0,0,28,29736.18,2294,361.58,"SIM",2332990.7999999998,0,0]
[null,307,"2001-10-24",26,17,13,41,16,44,0,0,0,44,12632.8,3962,139.76,"SIM",3000002.7,0,0]
[null,308,"2001-10-27",55,25,4,11,29,39,0,1,4138172.99,62,15297.99,5173,182.67,"NÃO",0,0,0]
[null,309,"2001-10-31",39,50,25,55,11,4,0,1,442899.06,3001,122.53,2997,122.69,"NÃO",0,0,0]
[null,310,"2001-11-03",28,14,29,2,31,32,0,0,0,81,10544.47,5093,167.07,"SIM",7512984.9000000004,0,0]
[null,311,"2001-11-07",32,22,24,41,30,38,0,0,0,31,25454.68,2871,273.81,"SIM",8459898.9499999993,0,0]
[null,312,"2001-11-10",14,30,50,41,47,23,0,0,0,76,15889.75,4985,241.33,"SIM",9909043.9700000007,0,0]
[null,313,"2001-11-14",14,38,53,24,16,37,0,0,0,61,15665.21,5547,171.62,"SIM",11055737.35,0,0]
[null,314,"2001-11-17",5,32,40,58,37,34,0,0,0,93,12287.32,5542,205.42,"SIM",12427002.17,0,0]
[null,315,"2001-11-21",50,21,43,12,28,22,0,1,13675105.67,43,24188.06,4598,225.35,"NÃO",0,0,0]
[null,316,"2001-11-24",28,51,56,6,24,43,0,0,0,104,6446.33,4093,163.18,"SIM",804502.07,0,0]
[null,317,"2001-11-28",27,20,48,16,30,35,0,0,0,23,18858.990000000002,2088,206.96,"SIM",1325010.22,0,0]
[null,318,"2001-12-01",19,53,40,3,31,20,0,1,2227008.0299999998,46,16340.54,3071,243.84,"NÃO",0,0,0]
[null,319,"2001-12-05",12,16,23,17,19,48,0,0,0,52,7242.06,3342,112.26,"SIM",451904.22,0,0]
[null,320,"2001-12-08",20,53,47,50,22,27,0,0,0,77,15489,4916,241.69,"SIM",8460390.6500000004,0,0]
[null,321,"2001-12-12",11,31,32,48,49,4,0,0,0,55,16954.09,3729,249.11,"SIM",9579360.3800000008,0,0]
[null,322,"2001-12-15",18,11,29,44,47,56,0,0,0,87,15453.45,7835,170.95,"SIM",11192700.359999999,0,0]
[null,323,"2001-12-19",31,49,54,33,26,40,0,0,0,56,19921.91,4244,261.89,"SIM",12531452.279999999,0,0]
[null,324,"2001-12-22",22,8,30,15,47,25,0,0,0,211,7938.4,12192,136.87,"SIM",14541455.699999999,0,0]
[null,325,"2001-12-29",4,23,3,1,21,53,0,2,8743877.8000000007,256,9590.82,15646,156.33000000000001,"NÃO",0,0,0]
[null,326,"2002-01-05",52,23,40,51,44,21,0,0,0,27,32367.360000000001,2674,325.58,"SIM",1048702.44,0,0]
[null,327,"2002-01-09",46,38,29,33,32,48,0,0,0,16,30517.93,2112,230.33,"SIM",1634646.68,0,0]
[null,328,"2002-01-12",51,5,23,7,14,21,0,1,2721357.01,100,9055.92,7121,126.69,"NÃO",0,0,0]
[null,329,"2002-01-16",24,11,40,12,35,10,0,0,0,40,10380.299999999999,2904,142.44,"SIM",9617027.2400000002,0,0]
[null,330,"2002-01-19",2,4,23,37,14,51,0,0,0,120,10924.51,7914,165.03,"SIM",11190156.01,0,0]
[null,331,"2002-01-23",27,1,35,20,37,13,0,0,0,70,13872.44,6408,150.97,"SIM",12355441.42,0,0]
[null,332,"2002-01-26",28,23,42,29,44,34,0,0,0,83,16762.689999999999,6713,206.47,"SIM",14025004.810000001,0,0]
[null,333,"2002-01-30",35,27,53,44,52,4,0,0,0,93,12692.31,6221,189.02,"SIM",15441466.119999999,0,0]
[null,334,"2002-02-02",41,26,51,14,24,23,0,2,8729392.9100000001,1200,1400.91,8839,189.47,"NÃO",0,0,0]
[null,335,"2002-02-06",43,33,57,23,59,7,0,0,0,24,17736.830000000002,2134,198.73,"SIM",510820.7,0,0]
[null,336,"2002-02-09",2,18,54,22,30,26,0,0,0,68,11058.6,4141,180.91,"SIM",1413202.7,0,0]
[null,337,"2002-02-16",31,52,14,54,16,4,0,0,0,34,27110.52,3454,265.86,"SIM",2519311.9700000002,0,0]
[null,338,"2002-02-20",48,46,9,1,36,4,0,0,0,43,14031.02,3245,185.23,"SIM",3243312.5,0,0]
[null,339,"2002-02-23",13,16,12,5,27,50,0,0,0,76,12374.85,6908,135.63999999999999,"SIM",12514336.939999999,0,0]
[null,340,"2002-02-27",10,60,42,9,33,12,0,0,0,121,9877.84,6970,170.83,"SIM",13948598.35,0,0]
[null,341,"2002-03-02",56,23,22,43,16,5,0,0,0,166,9623.14,11103,143.34,"SIM",15865526.880000001,0,0]
[null,342,"2002-03-06",29,49,54,51,16,34,0,0,0,93,15067.81,5578,250.27,"SIM",17547094.93,0,0]
[null,343,"2002-03-09",4,6,7,24,12,41,0,2,9937283.0299999993,246,7884.39,17023,113.51,"NÃO",0,0,0]
[null,344,"2002-03-13",33,36,12,35,10,14,0,0,0,46,9494.33,3487,124.78,"SIM",524086.97,0,0]
[null,345,"2002-03-16",56,11,58,46,51,22,0,1,1447870.53,27,28511.84,2170,353.42,"NÃO",0,0,0]
[null,346,"2002-03-20",56,7,46,60,41,12,0,0,0,20,19632.3,1589,246.17,"SIM",471175.04,0,0]
[null,347,"2002-03-23",26,10,52,1,12,48,0,0,0,72,9988.89,4730,151.47999999999999,"SIM",1334215.32,0,0]
[null,348,"2002-03-27",39,40,33,52,19,30,0,0,0,19,26763.06,1547,327.45999999999998,"SIM",1944413.01,0,0]
[null,349,"2002-03-30",9,38,32,8,54,28,0,0,0,46,14053.06,3264,197.31,"SIM",10405636.15,0,0]
[null,350,"2002-04-03",23,30,43,10,15,57,0,0,0,80,11801.82,5012,187.66,"SIM",11538610.199999999,0,0]
[null,351,"2002-04-06",15,16,59,60,24,41,0,0,0,98,14478.34,5832,242.37,"SIM",13241262.560000001,0,0]
[null,352,"2002-04-10",49,7,47,25,20,44,0,0,0,161,7848.74,8080,155.80000000000001,"SIM",14757638.49,0,0]
[null,353,"2002-04-13",60,46,30,55,23,19,0,0,0,89,19537.11,6862,252.44,"SIM",16844201.809999999,0,0]
[null,354,"2002-04-17",40,52,38,16,7,41,0,1,18680098.100000001,93,16450.68,6184,246.46,"NÃO",0,0,0]
[null,355,"2002-04-20",2,37,22,60,14,23,0,0,0,50,14412.47,4711,152.38999999999999,"SIM",864747.94,0,0]
[null,356,"2002-04-24",54,19,5,58,56,21,0,0,0,32,15777.72,2415,208.28,"SIM",1470612.4,0,0]
[null,357,"2002-04-27",45,53,32,2,30,35,0,0,0,34,23899.52,3265,247.94,"SIM",2445712.66,0,0]
[null,358,"2002-05-04",40,42,32,12,21,17,0,0,0,84,12903.06,5798,186.23,"SIM",3746340.86,0,0]
[null,359,"2002-05-08",31,54,20,29,13,19,0,0,0,56,13050.25,3953,184.17,"SIM",13221837.92,0,0]
[null,360,"2002-05-11",47,24,29,55,53,23,0,0,0,133,10645.79,8382,168.28,"SIM",14920906.83,0,0]
[null,361,"2002-05-15",41,28,45,31,16,59,0,0,0,98,12456.14,5236,232.26,"SIM",16385748.75,0,0]
[null,362,"2002-05-18",37,20,33,46,7,56,0,1,18399160.530000001,110,15253.12,8313,201.08,"NÃO",0,0,0]
[null,363,"2002-05-22",39,54,29,49,47,19,0,0,0,27,14921.89,2225,180.39,"SIM",483469.12,0,0]
[null,364,"2002-05-25",59,44,29,5,51,57,0,1,1307293.04,76,9033.16,3315,206.32,"NÃO",0,0,0]
[null,365,"2002-05-29",52,19,34,37,58,23,0,1,462752.26,45,8569.49,2433,157.9,"NÃO",0,0,0]
[null,366,"2002-06-01",6,4,51,7,21,15,0,0,0,41,12721.16,3489,148.93,"SIM",625880.91,0,0]
[null,367,"2002-06-05",52,49,27,33,12,10,0,1,1150498.02,71,6157.48,3040,143.27000000000001,"NÃO",0,0,0]
[null,368,"2002-06-08",13,50,38,32,44,29,0,0,0,53,10725.28,3220,175.87,"SIM",682127.44,0,0]
[null,369,"2002-06-12",21,42,1,60,35,14,0,1,1221738.07,46,9775.5499999999993,4167,107.51,"NÃO",0,0,0]
[null,370,"2002-06-15",51,42,4,54,1,40,0,0,0,40,23283.3,3230,287.25,"SIM",7330667.6399999997,0,0]
[null,371,"2002-06-19",23,33,39,4,60,18,0,0,0,47,16675.12,3979,196.23,"SIM",8271144.7000000002,0,0]
[null,372,"2002-06-22",24,17,46,57,16,39,0,2,4792658.3499999996,85,12884.04,6743,161.80000000000001,"NÃO",0,0,0]
[null,373,"2002-06-26",31,33,24,10,5,1,0,0,0,52,6480.14,3292,101.98,"SIM",404360.65,0,0]
[null,374,"2002-06-29",54,2,26,5,44,16,0,0,0,80,8073.17,3326,193.45,"SIM",1179384.47,0,0]
[null,375,"2002-07-03",51,9,42,5,58,1,0,0,0,33,14359.09,2359,200.11,"SIM",1748004.5,0,0]
[null,376,"2002-07-06",25,13,10,43,35,48,0,0,0,110,7257,6956,114.33,"SIM",2705928.72,0,0]
[null,377,"2002-07-10",46,19,3,45,12,27,0,0,0,87,6639.02,5468,105.23,"SIM",3399042.3,0,0]
[null,378,"2002-07-13",55,45,48,41,5,38,0,0,0,36,25450.6,3115,293.02,"SIM",4498508.08,0,0]
[null,379,"2002-07-17",41,55,24,59,33,40,0,0,0,32,23407.93,2830,263.68,"SIM",11243785.66,0,0]
[null,380,"2002-07-20",47,22,13,30,31,57,0,0,0,206,6628.67,7186,189.31,"SIM",12882392.949999999,0,0]
[null,381,"2002-07-24",9,56,46,28,10,55,0,0,0,85,14181.19,7295,164.62,"SIM",14328873.76,0,0]
[null,382,"2002-07-27",54,38,53,31,37,34,0,0,0,68,23756.27,6291,255.82,"SIM",16267384.960000001,0,0]
[null,383,"2002-07-31",48,22,53,56,50,14,0,0,0,73,23753.43,6573,262.81,"SIM",18348185.449999999,0,0]
[null,384,"2002-08-03",28,50,47,24,40,52,0,0,0,151,18351.990000000002,10644,259.37,"SIM",21673565.649999999,0,0]
[null,385,"2002-08-07",22,12,24,18,5,16,0,2,12952192.890000001,759,4645.17,37449,93.8,"NÃO",0,0,0]
[null,386,"2002-08-10",39,54,43,36,17,35,0,0,0,70,11571.98,5236,154.12,"SIM",972045.86,0,0]
[null,387,"2002-08-14",29,28,48,47,43,22,0,0,0,40,14937.65,2998,198.55,"SIM",1689053.37,0,0]
[null,388,"2002-08-17",52,48,53,58,23,36,0,0,0,46,18826.46,4293,200.97,"SIM",2728273.75,0,0]
[null,389,"2002-08-21",46,14,54,18,43,5,0,0,0,63,11305.19,4169,170.2,"SIM",15745310.460000001,0,0]
[null,390,"2002-08-24",7,22,34,12,38,53,0,1,17611429.969999999,171,9094.15,10722,144.49,"NÃO",0,0,0]
[null,391,"2002-08-28",7,15,35,16,40,4,0,0,0,44,10170.35,2740,162.69999999999999,"SIM",536994.30000000005,0,0]
[null,392,"2002-08-31",49,47,39,31,15,23,0,1,1410917.29,68,10709.84,3591,202.03,"NÃO",0,0,0]
[null,393,"2002-09-04",12,50,36,6,35,40,0,0,0,31,13716.51,1949,217.35,"SIM",510254.22,0,0]
[null,394,"2002-09-07",15,49,42,5,45,35,0,0,0,47,11817.8,4815,114.93,"SIM",1176778.31,0,0]
[null,395,"2002-09-11",11,58,31,14,10,20,0,1,1843709.96,27,20584.310000000001,2328,237.84,"NÃO",0,0,0]
[null,396,"2002-09-14",47,18,6,45,34,42,0,0,0,63,10148.719999999999,4201,151.63,"SIM",767243.59,0,0]
[null,397,"2002-09-18",32,24,2,5,1,46,0,0,0,61,7992.42,4026,120.64,"SIM",1352288.49,0,0]
[null,398,"2002-09-21",28,7,16,37,36,22,0,1,2221289.77,63,11494.73,5106,141.29,"NÃO",0,0,0]
[null,399,"2002-09-25",59,55,16,27,47,11,0,0,0,20,19537,1730,225.01,"SIM",5676171.4100000001,0,0]
[null,400,"2002-09-28",29,59,13,10,54,28,0,0,0,75,13254.18,4875,203.14,"SIM",6869047.9100000001,0,0]
[null,401,"2002-10-02",50,18,44,53,11,43,0,0,0,33,25008.639999999999,2853,288.18,"SIM",7859389.8899999997,0,0]
[null,402,"2002-10-05",27,43,58,5,16,56,0,0,0,146,7927.99,7787,148.08000000000001,"SIM",9248373.5399999991,0,0]
[null,403,"2002-10-09",46,31,7,16,60,27,0,0,0,48,19972.95,4099,233.01,"SIM",10398815.279999999,0,0]
[null,404,"2002-10-12",24,38,58,1,40,28,0,0,0,66,16580.07,4364,249.8,"SIM",11711956.93,0,0]
[null,405,"2002-10-16",57,60,34,24,29,47,0,0,0,67,16988.169999999998,4579,247.63,"SIM",13077805.76,0,0]
[null,406,"2002-10-19",47,32,48,12,38,2,0,0,0,78,19463.48,6557,230.66,"SIM",14899587.92,0,0]
[null,407,"2002-10-23",49,2,18,51,22,57,0,0,0,90,16315.38,6383,229.18,"SIM",16661649.27,0,0]
[null,408,"2002-10-26",49,44,33,28,56,14,0,1,18948827.670000002,269,7085.43,13970,135.91999999999999,"NÃO",0,0,0]
[null,409,"2002-10-30",26,49,25,18,31,34,0,0,0,23,18741.96,1958,219.32,"SIM",9710567.6099999994,0,0]
[null,410,"2002-11-02",31,55,36,24,8,38,0,0,0,101,10257.120000000001,5799,177.97,"SIM",10953730.369999999,0,0]
[null,411,"2002-11-06",10,56,12,31,45,38,0,0,0,91,11814.39,5115,209.4,"SIM",12243861.060000001,0,0]
[null,412,"2002-11-09",45,5,14,21,59,12,0,0,0,89,16616.72,8542,172.49,"SIM",14018527.279999999,0,0]
[null,413,"2002-11-13",35,53,29,33,2,4,0,0,0,102,13376.53,7746,175.49,"SIM",15655814.529999999,0,0]
[null,414,"2002-11-16",35,26,58,52,45,16,0,1,17428452.98,51,28964.68,5527,266.26,"NÃO",0,0,0]
[null,415,"2002-11-20",38,44,4,1,27,42,0,0,0,40,11027.47,2415,181.96,"SIM",529318.35,0,0]
[null,416,"2002-11-23",13,1,23,56,54,33,0,0,0,44,16547.759999999998,4032,179.9,"SIM",1403039.91,0,0]
[null,417,"2002-11-27",25,7,12,21,42,34,0,0,0,78,7435.78,5218,110.73,"SIM",2099028.66,0,0]
[null,418,"2002-11-30",45,8,32,49,15,52,0,2,1558712.24,82,10349.549999999999,5133,164.72,"NÃO",0,0,0]
[null,419,"2002-12-04",41,42,52,53,16,9,0,0,0,30,14860.22,1594,278.62,"SIM",8115153.0499999998,0,0]
[null,420,"2002-12-07",43,12,59,30,57,29,0,0,0,83,13949.86,5614,205.47,"SIM",9504559.0600000005,0,0]
[null,421,"2002-12-11",38,45,35,37,5,51,0,0,0,47,21307.17,4716,211.55,"SIM",10706283.470000001,0,0]
[null,422,"2002-12-14",60,12,56,37,55,43,0,0,0,80,16823.650000000001,6516,205.77,"SIM",12321354.109999999,0,0]
[null,423,"2002-12-18",8,22,33,40,32,53,0,0,0,66,17925.27,4178,282.10000000000002,"SIM",13741035.48,0,0]
[null,424,"2002-12-21",29,36,27,18,59,46,0,0,0,91,17356.78,7389,212.95,"SIM",15636395.41,0,0]
[null,425,"2002-12-28",6,16,10,34,47,42,0,1,18979599.190000001,279,9985.67,17411,159.41999999999999,"NÃO",0,0,0]
[null,426,"2003-01-04",7,32,54,50,30,37,0,0,0,58,13241.94,3139,243.76,"SIM",921638.77,0,0]
[null,427,"2003-01-08",51,13,43,24,3,14,0,0,0,48,11642.1,3563,156.25,"SIM",1592223.84,0,0]
[null,428,"2003-01-11",60,8,32,28,46,30,0,0,0,48,16919,3734,216.67,"SIM",2566758.37,0,0]
[null,429,"2003-01-15",55,32,17,36,26,43,0,0,0,44,14978.72,3300,198.96,"SIM",12839021.93,0,0]
[null,430,"2003-01-18",50,21,10,25,38,8,0,1,14410708.810000001,85,15408.7,6944,187.9,"NÃO",0,0,0]
[null,431,"2003-01-22",58,26,40,37,47,52,0,0,0,20,21069.89,1184,354.56,"SIM",505677.41,0,0]
[null,432,"2003-01-25",50,17,13,27,4,39,0,0,0,54,12185.97,4278,153.24,"SIM",1295327.95,0,0]
[null,433,"2003-01-29",36,17,28,16,54,30,0,0,0,31,16580.2,2332,219.58,"SIM",1912111.54,0,0]
[null,434,"2003-02-01",24,17,4,54,30,10,0,0,0,84,9173.2800000000007,4870,157.63,"SIM",2836778,0,0]
[null,435,"2003-02-05",37,11,17,31,43,10,0,0,0,55,11059.32,3243,186.85,"SIM",3566693.13,0,0]
[null,436,"2003-02-08",1,6,57,29,48,7,0,0,0,47,19531.310000000001,4696,194.74,"SIM",4668258.6900000004,0,0]
[null,437,"2003-02-12",54,10,59,44,30,7,0,0,0,33,22273.9,2829,258.83999999999997,"SIM",5550305.04,0,0]
[null,438,"2003-02-15",38,48,14,3,11,5,0,0,0,65,16281.73,6276,167.99,"SIM",6820280.2699999996,0,0]
[null,439,"2003-02-19",42,13,20,29,43,57,0,0,0,65,13353.84,4407,196.22,"SIM",14150924.789999999,0,0]
[null,440,"2003-02-22",46,23,30,47,5,3,0,0,0,139,10909.13,10120,149.28,"SIM",15970566.859999999,0,0]
[null,441,"2003-02-26",2,15,58,10,59,21,0,0,0,121,11917.74,6941,206.98,"SIM",17701023.289999999,0,0]
[null,442,"2003-03-01",15,31,23,6,59,37,0,1,19946601.010000002,135,13861.59,9944,187.48,"NÃO",0,0,0]
[null,443,"2003-03-08",11,36,17,26,52,48,0,0,0,47,16322.42,3738,204.46,"SIM",920584.21,0,0]
[null,444,"2003-03-12",48,52,57,24,3,33,0,0,0,43,13890.62,3332,178.58,"SIM",1637340.11,0,0]
[null,445,"2003-03-15",31,50,7,53,32,20,0,0,0,31,28559.37,3101,284.42,"SIM",2699748.84,0,0]
[null,446,"2003-03-19",11,20,8,47,12,17,0,2,1767117.91,65,10698.55,5039,137.47999999999999,"NÃO",0,0,0]
[null,447,"2003-03-22",24,55,15,33,25,42,0,0,0,55,12010.32,5613,117.25,"SIM",792681.47,0,0]
[null,448,"2003-03-26",5,3,52,45,9,51,0,0,0,40,13356.99,2999,177.48,"SIM",1433817.03,0,0]
[null,449,"2003-03-29",34,56,24,1,49,8,0,0,0,55,14643.05,3656,219.46,"SIM",10220372.33,0,0]
[null,450,"2003-04-02",59,51,13,1,9,50,0,0,0,108,10575.6,6194,183.7,"SIM",11590970.460000001,0,0]
[null,451,"2003-04-05",23,18,31,17,53,28,0,0,0,87,17131.8,7368,201.53,"SIM",13379529.890000001,0,0]
[null,452,"2003-04-09",54,11,51,16,36,30,0,0,0,76,18847.21,6317,225.9,"SIM",15098395.42,0,0]
[null,453,"2003-04-12",58,52,8,34,20,23,0,0,0,120,15932.45,7882,241.65,"SIM",17392667.68,0,0]
[null,454,"2003-04-16",4,17,42,56,46,24,0,0,0,275,7515.39,16564,124.3,"SIM",19872744.640000001,0,0]
[null,455,"2003-04-19",50,15,17,2,14,59,0,0,0,86,23171.64,7989,248.5,"SIM",22264057.739999998,0,0]
[null,456,"2003-04-23",17,40,22,27,33,3,0,0,0,221,11142.66,16964,144.61000000000001,"SIM",25219091.199999999,0,0]
[null,457,"2003-04-26",48,15,24,27,17,32,0,3,10000441.74,480,8302.49,31340,126.68,"NÃO",0,0,0]
[null,458,"2003-04-30",43,53,13,32,34,24,0,0,0,82,7395.34,3921,154.08000000000001,"SIM",727701.47,0,0]
[null,459,"2003-05-03",43,17,8,15,49,39,0,0,0,62,12146.48,4197,178.76,"SIM",15906301.09,0,0]
[null,460,"2003-05-07",19,55,30,23,37,49,0,0,0,155,9688.9599999999991,9464,158.09,"SIM",17708446.640000001,0,0]
[null,461,"2003-05-10",30,17,20,29,15,60,0,0,0,189,10317.48,8312,233.71,"SIM",20048450.449999999,0,0]
[null,462,"2003-05-14",27,48,17,19,26,22,0,0,0,212,9023.34,14463,131.76,"SIM",22343987.57,0,0]
[null,463,"2003-05-17",7,18,2,45,3,53,0,0,0,166,14740.96,15269,159.66,"SIM",25280386.379999999,0,0]
[null,464,"2003-05-21",6,33,45,38,24,50,0,1,28414544.43,241,10837.34,15457,168.33,"NÃO",0,0,0]
[null,465,"2003-05-24",46,31,1,57,22,51,0,0,0,19,40627.81,2175,353.57,"SIM",926313.93,0,0]
[null,466,"2003-05-28",28,16,45,29,30,11,0,0,0,64,10353.719999999999,3582,184.29,"SIM",1721479.17,0,0]
[null,467,"2003-05-31",38,21,8,22,18,60,0,0,0,45,20730.13,3907,237.87,"SIM",2840905.83,0,0]
[null,468,"2003-06-04",23,6,25,39,51,5,0,0,0,58,14292.56,4701,175.67,"SIM",3835668.21,0,0]
[null,469,"2003-06-07",29,47,42,21,13,26,0,2,2596432.92,187,6048.12,8798,128.07,"NÃO",0,0,0]
[null,470,"2003-06-11",51,58,23,11,8,37,0,0,0,86,13384.59,6094,188.18,"SIM",13182029.140000001,0,0]
[null,471,"2003-06-14",51,59,31,5,36,32,0,0,0,76,19668.02,5490,271.24,"SIM",14975752.83,0,0]
[null,472,"2003-06-18",12,3,38,29,51,4,0,0,0,82,17224.580000000002,6518,215.88,"SIM",16670651.02,0,0]
[null,473,"2003-06-21",51,7,58,49,23,41,0,0,0,65,23285.11,6524,231.12,"SIM",18486889.079999998,0,0]
[null,474,"2003-06-25",34,3,12,50,32,40,0,0,0,56,34156.589999999997,6910,275.76,"SIM",20782211.640000001,0,0]
[null,475,"2003-06-28",19,6,43,52,8,22,0,0,0,156,15008.18,13235,176.23,"SIM",23591742.199999999,0,0]
[null,476,"2003-07-02",38,43,20,55,17,58,0,0,0,163,16837.810000000001,11465,238.49,"SIM",26885217.690000001,0,0]
[null,477,"2003-07-05",47,34,8,6,18,38,0,3,10401481.92,279,12900.92,21958,163.30000000000001,"NÃO",0,0,0]
[null,478,"2003-07-09",30,8,31,3,21,25,0,0,0,92,7045.32,4876,132.43,"SIM",777803.22,0,0]
[null,479,"2003-07-12",20,54,58,26,41,46,0,0,0,32,29012.34,2834,326.35000000000002,"SIM",16088932.65,0,0]
[null,480,"2003-07-16",36,38,33,14,49,41,0,0,0,112,13831.54,8589,179.69,"SIM",17947892.210000001,0,0]
[null,481,"2003-07-19",42,6,24,44,22,13,0,3,6796888.0300000003,359,5670.32,19465,104.19,"NÃO",0,0,0]
[null,482,"2003-07-23",13,56,12,33,53,54,0,0,0,41,14878.29,2929,207.48,"SIM",732011.95,0,0]
[null,483,"2003-07-26",16,23,35,18,44,59,0,0,0,90,9761.25,6279,139.38,"SIM",1786227.43,0,0]
[null,484,"2003-07-30",53,19,38,18,17,49,0,0,0,55,13655.17,4015,186.35,"SIM",2687468.43,0,0]
[null,485,"2003-08-02",38,28,52,30,19,57,0,0,0,30,35888.42,3203,334.87,"SIM",3979451.73,0,0]
[null,486,"2003-08-06",50,42,19,8,30,14,0,1,5125800.12,55,17368.919999999998,4325,220.05,"NÃO",0,0,0]
[null,487,"2003-08-09",25,22,48,52,54,8,0,2,467702.34,104,7495.23,5329,145.72999999999999,"NÃO",0,0,0]
[null,488,"2003-08-13",30,39,35,43,15,57,0,0,0,46,11864.07,2699,201.45,"SIM",654896.68000000005,0,0]
[null,489,"2003-08-16",28,36,17,53,33,59,0,0,0,67,12406.82,5107,162.16,"SIM",9662631.8399999999,0,0]
[null,490,"2003-08-20",5,11,29,54,23,58,0,1,11070173.5,148,7925.35,8438,138.49,"NÃO",0,0,0]
[null,491,"2003-08-23",22,43,15,55,9,1,0,1,849344.26,81,8738.11,4221,167.05,"NÃO",0,0,0]
[null,492,"2003-08-27",57,2,15,6,56,18,0,0,0,26,19041.52,2629,187.61,"SIM",594095.53,0,0]
[null,493,"2003-08-30",54,20,3,18,42,24,0,0,0,79,9663.99,5294,143.66999999999999,"SIM",1510241.51,0,0]
[null,494,"2003-09-03",28,32,49,53,18,20,0,0,0,32,21997.599999999999,2766,253.53,"SIM",2354949.5099999998,0,0]
[null,495,"2003-09-06",36,15,60,8,29,49,0,0,0,48,20565.02,5313,185.09,"SIM",3539495.03,0,0]
[null,496,"2003-09-10",41,20,19,29,59,10,0,0,0,31,27720.31,3495,244.94,"SIM",4570690.49,0,0]
[null,497,"2003-09-13",9,41,32,13,58,20,0,0,0,72,15712.44,5439,207.21,"SIM",5928244.6600000001,0,0]
[null,498,"2003-09-17",49,28,2,6,57,50,0,0,0,58,17603,4592,221.5,"SIM",7153413.0099999998,0,0]
[null,499,"2003-09-20",59,1,11,5,44,4,0,1,8698099.2200000007,126,10216.18,8903,144.04,"NÃO",0,0,0]
[null,500,"2003-09-27",35,21,54,29,38,36,0,1,9394248.8300000001,73,23869.01,6818,254.6,"NÃO",0,0,0]
[null,501,"2003-10-01",34,27,56,28,16,39,0,0,0,43,11303.51,3037,159.44999999999999,"SIM",583261.35,0,0]
[null,502,"2003-10-04",50,7,33,21,24,13,0,2,730915.33,268,2731.87,9549,76.39,"NÃO",0,0,0]
[null,503,"2003-10-08",10,21,48,27,49,7,0,0,0,40,11636.06,2934,158.04,"SIM",558530.93000000005,0,0]
[null,504,"2003-10-11",39,19,11,8,50,30,0,0,0,54,12855.55,4006,172.64,"SIM",1391570.39,0,0]
[null,505,"2003-10-15",47,20,52,3,46,28,0,0,0,30,19736.18,2559,230.51,"SIM",2102072.7999999998,0,0]
[null,506,"2003-10-18",31,37,34,15,38,4,0,0,0,65,12720.38,4735,173.96,"SIM",3094262.01,0,0]
[null,507,"2003-10-22",44,58,5,27,33,3,0,2,1963484.53,212,3273.22,6604,104.68,"NÃO",0,0,0]
[null,508,"2003-10-25",46,56,5,15,45,10,0,0,0,33,18038.77,3025,196.05,"SIM",714335.26,0,0]
[null,509,"2003-10-29",32,55,34,35,28,33,0,0,0,39,13104.28,2852,178.52,"SIM",7199176.21,0,0]
[null,510,"2003-11-01",30,45,58,1,4,41,0,2,4252983.0599999996,70,15557.02,4392,247.01,"NÃO",0,0,0]
[null,511,"2003-11-05",8,36,34,37,3,4,0,0,0,50,8700.75,3155,137.37,"SIM",761315.61,0,0]
[null,512,"2003-11-08",8,40,58,4,53,31,0,3,653828.5,41,16727.11,2277,300.05,"NÃO",0,0,0]
[null,513,"2003-11-12",46,10,27,19,33,39,0,0,0,46,8485.7099999999991,2427,160.22999999999999,"SIM",683099.65,0,0]
[null,514,"2003-11-15",15,52,40,36,51,42,0,0,0,20,24964.720000000001,1209,411.42,"SIM",4941165.3499999996,0,0]
[null,515,"2003-11-19",39,16,57,15,45,48,0,0,0,33,20464.650000000001,2636,255.23,"SIM",6122998.7300000004,0,0]
[null,516,"2003-11-22",24,5,34,13,35,33,0,0,0,164,5416.02,7718,114.65,"SIM",7677394.3799999999,0,0]
[null,517,"2003-11-26",51,32,8,28,38,7,0,0,0,36,22385.919999999998,3262,246.13,"SIM",9087707.1600000001,0,0]
[null,518,"2003-11-29",44,8,5,15,18,10,0,0,0,182,6014.85,8653,126.04,"SIM",11003437.880000001,0,0]
[null,519,"2003-12-03",9,36,15,19,42,22,0,0,0,111,9685.31,7018,152.61000000000001,"SIM",18558840.359999999,0,0]
[null,520,"2003-12-06",32,34,17,35,9,12,0,0,0,166,10017.32,10884,152.19999999999999,"SIM",21468871.739999998,0,0]
[null,521,"2003-12-10",28,32,38,25,15,45,0,0,0,166,10463.370000000001,10610,163.09,"SIM",24508480.18,0,0]
[null,522,"2003-12-13",49,52,15,25,14,6,0,0,0,118,19311.39,8280,274.17,"SIM",28496281.66,0,0]
[null,523,"2003-12-17",45,58,40,39,28,44,0,0,0,123,27528.74,9692,348.05,"SIM",34421843.43,0,0]
[null,524,"2003-12-20",47,29,34,48,19,41,0,1,42794697.560000002,180,26580.49,17156,277.83,"NÃO",0,0,0]
[null,525,"2003-12-27",26,32,24,49,8,10,0,2,10208722.99,153,11600.82,9640,183.43,"NÃO",0,0,0]
[null,526,"2004-01-03",3,59,21,36,55,31,0,0,0,34,22681.040000000001,2444,314.33999999999997,"SIM",1349521.77,0,0]
[null,527,"2004-01-07",17,14,50,52,6,26,0,0,0,23,27463.439999999999,2091,300.94,"SIM",2454925.13,0,0]
[null,528,"2004-01-10",34,28,37,12,8,31,0,0,0,67,12554.6,4827,173.6,"SIM",3926952.17,0,0]
[null,529,"2004-01-14",56,45,13,33,38,1,0,15,348732.75,87,8565.1200000000008,4758,156.03,"NÃO",0,0,0]
[null,530,"2004-01-17",32,21,25,1,6,49,0,0,0,49,18501.75,3771,239.5,"SIM",7541604.0499999998,0,0]
[null,531,"2004-01-21",3,1,35,7,18,50,0,0,0,96,9079.1,5188,167.37,"SIM",9066892.8399999999,0,0]
[null,532,"2004-01-24",13,4,12,53,9,52,0,0,0,69,16628.16,5314,215.09,"SIM",11074743.029999999,0,0]
[null,533,"2004-01-28",27,18,13,59,21,53,0,0,0,82,12747.27,5129,203.03,"SIM",12903975.949999999,0,0]
[null,534,"2004-01-31",48,57,23,8,31,3,0,1,15184658.119999999,107,12179.88,6559,197.95,"NÃO",0,0,0]
[null,535,"2004-02-04",49,14,47,56,6,28,0,1,7834139.1399999997,59,12025.02,4136,170.89,"NÃO",0,0,0]
[null,536,"2004-02-07",14,22,25,15,37,23,0,0,0,49,12551.38,3217,190.46,"SIM",1076280.3500000001,0,0]
[null,537,"2004-02-11",37,3,19,34,39,7,0,1,2054340.05,128,4366.34,5345,104.17,"NÃO",0,0,0]
[null,538,"2004-02-14",45,43,56,25,52,3,0,0,0,36,16533.54,2657,223.17,"SIM",1041612.8,0,0]
[null,539,"2004-02-18",16,50,55,6,47,19,0,0,0,21,25214.62,1908,276.47000000000003,"SIM",5728373.54,0,0]
[null,540,"2004-02-21",22,4,30,44,28,49,0,0,0,84,10186.19,4535,187.97,"SIM",7225743.3499999996,0,0]
[null,541,"2004-02-28",58,57,27,13,49,52,0,1,9144543.5,54,20304.759999999998,4879,223.88,"NÃO",0,0,0]
[null,542,"2004-03-03",49,4,19,28,35,6,0,0,0,42,9683.43,2800,144.69999999999999,"SIM",711731.71,0,0]
[null,543,"2004-03-06",35,54,37,42,49,46,0,1,1836749.58,78,8241.89,2557,250.47,"NÃO",0,0,0]
[null,544,"2004-03-10",11,33,56,47,17,34,0,0,0,39,10062.1,2415,161.88999999999999,"SIM",4929350.8899999997,0,0]
[null,545,"2004-03-13",43,35,57,29,40,17,0,1,6409645.5300000003,102,8292.9699999999993,4315,195.29,"NÃO",0,0,0]
[null,546,"2004-03-17",46,4,54,17,13,5,0,0,0,32,12224.97,3003,129.78,"SIM",684598.29,0,0]
[null,547,"2004-03-20",4,59,13,53,28,30,0,1,1746857.35,42,14452.51,2599,232.67,"NÃO",0,0,0]
[null,548,"2004-03-24",51,49,14,47,59,58,0,0,0,9,41634.699999999997,965,386.83,"SIM",655746.39,0,0]
[null,549,"2004-03-27",13,51,58,22,46,8,0,0,0,34,17519.41,2772,214.07,"SIM",5216225,0,0]
[null,550,"2004-03-31",17,56,16,38,39,45,0,0,0,39,18277,2948,240.88,"SIM",6463630.5300000003,0,0]
[null,551,"2004-04-03",56,48,57,21,12,46,0,0,0,35,28192.58,3027,324.75,"SIM",8190426.2800000003,0,0]
[null,552,"2004-04-07",22,54,52,47,49,9,0,0,0,69,14110.09,4299,225.61,"SIM",9894220.2100000009,0,0]
[null,553,"2004-04-10",43,46,58,53,54,4,0,0,0,42,23814.78,3308,301.22000000000003,"SIM",11644606.76,0,0]
[null,554,"2004-04-14",47,29,31,15,60,42,0,0,0,64,20951.21,4812,277.60000000000002,"SIM",20258939.210000001,0,0]
[null,555,"2004-04-17",49,5,23,33,45,31,0,1,23810057.190000001,152,13350.07,10733,188.35,"NÃO",0,0,0]
[null,556,"2004-04-21",8,45,30,33,17,10,0,0,0,20,14872.57,1699,174.41,"SIM",520539.87,0,0]
[null,557,"2004-04-24",18,49,38,23,8,12,0,0,0,59,11001.41,3777,171.2,"SIM",1656435.01,0,0]
[null,558,"2004-04-28",59,57,7,58,31,14,0,0,0,21,26571.46,2000,277.94,"SIM",2632936.06,0,0]
[null,559,"2004-05-01",53,25,36,13,17,6,0,1,3707152.54,75,8184.51,4460,137.11000000000001,"NÃO",0,0,0]
[null,560,"2004-05-05",32,18,11,30,2,58,0,0,0,44,16215.47,2585,274.97000000000003,"SIM",6433069.8499999996,0,0]
[null,561,"2004-05-08",39,49,36,20,55,1,0,0,0,32,31342.98,2743,364.27,"SIM",8188276.6699999999,0,0]
[null,562,"2004-05-12",37,35,23,16,57,55,0,0,0,117,8271.9500000000007,5150,187.22,"SIM",9881959.4800000004,0,0]
[null,563,"2004-05-15",34,8,23,44,51,5,0,0,0,90,13541.69,6007,202.12,"SIM",12014774.5,0,0]
[null,564,"2004-05-19",38,13,32,20,10,49,0,0,0,46,25392.82,4446,261.73,"SIM",20397765.640000001,0,0]
[null,565,"2004-05-22",31,37,35,7,45,34,0,0,0,57,29241.27,6804,244.04,"SIM",23314582.629999999,0,0]
[null,566,"2004-05-26",17,6,20,18,13,37,0,0,0,176,11334.45,13032,152.49,"SIM",26805592.27,0,0]
[null,567,"2004-05-29",57,58,11,38,41,31,0,0,0,69,37888.61,5787,450.05,"SIM",31380642.059999999,0,0]
[null,568,"2004-06-02",25,41,17,29,13,22,0,0,0,457,7802.44,24931,142.47999999999999,"SIM",37620642.340000004,0,0]
[null,569,"2004-06-05",32,15,14,9,3,57,0,1,46663532.700000003,434,11906.37,29922,172.04,"NÃO",0,0,0]
[null,570,"2004-06-09",35,32,36,33,51,15,0,0,0,84,18168.099999999999,7539,201.67,"SIM",21431972.379999999,0,0]
[null,571,"2004-06-12",14,31,12,13,51,50,0,0,0,69,22294.35,5572,275.04000000000002,"SIM",24124014.989999998,0,0]
[null,572,"2004-06-16",33,3,20,60,9,16,0,0,0,162,10668.49,9940,173.21,"SIM",27148533.16,0,0]
[null,573,"2004-06-19",59,29,17,6,40,22,0,0,0,82,25012.22,8272,247,"SIM",30737786.41,0,0]
[null,574,"2004-06-23",32,23,2,10,44,17,0,0,0,162,12609.31,12691,160.35,"SIM",45420567.880000003,0,0]
[null,575,"2004-06-26",18,29,21,48,35,5,0,2,25737016.52,470,7359.84,21660,159.1,"NÃO",0,0,0]
[null,576,"2004-06-30",18,43,52,39,7,8,0,0,0,27,22856.21,1978,310.81,"SIM",1079955.77,0,0]
[null,577,"2004-07-03",31,47,28,23,8,24,0,0,0,57,15092.9,4579,187.17,"SIM",2585472.5,0,0]
[null,578,"2004-07-07",48,3,58,18,56,23,0,1,3982872.62,62,12879.26,3639,218.6,"NÃO",0,0,0]
[null,579,"2004-07-10",15,34,39,17,4,9,0,1,1175432.1299999999,90,7463.06,5172,129.38,"NÃO",0,0,0]
[null,580,"2004-07-14",38,16,18,28,15,47,0,0,0,56,16168.75,4097,220.17,"SIM",9592944.8100000005,0,0]
[null,581,"2004-07-17",30,25,52,14,39,17,0,1,11781320.02,56,22330.36,4429,281.27,"NÃO",0,0,0]
[null,582,"2004-07-21",13,40,29,59,45,51,0,0,0,29,17143.400000000001,1943,254.91,"SIM",870027.37,0,0]
[null,583,"2004-07-24",55,6,41,20,43,7,0,0,0,36,20218.13,2157,336.16,"SIM",2143769.6000000001,0,0]
[null,584,"2004-07-28",30,53,23,7,32,8,0,0,0,49,13327.92,3278,198.48,"SIM",8329175.7999999998,0,0]
[null,585,"2004-07-31",24,39,12,33,57,36,0,1,10166807.68,124,8468.35,7122,146.88999999999999,"NÃO",0,0,0]
[null,586,"2004-08-04",45,38,13,11,54,39,0,0,0,30,15687.92,2162,216.87,"SIM",823615.95,0,0]
[null,587,"2004-08-07",30,2,36,18,60,29,0,0,0,36,20518.919999999998,2436,302.08999999999997,"SIM",2116308.12,0,0]
[null,588,"2004-08-11",45,13,46,55,53,11,0,0,0,22,29565.71,2088,310.33999999999997,"SIM",3254587.92,0,0]
[null,589,"2004-08-14",13,7,33,59,6,8,0,0,0,152,5926.91,9005,99.66,"SIM",9594559.2699999996,0,0]
[null,590,"2004-08-18",25,51,5,18,4,28,0,0,0,70,14105.62,5155,190.82,"SIM",11322497.59,0,0]
[null,591,"2004-08-21",58,3,18,50,34,1,0,0,0,64,18968.95,4448,271.89999999999998,"SIM",13447020.1,0,0]
[null,592,"2004-08-25",55,14,59,47,13,42,0,0,0,60,18664.59,5062,220.39,"SIM",15406801.689999999,0,0]
[null,593,"2004-08-28",27,29,1,59,25,49,0,0,0,68,20265.54,5291,259.47000000000003,"SIM",17818401.510000002,0,0]
[null,594,"2004-09-01",10,53,55,29,13,47,0,0,0,121,11747.7,6444,219.76,"SIM",27956987.940000001,0,0]
[null,595,"2004-09-04",54,2,43,1,50,25,0,0,0,89,22736.36,7230,278.82,"SIM",31498176.460000001,0,0]
[null,596,"2004-09-08",43,60,28,11,54,14,0,0,0,116,15749.68,6578,276.69,"SIM",34695360.859999999,0,0]
[null,597,"2004-09-11",42,40,27,22,56,29,0,0,0,140,21650.75,10021,301.33,"SIM",39999792.490000002,0,0]
[null,598,"2004-09-15",5,16,53,38,50,34,0,2,23179951.190000001,234,15531.4,19229,188.29,"NÃO",0,0,0]
[null,599,"2004-09-18",6,45,51,9,23,4,0,0,0,65,10375.799999999999,4755,141.31,"SIM",15168219.08,0,0]
[null,600,"2004-09-22",18,39,54,34,31,16,0,0,0,73,16062.92,4640,251.75,"SIM",17220256.510000002,0,0]
[null,601,"2004-09-25",37,19,29,30,10,22,0,0,0,75,18837.59,6002,234.5,"SIM",19692689.899999999,0,0]
[null,602,"2004-09-29",38,60,13,7,55,46,0,0,0,95,13988.93,6773,195.47,"SIM",22018349.559999999,0,0]
[null,603,"2004-10-02",4,8,11,29,12,44,0,1,24750883.609999999,233,6701.5,12565,123.8,"NÃO",0,0,0]
[null,604,"2004-10-06",41,49,51,25,15,46,0,0,0,15,35679.230000000003,1422,374.94,"SIM",8450325.6199999992,0,0]
[null,605,"2004-10-09",44,52,53,4,49,24,0,0,0,45,23716.98,3980,267.14999999999998,"SIM",10318037.869999999,0,0]
[null,606,"2004-10-13",41,6,23,55,32,35,0,1,11878491.65,43,20736.93,3770,235.63,"NÃO",0,0,0]
[null,607,"2004-10-16",6,59,11,27,19,41,0,0,0,48,13506.67,3059,211.14,"SIM",1134560.21,0,0]
[null,608,"2004-10-20",30,6,37,19,24,13,0,0,0,101,6267.54,5181,121.72,"SIM",2242347.59,0,0]
[null,609,"2004-10-23",15,2,59,60,6,58,0,0,0,60,13952.24,3994,208.81,"SIM",8804117.6999999993,0,0]
[null,610,"2004-10-27",25,49,30,43,47,45,0,0,0,62,14911.12,4044,227.75,"SIM",10421973.58,0,0]
[null,611,"2004-10-30",22,21,33,16,48,49,0,0,0,69,16349.76,4531,248.04,"SIM",12396207.890000001,0,0]
[null,612,"2004-11-03",55,33,15,50,53,18,0,0,0,41,22250.05,3389,268.16000000000003,"SIM",13992649.1,0,0]
[null,613,"2004-11-06",54,55,13,44,6,19,0,0,0,108,12259.22,7101,185.76,"SIM",16309642.4,0,0]
[null,614,"2004-11-10",60,31,12,48,57,16,0,0,0,53,24951.84,4127,319.23,"SIM",25638073.789999999,0,0]
[null,615,"2004-11-13",27,31,8,10,51,5,0,0,0,157,11348.03,9780,181.48,"SIM",28755943.649999999,0,0]
[null,616,"2004-11-17",24,16,26,54,12,2,0,0,0,90,18187.52,9236,176.56,"SIM",31620478.41,0,0]
[null,617,"2004-11-20",25,5,49,36,33,3,0,2,17791387.59,289,7834.5,17341,130.08000000000001,"NÃO",0,0,0]
[null,618,"2004-11-24",60,10,3,8,24,13,0,0,0,86,6312.56,4992,108.34,"SIM",950038.98,0,0]
[null,619,"2004-11-27",16,12,46,14,8,19,0,0,0,101,7354.06,5924,124.91,"SIM",10960275.810000001,0,0]
[null,620,"2004-12-01",22,1,29,13,32,3,0,0,0,87,11707.09,5886,172.39,"SIM",12742680.43,0,0]
[null,621,"2004-12-04",29,31,50,26,57,49,0,0,0,40,32904.81,3837,341.73,"SIM",15046017.24,0,0]
[null,622,"2004-12-08",59,27,19,29,50,38,0,0,0,49,24789.919999999998,3560,339.92,"SIM",17171752.859999999,0,0]
[null,623,"2004-12-11",42,23,55,30,9,49,0,0,0,124,12236.03,6915,218.59,"SIM",19826970.07,0,0]
[null,624,"2004-12-15",39,23,34,52,8,43,0,1,22375180.079999998,108,13482.59,7284,199.16,"NÃO",0,0,0]
[null,625,"2004-12-18",59,12,32,42,24,40,0,0,0,49,20777.72,4056,250.06,"SIM",9935192.2300000004,0,0]
[null,626,"2004-12-22",49,8,22,18,7,39,0,0,0,52,21294.16,5096,216.47,"SIM",11872960.59,0,0]
[null,627,"2004-12-29",19,13,45,58,56,1,0,0,0,112,14270.18,8049,197.82,"SIM",14669915.470000001,0,0]
[null,628,"2005-01-05",8,16,22,56,58,30,0,1,17373966.129999999,76,20331.21,5510,279.37,"NÃO",0,0,0]
[null,629,"2005-01-08",40,47,39,16,51,15,0,1,1104456.3799999999,15,42074.53,1865,337.13,"NÃO",0,0,0]
[null,630,"2005-01-12",16,53,20,60,12,45,0,0,0,33,24880.69,2972,275.23,"SIM",8811801.9399999995,0,0]
[null,631,"2005-01-15",1,28,47,20,44,32,0,1,10579247.17,46,21955.84,3548,283.58,"NÃO",0,0,0]
[null,632,"2005-01-19",2,54,48,51,19,28,0,0,0,26,19697.02,1962,260.02999999999997,"SIM",896214.44,0,0]
[null,633,"2005-01-22",27,46,5,50,11,22,0,0,0,58,11744.77,3524,192.57,"SIM",2088308.43,0,0]
[null,634,"2005-01-26",13,41,24,42,10,56,0,0,0,54,11854.27,3752,169.97,"SIM",7789137.2999999998,0,0]
[null,635,"2005-01-29",49,42,37,8,20,26,0,0,0,58,16456.84,3646,260.8,"SIM",9459506.5800000001,0,0]
[null,636,"2005-02-02",30,32,34,50,28,26,0,0,0,74,12762.47,3170,296.79000000000002,"SIM",11112246.449999999,0,0]
[null,637,"2005-02-05",52,58,43,48,11,18,0,0,0,29,38451.69,3560,312.04000000000002,"SIM",13063669.529999999,0,0]
[null,638,"2005-02-12",42,10,50,41,11,36,0,0,0,65,22677.35,4518,325.02999999999997,"SIM",15643218.5,0,0]
[null,639,"2005-02-16",51,39,35,60,45,13,0,0,0,72,17653.96,5473,231.37,"SIM",25066531.77,0,0]
[null,640,"2005-02-19",12,42,59,46,19,60,0,0,0,129,14012.81,8094,222.49,"SIM",28229924.760000002,0,0]
[null,641,"2005-02-23",17,13,33,9,1,34,0,1,31923289.190000001,366,5766.38,20840,100.89,"NÃO",0,0,0]
[null,642,"2005-02-26",51,17,56,36,44,40,0,0,0,28,22758.799999999999,1988,319.33999999999997,"SIM",1115180.94,0,0]
[null,643,"2005-03-02",14,45,24,37,40,42,0,0,0,41,15663.14,2694,237.48,"SIM",2239011.2400000002,0,0]
[null,644,"2005-03-05",57,29,31,27,34,14,0,0,0,81,10667.36,4433,194.17,"SIM",11328156.699999999,0,0]
[null,645,"2005-03-09",52,48,24,53,54,3,0,0,0,39,27310.11,4345,244.2,"SIM",13192071.41,0,0]
[null,646,"2005-03-12",13,47,60,32,49,10,0,0,0,79,16079.41,6173,205,"SIM",15415049.93,0,0]
[null,647,"2005-03-16",56,19,11,14,12,54,0,1,17603353.149999999,50,25009.18,5432,229.34,"NÃO",0,0,0]
[null,648,"2005-03-19",5,48,23,42,45,29,0,3,361199.61,139,4454.67,4869,126.69,"NÃO",0,0,0]
[null,649,"2005-03-23",9,54,41,48,33,24,0,0,0,31,15748.23,2156,225.57,"SIM",6720868.0599999996,0,0]
[null,650,"2005-03-26",53,59,25,29,10,24,0,0,0,29,24322.62,2765,254.15,"SIM",7955241.21,0,0]
[null,651,"2005-03-30",39,45,28,26,48,60,0,0,0,36,24882.92,4356,204.86,"SIM",9522864.8100000005,0,0]
[null,652,"2005-04-02",24,18,57,56,10,20,0,0,0,41,27383.54,3874,288.70999999999998,"SIM",11487633.939999999,0,0]
[null,653,"2005-04-06",31,24,19,34,9,5,0,0,0,74,14994.32,6274,176.18,"SIM",13429397.869999999,0,0]
[null,654,"2005-04-09",10,11,56,40,41,6,0,1,15767596.35,66,20244.14,4745,280.52,"NÃO",0,0,0]
[null,655,"2005-04-13",26,39,1,37,43,48,0,0,0,23,33457.53,2722,281.64,"SIM",7808614.2199999997,0,0]
[null,656,"2005-04-16",59,37,46,36,35,51,0,0,0,24,42026.73,2623,383.08,"SIM",9573736.75,0,0]
[null,657,"2005-04-20",20,59,58,33,60,16,0,1,11354235.390000001,56,18168.36,3995,253.72,"NÃO",0,0,0]
[null,658,"2005-04-23",41,20,36,3,11,6,0,0,0,31,18418.259999999998,2883,197.3,"SIM",999190.32,0,0]
[null,659,"2005-04-27",14,29,40,34,51,52,0,0,0,22,27222.16,1390,429.22,"SIM",7004050.46,0,0]
[null,660,"2005-04-30",53,5,38,54,46,11,0,0,0,58,16751,4204,230.23,"SIM",8704277.0500000007,0,0]
[null,661,"2005-05-04",42,40,27,4,55,36,0,0,0,64,15130.77,4211,229.09,"SIM",10398923.359999999,0,0]
[null,662,"2005-05-07",4,60,56,25,18,23,0,0,0,79,14974.99,5525,213.31,"SIM",12469215.439999999,0,0]
[null,663,"2005-05-11",1,49,30,55,27,51,0,0,0,64,17649.82,4020,279.93,"SIM",14445995.199999999,0,0]
[null,664,"2005-05-14",12,1,55,59,38,36,0,0,0,74,18450.77,4971,273.62,"SIM",23857740.390000001,0,0]
[null,665,"2005-05-18",8,47,7,48,25,18,0,0,0,185,8538.56,10055,156.51,"SIM",26622098.550000001,0,0]
[null,666,"2005-05-21",7,26,16,29,45,55,0,0,0,77,26923.37,8122,254.29,"SIM",30250022.18,0,0]
[null,667,"2005-05-25",5,23,16,4,49,1,0,1,34263173.549999997,203,11296.7,15283,149.47999999999999,"NÃO",0,0,0]
[null,668,"2005-05-28",49,33,56,2,14,1,0,0,0,53,11007.74,2814,206.54,"SIM",1020967.19,0,0]
[null,669,"2005-06-01",7,41,24,40,49,27,0,1,2170216.15,32,20522.3,2427,269.57,"NÃO",0,0,0]
[null,670,"2005-06-04",42,59,58,37,48,22,0,0,0,24,43085.53,2895,355.84,"SIM",10792198.93,0,0]
[null,671,"2005-06-08",27,16,39,51,9,38,0,0,0,67,16609.7,4259,260.3,"SIM",12739685.49,0,0]
[null,672,"2005-06-11",43,34,53,38,28,24,0,0,0,54,24277.19,4411,296.08,"SIM",15033880.01,0,0]
[null,673,"2005-06-15",6,40,37,11,20,34,0,0,0,72,17523.73,4792,262.3,"SIM",17241869.859999999,0,0]
[null,674,"2005-06-18",22,32,18,29,42,38,0,0,0,96,16070.11,5586,275.14,"SIM",27769536.629999999,0,0]
[null,675,"2005-06-22",50,42,30,25,43,24,0,0,0,67,26180.7,5204,335.79,"SIM",30839224.48,0,0]
[null,676,"2005-06-25",49,32,15,9,41,42,0,0,0,94,22081.78,7583,272.69,"SIM",34471676.390000001,0,0]
[null,677,"2005-06-29",25,10,48,8,32,55,0,0,0,284,8422.82,12803,186.14,"SIM",38657818.810000002,0,0]
[null,678,"2005-07-02",44,46,31,14,40,42,0,0,0,115,28311.43,9797,331.07,"SIM",44355495.359999999,0,0]
[null,679,"2005-07-06",37,21,54,3,58,25,0,1,51890452.609999999,448,9610.91,22087,194.2,"NÃO",0,0,0]
[null,680,"2005-07-09",44,2,26,5,3,22,0,0,0,188,7276.69,11222,121.45,"SIM",19623257.969999999,0,0]
[null,681,"2005-07-13",59,21,53,25,58,38,0,0,0,62,23695.09,5210,280.91000000000003,"SIM",22194175.199999999,0,0]
[null,682,"2005-07-16",60,37,47,36,4,27,0,0,0,62,25832.17,5647,282.55,"SIM",24996965.620000001,0,0]
[null,683,"2005-07-20",43,40,12,11,2,35,0,0,0,79,19666.04,5680,272.49,"SIM",27715795.780000001,0,0]
[null,684,"2005-07-23",50,37,33,40,19,17,0,0,0,81,22483.66,7103,255.42,"SIM",40669733.329999998,0,0]
[null,685,"2005-07-27",33,27,5,56,12,43,0,1,44331219.780000001,347,6029.62,15404,135.32,"NÃO",0,0,0]
[null,686,"2005-07-30",33,5,4,54,15,26,0,0,0,47,15221.72,3901,182.71,"SIM",1251986.54,0,0]
[null,687,"2005-08-03",59,48,1,7,41,14,0,0,0,28,25839.62,2887,249.66,"SIM",2518128.16,0,0]
[null,688,"2005-08-06",47,30,52,11,21,35,0,0,0,38,23920.89,2757,328.45,"SIM",4108867.61,0,0]
[null,689,"2005-08-10",6,60,7,31,49,51,0,0,0,29,30336.11,2998,292.33,"SIM",12298361.58,0,0]
[null,690,"2005-08-13",15,41,8,47,12,53,0,0,0,90,13225.5,5446,217.74,"SIM",14381378.18,0,0]
[null,691,"2005-08-17",55,16,58,8,37,50,0,0,0,54,20629.580000000002,3896,284.85000000000002,"SIM",16330873.119999999,0,0]
[null,692,"2005-08-20",33,18,60,11,58,57,0,0,0,71,18365.13,4995,260.06,"SIM",18612740.260000002,0,0]
[null,693,"2005-08-24",14,50,41,17,31,13,0,0,0,152,8909.82,7170,188.18,"SIM",20982752.640000001,0,0]
[null,694,"2005-08-27",15,19,29,53,37,41,0,0,0,114,13859.26,7087,222.1,"SIM",31925755.050000001,0,0]
[null,695,"2005-08-31",13,40,21,52,6,11,0,0,0,76,22217.91,6333,265.62,"SIM",34880737.539999999,0,0]
[null,696,"2005-09-03",37,16,34,57,53,9,0,2,19251302.489999998,195,10613.53,10814,190.66,"NÃO",0,0,0]
[null,697,"2005-09-10",53,35,32,31,28,51,0,0,0,27,33337.57,2895,309.74,"SIM",1575200.44,0,0]
[null,698,"2005-09-14",22,8,27,43,55,12,0,0,0,43,16354.69,3981,175.99,"SIM",2805890.89,0,0]
[null,699,"2005-09-19",53,17,50,23,54,48,0,0,0,54,16259.09,3752,233.13,"SIM",12141821.41,0,0]
[null,700,"2005-09-21",2,3,24,40,31,14,0,0,0,53,17991.310000000001,3584,265.04000000000002,"SIM",13810515.560000001,0,0]
[null,701,"2005-09-24",13,1,31,23,60,48,0,0,0,103,11253.13,5623,205.35,"SIM",15838891.810000001,0,0]
[null,702,"2005-09-28",1,56,18,58,45,57,0,0,0,47,22868.49,3663,292.31,"SIM",17719825.239999998,0,0]
[null,703,"2005-10-01",30,24,2,45,11,27,0,0,0,123,10767.16,7343,179.68,"SIM",20037455.420000002,0,0]
[null,704,"2005-10-05",2,27,50,34,18,4,0,0,0,56,22659.95,5784,218.56,"SIM",29484065.620000001,0,0]
[null,705,"2005-10-08",3,15,11,13,26,43,0,0,0,144,11780.58,11514,146.78,"SIM",32452771.100000001,0,0]
[null,706,"2005-10-15",22,10,17,7,2,60,0,0,0,282,7866.56,15980,138.30000000000001,"SIM",36334914.539999999,0,0]
[null,707,"2005-10-19",51,8,1,43,10,36,0,2,19919975.719999999,140,14306.28,12461,160.12,"NÃO",0,0,0]
[null,708,"2005-10-22",45,13,39,47,9,7,0,0,0,102,6567.35,5998,111.26,"SIM",1172271.79,0,0]
[null,709,"2005-10-26",29,22,44,9,6,4,0,0,0,106,5881.47,5202,119.39,"SIM",11276978,0,0]
[null,710,"2005-10-29",46,25,5,49,39,34,0,0,0,48,21483.279999999999,4608,222.94,"SIM",13081573.140000001,0,0]
[null,711,"2005-11-05",10,5,41,59,40,33,0,0,0,79,18118.11,5840,244.16,"SIM",15586402.01,0,0]
[null,712,"2005-11-09",35,7,53,58,8,43,0,0,0,97,12122.15,5637,207.81,"SIM",17644136.190000001,0,0]
[null,713,"2005-11-12",46,1,26,16,12,54,0,0,0,67,20438.810000000001,5838,233.68,"SIM",20040586.539999999,0,0]
[null,714,"2005-11-16",17,53,39,8,7,35,0,0,0,113,9766.4500000000007,10955,100.36,"SIM",29611134.960000001,0,0]
[null,715,"2005-11-19",54,36,12,4,33,24,0,3,10825809.33,237,6910.89,13134,124.24,"NÃO",0,0,0]
[null,716,"2005-11-23",29,2,7,50,16,32,0,1,945382.75,37,14600.51,2512,214.25,"NÃO",0,0,0]
[null,717,"2005-11-26",28,35,41,17,6,23,0,0,0,68,8956.76,3816,159,"SIM",1065855.06,0,0]
[null,718,"2005-11-30",7,35,21,39,58,33,0,0,0,41,13759.23,2893,194.26,"SIM",2053079.87,0,0]
[null,719,"2005-12-03",39,47,37,53,32,3,0,0,0,63,12737,3553,225,"SIM",8649484.7899999991,0,0]
[null,720,"2005-12-07",12,56,44,51,31,54,0,0,0,20,45658.99,2606,349.09,"SIM",10247549.359999999,0,0]
[null,721,"2005-12-10",14,3,23,55,36,25,0,0,0,99,11025.33,6723,161.75,"SIM",12157688.32,0,0]
[null,722,"2005-12-14",60,36,57,18,44,9,0,0,0,85,12704.05,5334,201.68,"SIM",14047415.26,0,0]
[null,723,"2005-12-17",16,6,52,1,36,50,0,0,0,49,25242.04,4000,308.05,"SIM",16211920.279999999,0,0]
[null,724,"2005-12-21",34,51,55,17,48,27,0,0,0,102,12537.87,6190,205.82,"SIM",25450246.43,0,0]
[null,725,"2005-12-31",49,9,3,35,37,41,0,2,15815987.630000001,343,10298.59,20451,172.08,"NÃO",0,0,0]
[null,726,"2006-01-04",40,47,1,5,7,37,0,0,0,35,15459.49,2838,189.94,"SIM",946893.69,0,0]
[null,727,"2006-01-07",14,42,12,4,59,30,0,0,0,29,25008.46,2688,268.79000000000002,"SIM",2216072.86,0,0]
[null,728,"2006-01-11",44,42,13,8,24,32,0,0,0,81,8575.31,5381,128.59,"SIM",3431622.25,0,0]
[null,729,"2006-01-14",33,56,18,57,43,5,0,1,4969519.9000000004,51,17231.34,5041,173.67,"NÃO",0,0,0]
[null,730,"2006-01-18",45,15,2,54,16,50,0,0,0,34,23412.97,2824,280.82,"SIM",9358249.6699999999,0,0]
[null,731,"2006-01-21",35,6,15,23,28,16,0,0,0,88,11554.63,6659,152.12,"SIM",11137662.34,0,0]
[null,732,"2006-01-25",49,19,53,50,17,6,0,0,0,65,14610.54,4196,225.48,"SIM",12799611.640000001,0,0]
[null,733,"2006-01-28",12,26,31,43,46,2,0,0,0,67,16737.98,5110,218.63,"SIM",14762139.6,0,0]
[null,734,"2006-02-01",44,45,27,29,43,54,0,1,16726569.98,58,19354,3984,280.69,"NÃO",0,0,0]
[null,735,"2006-02-04",40,42,15,52,38,9,0,0,0,33,27163.91,3043,293.47000000000003,"SIM",7826853.2800000003,0,0]
[null,736,"2006-02-08",1,21,38,41,56,49,0,0,0,19,47835.6,2190,413.44,"SIM",9417386.7899999991,0,0]
[null,737,"2006-02-11",33,12,24,38,11,32,0,0,0,65,18730.63,6267,193.54,"SIM",11547995.59,0,0]
[null,738,"2006-02-15",15,30,14,42,26,54,0,0,0,47,26720.69,4178,299.45,"SIM",13745772.390000001,0,0]
[null,739,"2006-02-18",6,45,56,49,35,10,0,0,0,54,25993.77,4723,296.08,"SIM",23305073.75,0,0]
[null,740,"2006-02-22",29,47,12,50,16,28,0,1,26132814.649999999,90,17953.91,6943,231.85,"NÃO",0,0,0]
[null,741,"2006-02-25",26,39,27,24,59,36,0,0,0,23,28453.38,2133,305.64999999999998,"SIM",1145248.54,0,0]
[null,742,"2006-03-01",34,17,7,41,2,50,0,0,0,25,14199,1622,218.02,"SIM",1766454.86,0,0]
[null,743,"2006-03-04",54,20,32,60,25,23,0,0,0,28,29491.22,2762,297.83999999999997,"SIM",3211524.66,0,0]
[null,744,"2006-03-08",26,46,12,23,39,4,0,0,0,77,10441.969999999999,5387,148.69999999999999,"SIM",9937380.4900000002,0,0]
[null,745,"2006-03-11",21,57,37,16,43,2,0,0,0,134,8604.6200000000008,5262,218.3,"SIM",11955163.210000001,0,0]
[null,746,"2006-03-15",49,12,10,57,25,1,0,2,6995681.5800000001,114,10206.52,6686,173.36,"NÃO",0,0,0]
[null,747,"2006-03-18",21,23,56,12,3,2,0,0,0,53,13079.29,4363,158.28,"SIM",1213104.3999999999,0,0]
[null,748,"2006-03-22",1,7,19,51,35,2,0,0,0,74,9080.42,4519,148.13999999999999,"SIM",2389018.77,0,0]
[null,749,"2006-03-25",24,47,4,57,48,50,0,0,0,31,26214.36,2669,303.33,"SIM",9429097.8399999999,0,0]
[null,750,"2006-03-29",58,17,54,10,42,33,0,0,0,49,18795.689999999999,3799,241.51,"SIM",11040828.279999999,0,0]
[null,751,"2006-04-01",4,25,38,50,20,7,0,0,0,74,15221.68,5579,201.14,"SIM",13012035.710000001,15000000,0]
[null,752,"2006-04-05",25,4,29,42,24,23,0,0,0,86,13022.3,6849,162.9,"SIM",14971892.189999999,0,0]
[null,753,"2006-04-08",59,35,43,22,7,2,0,1,17388228.32,152,9083.9699999999993,8630,159.4,"NÃO",0,0,0]
[null,754,"2006-04-12",4,42,34,50,3,13,0,0,0,41,14457.22,2827,208.89,"SIM",7463330.9800000004,0,0]
[null,755,"2006-04-15",59,30,47,12,4,49,0,0,0,41,18319.330000000002,2977,251.35,"SIM",8777742.9199999999,0,0]
[null,756,"2006-04-19",37,50,41,5,38,27,0,0,0,34,27503.13,3135,297.14999999999998,"SIM",10414179.09,0,0]
[null,757,"2006-04-22",17,32,12,18,58,30,0,0,0,53,17988.72,3448,275.45999999999998,"SIM",12082632.689999999,0,0]
[null,758,"2006-04-26",47,59,1,23,36,43,0,0,0,74,14352.34,4910,215.49,"SIM",13941260.58,0,0]
[null,759,"2006-04-29",59,39,30,31,48,45,0,0,0,38,32431.5,2588,474.4,"SIM",22265544.190000001,0,0]
[null,760,"2006-05-03",12,17,60,44,46,45,0,0,0,80,16005.08,5517,231.2,"SIM",24506255.18,0,0]
[null,761,"2006-05-06",56,29,17,13,27,40,0,0,0,100,17175.97,8936,191.48,"SIM",27512048.760000002,0,0]
[null,762,"2006-05-10",39,9,21,12,37,54,0,0,0,143,13668.11,10120,192.4,"SIM",30932491.920000002,0,0]
[null,763,"2006-05-13",40,47,1,48,9,26,0,0,0,101,23502.31,7655,308.92,"SIM",35086525.189999998,0,0]
[null,764,"2006-05-18",7,3,55,47,53,45,0,1,40539530.899999999,189,16486.79,15290,203.03,"NÃO",0,0,0]
[null,765,"2006-05-21",3,37,50,16,30,10,0,0,0,62,15552.09,4336,221.54,"SIM",14740248.65,0,0]
[null,766,"2006-05-24",1,50,19,42,24,58,0,0,0,63,16857.330000000002,4477,236.31,"SIM",16598769.93,0,0]
[null,767,"2006-05-27",22,50,32,38,54,15,0,0,0,62,20318.55,4419,284,"SIM",18803331.879999999,0,0]
[null,768,"2006-05-31",33,37,59,30,4,8,0,1,21024430.309999999,93,13647.3,6408,197.31,"NÃO",0,0,0]
[null,769,"2006-06-03",20,21,50,29,12,16,0,0,0,49,14382.06,3078,228.08,"SIM",7808149.5999999996,0,0]
[null,770,"2006-06-07",4,34,25,35,48,12,0,0,0,68,13703.65,5401,171.88,"SIM",9438882.8800000008,0,0]
[null,771,"2006-06-10",29,46,34,47,21,14,0,0,0,69,15089.83,4559,227.53,"SIM",11260979.640000001,0,0]
[null,772,"2006-06-14",38,51,52,60,10,35,0,0,0,66,13476.3,5330,166.25,"SIM",12817492.359999999,15000000,0]
[null,773,"2006-06-17",3,5,51,29,34,14,0,0,0,58,16454.7,4919,193.29,"SIM",14487644.710000001,0,0]
[null,774,"2006-06-21",37,5,54,58,46,10,0,1,16319071.08,64,16352.03,4336,240.45,"NÃO",0,0,0]
[null,775,"2006-06-24",27,12,46,47,42,50,0,0,0,30,25559.59,3058,249.8,"SIM",7421108.1500000004,0,0]
[null,776,"2006-06-28",57,35,60,41,3,15,0,0,0,56,13543.61,3075,245.72,"SIM",8748382.2899999991,0,0]
[null,777,"2006-07-01",14,50,23,2,28,56,0,0,0,80,10746.73,3943,217.22,"SIM",10252923.380000001,12000000,0]
[null,778,"2006-07-05",45,20,36,37,31,51,0,0,0,21,42785.84,1890,473.6,"SIM",11825302.869999999,0,0]
[null,779,"2006-07-08",36,54,52,25,29,26,0,0,0,26,39580.32,3127,327.85,"SIM",19016906.07,0,0]
[null,780,"2006-07-12",10,50,28,51,59,7,0,0,0,43,26754.560000000001,3828,299.39999999999998,"SIM",21030186.719999999,0,0]
[null,781,"2006-07-15",10,54,8,39,56,13,0,0,0,66,19809.509999999998,5707,228.22,"SIM",23318185.27,0,0]
[null,782,"2006-07-19",11,23,59,42,35,2,0,0,0,144,9270.41,7533,176.55,"SIM",25654326.84,0,0]
[null,783,"2006-07-22",43,21,48,8,4,32,0,1,28244624.32,140,10572.64,8427,174.99,"NÃO",0,0,0]
[null,784,"2006-07-26",42,56,8,37,27,53,0,0,0,27,20363.8,2163,253.24,"SIM",8240695.1699999999,0,0]
[null,785,"2006-07-29",35,5,37,8,48,17,0,1,9770979.4299999997,126,6940.06,6657,130.87,"NÃO",0,0,0]
[null,786,"2006-08-02",27,31,26,11,10,41,0,0,0,19,25700.080000000002,1521,319.83,"SIM",854527.84,0,0]
[null,787,"2006-08-05",37,31,20,60,34,54,0,0,0,40,16922.47,1955,344.93,"SIM",2039100.64,0,0]
[null,788,"2006-08-09",31,57,17,19,29,44,0,0,0,62,10763.88,3247,204.75,"SIM",3206981.5,0,0]
[null,789,"2006-08-12",60,39,31,38,6,50,0,0,0,13,62482.48,1808,447.56,"SIM",9027559.4800000004,0,0]
[null,790,"2006-08-16",22,2,19,28,43,6,0,0,0,71,11717.34,5884,140.86000000000001,"SIM",10483439.1,0,0]
[null,791,"2006-08-19",42,35,19,9,14,58,0,1,12212213.939999999,114,8665.5400000000009,5756,170.97,"NÃO",0,0,0]
[null,792,"2006-08-23",43,56,9,45,29,34,0,0,0,32,15844.65,1949,259.17,"SIM",887300.41,0,0]
[null,793,"2006-08-26",3,51,33,15,16,57,0,0,0,62,10387.120000000001,3629,176.79,"SIM",2014302.06,0,0]
[null,794,"2006-08-30",56,47,55,38,42,3,0,0,0,15,37006.71,1730,319.66000000000003,"SIM",7393144.4500000002,0,0]
[null,795,"2006-09-02",14,36,21,29,26,48,0,0,0,76,11029.2,4389,190.27,"SIM",8860028.1600000001,0,0]
[null,796,"2006-09-06",19,24,43,34,39,5,0,0,0,80,9974.9,4883,162.81,"SIM",10256514.119999999,0,0]
[null,797,"2006-09-09",58,48,52,47,12,6,0,0,0,66,12566.42,3447,239.7,"SIM",11707935.01,0,0]
[null,798,"2006-09-13",32,9,4,52,29,3,0,0,0,48,19610.77,4104,228.5,"SIM",13355239.880000001,0,0]
[null,799,"2006-09-16",29,35,19,57,42,55,0,0,0,56,19330.650000000001,4675,230.69,"SIM",20861429.079999998,0,0]
[null,800,"2006-09-20",1,7,56,11,37,38,0,0,0,44,26411.64,4497,257.44,"SIM",22895125.149999999,0,0]
[null,801,"2006-09-23",20,22,11,19,48,42,0,0,0,73,19406.93,5791,243.72,"SIM",25374360.34,0,0]
[null,802,"2006-09-27",14,24,60,6,18,48,0,0,0,117,12287.8,8216,174.32,"SIM",27890287.629999999,0,0]
[null,803,"2006-09-30",10,57,28,3,5,21,0,0,0,193,8993.0400000000009,12055,143.44,"SIM",30927687.899999999,0,0]
[null,804,"2006-10-04",13,59,37,56,3,47,0,1,34172202.25,134,13835.88,9937,185.88,"NÃO",0,0,0]
[null,805,"2006-10-07",30,2,48,60,43,36,0,0,0,62,14428.43,3489,255.42,"SIM",11073179.390000001,0,0]
[null,806,"2006-10-12",60,41,47,26,35,18,0,0,0,50,18518.810000000001,3179,290.17,"SIM",12693574.74,0,0]
[null,807,"2006-10-14",8,27,2,32,56,49,0,0,0,130,7262.48,6188,152.01,"SIM",14345789.99,0,0]
[null,808,"2006-10-18",15,21,31,46,2,57,0,0,0,44,24446.080000000002,3844,278.76,"SIM",16228138.27,0,0]
[null,809,"2006-10-21",25,23,11,5,30,15,0,0,0,121,8582.3799999999992,7669,134.9,"SIM",24143857.18,0,0]
[null,810,"2006-10-25",4,33,1,48,5,37,0,0,0,75,17505.650000000001,6450,202.79,"SIM",26441472.82,30000000,0]
[null,811,"2006-10-28",32,57,28,41,10,47,0,2,14597902.390000001,89,17684.310000000001,5508,284.67,"NÃO",0,0,0]
[null,812,"2006-11-01",57,39,54,11,38,13,0,0,0,57,9696.24,2116,260.20999999999998,"SIM",967199.74,0,0]
[null,813,"2006-11-04",23,15,56,46,9,45,0,0,0,43,14647.97,3244,193.43,"SIM",2069459.59,0,0]
[null,814,"2006-11-08",11,2,46,50,8,41,0,0,0,37,18442.439999999999,2534,268.27,"SIM",9203290.1799999997,0,0]
[null,815,"2006-11-11",57,50,9,39,37,19,0,0,0,56,17528.89,3621,270.06,"SIM",10921121.58,0,0]
[null,816,"2006-11-16",21,47,40,52,30,20,0,0,0,21,39708.11,1885,440.69,"SIM",12380394.810000001,0,0]
[null,817,"2006-11-18",34,43,29,30,10,52,0,0,0,27,34364.35,2469,374.37,"SIM",14004110.17,16000000,0]
[null,818,"2006-11-22",44,41,22,8,9,25,0,0,0,58,16865.13,4935,197.47,"SIM",15715920.16,0,0]
[null,819,"2006-11-25",51,5,58,46,25,19,0,0,0,105,11132.9,5868,198.46,"SIM",23874662.699999999,0,0]
[null,820,"2006-11-29",17,45,32,21,10,46,0,2,13046320.380000001,82,15456.29,5102,247.47,"NÃO",0,0,0]
[null,821,"2006-12-02",4,29,38,36,33,42,0,0,0,37,17462.93,3307,194.64,"SIM",1130724.8,0,0]
[null,822,"2006-12-06",4,17,41,10,27,52,0,0,0,31,19931.52,2585,238.13,"SIM",2212009.5099999998,0,0]
[null,823,"2006-12-09",15,26,59,1,54,51,0,0,0,22,35180.769999999997,2144,359.62,"SIM",3566468.83,0,0]
[null,824,"2006-12-13",33,48,6,7,20,9,0,0,0,53,14753.39,5002,155.72999999999999,"SIM",10044004.789999999,0,0]
[null,825,"2006-12-16",28,21,40,10,41,47,0,0,0,52,19453.75,4148,242.96,"SIM",11814295.880000001,0,0]
[null,826,"2006-12-19",45,6,8,7,53,27,0,0,0,68,9188.18,3571,174.3,"SIM",12907689.09,0,0]
[null,827,"2006-12-21",24,56,30,51,42,18,0,0,0,47,21021.73,4106,239.72,"SIM",14636725.67,0,0]
[null,828,"2006-12-23",23,50,53,42,28,38,0,0,0,29,40114.620000000003,3478,333.21,"SIM",16672542.560000001,0,0]
[null,829,"2006-12-31",32,50,14,47,10,56,0,0,0,162,18311.2,10814,273.27,"SIM",30306455.18,0,0]
[null,830,"2007-01-03",53,51,2,41,13,49,0,0,0,94,24135.05,7705,293.33999999999997,"SIM",34276670.770000003,0,0]
[null,831,"2007-01-06",3,50,48,42,32,33,0,0,0,117,31716.1,12045,306.89999999999998,"SIM",40770541.920000002,0,0]
[null,832,"2007-01-10",17,49,15,33,39,23,0,1,52807317.170000002,510,13486.58,37086,184.77,"NÃO",0,0,0]
[null,833,"2007-01-13",53,58,57,16,46,13,0,0,0,40,19408.810000000001,2678,288.8,"SIM",1358616.66,0,0]
[null,834,"2007-01-17",44,10,17,16,51,34,0,1,2820323.56,42,19887.169999999998,3073,270.77999999999997,"NÃO",0,0,0]
[null,835,"2007-01-20",58,31,57,49,33,18,0,0,0,40,28893.86,4078,282.33999999999997,"SIM",20109130.829999998,0,0]
[null,836,"2007-01-24",28,22,38,17,52,59,0,0,0,64,20981.59,4859,275.31,"SIM",22459069.620000001,0,0]
[null,837,"2007-01-27",16,5,24,34,6,60,0,1,25067473.09,73,20418.03,6233,238.23,"NÃO",0,0,0]
[null,838,"2007-01-31",9,30,47,38,23,44,0,0,0,41,16256.65,2825,235.05,"SIM",1166414.58,0,0]
[null,839,"2007-02-03",11,18,8,7,37,43,0,0,0,77,11092.88,5314,160.13,"SIM",9548388.1099999994,0,0]
[null,840,"2007-02-07",43,29,35,59,31,17,0,0,0,94,11603.23,5512,197.13,"SIM",11457118.689999999,0,0]
[null,841,"2007-02-10",36,51,32,22,38,7,0,0,0,67,18656.13,5162,241.23,"SIM",13644549.970000001,0,0]
[null,842,"2007-02-14",51,44,60,9,7,30,0,0,0,58,21165.39,4700,260.2,"SIM",15792837.51,0,0]
[null,843,"2007-02-17",34,48,1,16,45,36,0,0,0,68,19914.21,5642,239.1,"SIM",18162628.75,0,0]
[null,844,"2007-02-24",54,24,44,57,34,16,0,0,0,91,18846.39,7679,222.5,"SIM",29460722.370000001,0,0]
[null,845,"2007-02-28",40,48,19,20,14,52,0,0,0,67,26277.83,5308,330.43,"SIM",32541798.039999999,0,0]
[null,846,"2007-03-03",47,54,2,50,3,44,0,0,0,82,24621.43,6231,322.79000000000002,"SIM",36074973.920000002,0,0]
[null,847,"2007-03-07",42,14,44,27,15,48,0,1,40484388.840000004,242,10411.84,14062,178.5,"NÃO",0,0,0]
[null,848,"2007-03-10",56,34,17,32,47,27,0,1,1351049.04,90,8578.09,4602,167.13,"NÃO",0,0,0]
[null,849,"2007-03-14",8,39,9,58,44,49,0,0,0,33,20408.37,2208,303.87,"SIM",10859511.560000001,0,0]
[null,850,"2007-03-17",60,22,59,25,44,7,0,0,0,117,9690.08,6520,173.22,"SIM",12843555.939999999,0,0]
[null,851,"2007-03-21",16,32,35,58,19,3,0,3,4966312.4400000004,177,6635.61,7593,154.1,"NÃO",0,0,0]
[null,852,"2007-03-24",14,38,6,23,44,34,0,0,0,42,16051.24,3489,192.5,"SIM",1179766.1200000001,0,0]
[null,853,"2007-03-28",51,30,59,46,38,56,0,0,0,17,43287.28,1465,500.41,"SIM",2467562.79,0,0]
[null,854,"2007-03-31",17,3,24,27,44,25,0,0,0,88,10150.39,7056,126.11,"SIM",9795115.0299999993,0,0]
[null,855,"2007-04-04",42,3,24,53,43,31,0,0,0,59,16966.53,3478,286.73,"SIM",11546909.140000001,0,0]
[null,856,"2007-04-07",11,40,41,47,15,42,0,0,0,37,25678.52,2924,323.70999999999998,"SIM",13209593.039999999,0,0]
[null,857,"2007-04-11",17,59,49,2,3,50,0,0,0,71,17126.48,4732,256,"SIM",15337557.859999999,0,0]
[null,858,"2007-04-14",31,37,54,23,4,18,0,2,8889537.7400000002,185,7541.37,8821,157.56,"NÃO",0,0,0]
[null,859,"2007-04-18",46,47,12,57,34,9,0,0,0,35,18296.990000000002,3275,194.8,"SIM",7624012.4100000001,0,0]
[null,860,"2007-04-23",22,8,17,42,44,2,0,0,0,111,8602.66,6853,138.82,"SIM",9295079.4100000001,0,0]
[null,861,"2007-04-25",42,40,60,59,47,39,0,1,10840760.960000001,34,25977.84,2296,383.23,"NÃO",0,0,0]
[null,862,"2007-04-28",19,35,12,2,11,8,0,1,1152211.3,99,6650.57,5632,116.46,"NÃO",0,0,0]
[null,863,"2007-05-02",32,53,50,57,15,24,0,0,0,25,18975.509999999998,1454,325.04000000000002,"SIM",830178.33,0,0]
[null,864,"2007-05-05",31,11,33,42,57,8,0,0,0,47,16053.56,2926,256.89999999999998,"SIM",6807400,0,0]
[null,865,"2007-05-09",27,23,41,51,26,53,0,0,0,28,31424.15,2694,325.36,"SIM",8347183.5800000001,0,0]
[null,866,"2007-05-12",36,48,27,40,5,46,0,0,0,46,23174.32,3704,286.70999999999998,"SIM",10212715.83,0,0]
[null,867,"2007-05-16",54,26,28,19,44,10,0,0,0,51,20699.48,4381,240.06,"SIM",12060144.51,0,0]
[null,868,"2007-05-19",57,51,21,22,25,40,0,0,0,37,32369.99,3453,345.54,"SIM",14156101.289999999,16000000,0]
[null,869,"2007-05-23",29,42,50,51,49,27,0,1,16192436.640000001,57,20414.39,3912,296.32,"NÃO",0,9000000,0]
[null,870,"2007-05-26",52,8,43,34,40,21,0,0,0,26,34488.199999999997,2923,305.61,"SIM",8272810.8200000003,10000000,0]
[null,871,"2007-05-30",17,5,58,1,47,10,0,0,0,80,12453.39,6225,159.44999999999999,"SIM",10016284.93,12000000,0]
[null,872,"2007-06-02",18,55,58,43,31,5,0,0,0,81,14747.74,4636,256.7,"SIM",12106777.43,14000000,0]
[null,873,"2007-06-06",57,59,4,34,19,30,0,0,0,70,17932.61,5051,247.59,"SIM",14303522.619999999,17000000,0]
[null,874,"2007-06-09",59,20,52,42,44,10,0,0,0,32,39615.01,3024,417.62,"SIM",23535080.879999999,26000000,0]
[null,875,"2007-06-13",53,18,36,58,24,20,0,1,26631943.239999998,153,11566.24,8240,213.95,"NÃO",0,1500000,0]
[null,876,"2007-06-16",4,12,41,45,60,8,0,0,0,30,29219.33,3847,227,"SIM",1534014.85,3000000,0]
[null,877,"2007-06-20",13,15,20,31,28,36,0,0,0,69,14440.64,4817,206.07,"SIM",3277722.23,5000000,0]
[null,878,"2007-06-23",37,12,43,38,11,54,0,0,0,33,29970.93,3702,266.16000000000003,"SIM",5008543.3,7000000,0]
[null,879,"2007-06-27",29,10,46,35,42,28,0,0,0,45,21995.08,3852,255.98,"SIM",13767454.24,16000000,0]
[null,880,"2007-06-30",51,30,49,25,37,46,0,0,0,46,28154.03,4314,299.07,"SIM",16033853.699999999,18000000,0]
[null,881,"2007-07-04",43,24,4,51,18,56,0,0,0,99,14336.7,6959,203.19,"SIM",18517686.079999998,22000000,0]
[null,882,"2007-07-07",42,45,44,60,41,17,0,1,21492982.239999998,81,20989.74,6642,255,"NÃO",0,1300000,0]
[null,883,"2007-07-11",21,37,60,32,52,53,0,0,0,13,51899.42,1494,449.89,"SIM",1180711.67,2500000,0]
[null,884,"2007-07-14",22,11,2,14,39,12,0,0,0,56,15846.82,4752,186.05,"SIM",10204577.300000001,12000000,0]
[null,885,"2007-07-18",13,4,31,33,47,51,0,0,0,114,9254.8799999999992,6503,161.63,"SIM",12050926.17,14000000,0]
[null,886,"2007-07-21",50,55,37,33,59,17,0,0,0,100,12422.33,5764,214.7,"SIM",14224834.41,17000000,0]
[null,887,"2007-07-25",44,12,32,21,1,34,0,0,0,79,15886.22,4885,255.94,"SIM",16421104.66,20000000,0]
[null,888,"2007-07-28",50,24,40,54,52,60,0,1,18947548.960000001,50,28873.65,3672,391.67,"NÃO",0,1000000,0]
[null,889,"2007-08-01",34,54,20,39,60,24,0,0,0,21,30883.09,1733,372.81,"SIM",8190614.8899999997,10000000,0]
[null,890,"2007-08-04",9,21,22,7,17,54,0,0,0,105,10715.07,6983,160.51,"SIM",10159508.189999999,12000000,0]
[null,891,"2007-08-08",15,22,19,35,34,16,0,0,0,92,13781.11,6400,197.35,"SIM",12378266.6,15000000,0]
[null,892,"2007-08-11",1,49,52,42,19,44,0,0,0,54,28078.080000000002,4782,315.87,"SIM",15031644.65,18000000,0]
[null,893,"2007-08-15",56,53,51,26,18,3,0,0,0,105,14747.51,6595,233.91,"SIM",17741499.789999999,21000000,0]
[null,894,"2007-08-18",37,24,44,28,20,41,0,0,0,59,31502.25,6653,278.31,"SIM",30139459.449999999,33000000,0]
[null,895,"2007-08-22",2,55,41,43,57,58,0,0,0,82,29366.19,6473,370.6,"SIM",34353506.770000003,40000000,0]
[null,896,"2007-08-25",31,11,41,35,22,5,0,0,0,98,31002.68,10769,281.06,"SIM",39670465.090000004,45000000,0]
[null,897,"2007-08-29",21,57,46,22,7,43,0,0,0,212,18019.32,16644,228.65,"SIM",46355633.710000001,54000000,0]
[null,898,"2007-09-01",4,8,3,54,45,30,0,2,27782053.829999998,596,8828.84,27120,193.29,"NÃO",0,1500000,0]
[null,899,"2007-09-05",58,18,54,36,53,20,0,0,0,948,951.79,3559,252.57,"SIM",20867361.420000002,24000000,0]
[null,900,"2007-09-08",4,21,59,18,38,34,0,1,23334752.920000002,89,15842,6184,227.14,"NÃO",0,1500000,0]
[null,901,"2007-09-12",32,34,16,13,56,33,0,0,0,100,9381.1299999999992,5617,166.39,"SIM",1641698.41,3500000,0]
[null,902,"2007-09-15",52,55,23,50,58,18,0,0,0,68,17237.57,3490,334.59,"SIM",3692969.85,6000000,0]
[null,903,"2007-09-19",17,5,32,55,20,41,0,0,0,62,19346.400000000001,4688,254.89,"SIM",5792054.2999999998,8000000,0]
[null,904,"2007-09-22",32,44,59,53,48,51,0,0,0,72,18874.080000000002,4007,337.86,"SIM",15768458.93,18000000,0]
[null,905,"2007-09-26",4,15,57,55,2,16,0,1,18405503.18,89,16931.259999999998,6223,241.23,"NÃO",0,1500000,0]
[null,906,"2007-09-29",35,39,29,24,7,14,0,1,1583115.71,49,18461.990000000002,4239,212.6,"NÃO",0,1500000,0]
[null,907,"2007-10-03",9,41,53,37,36,51,0,0,0,25,32080.720000000001,2244,356.05,"SIM",1403531.54,3000000,0]
[null,908,"2007-10-06",19,1,9,25,50,52,0,0,0,120,8660.7099999999991,6205,166.86,"SIM",3222281.26,5000000,0]
[null,909,"2007-10-10",42,17,26,38,28,22,0,0,0,48,21301.42,4586,222.11,"SIM",11605715.34,14000000,0]
[null,910,"2007-10-13",53,29,36,3,15,27,0,0,0,107,10618.33,6512,173.81,"SIM",13593997.939999999,16000000,0]
[null,911,"2007-10-17",49,46,1,29,6,28,0,1,15981772.550000001,63,21657.82,5376,252.84,"NÃO",0,1500000,0]
[null,912,"2007-10-20",26,21,54,4,19,29,0,0,0,62,13412.1,4474,185.16,"SIM",1455212.96,3000000,0]
[null,913,"2007-10-24",30,14,59,36,46,38,0,1,2915782.13,27,30911.51,2683,309.89999999999998,"NÃO",0,1200000,0]
[null,914,"2007-10-27",33,51,9,23,45,12,0,0,0,64,12406.06,4731,167.2,"SIM",7590419.6699999999,10000000,0]
[null,915,"2007-10-31",20,28,49,26,17,48,0,1,9448268.1600000001,44,24127.91,3580,295.43,"NÃO",0,1500000,0]
[null,916,"2007-11-03",33,37,5,38,28,36,0,0,0,144,4648.18,3220,207.09,"SIM",1171341.29,2500000,0]
[null,917,"2007-11-07",23,59,25,47,46,30,0,0,0,61,14133.49,3491,246.03,"SIM",2680091.9700000002,4000000,0]
[null,918,"2007-11-10",38,44,8,4,12,52,0,0,0,135,7591.36,6883,148.33000000000001,"SIM",4473550.3600000003,6000000,0]
[null,919,"2007-11-14",43,25,41,60,31,3,0,0,0,37,28441.93,3505,299.10000000000002,"SIM",12153032.42,14000000,0]
[null,920,"2007-11-17",17,57,55,24,52,5,0,0,0,94,12657.72,6584,180.04,"SIM",14235226.59,16000000,0]
[null,921,"2007-11-21",35,41,1,57,9,48,0,0,0,62,21395.200000000001,4365,302.75,"SIM",16556605.48,20000000,0]
[null,922,"2007-11-24",41,49,45,19,13,12,0,0,0,136,11821.04,8735,183.36,"SIM",19370014.34,22000000,0]
[null,923,"2007-11-28",53,39,2,50,57,15,0,0,0,90,19370.439999999999,6122,283.68,"SIM",22420857.890000001,26000000,0]
[null,924,"2007-12-01",51,27,60,21,20,2,0,0,0,90,22081.88,7236,273.61,"SIM",35717127.329999998,40000000,0]
[null,925,"2007-12-05",52,37,46,8,22,36,0,1,40628613.640000001,132,21261.85,10214,273.74,"NÃO",0,1200000,0]
[null,926,"2007-12-08",40,41,34,33,21,59,0,0,0,24,35599.69,2019,421.58,"SIM",1495186.73,3000000,0]
[null,927,"2007-12-12",36,26,31,23,19,33,0,0,0,45,20517.91,3499,262.88,"SIM",3110971.95,5000000,0]
[null,928,"2007-12-15",32,10,49,60,4,33,18230080.5,1,5077029.42,43,26127.01,4246,263.58999999999997,"NÃO",0,1000000,0]
[null,929,"2007-12-19",16,49,35,39,57,27,0,0,0,42,18094.16,3095,244.61,"SIM",9414519.0500000007,11000000,0]
[null,930,"2007-12-22",46,20,55,37,28,49,0,0,0,73,18344.900000000001,5481,243.81,"SIM",11758079.4,16000000,0]
[null,931,"2007-12-31",17,34,7,36,39,19,0,0,0,245,9393.9699999999993,14573,157.93,"SIM",15785742.060000001,20000000,0]
[null,932,"2008-01-05",2,21,42,53,36,17,0,1,19685655.010000002,196,11370.01,10515,211.94,"NÃO",0,1300000,0]
[null,933,"2008-01-09",25,39,45,51,8,14,0,0,0,66,11712.22,3308,233.68,"SIM",1352761.06,3000000,0]
[null,934,"2008-01-12",25,48,44,3,21,1,0,0,0,55,17289.830000000002,5101,186.42,"SIM",12508366.08,15000000,0]
[null,935,"2008-01-16",7,45,18,13,29,31,0,0,0,243,5396.61,10898,120.33,"SIM",14803274.65,17000000,0]
[null,936,"2008-01-19",5,33,14,29,44,22,0,2,8699137.8900000006,144,10297.629999999999,9280,159.79,"NÃO",0,1200000,0]
[null,937,"2008-01-23",22,41,2,30,21,52,0,0,0,20,36413.65,1763,413.09,"SIM",1274477.8,3000000,0]
[null,938,"2008-01-26",35,15,27,57,50,59,0,0,0,39,23406.66,3235,282.18,"SIM",2871982.33,5000000,0]
[null,939,"2008-01-30",6,23,19,50,37,49,0,0,0,103,9216.7800000000007,5670,167.43,"SIM",11264174.77,13500000,0]
[null,940,"2008-02-02",25,33,51,31,5,37,0,0,0,109,11635.12,6936,182.85,"SIM",13483573.630000001,15000000,0]
[null,941,"2008-02-06",11,15,10,27,60,53,0,0,0,37,20206.509999999998,3406,219.51,"SIM",14791945.07,16000000,0]
[null,942,"2008-02-09",5,52,18,8,59,42,0,0,0,73,20890.580000000002,5310,287.2,"SIM",17460716.850000001,20000000,0]
[null,943,"2008-02-13",47,41,58,3,23,12,0,1,20498366.41,116,14963.79,7783,223.02,"NÃO",0,1100000,0]
[null,944,"2008-02-16",16,58,43,37,52,59,0,0,0,21,38432.28,2669,302.39,"SIM",9017085,11000000,0]
[null,945,"2008-02-20",44,8,59,54,4,27,0,0,0,118,9974.16,6615,177.92,"SIM",11076748.93,13000000,0]
[null,946,"2008-02-23",59,1,47,5,52,12,0,0,0,92,15029.8,6373,216.97,"SIM",13496546.460000001,16000000,0]
[null,947,"2008-02-27",33,11,3,58,14,5,0,1,16035424.27,95,15271.45,8955,162.01,"NÃO",0,1500000,0]
[null,948,"2008-03-01",22,44,41,46,52,54,0,0,0,30,27177.27,2141,380.81,"SIM",1426806.41,3000000,0]
[null,949,"2008-03-05",44,1,51,52,41,23,0,0,0,28,31580.9,2679,330.08,"SIM",10111849.01,12000000,0]
[null,950,"2008-03-08",48,59,49,41,42,23,0,0,0,43,30111.09,3953,327.54000000000002,"SIM",12377708.640000001,15000000,0]
[null,951,"2008-03-12",49,24,39,34,55,14,0,0,0,41,33969.919999999998,3894,357.67,"SIM",14815050.33,17000000,0]
[null,952,"2008-03-15",54,11,27,18,2,30,0,0,0,132,11947.28,7126,221.31,"SIM",17574870.510000002,20000000,0]
[null,953,"2008-03-19",55,48,1,39,16,42,0,1,20509951.370000001,71,23622.38,5055,331.79,"NÃO",0,1200000,0]
[null,954,"2008-03-22",8,5,24,18,57,33,0,0,0,81,7848.36,5213,121.95,"SIM",9334367.3399999999,11000000,0]
[null,955,"2008-03-26",35,5,32,21,33,12,0,2,5678963.9199999999,90,12848.01,6180,187.11,"NÃO",0,1200000,0]
[null,956,"2008-03-29",46,51,47,59,54,57,0,1,1385109.95,38,20828.72,2468,320.7,"NÃO",0,1300000,0]
[null,957,"2008-04-02",50,32,25,34,57,24,0,0,0,24,30247.279999999999,2210,328.48,"SIM",1270385.5,2500000,0]
[null,958,"2008-04-05",13,22,7,33,51,48,0,3,978205.14,269,3535.28,8718,109.09,"NÃO",0,1300000,0]
[null,959,"2008-04-09",57,3,5,11,33,39,0,0,0,138,5376.4,7139,103.93,"SIM",6756745.8600000003,8500000,0]
[null,960,"2008-04-12",34,6,33,18,53,19,0,0,0,73,15299.06,4852,230.18,"SIM",8711201.4800000004,11000000,0]
[null,961,"2008-04-16",16,53,2,4,21,36,0,0,0,81,15330.15,7193,172.63,"SIM",10884250.08,13000000,0]
[null,962,"2008-04-19",2,48,49,40,55,11,0,1,13272508.390000001,41,33285.83,3554,384,"NÃO",0,1200000,0]
[null,963,"2008-04-23",37,17,15,50,48,59,0,0,0,30,20269.810000000001,2644,229.99,"SIM",1064165.04,2300000,0]
[null,964,"2008-04-26",42,13,33,20,8,26,0,0,0,125,7097.23,6128,144.77000000000001,"SIM",9139860.0999999996,11000000,0]
[null,965,"2008-04-30",36,39,57,58,5,30,0,0,0,61,18625.79,3934,288.81,"SIM",11128162.609999999,13000000,0]
[null,966,"2008-05-03",1,58,26,28,4,41,0,0,0,55,21206.52,4397,265.26,"SIM",13169290.24,15000000,0]
[null,967,"2008-05-07",18,14,57,30,13,5,0,0,0,91,15768.06,7445,192.74,"SIM",15680353.75,18000000,0]
[null,968,"2008-05-10",30,4,13,60,51,1,0,0,0,124,13308.65,9572,172.41,"SIM",18568330.649999999,22000000,0]
[null,969,"2008-05-14",56,35,50,13,41,25,0,1,21823614.219999999,82,22684.9,6898,269.67,"NÃO",0,11000000,0]
[null,970,"2008-05-17",57,34,5,54,28,21,0,3,3712467.76,108,10992.48,6144,193.23,"NÃO",0,1300000,0]
[null,971,"2008-05-21",4,14,33,44,11,45,0,0,0,66,11508.75,4390,173.02,"SIM",1329260.3600000001,2700000,0]
[null,972,"2008-05-24",33,18,15,56,31,34,0,3,912435.75,723,1112.8599999999999,4082,197.11,"NÃO",0,1200000,0]
[null,973,"2008-05-28",53,36,8,30,1,47,0,0,0,36,19679.25,2274,311.55,"SIM",1239792.94,2500000,0]
[null,974,"2008-05-31",45,20,38,31,16,12,0,0,0,93,10307.56,4213,227.53,"SIM",8440373.3300000001,11000000,0]
[null,975,"2008-06-04",33,9,37,40,41,30,0,0,0,55,25191.37,4524,306.26,"SIM",10865043.23,13500000,0]
[null,976,"2008-06-07",28,53,38,23,14,25,0,0,0,74,21152.880000000001,6395,244.77,"SIM",13604340.57,16000000,0]
[null,977,"2008-06-11",17,3,9,32,7,5,0,1,16584111.630000001,452,3767.1,24482,69.55,"NÃO",0,1300000,0]
[null,978,"2008-06-14",42,58,12,18,16,27,0,0,0,69,13220.26,4616,197.61,"SIM",1596346.74,3500000,0]
[null,979,"2008-06-18",28,3,39,51,31,15,0,0,0,42,23261.38,3714,263.05,"SIM",11484484.109999999,13000000,0]
[null,980,"2008-06-21",35,17,59,15,36,29,0,0,0,88,16054.57,6837,206.64,"SIM",13956888.710000001,16000000,0]
[null,981,"2008-06-25",8,41,53,1,58,34,0,0,0,74,20200.29,4974,300.52999999999997,"SIM",16572825.970000001,19000000,0]
[null,982,"2008-06-28",12,24,8,40,43,49,0,0,0,125,14102.62,8510,207.15,"SIM",19657775.239999998,23000000,0]
[null,983,"2008-07-02",38,45,40,16,32,22,0,1,24038180.789999999,244,10258.56,9930,252.07,"NÃO",0,1500000,0]
[null,984,"2008-07-05",46,20,4,43,47,10,0,0,0,38,26313.69,2643,378.33,"SIM",11966686.939999999,15000000,0]
[null,985,"2008-07-09",4,56,18,59,46,16,0,0,0,55,26215.599999999999,4846,297.54000000000002,"SIM",14489938.27,17000000,0]
[null,986,"2008-07-12",32,6,31,24,15,19,0,0,0,120,15043.78,7953,226.99,"SIM",17649132.280000001,21000000,0]
[null,987,"2008-07-16",47,27,13,31,34,58,0,0,0,193,10707.6,10923,189.19,"SIM",21265623.870000001,25000000,0]
[null,988,"2008-07-19",48,17,46,56,60,8,0,0,0,73,31767.360000000001,6874,337.36,"SIM",25323903.989999998,30000000,0]
[null,989,"2008-07-23",38,21,27,2,29,32,0,0,0,130,23437.38,10296,295.93,"SIM",44005353.43,52000000,0]
[null,990,"2008-07-26",29,18,2,15,10,39,0,2,26586140.510000002,290,18062.91,20863,251.08,"NÃO",0,2000000,0]
[null,991,"2008-07-30",8,38,60,41,15,9,0,0,0,36,26823.95,3028,318.91000000000003,"SIM",1689908.71,4000000,0]
[null,992,"2008-08-02",6,8,4,1,25,28,0,0,0,330,3731.21,13216,93.17,"SIM",3844685.43,6000000,0]
[null,993,"2008-08-06",26,25,42,60,5,24,0,0,0,68,18539.43,5121,246.18,"SIM",6166992.7999999998,8500000,331758.21000000002]
[null,994,"2008-08-09",44,40,58,29,3,20,0,0,0,47,31786.28,3838,389.25,"SIM",21402602.800000001,25000000,724904.25]
[null,995,"2008-08-13",4,54,55,36,16,31,0,0,0,76,24991.48,6790,279.73,"SIM",24901410.329999998,30000000,1224733.92]
[null,996,"2008-08-16",21,23,20,7,29,15,0,2,14458257.67,165,13209.87,11901,183.15,"NÃO",0,1500000,1798320.37]
[null,997,"2008-08-20",18,53,55,32,9,17,0,0,0,40,22382.42,3203,279.52,"SIM",1649230.73,3600000,2033924.78]
[null,998,"2008-08-23",28,21,4,32,3,22,0,0,0,40,27708.98,4526,244.89,"SIM",3690945.05,6000000,2325598.27]
[null,999,"2008-08-27",44,36,55,58,18,24,0,0,0,103,11227.56,6681,173.09,"SIM",14203313.76,17000000,2629924.1800000002]
[null,1000,"2008-08-30",49,58,53,39,38,29,0,0,0,41,42451.22,3771,461.55,"SIM",17409498.460000001,21000000,3087950.58]
[null,1001,"2008-09-03",15,37,27,12,60,51,0,0,0,87,22084.42,7074,271.60000000000002,"SIM",20948817.140000001,25000000,3593567.54]
[null,1002,"2008-09-06",3,31,7,25,40,58,0,1,24880988.57,174,12267.86,10015,213.14,"NÃO",0,1500000,4155306.33]
[null,1003,"2008-09-10",10,27,23,5,16,26,0,1,1609524.9,86,10159.790000000001,5694,153.44999999999999,"NÃO",0,1500000,4385238.47]
[null,1004,"2008-09-13",45,47,29,40,44,43,0,0,0,34,27732.080000000002,2419,389.79,"SIM",10552054.800000001,13000000,4633367.62]
[null,1005,"2008-09-17",6,41,4,37,12,42,0,1,12989451.539999999,67,19748.63,5871,225.37,"NÃO",0,1500000,4981567.17]
[null,1006,"2008-09-20",48,17,4,33,55,2,0,1,1675260.09,136,6686.96,5935,153.22999999999999,"NÃO",0,1500000,5220890.05]
[null,1007,"2008-09-24",49,27,4,36,52,37,0,0,0,46,17494.400000000001,2884,279.04000000000002,"SIM",1482420.65,3500000,5432664.4400000004]
[null,1008,"2008-09-27",7,15,42,48,34,13,0,0,0,159,6334.47,8123,124,"SIM",3337751.69,5000000,5697711.7400000002]
[null,1009,"2008-10-01",34,12,1,6,58,29,0,2,2591825.61,111,9027.57,5083,197.14,"NÃO",0,8000000,5961411.6799999997]
[null,1010,"2008-10-04",2,46,3,37,13,54,0,0,0,61,18487.52,4679,241.02,"SIM",7920807.1699999999,10000000,6258185.0599999996]
[null,1011,"2008-10-08",30,2,52,21,11,35,0,0,0,113,10999.46,3889,319.60000000000002,"SIM",10210432.01,12500000,6585274.3300000001]
[null,1012,"2008-10-11",47,19,58,14,40,55,0,0,0,43,34250.51,3755,392.21,"SIM",12923432.48,16000000,6972845.8300000001]
[null,1013,"2008-10-15",7,9,20,41,12,19,0,1,15668367.92,178,8371.4,10125,147.16999999999999,"NÃO",0,1600000,7364979.4800000004]
[null,1014,"2008-10-18",60,57,9,25,8,41,0,0,0,65,13760.77,3861,231.66,"SIM",8859049.0399999991,11000000,7600361.1600000001]
[null,1015,"2008-10-22",49,8,28,3,26,17,0,0,0,110,11111.5,8105,150.81,"SIM",11110589.810000001,14000000,7922009.8600000003]
[null,1016,"2008-10-25",11,9,25,5,60,20,0,1,13814409.970000001,174,8435.56,9476,154.88999999999999,"NÃO",0,1600000,8308269.9100000001]
[null,1017,"2008-10-29",31,51,19,6,56,34,0,0,0,36,21980.86,2885,274.29000000000002,"SIM",1457677.69,3000000,8516509.5899999999]
[null,1018,"2008-11-01",55,51,58,9,44,24,0,0,0,35,29464.79,4170,247.31,"SIM",3357381.15,5000000,8787895.8100000005]
[null,1019,"2008-11-05",29,47,4,13,46,23,0,0,0,77,14084.12,6124,177.09,"SIM",11835965.99,15000000,9073284.6600000001]
[null,1020,"2008-11-08",19,32,52,1,2,39,0,0,0,56,27920.81,4646,336.54,"SIM",14716218.539999999,18000000,9484749.3300000001]
[null,1021,"2008-11-12",42,55,51,43,2,33,0,1,17819642.969999999,46,36624.26,4247,396.69,"NÃO",0,1500000,9928095.6899999995]
[null,1022,"2008-11-16",31,21,40,39,56,5,0,0,0,21,31512.19,1505,439.7,"SIM",1219024.1200000001,3000000,10102242.01]
[null,1023,"2008-11-19",45,40,2,7,18,8,0,0,0,65,14980.07,4937,197.23,"SIM",3012691.11,5000000,10358480.18]
[null,1024,"2008-11-22",28,53,18,39,22,29,0,0,0,23,48677.51,2722,411.31,"SIM",12026299.1,15000000,10653107.220000001]
[null,1025,"2008-11-26",52,40,29,27,28,10,0,0,0,34,44097.09,3705,404.67,"SIM",14788169.279999999,18000000,11047660.109999999]
[null,1026,"2008-11-29",10,33,51,53,6,17,0,0,0,92,19600.34,7192,250.73,"SIM",18109910.469999999,22000000,11522194.58]
[null,1027,"2008-12-03",20,18,47,44,60,33,0,0,0,112,19031.09,6992,304.85000000000002,"SIM",22036323.690000001,26000000,12083110.77]
[null,1028,"2008-12-06",54,26,34,51,20,52,0,0,0,66,39415.99,5453,477.07,"SIM",26828477.850000001,32000000,12767704.24]
[null,1029,"2008-12-10",17,5,16,24,20,32,0,1,32271347.109999999,262,11277.48,17979,164.34,"NÃO",0,15000000,13545257.02]
[null,1030,"2008-12-13",57,8,54,1,23,37,0,0,0,123,12938.02,7495,212.33,"SIM",15656941.289999999,19000000,13964040.25]
[null,1031,"2008-12-17",49,33,24,40,46,43,0,1,19067463.739999998,59,31380.11,5508,336.14,"NÃO",0,1600000,14451257.75]
[null,1032,"2008-12-20",57,43,15,29,26,16,0,0,0,49,22063.82,3682,293.63,"SIM",1991549.91,4000000,14735764.890000001]
[null,1033,"2008-12-24",39,6,5,33,54,17,0,0,0,83,13662.29,6445,175.95,"SIM",4080441.78,6000000,15034178.039999999]
[null,1034,"2008-12-27",20,42,1,3,49,18,0,0,0,61,19548.37,4635,257.27,"SIM",29557027.039999999,35000000,29557027.039999999]
[null,1035,"2008-12-31",51,60,1,11,59,26,0,0,0,289,14028.04,19044,212.88,"SIM",37025110.939999998,45000000,1066869.1499999999]
[null,1036,"2009-01-03",27,39,36,10,41,52,0,1,44550370.270000003,177,23079.89,11703,349.07,"NÃO",0,2000000,2141906.21]
[null,1037,"2009-01-07",56,36,4,44,46,53,19059299,0,0,27,41327.230000000003,3108,359.02,"SIM",2055486.11,4300000,2435547.1]
[null,1038,"2009-01-10",51,7,6,28,35,43,0,0,0,80,16894.25,5438,248.54,"SIM",4545165.59,7500000,2791215.61]
[null,1039,"2009-01-14",52,2,20,27,36,24,0,0,0,96,15555.92,6631,225.21,"SIM",21306617.420000002,25000000,3184207.15]
[null,1040,"2009-01-17",44,1,28,55,6,39,0,0,0,66,31738.53,6431,325.73,"SIM",25165354.539999999,30000000,3735455.32]
[null,1041,"2009-01-21",12,10,36,54,44,57,0,1,29372147.91,82,27849.85,8071,282.95,"NÃO",0,1500000,4336425.82]
[null,1042,"2009-01-24",25,46,51,18,13,30,0,0,0,79,13627.16,4761,226.12,"SIM",1983110.38,4500000,4619727.32]
[null,1043,"2009-01-28",25,14,51,48,60,21,0,0,0,35,33115.910000000003,3197,362.55,"SIM",4118214.61,7000000,4924742.2300000004]
[null,1044,"2009-01-31",58,10,39,11,13,35,0,0,0,79,17589.080000000002,6346,218.96,"SIM",15945179.949999999,20000000,5290409.8899999997]
[null,1045,"2009-02-04",31,6,5,17,50,1,0,0,0,102,17541.75,8623,207.5,"SIM",19241182.43,23000000,5761267.4000000004]
[null,1046,"2009-02-07",57,40,28,42,54,55,35145764.5,1,23031543.809999999,49,41992.34,4875,422.08,"NÃO",0,1500000,6302747.6200000001]
[null,1047,"2009-02-11",1,2,10,48,14,8,0,0,0,148,6309.4,8110,115.14,"SIM",1720141.14,3500000,6548482.0800000001]
[null,1048,"2009-02-14",57,3,38,21,28,16,0,1,3901088.76,70,16913.47,4990,237.26,"NÃO",0,1700000,6860046.04]
[null,1049,"2009-02-18",34,17,52,5,2,29,0,1,1636050.81,143,6210.78,6295,141.09,"NÃO",0,10000000,7093767.6100000003]
[null,1050,"2009-02-21",60,14,45,24,33,26,0,0,0,66,18549.47,4590,266.73,"SIM",10189998.98,12000000,7415942.6799999997]
[null,1051,"2009-02-25",57,11,7,43,10,13,0,0,0,66,11893.94,5281,148.65,"SIM",11636051.15,14000000,7622521.5700000003]
[null,1052,"2009-02-28",8,11,16,15,57,52,27092243.5,1,14557865.34,77,20599.07,5743,276.18,"NÃO",0,1500000,8039923.6100000003]
[null,1053,"2009-03-04",15,42,27,53,34,49,0,1,1629650.34,112,7898.82,4385,201.75,"NÃO",0,1500000,8272730.8200000003]
[null,1054,"2009-03-07",41,27,13,60,14,18,0,0,0,37,26092.87,3567,270.66000000000003,"SIM",8083746.2999999998,10000000,8526792.9800000004]
[null,1055,"2009-03-11",27,32,15,12,20,16,0,2,5273833.3499999996,86,15552.99,6311,211.94,"NÃO",0,1500000,8878781.6199999992]
[null,1056,"2009-03-14",38,8,50,53,59,6,0,1,1872397.32,23,44193.23,2350,432.53,"NÃO",0,1600000,9146266.9700000007]
[null,1057,"2009-03-18",15,49,59,4,3,2,0,0,0,46,18772.07,3923,220.12,"SIM",1590685.29,3000000,9373507.7300000004]
[null,1058,"2009-03-21",20,51,57,45,24,18,0,1,3671709.67,50,22593.98,3853,293.2,"NÃO",0,1800000,9670796.9399999995]
[null,1059,"2009-03-25",37,1,14,45,12,16,0,1,1600783.97,63,13793.6,4089,212.52,"NÃO",0,8000000,9899480.3800000008]
[null,1060,"2009-03-28",1,41,3,18,16,42,0,1,8287163.4800000004,60,20333.07,5220,233.71,"NÃO",0,1500000,10220528.85]
[null,1061,"2009-04-01",9,41,56,23,21,30,0,0,0,29,29790.04,2579,334.98,"SIM",1591415.12,3500000,10447873.880000001]
[null,1062,"2009-04-04",55,8,2,37,23,33,0,0,0,114,9967.0400000000009,6442,176.38,"SIM",3684492.68,6000000,10746884.98]
[null,1063,"2009-04-08",49,1,22,47,44,50,0,0,0,68,17776.43,4202,287.67,"SIM",5911224.8200000003,8000000,11064989.58]
[null,1064,"2009-04-11",28,4,19,16,49,29,0,0,0,74,15699.66,5517,210.58,"SIM",14524789.16,17000000,11370719.779999999]
[null,1065,"2009-04-15",7,57,19,43,39,30,0,0,0,72,23596.92,6501,261.33999999999997,"SIM",17654485.48,21000000,11817819.26]
[null,1066,"2009-04-18",10,43,49,32,25,6,0,0,0,115,18205.45,8153,256.79000000000002,"SIM",21511165.789999999,25000000,12368773.609999999]
[null,1067,"2009-04-22",14,10,56,25,4,28,0,0,0,172,11762.29,10795,267.73,"SIM",25237954.469999999,30000000,12901172.01]
[null,1068,"2009-04-25",44,48,25,57,27,47,0,0,0,146,19264.05,10795,372.2,"SIM",30418969.329999998,36000000,13641317.01]
[null,1069,"2009-04-29",28,17,49,53,45,9,0,1,36400425.149999999,275,11807.55,16287,284.8,"NÃO",0,17000000,14495810.710000001]
[null,1070,"2009-05-02",41,53,8,23,5,16,0,2,8120833.4500000002,302,4478.33,8729,221.34,"NÃO",0,1500000,14851720.310000001]
[null,1071,"2009-05-06",5,37,43,7,53,54,0,0,0,56,17508.53,3846,364.19,"SIM",1806143.13,4000000,15109740.779999999]
[null,1072,"2009-05-09",19,18,54,47,43,9,0,0,0,47,27186.35,4915,371.38,"SIM",4159908.54,7000000,15445992.99]
[null,1073,"2009-05-13",44,36,32,8,34,25,0,0,0,66,20356.349999999999,5305,361.79,"SIM",6634811.6299999999,9000000,15799550.59]
[null,1074,"2009-05-16",3,47,10,50,29,23,0,0,0,111,13830.94,7099,308.94,"SIM",16976970.120000001,20000000,16203559.66]
[null,1075,"2009-05-20",53,39,16,21,10,12,0,0,0,119,15845.68,7179,375.22,"SIM",20450510.010000002,25000000,16699779.66]
[null,1076,"2009-05-23",32,33,10,19,42,4,0,0,0,102,21442.45,8656,360.96,"SIM",24479432.109999999,30000000,17275339.960000001]
[null,1077,"2009-05-27",11,6,18,5,37,9,41658547,2,14486088.42,300,8129.73,19219,181.28,"NÃO",0,2000000,17917160.640000001]
[null,1078,"2009-05-30",3,6,45,34,41,43,18069091.25,0,0,47,22507.73,3645,414.6,"SIM",1948695.28,4000000,18195545.690000001]
[null,1079,"2009-06-03",36,12,37,24,5,28,19331149.25,1,4033499.58,150,7545.01,8339,193.88,"NÃO",0,12000000,18493374.899999999]
[null,1080,"2009-06-06",56,11,20,41,34,18,24493897.75,0,0,59,24305.19,4152,493.39,"SIM",12716777.49,16000000,18870745.010000002]
[null,1081,"2009-06-10",9,56,29,52,16,24,30459672.25,0,0,109,16360.33,7213,353.18,"SIM",16001758.390000001,20000000,19340028]
[null,1082,"2009-06-13",4,40,50,17,55,38,31139440.5,0,0,63,28937.66,5460,476.99,"SIM",19360050.18,23000000,19819783.989999998]
[null,1083,"2009-06-17",20,28,42,23,10,43,38208360.75,0,0,70,31956.080000000002,6647,480.75,"SIM",23480703.039999999,28000000,20408448.690000001]
[null,1084,"2009-06-20",20,5,29,59,40,33,42873020.75,0,0,108,23240.93,7731,463.81,"SIM",39437088.950000003,45000000,21068980.41]
[null,1085,"2009-06-24",39,50,21,12,40,55,60876961.25,0,0,81,44000.86,7674,663.47,"SIM",46002479.880000003,55000000,22006893.41]
[null,1086,"2009-06-27",45,4,6,23,10,2,89142866.75,4,13904065.199999999,954,5470.55,52159,142.93,"NÃO",0,2000000,23380290.699999999]
[null,1087,"2009-07-01",36,46,28,32,3,20,20190770.25,0,0,58,20380.650000000001,4426,381.53,"SIM",2177511.7599999998,4000000,23691363.829999998]
[null,1088,"2009-07-04",24,42,35,31,6,57,25640480.25,0,0,78,19245.3,5886,364.33,"SIM",4942757.79,8000000,24086398.989999998]
[null,1089,"2009-07-08",37,48,32,2,18,20,27422916.5,0,0,93,17263.310000000001,6101,375.93,"SIM",23035860.57,27000000,24508895.600000001]
[null,1090,"2009-07-11",24,9,40,20,36,42,38322847.5,0,0,175,12820.74,10325,310.42,"SIM",27168860.469999999,32000000,25099324.18]
[null,1091,"2009-07-15",27,56,17,24,49,23,46937052.75,0,0,146,18821.580000000002,12471,314.77999999999997,"SIM",32230875.609999999,38000000,25822469.219999999]
[null,1092,"2009-07-18",40,30,1,9,33,34,56228327.75,0,0,130,25322.41,11224,418.98,"SIM",38294925.869999997,45000000,26688762.129999999]
[null,1093,"2009-07-22",27,49,38,23,41,19,70710811.5,0,0,299,13845.47,18464,320.29000000000002,"SIM",45920866.950000003,56000000,27778182.300000001]
[null,1094,"2009-07-25",10,9,48,36,41,21,92189270.25,1,55863193.020000003,211,25579.45,18534,416.01,"NÃO",0,25000000,29198514.620000001]
[null,1095,"2009-07-29",27,23,36,10,21,16,35408194.5,0,0,168,12339.22,10462,283.06,"SIM",24452986.890000001,29000000,29744038.010000002]
[null,1096,"2009-08-01",3,41,52,14,13,16,46234424.25,0,0,102,26537.4,9766,395.95,"SIM",29439225.73,35000000,30456357.859999999]
[null,1097,"2009-08-05",21,48,33,1,56,17,50705642.75,1,34907671.590000004,242,12266.88,13115,323.35000000000002,"NÃO",0,2000000,31237564.43]
[null,1098,"2009-08-08",30,20,21,11,50,52,24632326.25,1,2656519.77,49,29430.83,3434,599.91999999999996,"NÃO",0,2500000,31617067.260000002]
[null,1099,"2009-08-12",55,44,38,35,14,31,21735883.75,0,0,42,30298.5,3392,535.94000000000005,"SIM",14459242.92,17000000,31951945.489999998]
[null,1100,"2009-08-15",41,33,17,18,7,42,34452773.25,0,0,119,16950.03,10353,278.32,"SIM",18174867.350000001,23000000,32482748.98]
[null,1101,"2009-08-19",7,12,57,6,24,10,38343704,1,22310116.550000001,284,7904.4,17901,179.14,"NÃO",0,2000000,33073498.879999999]
[null,1102,"2009-08-22",46,23,9,35,11,51,22023282.75,0,0,83,15534.5,5695,323.43,"SIM",2375142.54,5000000,33412804.969999999]
[null,1103,"2009-08-26",41,19,10,28,55,56,23717776.25,0,0,47,29544,5696,348.25,"SIM",4933030.92,8000000,33778217.619999997]
[null,1104,"2009-08-29",3,35,58,49,2,6,28992726,0,0,95,17867.29,6982,347.29,"SIM",18060804.989999998,21000000,34224899.829999998]
[null,1105,"2009-09-02",43,1,50,28,57,15,35396452,1,21878202.239999998,135,15350.38,7144,414.39,"NÃO",0,2000000,34770242.310000002]
[null,1106,"2009-09-05",4,15,50,60,43,47,20175874.25,0,0,37,31924.48,3139,537.57000000000005,"SIM",2175905.27,5000000,35081085.93]
[null,1107,"2009-09-09",36,20,54,9,3,53,21516050,0,0,85,14819.61,6294,285.91000000000003,"SIM",4496344.33,7000000,35412577.229999997]
[null,1108,"2009-09-12",60,44,7,39,43,9,29595212,0,0,71,24403.73,5791,427.42,"SIM",7688095.8799999999,12000000,35868541.75]
[null,1109,"2009-09-16",11,52,14,6,29,8,30862658,0,0,141,12814.67,8371,308.35000000000002,"SIM",20340725.120000001,24000000,36344033.43]
[null,1110,"2009-09-19",26,45,6,28,42,14,40292586,2,12343077.59,217,10870.72,11277,298.83,"NÃO",0,2000000,36964809.170000002]
[null,1111,"2009-09-23",4,43,25,9,33,32,19480656,1,2100928.15,52,21932.77,5266,309.39,"NÃO",0,2000000,37264941.780000001]
[null,1112,"2009-09-26",4,34,52,32,58,43,20626242,0,0,43,28083.09,3283,525.46,"SIM",2224476.04,5000000,37582724.090000004]
[null,1113,"2009-09-30",47,36,29,59,3,6,22419202,2,2321158.61,82,16006.62,5947,315.29000000000002,"NÃO",0,2000000,37928129.990000002]
[null,1114,"2009-10-03",16,3,22,54,25,15,21424482,1,2310563.7400000002,65,19297.02,5054,354.54,"NÃO",0,11000000,38258210.539999999]
[null,1115,"2009-10-07",44,41,18,50,37,30,25131470,0,0,26,56589.75,3005,699.46,"SIM",11132729.77,14000000,38645403.530000001]
[null,1116,"2009-10-10",17,20,4,47,9,13,31648022,1,14545870.49,259,7153.85,14186,186.58,"NÃO",0,2000000,39132995.07]
[null,1117,"2009-10-14",27,35,40,1,6,17,16153514,0,0,36,26269.86,3143,429.85,"SIM",1742106.23,4000000,39381867.399999999]
[null,1118,"2009-10-17",55,44,8,20,43,21,22874788,0,0,30,44640.5,2965,645.24,"SIM",4209080.96,7000000,39734292.390000001]
[null,1119,"2009-10-21",44,54,41,45,34,10,22981012,0,0,22,61156.09,2684,716.11,"SIM",14740142.18,18000000,40088353.920000002]
[null,1120,"2009-10-24",50,55,7,35,44,40,33081040,0,0,63,30741.97,4116,672.2,"SIM",18307829.449999999,22000000,40598023.549999997]
[null,1121,"2009-10-28",18,4,59,54,56,17,34452964,1,22023474.440000001,94,21458.13,6105,471.99,"NÃO",0,2000000,41128829.979999997]
[null,1122,"2009-10-31",49,44,56,26,46,55,19222788,0,0,20,56270.34,2425,662.97,"SIM",2073117.88,4000000,41424989.689999998]
[null,1123,"2009-11-04",19,4,39,14,45,60,18010282,0,0,51,20674.900000000001,3386,444.86,"SIM",4015470.76,6000000,41702468.689999998]
[null,1124,"2009-11-07",49,11,7,18,16,33,25236404,0,0,122,12110.47,7528,280.37,"SIM",15550005.710000001,20000000,42091278.369999997]
[null,1125,"2009-11-11",7,42,56,29,33,3,32858866,1,19093732.190000001,263,7314.59,11744,234,"NÃO",0,2500000,42597525.039999999]
[null,1126,"2009-11-14",59,31,57,4,52,42,19735086,0,0,21,55019.03,2186,755.06,"SIM",2128367.63,5000000,42901577.57]
[null,1127,"2009-11-18",24,8,14,5,29,30,20985848,3,1463875.35,152,8083.07,7135,245.99,"NÃO",0,2000000,43224900.210000001]
[null,1128,"2009-11-21",60,8,39,52,24,16,17652896,1,1903809.92,43,24034.81,3389,435.65,"NÃO",0,2000000,43496873.07]
[null,1129,"2009-11-25",47,19,17,12,32,55,16567972,0,0,75,12933.06,4068,340.63,"SIM",9094554.7100000009,12000000,43752130.840000004]
[null,1130,"2009-11-28",23,49,32,54,18,5,27408748,0,0,279,5751.46,9245,247.95,"SIM",12050502.92,15000000,44174409.159999996]
[null,1131,"2009-12-02",49,34,36,1,16,8,34001962,0,0,119,16728.240000000002,7753,366.8,"SIM",15717508.75,20000000,44698267.159999996]
[null,1132,"2009-12-05",52,30,27,12,55,33,38359728,0,0,104,21594.12,7799,411.36,"SIM",19854486.100000001,24000000,45289263.93]
[null,1133,"2009-12-09",16,5,58,39,10,21,37311790,1,23878446.59,111,19679.599999999999,8648,360.84,"NÃO",0,2500000,45864115.439999998]
[null,1134,"2009-12-12",29,36,56,22,9,51,21551532,0,0,53,23806.49,3770,478.11,"SIM",13077964.720000001,16000000,46196153.409999996]
[null,1135,"2009-12-16",5,4,19,39,6,23,29603144,1,16270571.710000001,127,13646.69,9233,268.14999999999998,"NÃO",0,2000000,46652240.140000001]
[null,1136,"2009-12-19",7,31,32,37,43,34,21230956,0,0,41,30316.49,4242,418.59,"SIM",2289692.56,5000000,46979339.100000001]
[null,1137,"2009-12-22",21,28,19,25,50,43,14493008,0,0,33,25712.12,2763,438.7,"SIM",3852718.38,6000000,47202628.509999998]
[null,1138,"2009-12-24",4,25,18,15,36,2,19145820,0,0,118,9499.16,6796,235.62,"SIM",5917535.5099999998,7500000,47497602.380000003]
[null,1139,"2009-12-26",36,42,37,9,28,31,13557048,0,0,25,31748.14,2049,553.37,"SIM",61731493.109999999,120000000,61731493.109999999]
[null,1140,"2009-12-31",49,58,40,46,10,27,435346884,2,72450747.459999993,734,34724.230000000003,55988,650.33000000000004,"NÃO",0,1500000,0]
[null,1141,"2010-01-02",40,9,37,58,50,60,5610856,0,0,6,54748.35,683,687.07,"SIM",605113.35,2000000,86444.79]
[null,1142,"2010-01-06",28,31,15,58,3,26,17301930,0,0,66,15347.72,3640,397.54,"SIM",2471072.6800000002,5000000,353010.42]
[null,1143,"2010-01-09",35,47,60,44,30,3,21700966,0,0,52,24432.560000000001,3686,492.4,"SIM",4811454.3499999996,7000000,687350.67]
[null,1144,"2010-01-13",19,10,49,18,1,44,22142094,0,0,92,14090.42,6105,303.33,"SIM",11724753.92,15000000,1028487.25]
[null,1145,"2010-01-16",19,3,60,33,24,16,28855462,1,14836725.73,129,13095.79,8734,276.31,"NÃO",0,2000000,1473054.66]
[null,1146,"2010-01-20",10,34,53,33,28,6,16304810,0,0,53,18010.8,3641,374.53,"SIM",1758423.03,4000000,1724257.97]
[null,1147,"2010-01-23",23,39,52,31,6,33,20872116,0,0,30,40732.25,3040,574.23,"SIM",4009415.81,7000000,2045828.37]
[null,1148,"2010-01-27",48,32,29,55,27,28,20929302,0,0,37,33116.629999999997,3792,461.61,"SIM",6266575.9199999999,9000000,2368279.83]
[null,1149,"2010-01-30",46,54,8,36,7,23,25751354,0,0,91,16567.3,6998,307.76,"SIM",16684537.210000001,20000000,2765023.19]
[null,1150,"2010-02-03",28,17,35,52,31,15,30139020,0,0,58,30422.46,5033,500.83,"SIM",19934936.77,24000000,3229366]
[null,1151,"2010-02-06",1,25,4,14,21,51,35293022,0,0,101,20457.88,7455,395.94,"SIM",23741179.41,28000000,3773114.97]
[null,1152,"2010-02-10",47,36,44,29,20,14,37101290,0,0,99,21940.52,6884,450.75,"SIM",27742438.129999999,32000000,4344723.37]
[null,1153,"2010-02-13",55,46,34,17,19,6,42232896,0,0,148,16706.38,9655,365.84,"SIM",32297124.600000001,34000000,4995392.88]
[null,1154,"2010-02-17",4,14,21,26,12,28,26100894,0,0,141,10837.51,8206,266.02,"SIM",46695017.020000003,52000000,5397521.5099999998]
[null,1155,"2010-02-20",28,58,41,40,51,20,61880258,0,0,76,47668.53,6061,853.89,"SIM",53368610.369999997,61000000,6350892.0099999998]
[null,1156,"2010-02-24",31,49,44,24,9,48,76877700,0,0,210,21432.57,15420,416.97,"SIM",61659631.200000003,70000000,7535323.5800000001]
[null,1157,"2010-02-27",46,9,43,41,49,29,102544866,4,18179694.010000002,248,24207.8,19079,449.52,"NÃO",0,2500000,9115201.4199999999]
[null,1158,"2010-03-03",23,31,60,55,30,54,21846804,0,0,38,33658.71,2442,748.23,"SIM",2356109.85,5000000,9451788.5500000007]
[null,1159,"2010-03-06",53,46,5,6,34,55,29453948,0,0,72,23949.93,7628,322.94,"SIM",25368068.859999999,30000000,9905576.6600000001]
[null,1160,"2010-03-10",40,5,3,48,1,18,41908820,1,29887804.73,118,20792.97,10504,333.69,"NÃO",0,2000000,10551253.23]
[null,1161,"2010-03-13",48,47,7,4,42,51,22587152,0,0,43,30752.91,4214,448.29,"SIM",2435954.08,5000000,10899246.689999999]
[null,1162,"2010-03-17",31,25,18,41,22,30,23890622,0,0,43,32527.61,3308,604.02,"SIM",5012483.34,8000000,11267322.32]
[null,1163,"2010-03-20",5,51,31,53,47,17,28875932,0,0,72,23479.919999999998,6107,395.46,"SIM",8126662.7800000003,12000000,11712205.119999999]
[null,1164,"2010-03-24",17,6,14,40,49,26,29005080,0,0,56,30323.49,5145,471.5,"SIM",21170174.379999999,25000000,12159077.66]
[null,1165,"2010-03-27",20,52,60,42,54,40,38087576,0,0,70,31855.07,3923,812,"SIM",25277800.98,30000000,12745881.470000001]
[null,1166,"2010-03-31",35,28,54,30,22,31,41027618,0,0,86,27930,6211,552.47,"SIM",29702501.969999999,35000000,13377981.619999999]
[null,1167,"2010-04-03",43,28,56,20,52,51,39708236,0,0,44,52834.93,4342,764.86,"SIM",33984911.710000001,39000000,13989754.449999999]
[null,1168,"2010-04-07",47,20,4,56,53,5,50462180,0,0,97,30457.03,8380,503.63,"SIM",39427100.859999999,47000000,14767210.060000001]
[null,1169,"2010-04-10",14,1,11,23,42,48,62859000,1,46206248.490000002,179,20559.27,12185,431.45,"NÃO",0,19000000,15735659.74]
[null,1170,"2010-04-14",46,11,27,34,49,13,31138258,1,19095125.120000001,228,7995.63,10746,242.34,"NÃO",0,2000000,16215397.51]
[null,1171,"2010-04-17",41,3,10,30,57,13,22664280,0,0,79,16796.080000000002,5610,337.88,"SIM",2444272.09,5000000,16564579.25]
[null,1172,"2010-04-20",28,52,6,43,12,56,18538888,0,0,90,12059.64,6438,240.83,"SIM",4443633.49,7000000,16850202.32]
[null,1173,"2010-04-24",7,25,24,36,5,47,28108632,0,0,140,11754.52,9619,244.4,"SIM",7475062,10000000,17283263.550000001]
[null,1174,"2010-04-28",7,52,6,51,47,39,28791936,0,0,38,44358.87,4174,576.91,"SIM",19341429.43,22000000,17726852.25]
[null,1175,"2010-04-30",2,3,12,37,47,16,30584616,0,0,77,23254.42,6958,367.63,"SIM",22639885.129999999,26000000,18198060.210000001]
[null,1176,"2010-05-05",21,11,49,14,33,30,40516056,0,0,102,23255.21,7379,459.22,"SIM",27009415.739999998,33000000,18822278.890000001]
[null,1177,"2010-05-08",33,52,55,47,38,50,46418328,1,32015488.030000001,78,34840.800000000003,6269,619.27,"NÃO",0,2000000,19537432.09]
[null,1178,"2010-05-12",1,53,22,50,45,30,19655986,0,0,27,42621.06,2330,705.56,"SIM",2119836.94,5000000,19840265.969999999]
[null,1179,"2010-05-15",59,28,47,60,22,5,25567678,0,0,99,15119.91,5765,370.92,"SIM",15909470.939999999,20000000,20234179.489999998]
[null,1180,"2010-05-19",60,12,34,30,44,57,33176212,0,0,70,27747.38,5176,536.07000000000005,"SIM",19487422.199999999,24000000,20745315.399999999]
[null,1181,"2010-05-22",44,18,45,31,26,20,40659128,0,0,67,35528.46,5964,570.17999999999995,"SIM",23872382.690000001,29000000,21371738.34]
[null,1182,"2010-05-26",52,29,56,60,2,4,40959376,0,0,82,29243.72,7157,478.64,"SIM",28289723.98,34000000,22002787.100000001]
[null,1183,"2010-05-29",12,5,10,20,29,37,49002816,4,8393631.3200000003,545,5264.03,21948,186.73,"NÃO",0,2500000,22757758.73]
[null,1184,"2010-06-02",4,23,27,28,9,30,20256366,0,0,134,8850.14,7342,230.75,"SIM",14661502.869999999,18000000,23069842.460000001]
[null,1185,"2010-06-05",54,10,2,43,21,35,29288102,0,0,96,17861.3,5571,439.69,"SIM",17820133.57,22000000,23521075.43]
[null,1186,"2010-06-09",41,12,15,7,13,8,36225720,1,21726964.780000001,196,10820.67,12126,249.85,"NÃO",0,1500000,24079194.190000001]
[null,1187,"2010-06-12",8,49,43,17,40,19,20990400,0,0,42,29259.35,4013,437.46,"SIM",2263749.35,5000000,24402586.969999999]
[null,1188,"2010-06-16",60,52,59,9,44,20,20701566,0,0,32,37874.46,3164,547.21,"SIM",4496348.84,7000000,24721529.75]
[null,1189,"2010-06-19",50,21,14,35,31,27,25805114,0,0,44,34335.730000000003,4064,531.05999999999995,"SIM",16296089.09,20000000,25119101.379999999]
[null,1190,"2010-06-23",11,53,56,37,10,19,30752700,2,9806336.0600000005,146,12331.72,7261,354.22,"NÃO",0,2000000,25592898.969999999]
[null,1191,"2010-06-26",25,22,11,16,33,3,18169908,0,0,138,7708.45,6525,232.89,"SIM",1959568.05,4000000,25872837.289999999]
[null,1192,"2010-06-30",49,17,20,59,57,52,19450952,0,0,34,33493.089999999997,2691,604.53,"SIM",4057292.71,6500000,26172512.25]
[null,1193,"2010-07-03",12,54,2,32,14,9,22466636,0,0,72,18268.32,5845,321.47000000000003,"SIM",6480249.5099999998,9000000,26518648.949999999]
[null,1194,"2010-07-07",24,53,41,6,13,50,25291720,0,0,54,27420.66,4511,468.92,"SIM",17080404.23,21000000,26908310.870000001]
[null,1195,"2010-07-10",27,17,57,26,55,20,33032140,1,20642817.77,63,30696.54,4448,621.1,"NÃO",0,2000000,27417227.109999999]
[null,1196,"2010-07-14",60,3,20,19,58,6,17725202,0,0,85,12208.59,5086,291.48,"SIM",1911607.9,5000000,27690313.98]
[null,1197,"2010-07-17",39,54,36,37,60,49,22316318,0,0,35,37329.11,2662,701.14,"SIM",4318353.37,7000000,28034134.77]
[null,1198,"2010-07-21",29,22,36,58,41,48,23482624,0,0,52,26438.48,3708,529.66,"SIM",6850881.3099999996,9500000,28395924.5]
[null,1199,"2010-07-24",58,28,23,39,16,19,27352780,0,0,71,22554.66,5692,401.91,"SIM",18200523.699999999,22000000,28817340.539999999]
[null,1200,"2010-07-28",10,3,39,54,56,11,33518376,1,21815376.289999999,91,21564.27,6489,432.01,"NÃO",0,2000000,29333748.059999999]
[null,1201,"2010-07-31",36,32,55,49,60,28,19058168,0,0,67,16653.27,3425,465.38,"SIM",2055364.13,5000000,29627371.530000001]
[null,1202,"2010-08-04",9,60,11,53,48,8,20920800,0,0,63,19441.55,4195,417.1,"SIM",4311607.33,7000000,29949692]
[null,1203,"2010-08-07",55,30,33,9,7,38,25095694,0,0,99,14840.8,6138,341.95,"SIM",7018099.8600000003,10000000,30336333.809999999]
[null,1204,"2010-08-11",10,25,5,39,52,43,26275440,0,0,95,16192.71,6613,332.31,"SIM",18316592.66,22000000,30741151.600000001]
[null,1205,"2010-08-14",14,4,26,35,29,13,36208214,0,0,141,15034.23,9645,313.97000000000003,"SIM",22221535.91,27000000,31299000.649999999]
[null,1206,"2010-08-18",2,11,37,36,48,6,38590864,0,0,112,20172.5,8526,378.55,"SIM",26383440.550000001,31000000,31893558.469999999]
[null,1207,"2010-08-21",32,35,22,9,56,11,46011358,0,0,108,24942.19,8377,459.37,"SIM",31345622.390000001,37000000,32602441.609999999]
[null,1208,"2010-08-25",45,12,1,26,54,20,51832516,0,0,125,24276.47,9464,458.06,"SIM",36935598.020000003,43000000,33401009.57]
[null,1209,"2010-08-28",30,17,38,14,5,35,64118190,0,0,251,14955.49,16146,332.13,"SIM",59900458.509999998,70000000,34388859.200000003]
[null,1210,"2010-09-01",3,7,9,10,31,34,124600180,0,0,993,7346.2,57447,181.4,"SIM",73338200.390000001,85000000,36308536.619999997]
[null,1211,"2010-09-04",36,54,3,31,15,48,177888800,7,13217564.890000001,981,10616.29,44163,336.88,"NÃO",0,2000000,39049215.759999998]
[null,1212,"2010-09-08",35,50,2,23,33,40,18443790,0,0,28,38564.29,2326,663.18,"SIM",1989105.38,4000000,39333373.68]
[null,1213,"2010-09-11",3,53,45,11,34,26,28112394,0,0,111,14827.5,6156,381.93,"SIM",5020939.63,8000000,39766492.869999997]
[null,1214,"2010-09-15",5,41,29,36,30,48,29803386,0,0,87,20055.78,6593,378.07,"SIM",33917085.840000004,40000000,40225664.670000002]
[null,1215,"2010-09-18",47,51,10,50,30,25,52992216,0,0,144,21544.81,10052,440.91,"SIM",39632131.509999998,46000000,41042099.780000001]
[null,1216,"2010-09-22",7,25,4,58,13,27,57159394,0,0,555,6029.59,26524,180.23,"SIM",45796594.369999997,53000000,41922737.340000004]
[null,1217,"2010-09-25",5,43,28,15,11,50,69238306,0,0,266,15239.05,16184,357.81,"SIM",53263730.310000002,61000000,42989471.060000002]
[null,1218,"2010-09-29",33,23,29,46,10,31,86469726,0,0,211,23992.46,17290,418.27,"SIM",62589221.310000002,75000000,44321684.07]
[null,1219,"2010-10-02",34,37,41,53,2,33,107640740,0,0,220,28644.89,17919,502.4,"SIM",99517334.590000004,115000000,45980072.509999998]
[null,1220,"2010-10-06",48,55,52,43,5,15,181969176,1,119142144.27,377,28258.54,30478,499.35,"NÃO",0,3000000,48783616.75]
[null,1221,"2010-10-09",46,5,58,37,14,43,26146224,0,0,102,15007.28,5864,372.91,"SIM",2819788.93,6000000,49186443.740000002]
[null,1222,"2010-10-13",26,19,48,57,5,8,24254156,0,0,121,11735.29,7404,273.97000000000003,"SIM",5435524.2000000002,8000000,49560120.229999997]
[null,1223,"2010-10-16",17,15,48,42,35,47,35565226,0,0,358,5816.15,9411,316.07,"SIM",9271123.1899999995,13000000,50108062.950000003]
[null,1224,"2010-10-20",41,19,57,53,21,27,37770716,1,13344577.42,124,17833.09,6867,460.02,"NÃO",0,23000000,50689985]
[null,1225,"2010-10-23",32,55,34,31,50,40,39382110,1,24970852.82,36,64045.66,3825,861.11,"NÃO",0,2000000,51296733.299999997]
[null,1226,"2010-10-27",31,55,56,50,40,10,22114710,0,0,57,22714.31,9917,186.5,"SIM",2385002.6800000002,5000000,51637447.990000002]
[null,1227,"2010-10-30",35,31,4,30,54,28,28377038,1,5445377.96,463,3588.23,5301,447.71,"NÃO",0,1600000,52074644.469999999]
[null,1228,"2010-11-03",36,10,60,52,50,23,18171942,0,0,43,24741.5,3050,498.3,"SIM",1959787.41,5000000,52354614.109999999]
[null,1229,"2010-11-06",12,49,60,32,30,40,27891626,0,0,42,38879.24,2827,825.16,"SIM",14182939,18000000,52784332]
[null,1230,"2010-11-10",37,35,12,22,19,9,34852882,0,0,110,18549.8,9272,314.38,"SIM",17941713.91,22000000,53321299.850000001]
[null,1231,"2010-11-13",20,27,49,5,23,39,41183828,1,22383261.66,161,14975.94,9961,345.79,"NÃO",0,2000000,53955806.689999998]
[null,1232,"2010-11-17",12,18,15,8,11,22,18310616,0,0,161,6658.4,7374,207.68,"SIM",1974742.97,4500000,54237912.840000004]
[null,1233,"2010-11-20",49,22,59,29,32,54,24496594,0,0,33,43459.53,3057,670.2,"SIM",4616624.43,8000000,54615324.5]
[null,1234,"2010-11-24",3,5,24,19,30,35,26346304,0,0,120,12853.8,9102,242.09,"SIM",17300360.170000002,21000000,55021234.060000002]
[null,1235,"2010-11-27",16,49,55,20,10,26,35707024,0,0,83,25186.560000000001,6028,495.42,"SIM",21151251.640000001,25000000,55571361.420000002]
[null,1236,"2010-12-01",17,20,38,8,53,3,37987018,0,0,136,16352.7,9270,342.72,"SIM",25248033.370000001,30000000,56156615.969999999]
[null,1237,"2010-12-04",26,21,39,5,18,59,45457850,1,30150521.09,132,20161.75,9303,408.67,"NÃO",0,2000000,56856971.380000003]
[null,1238,"2010-12-08",40,45,24,14,13,39,20265740,0,0,41,28938.22,3065,553,"SIM",2185597.0099999998,5000000,57169199.539999999]
[null,1239,"2010-12-11",15,1,48,37,39,52,26507920,0,0,57,27226.639999999999,3794,584.35,"SIM",16292399.49,20000000,57577599.079999998]
[null,1240,"2010-12-15",22,42,49,8,12,9,33280228,0,0,123,15840.7,8257,337.1,"SIM",19881568.559999999,24000000,58090337.539999999]
[null,1241,"2010-12-18",13,26,25,10,28,45,38582506,0,0,181,12479.72,12556,257,"SIM",24042571.82,26000000,58684766.590000004]
[null,1242,"2010-12-20",54,45,51,11,34,48,15206152,0,0,19,46855.32,2046,621.59,"SIM",25682508,29000000,58919043.210000001]
[null,1243,"2010-12-22",32,19,23,57,9,29,36481150,0,0,139,15365.51,8401,363.18,"SIM",29616886.539999999,34000000,59481097.299999997]
[null,1244,"2010-12-24",45,8,34,15,2,25,34804982,0,0,124,16432.849999999999,9080,320.58999999999997,"SIM",104122626,200000000,104122626]
[null,1245,"2010-12-31",34,10,37,50,43,2,472524744,4,48598800.009999998,1561,17722.09,94921,416.34,"NÃO",0,2000000,0]
[null,1246,"2011-01-05",59,10,37,57,40,43,19919216,0,0,46,25351.73,3939,422.94,"SIM",2148225.48,4700000,306889.37]
[null,1247,"2011-01-08",9,11,24,3,51,36,25486842,0,0,164,9098.41,9543,223.37,"SIM",4896902.1100000003,8000000,699557.47]
[null,1248,"2011-01-12",20,33,58,34,57,60,26909134,0,0,86,18318.689999999999,3832,587.30999999999995,"SIM",7798968.5,11000000,1114138.3999999999]
[null,1249,"2011-01-15",3,40,8,53,51,36,31331494,1,11177972.67,103,17808.900000000001,5887,445.12,"NÃO",0,9000000,1596853.29]
[null,1250,"2011-01-19",59,1,2,40,51,24,24818540,0,0,61,23819.88,4394,472.4,"SIM",9702756.5800000001,12000000,1979225.06]
[null,1251,"2011-01-22",48,27,34,52,46,5,30378346,0,0,261,6814.23,9795,259.39,"SIM",12978966.699999999,17000000,2447255.1]
[null,1252,"2011-01-26",35,2,51,14,49,39,30827508,0,0,67,26937.47,4975,518.25,"SIM",16303617.539999999,20000000,2922205.24]
[null,1253,"2011-01-29",2,51,17,44,43,23,32285876,0,0,99,19092.84,7284,370.71,"SIM",19785548.84,24000000,3419624.01]
[null,1254,"2011-02-02",9,29,18,7,14,39,37458520,0,0,142,15443.85,9454,331.38,"SIM",34384817.93,40000000,3996736.15]
[null,1255,"2011-02-05",23,5,54,39,38,51,49433152,0,0,155,18671.52,11485,359.98,"SIM",39716029.609999999,46000000,4758337.83]
[null,1256,"2011-02-09",26,38,33,35,53,43,53756440,0,0,121,26009.88,8843,508.42,"SIM",45513494.460000001,52000000,5586547.0999999996]
[null,1257,"2011-02-12",27,15,30,52,26,2,64072694,2,26211767.609999999,154,24358.21,11765,455.48,"NÃO",0,2500000,6573695.79]
[null,1258,"2011-02-16",47,26,11,57,59,55,20773872,0,0,27,45045.03,2688,646.37,"SIM",2240397.48,5000000,6893752.5800000001]
[null,1259,"2011-02-19",39,54,58,46,4,6,26806906,0,0,74,21208.42,5240,427.86,"SIM",19695537.059999999,23000000,7306758.5099999998]
[null,1260,"2011-02-23",19,23,31,53,29,41,36464798,0,0,70,30497.83,5798,526,"SIM",23628152.100000001,28000000,7868560.6699999999]
[null,1261,"2011-02-26",10,41,14,22,53,42,43097450,0,0,78,32348.2,6490,555.39,"SIM",28276078.02,33000000,8532550.1099999994]
[null,1262,"2011-03-02",11,39,9,5,8,7,47098396,2,16677746.77,440,6266.81,25528,154.30000000000001,"NÃO",0,2000000,9258180.9199999999]
[null,1263,"2011-03-05",41,53,18,4,36,26,23203890,0,0,79,17195.98,4180,464.27,"SIM",2502467.36,5000000,9615676.2599999998]
[null,1264,"2011-03-09",56,17,37,51,4,36,14366458,0,0,29,29003.13,2583,465.17,"SIM",15184977.6,18000000,9837015.9600000009]
[null,1265,"2011-03-12",13,50,46,24,60,19,35654892,0,0,97,21519.919999999998,7669,388.84,"SIM",19030246.789999999,23000000,10386340.140000001]
[null,1266,"2011-03-16",39,6,42,10,60,33,38583902,0,0,106,21310.49,8019,402.42,"SIM",23191400.609999999,27000000,10980790.710000001]
[null,1267,"2011-03-19",47,58,4,41,20,30,43579250,0,0,56,45560.13,5172,704.71,"SIM",27891287.170000002,33000000,11652203.09]
[null,1268,"2011-03-23",17,53,60,44,16,3,47680918,0,0,123,22695.13,8836,451.31,"SIM",33033525.870000001,39000000,12386808.630000001]
[null,1269,"2011-03-26",51,5,27,4,15,17,53724824,2,19413790.510000002,200,15726.72,15111,297.35000000000002,"NÃO",0,17000000,13214530.82]
[null,1270,"2011-03-30",31,33,24,5,42,9,30161598,0,0,144,12262.67,9186,274.61,"SIM",18113899.539999999,21000000,13679221.48]
[null,1271,"2011-04-02",2,52,39,59,48,1,39846552,0,0,65,35889.760000000002,6281,530.58000000000004,"SIM",22411226.219999999,27000000,14293125.310000001]
[null,1272,"2011-04-06",28,27,13,35,26,52,42828192,0,0,113,22189.35,9626,372.11,"SIM",27030113.510000002,33000000,14952966.369999999]
[null,1273,"2011-04-09",60,26,19,58,13,40,50241482,0,0,118,24927.21,8910,471.6,"SIM",32448501.079999998,38000000,15727021.75]
[null,1274,"2011-04-13",13,59,21,17,40,39,53983258,0,0,166,19039,11088,407.19,"SIM",52984883.979999997,59000000,16558725.539999999]
[null,1275,"2011-04-16",58,55,14,2,60,48,73653244,0,0,111,38847.410000000003,11630,529.66999999999996,"SIM",60928157.259999998,70000000,17693478.879999999]
[null,1276,"2011-04-20",9,40,5,22,36,11,97178962,2,35704303.030000001,560,10159.620000000001,30367,267.64,"NÃO",0,2500000,19190685.850000001]
[null,1277,"2011-04-23",50,59,18,31,60,12,14072746,0,0,30,27463.17,1783,660.11,"SIM",1517701.88,4000000,19407500.420000002]
[null,1278,"2011-04-27",4,16,24,56,25,30,26858214,0,0,187,8408.7000000000007,5455,411.79,"SIM",4414276.7,7000000,19821296.850000001]
[null,1279,"2011-04-30",8,29,36,35,14,40,32711460,0,0,98,19541.91,5880,465.28,"SIM",24514912.079999998,28000000,20325272.460000001]
[null,1280,"2011-05-04",29,6,54,10,20,16,43424628,0,0,97,26209.43,8585,423.04,"SIM",29198123.129999999,35000000,20994302.629999999]
[null,1281,"2011-05-07",36,14,30,38,11,8,53275668,1,34943738.219999999,198,15752.77,12813,347.75,"NÃO",0,2000000,21815104.789999999]
[null,1282,"2011-05-11",4,39,56,23,52,55,23599586,0,0,37,37341.85,4203,469.61,"SIM",2545141.94,5000000,22178696.510000002]
[null,1283,"2011-05-14",59,8,60,44,40,30,30264746,0,0,57,31085.32,4333,584.16999999999996,"SIM",5809100.6500000004,9000000,22644976.34]
[null,1284,"2011-05-18",26,21,20,36,31,29,30674654,0,0,46,39040.47,3353,765.14,"SIM",21403382.140000001,26000000,23117571.510000002]
[null,1285,"2011-05-21",33,10,15,38,31,28,43657466,0,0,127,20125.560000000001,9744,374.72,"SIM",26111704.050000001,32000000,23790188.940000001]
[null,1286,"2011-05-25",5,52,2,33,51,28,46704214,0,0,185,14780.11,12297,317.64999999999998,"SIM",31148608.260000002,37000000,24509746.699999999]
[null,1287,"2011-05-28",33,42,12,31,11,52,54299780,0,0,137,23204.42,8177,555.39,"SIM",37004670.640000001,43000000,25346327.050000001]
[null,1288,"2011-06-01",42,32,56,40,30,17,64550366,0,0,69,54770.01,7350,734.52,"SIM",43966226.829999998,52000000,26340835.079999998]
[null,1289,"2011-06-04",13,8,27,1,3,52,82657220,2,26440275.460000001,436,11099.09,30724,225,"NÃO",0,23000000,27614309.969999999]
[null,1290,"2011-06-08",14,50,3,23,2,34,39216014,0,0,93,24687.3,7535,435.28,"SIM",24014974.07,30000000,28218499.289999999]
[null,1291,"2011-06-11",18,57,58,40,47,54,48474300,0,0,49,57917.35,5416,748.56,"SIM",29242776.550000001,35000000,28965328.239999998]
[null,1292,"2011-06-15",30,31,23,9,54,11,49790146,0,0,128,22773.34,10397,400.52,"SIM",34612488.920000002,40000000,29732430.010000002]
[null,1293,"2011-06-18",24,50,1,44,13,40,57303466,0,0,163,20581.95,11182,428.6,"SIM",40792489.490000002,50000000,30615287.25]
[null,1294,"2011-06-22",6,50,4,48,29,51,64840156,0,0,148,25649.3,10401,521.39,"SIM",65385078.43,72000000,31614260]
[null,1295,"2011-06-25",20,2,43,15,5,57,74795498,1,73451540.260000005,314,13945.66,20014,312.56,"NÃO",0,2500000,32766611.699999999]
[null,1296,"2011-06-29",49,43,14,10,53,46,22389830,0,0,48,27308.81,3607,519.15,"SIM",2414673.52,5000000,33111565.079999998]
[null,1297,"2011-07-02",2,56,11,5,59,13,29736902,0,0,100,17409.61,9538,260.75,"SIM",5621705.9000000004,9000000,33569712.579999998]
[null,1298,"2011-07-06",60,14,53,30,15,55,31765670,1,9047534.5999999996,38,48940.41,4046,656.63,"NÃO",0,2000000,34059116.700000003]
[null,1299,"2011-07-09",56,32,8,22,43,53,24421448,0,0,35,40850.42,3035,672.98,"SIM",15046663.449999999,18000000,34435370.579999998]
[null,1300,"2011-07-13",46,43,59,54,44,53,36367478,2,9484391.4199999999,58,36709.5,3652,832.87,"NÃO",0,2500000,34995673.369999997]
[null,1301,"2011-07-16",16,25,3,51,23,56,25508528,1,2751015.4,74,20181.189999999999,5155,413.85,"NÃO",0,2000000,35388675.590000004]
[null,1302,"2011-07-20",44,15,56,2,10,57,21695498,0,0,63,20161.47,5084,356.91,"SIM",2339791.9700000002,5000000,35722931.600000001]
[null,1303,"2011-07-23",19,51,54,8,52,46,27473682,0,0,40,40211.480000000003,3573,643.1,"SIM",5302743.1100000003,9000000,36146210.350000001]
[null,1304,"2011-07-27",35,23,15,7,20,14,28646906,0,0,79,21229.7,7568,316.58,"SIM",17861876.129999999,21000000,36587564.600000001]
[null,1305,"2011-07-30",44,11,5,46,36,3,39487318,0,0,136,16998.55,9982,330.85,"SIM",22120460.550000001,27000000,37195933.810000002]
[null,1306,"2011-08-03",45,6,19,34,43,22,42754456,0,0,167,14988.5,10694,334.37,"SIM",26731395.640000001,32000000,37854638.840000004]
[null,1307,"2011-08-06",10,47,54,7,43,32,49555382,1,32075789.449999999,153,18962.37,11019,376.13,"NÃO",0,2000000,38618123.689999998]
[null,1308,"2011-08-09",24,33,7,30,47,8,14716496,0,0,75,11487.79,4417,278.64999999999998,"SIM",1587128.31,3800000,38844856.310000002]
[null,1309,"2011-08-11",7,12,25,26,32,39,22953932,0,0,100,13438.49,6163,311.5,"SIM",15550756.73,18000000,39198500.630000003]
[null,1310,"2011-08-13",14,8,53,9,59,32,35441740,0,0,107,19392.080000000002,7570,391.57,"SIM",19373038.140000001,24000000,39744540.850000001]
[null,1311,"2011-08-17",54,7,19,12,45,9,39404808,0,0,253,9118.4699999999993,13609,242.16,"SIM",23622724.120000001,29000000,40351638.869999997]
[null,1312,"2011-08-20",28,30,29,22,20,5,45959796,0,0,201,13386.76,10377,370.42,"SIM",28579345.16,33000000,41059727.609999999]
[null,1313,"2011-08-24",39,26,49,1,4,43,48565804,0,0,140,20309.34,9036,449.52,"SIM",33817016.060000002,39000000,41807966.32]
[null,1314,"2011-08-27",42,44,52,58,60,38,57336632,0,0,122,27514.75,7797,615.03,"SIM",55369062.270000003,63000000,42691334.539999999]
[null,1315,"2011-08-31",27,29,1,50,52,38,79859638,1,63981675.840000004,108,43290.92,9003,741.88,"NÃO",0,2500000,43921707.920000002]
[null,1316,"2011-09-03",48,34,25,42,13,8,26185292,1,2824002.29,241,6361.12,9757,224.45,"NÃO",0,2000000,44325136.829999998]
[null,1317,"2011-09-08",35,29,37,13,6,30,20544576,0,0,67,17952.11,5004,343.38,"SIM",2215668.61,4700000,44641660.93]
[null,1318,"2011-09-10",34,46,14,28,11,16,25462822,0,0,140,10648.09,6962,305.89,"SIM",4961754.76,8000000,45033958.969999999]
[null,1319,"2011-09-14",16,4,18,27,5,51,30169434,0,0,103,17148.38,7798,323.57,"SIM",20568151.640000001,25000000,45498770.350000001]
[null,1320,"2011-09-17",38,17,55,41,24,25,44252956,0,0,128,20240.7,8496,435.63,"SIM",25340695.289999999,31000000,46180562.32]
[null,1321,"2011-09-21",51,59,47,10,60,53,53135684,1,31071213.530000001,128,24303.54,11775,377.41,"NÃO",0,2000000,46999207.799999997]
[null,1322,"2011-09-24",55,43,21,10,47,53,25427030,0,0,54,27567.360000000001,3738,568.91999999999996,"SIM",2742226.09,5700000,47390954.399999999]
[null,1323,"2011-09-28",25,37,15,6,48,55,28429866,0,0,58,28697.23,5387,441.39,"SIM",5808298.7000000002,9000000,47828964.789999999]
[null,1324,"2011-10-01",29,44,51,31,18,57,34005492,0,0,86,23149.62,5421,524.64,"SIM",22033754.850000001,26000000,48352877.159999996]
[null,1325,"2011-10-05",35,2,20,43,5,16,43670856,0,0,195,13111.44,14090,259.22000000000003,"SIM",26743520.84,32000000,49025700.880000003]
[null,1326,"2011-10-08",30,19,10,18,50,11,52738340,0,0,179,17249.11,13207,333.97,"SIM",32431186.77,38000000,49838224.590000004]
[null,1327,"2011-10-13",41,35,36,16,52,54,58515206,0,0,89,38492.129999999997,7175,682.09,"SIM",38741869.729999997,46000000,50739750.740000002]
[null,1328,"2011-10-15",43,27,59,53,23,10,61651408,1,45390782.32,213,16945.580000000002,14179,363.65,"NÃO",0,2000000,51689595.420000002]
[null,1329,"2011-10-19",43,50,8,7,39,11,25381758,0,0,66,22514.95,5244,404.81,"SIM",19139519.77,23000000,52080644.520000003]
[null,1330,"2011-10-22",48,8,21,18,49,30,44818908,0,0,76,34525.57,6768,553.85,"SIM",23973099.600000001,30000000,52771155.939999998]
[null,1331,"2011-10-26",24,46,39,57,26,9,48606926,1,29215205.370000001,157,18125.57,11461,354.7,"NÃO",0,2000000,53520028.210000001]
[null,1332,"2011-10-29",5,13,3,24,35,59,27477446,1,2963357.08,150,10724.53,10790,212.98,"NÃO",0,2000000,53943364.939999998]
[null,1333,"2011-11-03",25,51,26,42,28,33,23695356,0,0,54,25689.91,3893,509.06,"SIM",2555470.44,5000000,54308432.159999996]
[null,1334,"2011-11-05",8,25,27,6,10,1,28431066,0,0,392,4246.2,16794,141.59,"SIM",17351264.84,21000000,54746461.030000001]
[null,1335,"2011-11-09",49,3,51,20,22,14,42041302,1,21885288.489999998,94,26184.33,7457,471.52,"NÃO",0,2500000,55394178.710000001]
[null,1336,"2011-11-12",51,54,32,1,38,47,28618536,1,3086420.09,38,44091.72,3539,676.33,"NÃO",0,2000000,55835095.869999997]
[null,1337,"2011-11-16",38,2,45,35,20,51,20058304,0,0,30,39144.080000000002,2680,625.97,"SIM",2163225.69,5000000,56144128.119999997]
[null,1338,"2011-11-19",19,33,18,43,60,1,30461948,1,5448452.0300000003,102,17484.400000000001,6329,402.54,"NÃO",0,2300000,56613446.189999998]
[null,1339,"2011-11-23",59,10,16,14,7,54,23396164,0,0,58,23616.19,5087,384.66,"SIM",12323951.619999999,16000000,56973903.840000004]
[null,1340,"2011-11-26",36,21,13,59,60,30,35779136,0,0,71,29502.9,6148,486.73,"SIM",16182620.140000001,20000000,57525142.219999999]
[null,1341,"2011-11-30",11,40,37,20,1,52,40783200,0,0,90,26529.68,6566,519.48,"SIM",20580961.399999999,25000000,58153476.700000003]
[null,1342,"2011-12-03",5,60,46,42,50,7,47829560,0,0,102,27452.98,8092,494.35,"SIM",25739230.68,31000000,58890372.310000002]
[null,1343,"2011-12-07",51,31,42,20,56,19,49985698,0,0,58,50455.78,6113,683.89,"SIM",31130032.719999999,37000000,59660486.920000002]
[null,1344,"2011-12-10",19,42,8,36,21,59,58986186,3,12497169.800000001,236,14632.94,13393,368.35,"NÃO",0,20000000,60569269.32]
[null,1345,"2011-12-14",50,40,26,7,19,17,35477030,0,0,74,28067.82,6043,491,"SIM",19645695.09,24000000,61115853.229999997]
[null,1346,"2011-12-17",59,47,32,48,40,12,44171706,1,24409476.190000001,57,45369.34,5205,709.77,"NÃO",0,2000000,61796393.399999999]
[null,1347,"2011-12-20",19,45,54,56,46,9,15591154,0,0,38,24020.82,2940,443.53,"SIM",1681457.45,4000000,62036601.619999997]
[null,1348,"2011-12-22",38,45,39,7,12,56,24032082,0,0,89,15808.64,5009,401.26,"SIM",4273242.7300000004,7000000,62406856.670000002]
[null,1349,"2011-12-24",9,19,20,50,60,51,26205394,1,7099412.9500000002,168,9132.18,7012,312.56,"NÃO",0,170000000,72672429.299999997]
[null,1350,"2011-12-31",4,36,29,55,45,3,549326718,5,35523497.520000003,954,33711.300000000003,85582,536.83000000000004,"NÃO",0,2500000,0]
[null,1351,"2012-01-04",13,50,41,36,56,33,20333424,0,0,34,35012.629999999997,3264,521.02,"SIM",2192896.5299999998,4700000,313270.94]
[null,1352,"2012-01-07",35,59,36,9,18,24,27619428,0,0,75,21559.89,6632,348.3,"SIM",5171565.92,8000000,738795.15]
[null,1353,"2012-01-11",47,11,3,27,32,13,29111596,1,8311160.9900000002,161,10586.03,10308,236.2,"NÃO",0,2000000,1187308.75]
[null,1354,"2012-01-14",2,42,8,49,48,38,26110882,1,2815977.4,71,21530.61,4842,451.01,"NÃO",0,9500000,1589591.26]
[null,1355,"2012-01-18",39,49,11,24,17,46,28231626,0,0,133,12427.32,6490,363.81,"SIM",10038894.300000001,13500000,2024547.42]
[null,1356,"2012-01-21",21,46,6,22,13,31,34891612,0,0,90,22697.17,7070,412.75,"SIM",13801846.130000001,18000000,2562111.9900000002]
[null,1357,"2012-01-25",55,52,26,19,1,24,34816916,0,0,116,17572.169999999998,6940,419.59,"SIM",17556742.210000001,21500000,3098525.73]
[null,1358,"2012-01-28",16,15,37,3,35,47,41749108,0,0,145,16856.7,10440,334.45,"SIM",22059253.649999999,27000000,3741741.67]
[null,1359,"2012-02-01",12,17,28,53,6,10,43427112,0,0,254,10009.69,13663,265.83,"SIM",39156095.149999999,45000000,4410810.1100000003]
[null,1360,"2012-02-04",50,25,17,16,54,2,57400014,2,22673254.059999999,112,30004.55,9880,485.9,"NÃO",0,2500000,5295154.83]
[null,1361,"2012-02-08",37,27,44,30,38,23,23685136,0,0,38,36490.980000000003,3381,585.9,"SIM",2554368.2400000002,5000000,5660064.5899999999]
[null,1362,"2012-02-11",58,19,12,22,2,36,29840642,3,1924196.22,129,13542.9,8825,282.8,"NÃO",0,2000000,6119810.3700000001]
[null,1363,"2012-02-15",52,25,42,45,35,57,22238800,0,0,36,36166.129999999997,2744,677.83,"SIM",2398385.4,5000000,6462436.8700000001]
[null,1364,"2012-02-18",20,13,40,10,53,44,27107626,0,0,60,26450.47,4436,511.08,"SIM",16186627.779999999,19000000,6880075.8899999997]
[null,1365,"2012-02-22",50,35,32,26,2,24,20781492,0,0,52,23397.34,3368,516.04999999999995,"SIM",18427847.039999999,22000000,7200250.0800000001]
[null,1366,"2012-02-25",59,44,54,37,27,12,41492838,1,22902720.550000001,124,19590.46,7974,435.2,"NÃO",0,2000000,7839517.7400000002]
[null,1367,"2012-03-01",38,29,43,13,7,2,17429746,0,0,111,9193.08,6443,226.25,"SIM",1879743.88,3800000,8108052.5800000001]
[null,1368,"2012-03-03",10,26,29,38,32,21,27762382,1,4873830.43,34,47804.75,4447,522.13,"NÃO",0,2000000,8535779.2400000002]
[null,1369,"2012-03-07",32,24,16,38,5,46,21682238,0,0,195,6509.72,7636,237.48,"SIM",11093283.98,14500000,8869830.9700000007]
[null,1370,"2012-03-10",2,27,59,49,4,5,36211332,2,7499281.75,115,18434.86,9979,303.49,"NÃO",0,2000000,9427728.0600000005]
[null,1371,"2012-03-14",47,11,8,49,3,4,21159460,0,0,101,12265.25,7421,238.47,"SIM",2281981.94,5000000,9753725.5]
[null,1372,"2012-03-17",46,60,58,36,40,3,28545872,0,0,48,34817.31,4069,586.74,"SIM",5360565.43,9000000,10193523.16]
[null,1373,"2012-03-21",52,39,7,27,55,57,29296932,1,8520148.4100000001,73,23495.919999999998,6082,402.87,"NÃO",0,2000000,10644892.18]
[null,1374,"2012-03-24",21,33,28,31,43,6,24212762,0,0,32,44298.35,3575,566.45000000000005,"SIM",12062910.42,15000000,11017930.91]
[null,1375,"2012-03-28",25,28,53,45,14,58,33206740,2,7822077.0199999996,121,16066.97,7136,389.19,"NÃO",0,2000000,11529537.16]
[null,1376,"2012-03-31",53,49,21,11,54,9,24649260,0,0,57,25317.58,4091,503.92,"SIM",2658346.0099999998,5500000,11909300.9]
[null,1377,"2012-04-04",25,5,13,12,35,2,27285304,1,5600981.1699999999,175,9128.17,12352,184.75,"NÃO",0,2000000,12329677.359999999]
[null,1378,"2012-04-07",18,17,59,2,54,5,19957006,0,0,74,15789.08,5614,297.31,"SIM",2152301.02,5000000,12637148.960000001]
[null,1379,"2012-04-11",45,5,36,12,50,58,26028118,0,0,61,24980.79,5455,399.06,"SIM",13848344.050000001,17000000,13038156.32]
[null,1380,"2012-04-14",52,14,3,60,57,55,40011288,0,0,100,23424.79,6994,478.46,"SIM",18163437.010000002,23000000,13654598.189999999]
[null,1381,"2012-04-18",44,30,27,11,40,57,43151892,1,22817234.34,109,23177.49,7087,509.25,"NÃO",0,2000000,14319426.390000001]
[null,1382,"2012-04-20",17,27,55,13,5,16,16820638,0,0,70,14068.17,6131,229.45,"SIM",1814053.48,4500000,14578576.91]
[null,1383,"2012-04-25",9,55,23,44,7,46,25465080,0,0,106,14064.76,6224,342.19,"SIM",4560383.1500000004,7500000,14970909.73]
[null,1384,"2012-04-28",56,18,31,2,30,45,32449994,2,4030007.03,56,33924.99,5010,541.71,"NÃO",0,14000000,15470857.02]
[null,1385,"2012-05-02",42,37,35,27,59,36,25027030,1,13402970.050000001,52,28177.29,4170,501.95,"NÃO",0,2000000,15856440.949999999]
[null,1386,"2012-05-05",39,56,28,12,51,38,25071540,0,0,27,54363.88,3462,605.67999999999995,"SIM",2703887.6,6000000,16242710.609999999]
[null,1387,"2012-05-09",43,27,18,52,50,32,27838600,0,0,47,34677.089999999997,3492,666.75,"SIM",5706194.0099999998,9000000,16671611.539999999]
[null,1388,"2012-05-12",54,31,50,43,29,22,35078914,0,0,48,42785.64,4047,724.95,"SIM",9489345.7699999996,14000000,17212061.809999999]
[null,1389,"2012-05-16",1,44,39,16,57,28,37083342,1,13488668.85,146,14870.28,7397,419.29,"NÃO",0,13000000,17783393.690000001]
[null,1390,"2012-05-19",29,27,19,4,28,31,33991512,2,6920519.9299999997,149,13356.03,7924,358.77,"NÃO",0,2000000,18307090.690000001]
[null,1391,"2012-05-23",19,7,12,34,53,40,21495362,0,0,74,17006.16,5293,339.65,"SIM",2318207.92,5000000,18638263.260000002]
[null,1392,"2012-05-26",43,8,2,28,33,12,27785084,0,0,116,14023.2,8651,268.62,"SIM",5314742.8,10000000,19066339.690000001]
[null,1393,"2012-05-30",44,28,18,24,4,39,26194122,1,8139697.3700000001,86,17831.939999999999,5717,383.2,"NÃO",0,2000000,19469904.649999999]
[null,1394,"2012-06-02",11,35,16,46,24,50,24729388,0,0,32,45243.54,4092,505.44,"SIM",11764027.65,15000000,19850902.890000001]
[null,1395,"2012-06-06",5,44,11,19,17,48,36700846,0,0,245,8770.07,13657,224.75,"SIM",15722099.73,20000000,20416341.780000001]
[null,1396,"2012-06-09",52,48,54,58,55,29,38947900,0,0,44,51823.24,4577,711.7,"SIM",19922509.600000001,25000000,21016400.350000001]
[null,1397,"2012-06-13",15,56,3,27,4,7,48213450,0,0,249,11336.06,18115,222.59,"SIM",25122180.210000001,31000000,21759210.449999999]
[null,1398,"2012-06-16",42,51,14,40,32,33,56080918,0,0,75,43777.11,7149,656.09,"SIM",31170332.789999999,37000000,22623232.27]
[null,1399,"2012-06-20",39,43,60,57,34,56,65858258,2,19136470.530000001,648,5950.16,9834,560.11,"NÃO",0,20000000,23637890.600000001]
[null,1400,"2012-06-23",34,26,9,43,54,53,37429448,0,0,72,30435.06,6208,504.26,"SIM",20699395.109999999,25000000,24214554.829999998]
[null,1401,"2012-06-27",12,11,54,33,48,25,41339942,1,25157779.260000002,233,10387.41,11965,288.95999999999998,"NÃO",0,2000000,24851466.859999999]
[null,1402,"2012-06-30",38,10,27,2,21,9,26330100,0,0,101,15262.45,7929,277.73,"SIM",2839619.38,6000000,25257126.789999999]
[null,1403,"2012-07-04",16,39,13,26,42,20,30848352,0,0,95,19010.849999999999,6176,417.75,"SIM",6166518.1900000004,10000000,25732398.050000001]
[null,1404,"2012-07-07",7,32,31,51,27,8,38186236,0,0,88,25404.89,7470,427.54,"SIM",22089242.390000001,27000000,26320721.890000001]
[null,1405,"2012-07-11",14,17,32,37,39,3,51310412,1,27622910.73,315,9536.48,15516,276.58,"NÃO",0,2500000,27111245.949999999]
[null,1406,"2012-07-14",7,10,38,17,24,57,29317880,0,0,134,12809.17,9133,268.48,"SIM",3161842.16,6000000,27562937.710000001]
[null,1407,"2012-07-18",53,42,31,43,29,18,31321024,0,0,53,34598.18,3583,731.11,"SIM",6539717.1699999999,11000000,28045491.300000001]
[null,1408,"2012-07-21",43,39,20,19,24,4,39008398,0,0,118,19353.93,8075,404.02,"SIM",10746651.560000001,16000000,28646481.940000001]
[null,1409,"2012-07-25",50,6,47,58,26,19,41611002,0,0,96,25376.400000000001,6846,508.35,"SIM",28288400.52,33000000,29287570.120000001]
[null,1410,"2012-07-28",54,29,18,42,40,50,57836634,0,0,70,48372.46,6917,699.32,"SIM",34525901.600000001,42000000,30178641.719999999]
[null,1411,"2012-08-01",32,44,12,8,48,46,78679980,2,21505646.359999999,360,12795.43,21016,313.11,"NÃO",0,3000000,31390840.469999999]
[null,1412,"2012-08-04",6,8,37,24,45,41,30492424,1,3288513.09,103,17331.97,6893,369.98,"NÃO",0,2000000,31860628.059999999]
[null,1413,"2012-08-07",54,33,13,55,45,15,15152076,0,0,70,12672.64,3887,326.02,"SIM",1634104.26,4000000,32094071.539999999]
[null,1414,"2012-08-09",44,49,57,37,21,46,25733096,0,0,36,41848.78,3349,642.64,"SIM",18502377.629999999,22000000,32490533.600000001]
[null,1415,"2012-08-11",51,49,46,40,36,26,40685478,0,0,39,61075.63,3766,903.55,"SIM",22890179.879999999,28000000,33117362.510000002]
[null,1416,"2012-08-15",49,3,19,35,22,24,50942620,2,14192091.49,206,14477.96,14457,294.70999999999998,"NÃO",0,2500000,33902220.109999999]
[null,1417,"2012-08-18",12,56,5,52,45,59,28704854,4,773932.3,83,20247.46,6383,376.11,"NÃO",0,2000000,34344467.149999999]
[null,1418,"2012-08-22",7,8,10,27,12,56,24524004,0,0,188,7637.07,11107,184.66,"SIM",2644837.54,5600000,34722301.100000001]
[null,1419,"2012-08-25",52,21,48,58,30,17,30791774,0,0,56,32191.4,3828,672.75,"SIM",17872769.48,22000000,35196700.689999998]
[null,1420,"2012-08-29",45,16,18,11,36,2,41256602,0,0,129,18723.93,9189,375.5,"SIM",22322165.670000002,28000000,35832328.729999997]
[null,1421,"2012-09-01",31,39,59,19,53,44,49871110,1,27700609.77,142,20561.45,8046,518.39,"NÃO",0,2500000,36600677.909999996]
[null,1422,"2012-09-05",17,44,2,5,13,39,24685402,1,2662243.8199999998,250,5780.87,12007,171.94,"NÃO",0,2000000,36980998.469999999]
[null,1423,"2012-09-08",43,8,21,27,3,25,20301558,3,729819.96,187,6355.96,8340,203.59,"NÃO",0,2000000,37293778.460000001]
[null,1424,"2012-09-12",60,38,29,3,7,15,23333070,0,0,83,16458.38,6625,294.56,"SIM",13325277.460000001,17000000,37653264.049999997]
[null,1425,"2012-09-15",7,29,50,16,38,36,39029976,1,17534538.969999999,82,27866.19,6460,505.31,"NÃO",0,2000000,38254587.130000003]
[null,1426,"2012-09-19",24,44,6,15,18,30,22530210,0,0,67,19687.18,5957,316.32,"SIM",2429813.06,5500000,38601703.289999999]
[null,1427,"2012-09-22",47,44,53,56,8,39,29080638,0,0,73,23322.46,4824,504.18,"SIM",5566069.4100000001,9000000,39049739.920000002]
[null,1428,"2012-09-26",15,55,37,34,19,7,30227772,1,8826040.5899999999,204,8674.99,9777,258.58,"NÃO",0,2000000,39515450.100000001]
[null,1429,"2012-09-29",9,22,60,48,12,39,25455478,0,0,59,25259.360000000001,4805,443.08,"SIM",12664526.029999999,16000000,39907634.979999997]
[null,1430,"2012-10-03",19,2,30,46,22,52,39097864,0,0,87,26310.37,6685,489.15,"SIM",16881109.039999999,22000000,40510004.009999998]
[null,1431,"2012-10-06",33,54,40,5,9,13,49552308,0,0,278,10435.48,17721,233.86,"SIM",22225171.32,28000000,41273441.490000002]
[null,1432,"2012-10-10",16,24,25,45,59,42,52510170,0,0,124,24792.19,10268,427.71,"SIM",27888229.829999998,35000000,42082449.859999999]
[null,1433,"2012-10-13",14,46,40,13,4,52,55794726,1,33905517.490000002,124,26342.959999999999,9358,498.66,"NÃO",0,2000000,42942062.390000001]
[null,1434,"2012-10-17",3,34,58,22,18,55,25079638,2,1352380.47,116,12657.75,6335,331.1,"NÃO",0,19000000,43328456.82]
[null,1435,"2012-10-20",45,47,50,52,15,4,41564024,0,0,93,26165.43,6915,502.71,"SIM",19534166.5,25000000,43968821.219999999]
[null,1436,"2012-10-24",1,23,13,30,24,57,46027556,0,0,127,21218.15,9275,415.04,"SIM",24498095.239999998,30000000,44677953.920000002]
[null,1437,"2012-10-27",48,37,26,22,38,23,60881314,0,0,107,33311.440000000002,8856,574.96,"SIM",31063955.59,38000000,45615933.979999997]
[null,1438,"2012-10-31",49,7,33,31,36,14,68771562,2,19240377.329999998,712,5654.86,19524,294.60000000000002,"NÃO",0,2500000,46675476.710000001]
[null,1439,"2012-11-03",35,55,2,43,34,42,24893922,0,0,45,32387.25,3961,525.63,"SIM",19099165.190000001,25000000,47059009.859999999]
[null,1440,"2012-11-07",6,28,56,2,36,51,49203458,1,24405605.100000001,148,19463.78,11068,371.81,"NÃO",0,2000000,47817072.710000001]
[null,1441,"2012-11-10",56,29,53,36,38,17,29497406,0,0,66,26165.75,5471,450.93,"SIM",3181203.48,6700000,48271530.350000001]
[null,1442,"2012-11-14",12,20,13,49,34,30,34432308,0,0,80,25198.19,6274,459,"SIM",6894620.79,11000000,48802018.549999997]
[null,1443,"2012-11-17",52,32,12,54,20,48,35945462,0,0,72,29228.38,5984,502.39,"SIM",10771227.060000001,15000000,49355819.460000001]
[null,1444,"2012-11-21",2,5,55,28,27,48,38922186,0,0,175,13021.24,11165,291.56,"SIM",27713340.32,32000000,49955481.869999997]
[null,1445,"2012-11-24",41,32,19,58,5,49,57211388,1,33883410.57,133,25183.96,10497,455.83,"NÃO",0,2500000,50836920.5]
[null,1446,"2012-11-28",13,32,6,51,40,24,24470254,1,2639040.77,87,16466.919999999998,5521,370.69,"NÃO",0,2500000,51213926.340000004]
[null,1447,"2012-12-01",1,41,28,33,39,19,27911454,0,0,51,32040.959999999999,4339,538,"SIM",3010163.5,6000000,51643949.710000001]
[null,1448,"2012-12-05",25,29,36,1,56,60,31044854,0,0,83,21898.01,6212,417.97,"SIM",6358254.4299999997,10000000,52122248.43]
[null,1449,"2012-12-08",2,18,30,56,52,6,36690336,0,0,116,18517.689999999999,8481,361.82,"SIM",22336184.149999999,27000000,52687525.390000001]
[null,1450,"2012-12-12",27,45,44,26,38,31,46428132,0,0,88,30888.14,7146,543.39,"SIM",27343313.77,33000000,53402829.630000003]
[null,1451,"2012-12-15",57,10,33,2,11,52,53760158,0,0,164,19191.54,12868,349.41,"SIM",33141179.59,40000000,54231096.189999998]
[null,1452,"2012-12-18",50,57,58,28,2,14,37411840,0,0,60,36504.89,5878,532.32000000000005,"SIM",37175930.170000002,41000000,54807489.149999999]
[null,1453,"2012-12-20",47,32,25,57,6,13,51704394,0,0,282,10734.25,14237,303.74,"SIM",42752088.240000002,48000000,55604083.170000002]
[null,1454,"2012-12-22",27,52,41,29,4,48,58744064,0,0,144,23883.32,11007,446.36,"SIM",122411671.25,230000000,122411671.25]
[null,1455,"2012-12-31",33,14,52,36,32,41,640548924,3,81594699.719999999,1368,27413.18,113258,473.01,"NÃO",0,2500000,0]
[null,1456,"2013-01-02",36,6,40,14,8,26,12180490,0,0,24,29713.02,2685,379.41,"SIM",1313627.95,3500000,187661.16]
[null,1457,"2013-01-05",34,16,46,15,42,59,30743352,0,0,96,18748.79,6867,374.43,"SIM",4629202.83,7500000,661314.73]
[null,1458,"2013-01-09",2,16,4,44,33,51,35151968,0,0,134,15358.12,9515,308.98,"SIM",8420233.2400000002,13000000,1202890.51]
[null,1459,"2013-01-12",2,6,35,30,52,34,44748336,1,13246202.09,147,17821.849999999999,11563,323.66000000000003,"NÃO",0,13000000,1892314.64]
[null,1460,"2013-01-16",50,52,14,4,27,38,36815066,0,0,103,20925.78,7074,435.26,"SIM",12296574.51,17000000,2459513.2799999998]
[null,1461,"2013-01-19",44,31,49,54,36,47,45787974,0,0,99,27077.55,6683,573.02,"SIM",17234665.079999998,23000000,3164954.8]
[null,1462,"2013-01-23",5,9,25,40,38,27,48551594,1,22470803.48,392,7251.21,12264,331.1,"NÃO",0,2000000,3912974.58]
[null,1463,"2013-01-26",40,22,13,29,48,28,27723126,0,0,46,35283.980000000003,4520,512.97,"SIM",2989852.91,6000000,4340096.43]
[null,1464,"2013-01-30",59,2,54,32,24,50,30500016,0,0,76,23495.23,5570,457.97,"SIM",19117004.460000001,25000000,4810001]
[null,1465,"2013-02-02",11,6,53,44,16,26,46555048,0,0,117,23295.61,7939,490.45,"SIM",24137821.57,30000000,5527260.5999999996]
[null,1466,"2013-02-06",4,13,51,37,6,34,53181258,1,29873254.829999998,213,14617.47,15287,290.95,"NÃO",0,3000000,6346608.2300000004]
[null,1467,"2013-02-09",41,53,26,23,52,24,28717388,1,3097080.96,75,22416.97,3925,611.91999999999996,"NÃO",0,1500000,6789048.3799999999]
[null,1468,"2013-02-13",2,20,37,19,1,10,14302608,1,1542491.77,179,4677.95,6493,184.23,"NÃO",0,2000000,7009404.3499999996]
[null,1469,"2013-02-16",4,56,54,13,35,58,27317922,0,0,105,15231.81,6920,330.16,"SIM",14475394.970000001,19000000,7430283.3499999996]
[null,1470,"2013-02-20",2,34,51,36,38,55,40807202,2,9438162.3900000006,172,13889.98,9203,370.85,"NÃO",0,3000000,8058987.6200000001]
[null,1471,"2013-02-23",58,33,36,40,25,10,27924488,0,0,92,17770.13,5159,452.7,"SIM",3011569.17,6500000,8489211.8100000005]
[null,1472,"2013-02-27",12,23,25,18,45,50,30118576,0,0,130,13563.89,7002,359.75,"SIM",6259763.9000000004,10000000,8953239.6400000006]
[null,1473,"2013-03-02",60,12,57,58,33,2,38088322,0,0,121,18428.91,8300,383.8,"SIM",10367470.949999999,15000000,9540054.9399999995]
[null,1474,"2013-03-06",2,43,11,1,3,28,40567716,1,14742572.93,158,15031.99,11838,286.61,"NÃO",0,16000000,10165069.529999999]
[null,1475,"2013-03-09",13,12,51,37,48,44,38445112,1,16179244.6,111,20277.36,9065,354.7,"NÃO",0,3000000,10757381.789999999]
[null,1476,"2013-03-13",26,10,4,37,47,57,25578566,0,0,58,25819.119999999999,4681,457.01,"SIM",2758568.78,7000000,11151463.060000001]
[null,1477,"2013-03-16",50,59,56,46,3,4,33215034,0,0,58,33527.4,4036,688.3,"SIM",6340706.8799999999,10000000,11663197.09]
[null,1478,"2013-03-20",10,40,27,47,55,37,34163442,0,0,56,35716.33,4924,580.28,"SIM",10025127.83,15000000,12189542.949999999]
[null,1479,"2013-03-23",57,21,54,48,50,60,40879372,0,0,59,40564.43,5006,682.98,"SIM",26112714.84,32000000,12819359.119999999]
[null,1480,"2013-03-27",9,14,26,36,52,21,51049112,1,31618202.789999999,151,19792.669999999998,11395,374.68,"NÃO",0,2500000,13605857.42]
[null,1481,"2013-03-30",40,27,55,17,28,44,22104474,0,0,46,28132.97,3154,586.15,"SIM",2383898.7599999998,5200000,13946414.380000001]
[null,1482,"2013-04-03",11,9,6,34,41,53,28043090,0,0,79,20782.22,5433,431.69,"SIM",5408258.7800000003,9000000,14378465.82]
[null,1483,"2013-04-06",55,53,1,35,56,39,35080218,0,0,53,38750.699999999997,4817,609.08000000000004,"SIM",9191551.1699999999,13000000,14918936.18]
[null,1484,"2013-04-10",49,29,17,53,20,24,37284786,0,0,85,25680.65,7114,438.34,"SIM",24978254.239999998,30000000,15493371.66]
[null,1485,"2013-04-13",30,59,27,36,4,54,52780898,0,0,212,14575.86,12408,355.77,"SIM",30670509.920000002,37000000,16306551.060000001]
[null,1486,"2013-04-17",10,1,34,54,6,40,59964778,1,37137524.710000001,174,20176.240000000002,12128,413.52,"NÃO",0,2500000,17230410.34]
[null,1487,"2013-04-20",4,17,23,28,9,53,27266336,0,0,198,8062.23,9593,237.72,"SIM",2940589.52,6500000,17650494.57]
[null,1488,"2013-04-24",4,51,45,22,38,25,29223638,1,6092267.9800000004,144,11881.33,7105,344,"NÃO",0,2800000,18100734.359999999]
[null,1489,"2013-04-27",48,15,24,28,1,26,26586222,1,2867241.35,86,18098.87,5462,407.09,"NÃO",0,17000000,18510340.289999999]
[null,1490,"2013-05-02",31,32,43,3,52,1,33584654,0,0,73,26934.639999999999,4902,573.01,"SIM",16896662.039999999,20500000,19027768.93]
[null,1491,"2013-05-04",56,6,45,60,26,50,39743064,0,0,74,31442.92,5450,609.9,"SIM",21182827.870000001,25000000,19640078.34]
[null,1492,"2013-05-08",48,44,46,4,18,9,48938634,1,26460707.329999998,232,12349.72,12719,321.8,"NÃO",0,2400000,20394061.140000001]
[null,1493,"2013-05-11",30,24,12,49,7,27,27293590,2,1471764.39,137,11663.62,9075,251.54,"NÃO",0,2500000,20814565.27]
[null,1494,"2013-05-15",50,28,35,24,2,14,23860410,0,0,68,20542.919999999998,5746,347.3,"SIM",14329345.310000001,19000000,21182175.420000002]
[null,1495,"2013-05-18",13,49,4,44,14,57,40412652,0,0,140,16899.84,9828,343.91,"SIM",18687724.129999999,24000000,21804800.989999998]
[null,1496,"2013-05-22",28,18,41,54,14,47,46072184,0,0,106,25446.39,8337,462.19,"SIM",23656465.870000001,29000000,22514621.25]
[null,1497,"2013-05-25",58,7,27,45,4,5,50296330,0,0,252,11685.01,17540,239.82,"SIM",29080768.609999999,34500000,23289521.66]
[null,1498,"2013-05-29",11,46,27,49,6,40,59252370,0,0,237,14636.95,14820,334.38,"SIM",35470952.420000002,43000000,24202405.07]
[null,1499,"2013-06-01",26,37,8,22,54,33,70151904,1,43036617.07,295,13922.29,18276,321.02999999999997,"NÃO",0,22000000,25283214.32]
[null,1500,"2013-06-05",57,43,18,59,10,31,42334170,1,22610179.370000001,81,30598.43,7055,501.86,"NÃO",0,3000000,25935444.120000001]
[null,1501,"2013-06-08",13,37,54,7,29,1,29159100,1,3144718.24,238,7172.83,11210,217.55,"NÃO",0,3000000,26384689.600000001]
[null,1502,"2013-06-12",6,43,22,52,57,51,25980254,0,0,48,31688.04,3580,606.95000000000005,"SIM",2801889.58,6000000,26784959.559999999]
[null,1503,"2013-06-15",36,22,42,3,16,4,31145306,0,0,111,16427.169999999998,8448,308.33999999999997,"SIM",6160813.9400000004,10000000,27264805.91]
[null,1504,"2013-06-19",41,2,42,30,12,10,31656794,0,0,74,25045.42,5957,444.46,"SIM",20439900.82,25000000,27752532.600000001]
[null,1505,"2013-06-22",32,1,6,9,16,2,41112500,0,0,263,9151.9,15199,226.23,"SIM",24873756.07,29500000,28385940.5]
[null,1506,"2013-06-26",49,34,42,18,3,14,42530682,0,0,182,13681.2,10892,326.58,"SIM",29460557.82,35000000,29041197.91]
[null,1507,"2013-06-29",46,24,51,50,56,52,54475754,0,0,93,34293.629999999997,7021,648.92999999999995,"SIM",35335598.460000001,42000000,29880489.43]

{"sheet":"Total de Saída de Cada Dezena","index":1,"n_rows":67,"n_cols":3,"rows_kept":67,"cut":false,"hidden":false,"merged":[[5,1,5,20],[1,1,1,19],[2,1,2,19],[3,1,3,19]]}
[]
[null,"Atenção!"]
[null,"Esta planilha é de uso pessoal, é restritamente proibida a distribuição da mesma a terceiros, sujeito a punições de acordo com as leis de direitos autorais"]
[null,"Todos os direitos reservados ao site www.ApostaEsperta.com "]
[]
[null,"Planilha de Análise Estatística Mega Sena"]
[null,"Dezena","Total de Saída"]
[null,1,{"$f":"COUNTIF('Resultados Gerais'!$D8:$I1048576,B8)","v":143}]
[null,2,{"$f":"COUNTIF('Resultados Gerais'!$D8:$I1048576,B9)","v":153}]
[null,3,{"$f":"COUNTIF('Resultados Gerais'!$D8:$I1048576,B10)","v":149}]
[null,4,{"$f":"COUNTIF('Resultados Gerais'!$D8:$I1048576,B11)","v":172}]
[null,5,{"$f":"COUNTIF('Resultados Gerais'!$D8:$I1048576,B12)","v":179}]
[null,6,{"$f":"COUNTIF('Resultados Gerais'!$D8:$I1048576,B13)","v":147}]
[null,7,{"$f":"COUNTIF('Resultados Gerais'!$D8:$I1048576,B14)","v":149}]
[null,8,{"$f":"COUNTIF('Resultados Gerais'!$D8:$I1048576,B15)","v":152}]
[null,9,{"$f":"COUNTIF('Resultados Gerais'!$D8:$I1048576,B16)","v":132}]
[null,10,{"$f":"COUNTIF('Resultados Gerais'!$D8:$I1048576,B17)","v":158}]
[null,11,{"$f":"COUNTIF('Resultados Gerais'!$D8:$I1048576,B18)","v":140}]
[null,12,{"$f":"COUNTIF('Resultados Gerais'!$D8:$I1048576,B19)","v":158}]
[null,13,{"$f":"COUNTIF('Resultados Gerais'!$D8:$I1048576,B20)","v":161}]
[null,14,{"$f":"COUNTIF('Resultados Gerais'!$D8:$I1048576,B21)","v":142}]
[null,15,{"$f":"COUNTIF('Resultados Gerais'!$D8:$I1048576,B22)","v":135}]
[null,16,{"$f":"COUNTIF('Resultados Gerais'!$D8:$I1048576,B23)","v":159}]
[null,17,{"$f":"COUNTIF('Resultados Gerais'!$D8:$I1048576,B24)","v":160}]
[null,18,{"$f":"COUNTIF('Resultados Gerais'!$D8:$I1048576,B25)","v":143}]
[null,19,{"$f":"COUNTIF('Resultados Gerais'!$D8:$I1048576,B26)","v":142}]
[null,20,{"$f":"COUNTIF('Resultados Gerais'!$D8:$I1048576,B27)","v":142}]
[null,21,{"$f":"COUNTIF('Resultados Gerais'!$D8:$I1048576,B28)","v":129}]
[null,22,{"$f":"COUNTIF('Resultados Gerais'!$D8:$I1048576,B29)","v":128}]
[null,23,{"$f":"COUNTIF('Resultados Gerais'!$D8:$I1048576,B30)","v":153}]
[null,24,{"$f":"COUNTIF('Resultados Gerais'!$D8:$I1048576,B31)","v":165}]
[null,25,{"$f":"COUNTIF('Resultados Gerais'!$D8:$I1048576,B32)","v":141}]
[null,26,{"$f":"COUNTIF('Resultados Gerais'!$D8:$I1048576,B33)","v":125}]
[null,27,{"$f":"COUNTIF('Resultados Gerais'!$D8:$I1048576,B34)","v":153}]
[null,28,{"$f":"COUNTIF('Resultados Gerais'!$D8:$I1048576,B35)","v":159}]
[null,29,{"$f":"COUNTIF('Resultados Gerais'!$D8:$I1048576,B36)","v":161}]
[null,30,{"$f":"COUNTIF('Resultados Gerais'!$D8:$I1048576,B37)","v":153}]
[null,31,{"$f":"COUNTIF('Resultados Gerais'!$D8:$I1048576,B38)","v":147}]
[null,32,{"$f":"COUNTIF('Resultados Gerais'!$D8:$I1048576,B39)","v":156}]
[null,33,{"$f":"COUNTIF('Resultados Gerais'!$D8:$I1048576,B40)","v":168}]
[null,34,{"$f":"COUNTIF('Resultados Gerais'!$D8:$I1048576,B41)","v":153}]
[null,35,{"$f":"COUNTIF('Resultados Gerais'!$D8:$I1048576,B42)","v":140}]
[null,36,{"$f":"COUNTIF('Resultados Gerais'!$D8:$I1048576,B43)","v":156}]
[null,37,{"$f":"COUNTIF('Resultados Gerais'!$D8:$I1048576,B44)","v":154}]
[null,38,{"$f":"COUNTIF('Resultados Gerais'!$D8:$I1048576,B45)","v":145}]
[null,39,{"$f":"COUNTIF('Resultados Gerais'!$D8:$I1048576,B46)","v":135}]
[null,40,{"$f":"COUNTIF('Resultados Gerais'!$D8:$I1048576,B47)","v":149}]
[null,41,{"$f":"COUNTIF('Resultados Gerais'!$D8:$I1048576,B48)","v":160}]
[null,42,{"$f":"COUNTIF('Resultados Gerais'!$D8:$I1048576,B49)","v":160}]
[null,43,{"$f":"COUNTIF('Resultados Gerais'!$D8:$I1048576,B50)","v":164}]
[null,44,{"$f":"COUNTIF('Resultados Gerais'!$D8:$I1048576,B51)","v":153}]
[null,45,{"$f":"COUNTIF('Resultados Gerais'!$D8:$I1048576,B52)","v":134}]
[null,46,{"$f":"COUNTIF('Resultados Gerais'!$D8:$I1048576,B53)","v":135}]
[null,47,{"$f":"COUNTIF('Resultados Gerais'!$D8:$I1048576,B54)","v":151}]
[null,48,{"$f":"COUNTIF('Resultados Gerais'!$D8:$I1048576,B55)","v":137}]
[null,49,{"$f":"COUNTIF('Resultados Gerais'!$D8:$I1048576,B56)","v":162}]
[null,50,{"$f":"COUNTIF('Resultados Gerais'!$D8:$I1048576,B57)","v":163}]
[null,51,{"$f":"COUNTIF('Resultados Gerais'!$D8:$I1048576,B58)","v":168}]
[null,52,{"$f":"COUNTIF('Resultados Gerais'!$D8:$I1048576,B59)","v":164}]
[null,53,{"$f":"COUNTIF('Resultados Gerais'!$D8:$I1048576,B60)","v":166}]
[null,54,{"$f":"COUNTIF('Resultados Gerais'!$D8:$I1048576,B61)","v":171}]
[null,55,{"$f":"COUNTIF('Resultados Gerais'!$D8:$I1048576,B62)","v":136}]
[null,56,{"$f":"COUNTIF('Resultados Gerais'!$D8:$I1048576,B63)","v":148}]
[null,57,{"$f":"COUNTIF('Resultados Gerais'!$D8:$I1048576,B64)","v":146}]
[null,58,{"$f":"COUNTIF('Resultados Gerais'!$D8:$I1048576,B65)","v":144}]
[null,59,{"$f":"COUNTIF('Resultados Gerais'!$D8:$I1048576,B66)","v":151}]
[null,60,{"$f":"COUNTIF('Resultados Gerais'!$D8:$I1048576,B67)","v":143}]

{"sheet":"10 Últimos Sorteios","index":2,"n_rows":71,"n_cols":16,"rows_kept":71,"cut":false,"hidden":false,"merged":[[8,13,9,14],[8,2,9,9],[1,1,1,17],[2,1,2,17],[3,1,3,17],[5,1,5,17]]}
[]
[null,"Atenção!"]
[null,"Esta planilha é de uso pessoal, é restritamente proibida a distribuição da mesma a terceiros, sujeito a punições de acordo com as leis de direitos autorais"]
[null,"Todos os direitos reservados ao site www.ApostaEsperta.com "]
[]
[null,"Planilha de Análise Estatística Mega Sena"]
[]
[]
[null,null,"Resultados dos Últimos 10 Sorteios",null,null,null,null,null,null,null,null,null,null,"Números Quentes Últimos 10 Sorteios"]
[]
[null,null,"Sorteio","Data do Sorteio","1ª Dezena","2ª Dezena","3ª Dezena","4ª Dezena","5ª Dezena","6ª Dezena",null,null,null,"Dezenas","Qtd de Saída"]
[null,null,{"$f":"COUNT('Resultados Gerais'!$B8:$B1048576)","v":1507},{"$f":"VLOOKUP(C12,'Resultados Gerais'!$B8:$C1048576,2,0)","v":"2013-06-29"},{"$f":"VLOOKUP(C12,'Resultados Gerais'!$B8:$I1048576,3,0)","v":46},{"$f":"VLOOKUP(C12,'Resultados Gerais'!$B8:$I1048576,4,0)","v":24},{"$f":"VLOOKUP(C12,'Resultados Gerais'!$B8:$I1048576,5,0)","v":51},{"$f":"VLOOKUP(C12,'Resultados Gerais'!$B8:$I1048576,6,0)","v":50},{"$f":"VLOOKUP(C12,'Resultados Gerais'!$B8:$I1048576,7,0)","v":56},{"$f":"VLOOKUP(C12,'Resultados Gerais'!$B8:$I1048576,8,0)","v":52},null,null,null,22,{"$f":"COUNTIF($E$12:$J$22,N12)","v":3},{"$f":"O12","v":3}]
[null,null,{"$f":"COUNT('Resultados Gerais'!$B8:$B1048576) -1","v":1506},{"$f":"VLOOKUP(C13,'Resultados Gerais'!B8:$C1048576,2,0)","v":"2013-06-26"},{"$f":"VLOOKUP(C13,'Resultados Gerais'!$B8:$I1048576,3,0)","v":49},{"$f":"VLOOKUP(C13,'Resultados Gerais'!$B8:$I1048576,4,0)","v":34},{"$f":"VLOOKUP(C13,'Resultados Gerais'!$B8:$I1048576,5,0)","v":42},{"$f":"VLOOKUP(C13,'Resultados Gerais'!$B8:$I1048576,6,0)","v":18},{"$f":"VLOOKUP(C13,'Resultados Gerais'!$B8:$I1048576,7,0)","v":3},{"$f":"VLOOKUP(C13,'Resultados Gerais'!$B8:$I1048576,8,0)","v":14},null,null,null,6,{"$f":"COUNTIF($E$12:$J$22,N13)","v":3},{"$f":"O13","v":3}]
[null,null,{"$f":"COUNT('Resultados Gerais'!$B8:$B1048576)-2","v":1505},{"$f":"VLOOKUP(C14,'Resultados Gerais'!B8:$C1048576,2,0)","v":"2013-06-22"},{"$f":"VLOOKUP(C14,'Resultados Gerais'!$B8:$I1048576,3,0)","v":32},{"$f":"VLOOKUP(C14,'Resultados Gerais'!$B8:$I1048576,4,0)","v":1},{"$f":"VLOOKUP(C14,'Resultados Gerais'!$B8:$I1048576,5,0)","v":6},{"$f":"VLOOKUP(C14,'Resultados Gerais'!$B8:$I1048576,6,0)","v":9},{"$f":"VLOOKUP(C14,'Resultados Gerais'!$B8:$I1048576,7,0)","v":16},{"$f":"VLOOKUP(C14,'Resultados Gerais'!$B8:$I1048576,8,0)","v":2},null,null,null,42,{"$f":"COUNTIF($E$12:$J$22,N14)","v":3},3]
[null,null,{"$f":"COUNT('Resultados Gerais'!$B8:$B1048576)-3","v":1504},{"$f":"VLOOKUP(C15,'Resultados Gerais'!B8:$C1048576,2,0)","v":"2013-06-19"},{"$f":"VLOOKUP(C15,'Resultados Gerais'!$B8:$I1048576,3,0)","v":41},{"$f":"VLOOKUP(C15,'Resultados Gerais'!$B8:$I1048576,4,0)","v":2},{"$f":"VLOOKUP(C15,'Resultados Gerais'!$B8:$I1048576,5,0)","v":42},{"$f":"VLOOKUP(C15,'Resultados Gerais'!$B8:$I1048576,6,0)","v":30},{"$f":"VLOOKUP(C15,'Resultados Gerais'!$B8:$I1048576,7,0)","v":12},{"$f":"VLOOKUP(C15,'Resultados Gerais'!$B8:$I1048576,8,0)","v":10},null,null,null,49,{"$f":"COUNTIF($E$12:$J$22,N15)","v":2},2]
[null,null,{"$f":"COUNT('Resultados Gerais'!$B8:$B1048576)-4","v":1503},{"$f":"VLOOKUP(C16,'Resultados Gerais'!B8:$C1048576,2,0)","v":"2013-06-15"},{"$f":"VLOOKUP(C16,'Resultados Gerais'!$B8:$I1048576,3,0)","v":36},{"$f":"VLOOKUP(C16,'Resultados Gerais'!$B8:$I1048576,4,0)","v":22},{"$f":"VLOOKUP(C16,'Resultados Gerais'!$B8:$I1048576,5,0)","v":42},{"$f":"VLOOKUP(C16,'Resultados Gerais'!$B8:$I1048576,6,0)","v":3},{"$f":"VLOOKUP(C16,'Resultados Gerais'!$B8:$I1048576,7,0)","v":16},{"$f":"VLOOKUP(C16,'Resultados Gerais'!$B8:$I1048576,8,0)","v":4},null,null,null,54,{"$f":"COUNTIF($E$12:$J$22,N16)","v":2},2]
[null,null,{"$f":"COUNT('Resultados Gerais'!$B8:$B1048576)-5","v":1502},{"$f":"VLOOKUP(C17,'Resultados Gerais'!B8:$C1048576,2,0)","v":"2013-06-12"},{"$f":"VLOOKUP(C17,'Resultados Gerais'!$B8:$I1048576,3,0)","v":6},{"$f":"VLOOKUP(C17,'Resultados Gerais'!$B8:$I1048576,4,0)","v":43},{"$f":"VLOOKUP(C17,'Resultados Gerais'!$B8:$I1048576,5,0)","v":22},{"$f":"VLOOKUP(C17,'Resultados Gerais'!$B8:$I1048576,6,0)","v":52},{"$f":"VLOOKUP(C17,'Resultados Gerais'!$B8:$I1048576,7,0)","v":57},{"$f":"VLOOKUP(C17,'Resultados Gerais'!$B8:$I1048576,8,0)","v":51},null,null,null,57,{"$f":"COUNTIF($E$12:$J$22,N17)","v":2},2]
[null,null,{"$f":"COUNT('Resultados Gerais'!$B8:$B1048576)-6","v":1501},{"$f":"VLOOKUP(C18,'Resultados Gerais'!B8:$C1048576,2,0)","v":"2013-06-08"},{"$f":"VLOOKUP(C18,'Resultados Gerais'!$B8:$I1048576,3,0)","v":13},{"$f":"VLOOKUP(C18,'Resultados Gerais'!$B8:$I1048576,4,0)","v":37},{"$f":"VLOOKUP(C18,'Resultados Gerais'!$B8:$I1048576,5,0)","v":54},{"$f":"VLOOKUP(C18,'Resultados Gerais'!$B8:$I1048576,6,0)","v":7},{"$f":"VLOOKUP(C18,'Resultados Gerais'!$B8:$I1048576,7,0)","v":29},{"$f":"VLOOKUP(C18,'Resultados Gerais'!$B8:$I1048576,8,0)","v":1},null,null,null,18,{"$f":"COUNTIF($E$12:$J$22,N18)","v":2},2]
[null,null,{"$f":"COUNT('Resultados Gerais'!$B8:$B1048576)-7","v":1500},{"$f":"VLOOKUP(C19,'Resultados Gerais'!B8:$C1048576,2,0)","v":"2013-06-05"},{"$f":"VLOOKUP(C19,'Resultados Gerais'!$B8:$I1048576,3,0)","v":57},{"$f":"VLOOKUP(C19,'Resultados Gerais'!$B8:$I1048576,4,0)","v":43},{"$f":"VLOOKUP(C19,'Resultados Gerais'!$B8:$I1048576,5,0)","v":18},{"$f":"VLOOKUP(C19,'Resultados Gerais'!$B8:$I1048576,6,0)","v":59},{"$f":"VLOOKUP(C19,'Resultados Gerais'!$B8:$I1048576,7,0)","v":10},{"$f":"VLOOKUP(C19,'Resultados Gerais'!$B8:$I1048576,8,0)","v":31},null,null,null,37,{"$f":"COUNTIF($E$12:$J$22,N19)","v":2},2]
[null,null,{"$f":"COUNT('Resultados Gerais'!$B8:$B1048576)-8","v":1499},{"$f":"VLOOKUP(C20,'Resultados Gerais'!B8:$C1048576,2,0)","v":"2013-06-01"},{"$f":"VLOOKUP(C20,'Resultados Gerais'!$B8:$I1048576,3,0)","v":26},{"$f":"VLOOKUP(C20,'Resultados Gerais'!$B8:$I1048576,4,0)","v":37},{"$f":"VLOOKUP(C20,'Resultados Gerais'!$B8:$I1048576,5,0)","v":8},{"$f":"VLOOKUP(C20,'Resultados Gerais'!$B8:$I1048576,6,0)","v":22},{"$f":"VLOOKUP(C20,'Resultados Gerais'!$B8:$I1048576,7,0)","v":54},{"$f":"VLOOKUP(C20,'Resultados Gerais'!$B8:$I1048576,8,0)","v":33},null,null,null,43,{"$f":"COUNTIF($E$12:$J$22,N20)","v":2},2]
[null,null,{"$f":"COUNT('Resultados Gerais'!$B8:$B1048576)-9","v":1498},{"$f":"VLOOKUP(C21,'Resultados Gerais'!B8:$C1048576,2,0)","v":"2013-05-29"},{"$f":"VLOOKUP(C21,'Resultados Gerais'!$B8:$I1048576,3,0)","v":11},{"$f":"VLOOKUP(C21,'Resultados Gerais'!$B8:$I1048576,4,0)","v":46},{"$f":"VLOOKUP(C21,'Resultados Gerais'!$B8:$I1048576,5,0)","v":27},{"$f":"VLOOKUP(C21,'Resultados Gerais'!$B8:$I1048576,6,0)","v":49},{"$f":"VLOOKUP(C21,'Resultados Gerais'!$B8:$I1048576,7,0)","v":6},{"$f":"VLOOKUP(C21,'Resultados Gerais'!$B8:$I1048576,8,0)","v":40},null,null,null,1,{"$f":"COUNTIF($E$12:$J$22,N21)","v":2},2]
[null,null,null,null,null,null,null,null,null,null,null,null,null,2,{"$f":"COUNTIF($E$12:$J$22,N22)","v":2},2]
[null,null,null,null,null,null,null,null,null,null,null,null,null,3,{"$f":"COUNTIF($E$12:$J$22,N23)","v":2},2]
[null,null,null,null,null,null,null,null,null,null,null,null,null,10,{"$f":"COUNTIF($E$12:$J$22,N24)","v":2},2]
[null,null,null,null,null,null,null,null,null,null,null,null,null,16,{"$f":"COUNTIF($E$12:$J$22,N25)","v":2},2]
[null,null,null,null,null,null,null,null,null,null,null,null,null,46,{"$f":"COUNTIF($E$12:$J$22,N26)","v":2},2]
[null,null,null,null,null,null,null,null,null,null,null,null,null,51,{"$f":"COUNTIF($E$12:$J$22,N27)","v":2},2]
[null,null,null,null,null,null,null,null,null,null,null,null,null,52,{"$f":"COUNTIF($E$12:$J$22,N28)","v":2},2]
[null,null,null,null,null,null,null,null,null,null,null,null,null,4,{"$f":"COUNTIF($E$12:$J$22,N29)","v":1},1]
[null,null,null,null,null,null,null,null,null,null,null,null,null,7,{"$f":"COUNTIF($E$12:$J$22,N30)","v":1},1]
[null,null,null,null,null,null,null,null,null,null,null,null,null,14,{"$f":"COUNTIF($E$12:$J$22,N31)","v":1},1]
[null,null,null,null,null,null,null,null,null,null,null,null,null,27,{"$f":"COUNTIF($E$12:$J$22,N32)","v":1},1]
[null,null,null,null,null,null,null,null,null,null,null,null,null,13,{"$f":"COUNTIF($E$12:$J$22,N33)","v":1},1]
[null,null,null,null,null,null,null,null,null,null,null,null,null,24,{"$f":"COUNTIF($E$12:$J$22,N34)","v":1},1]
[null,null,null,null,null,null,null,null,null,null,null,null,null,8,{"$f":"COUNTIF($E$12:$J$22,N35)","v":1},1]
[null,null,null,null,null,null,null,null,null,null,null,null,null,11,{"$f":"COUNTIF($E$12:$J$22,N36)","v":1},1]
[null,null,null,null,null,null,null,null,null,null,null,null,null,12,{"$f":"COUNTIF($E$12:$J$22,N37)","v":1},1]
[null,null,null,null,null,null,null,null,null,null,null,null,null,26,{"$f":"COUNTIF($E$12:$J$22,N38)","v":1},1]
[null,null,null,null,null,null,null,null,null,null,null,null,null,29,{"$f":"COUNTIF($E$12:$J$22,N39)","v":1},1]
[null,null,null,null,null,null,null,null,null,null,null,null,null,30,{"$f":"COUNTIF($E$12:$J$22,N40)","v":1},1]
[null,null,null,null,null,null,null,null,null,null,null,null,null,31,{"$f":"COUNTIF($E$12:$J$22,N41)","v":1},1]
[null,null,null,null,null,null,null,null,null,null,null,null,null,33,{"$f":"COUNTIF($E$12:$J$22,N42)","v":1},1]
[null,null,null,null,null,null,null,null,null,null,null,null,null,36,{"$f":"COUNTIF($E$12:$J$22,N43)","v":1},1]
[null,null,null,null,null,null,null,null,null,null,null,null,null,40,{"$f":"COUNTIF($E$12:$J$22,N44)","v":1},1]
[null,null,null,null,null,null,null,null,null,null,null,null,null,41,{"$f":"COUNTIF($E$12:$J$22,N45)","v":1},1]
[null,null,null,null,null,null,null,null,null,null,null,null,null,50,{"$f":"COUNTIF($E$12:$J$22,N46)","v":1},1]
[null,null,null,null,null,null,null,null,null,null,null,null,null,59,{"$f":"COUNTIF($E$12:$J$22,N47)","v":1},1]
[null,null,null,null,null,null,null,null,null,null,null,null,null,9,{"$f":"COUNTIF($E$12:$J$22,N48)","v":1},1]
[null,null,null,null,null,null,null,null,null,null,null,null,null,32,{"$f":"COUNTIF($E$12:$J$22,N49)","v":1},1]
[null,null,null,null,null,null,null,null,null,null,null,null,null,34,{"$f":"COUNTIF($E$12:$J$22,N50)","v":1},1]
[null,null,null,null,null,null,null,null,null,null,null,null,null,56,{"$f":"COUNTIF($E$12:$J$22,N51)","v":1},1]
[null,null,null,null,null,null,null,null,null,null,null,null,null,28,{"$f":"COUNTIF($E$12:$J$22,N52)","v":0},0]
[null,null,null,null,null,null,null,null,null,null,null,null,null,5,{"$f":"COUNTIF($E$12:$J$22,N53)","v":0},0]
[null,null,null,null,null,null,null,null,null,null,null,null,null,35,{"$f":"COUNTIF($E$12:$J$22,N54)","v":0},0]
[null,null,null,null,null,null,null,null,null,null,null,null,null,44,{"$f":"COUNTIF($E$12:$J$22,N55)","v":0},0]
[null,null,null,null,null,null,null,null,null,null,null,null,null,45,{"$f":"COUNTIF($E$12:$J$22,N56)","v":0},0]
[null,null,null,null,null,null,null,null,null,null,null,null,null,47,{"$f":"COUNTIF($E$12:$J$22,N57)","v":0},0]
[null,null,null,null,null,null,null,null,null,null,null,null,null,58,{"$f":"COUNTIF($E$12:$J$22,N58)","v":0},0]
[null,null,null,null,null,null,null,null,null,null,null,null,null,15,{"$f":"COUNTIF($E$12:$J$22,N59)","v":0},0]
[null,null,null,null,null,null,null,null,null,null,null,null,null,17,{"$f":"COUNTIF($E$12:$J$22,N60)","v":0},0]
[null,null,null,null,null,null,null,null,null,null,null,null,null,19,{"$f":"COUNTIF($E$12:$J$22,N61)","v":0},0]
[null,null,null,null,null,null,null,null,null,null,null,null,null,20,{"$f":"COUNTIF($E$12:$J$22,N62)","v":0},0]
[null,null,null,null,null,null,null,null,null,null,null,null,null,21,{"$f":"COUNTIF($E$12:$J$22,N63)","v":0},0]
[null,null,null,null,null,null,null,null,null,null,null,null,null,23,{"$f":"COUNTIF($E$12:$J$22,N64)","v":0},0]
[null,null,null,null,null,null,null,null,null,null,null,null,null,25,{"$f":"COUNTIF($E$12:$J$22,N65)","v":0},0]
[null,null,null,null,null,null,null,null,null,null,null,null,null,38,{"$f":"COUNTIF($E$12:$J$22,N66)","v":0},0]
[null,null,null,null,null,null,null,null,null,null,null,null,null,39,{"$f":"COUNTIF($E$12:$J$22,N67)","v":0},0]
[null,null,null,null,null,null,null,null,null,null,null,null,null,48,{"$f":"COUNTIF($E$12:$J$22,N68)","v":0},0]
[null,null,null,null,null,null,null,null,null,null,null,null,null,53,{"$f":"COUNTIF($E$12:$J$22,N69)","v":0},0]
[null,null,null,null,null,null,null,null,null,null,null,null,null,55,{"$f":"COUNTIF($E$12:$J$22,N70)","v":0},0]
[null,null,null,null,null,null,null,null,null,null,null,null,null,60,{"$f":"COUNTIF($E$12:$J$22,N71)","v":0},0]

{"sheet":"20 Últimos Sorteios","index":3,"n_rows":71,"n_cols":16,"rows_kept":71,"cut":false,"hidden":false,"merged":[[8,13,9,14],[8,2,9,9],[5,1,5,17],[1,1,1,17],[2,1,2,17],[3,1,3,17]]}
[]
[null,"Atenção!"]
[null,"Esta planilha é de uso pessoal, é restritamente proibida a distribuição da mesma a terceiros, sujeito a punições de acordo com as leis de direitos autorais"]
[null,"Todos os direitos reservados ao site www.ApostaEsperta.com "]
[]
[null,"Planilha de Análise Estatística Mega Sena"]
[]
[]
[null,null,"Resultados dos Últimos 20 Sorteios",null,null,null,null,null,null,null,null,null,null,"Números Quentes Últimos 20 Sorteios"]
[]
[null,null,"Sorteio","Data do Sorteio","1ª Dezena","2ª Dezena","3ª Dezena","4ª Dezena","5ª Dezena","6ª Dezena",null,null,null,"Dezenas","Qtd de Saída"]
[null,null,{"$f":"COUNT('Resultados Gerais'!$B8:$B1048576)","v":1507},{"$f":"VLOOKUP(C12,'Resultados Gerais'!$B8:$C1048576,2,0)","v":"2013-06-29"},{"$f":"VLOOKUP(C12,'Resultados Gerais'!$B8:$I1048576,3,0)","v":46},{"$f":"VLOOKUP(C12,'Resultados Gerais'!$B8:$I1048576,4,0)","v":24},{"$f":"VLOOKUP(C12,'Resultados Gerais'!$B8:$I1048576,5,0)","v":51},{"$f":"VLOOKUP(C12,'Resultados Gerais'!$B8:$I1048576,6,0)","v":50},{"$f":"VLOOKUP(C12,'Resultados Gerais'!$B8:$I1048576,7,0)","v":56},{"$f":"VLOOKUP(C12,'Resultados Gerais'!$B8:$I1048576,8,0)","v":52},null,null,null,4,{"$f":"COUNTIF($E$12:$J$32,N12)","v":5},{"$f":"O12","v":5}]
[null,null,{"$f":"COUNT('Resultados Gerais'!$B8:$B1048576) -1","v":1506},{"$f":"VLOOKUP(C13,'Resultados Gerais'!B8:$C1048576,2,0)","v":"2013-06-26"},{"$f":"VLOOKUP(C13,'Resultados Gerais'!$B8:$I1048576,3,0)","v":49},{"$f":"VLOOKUP(C13,'Resultados Gerais'!$B8:$I1048576,4,0)","v":34},{"$f":"VLOOKUP(C13,'Resultados Gerais'!$B8:$I1048576,5,0)","v":42},{"$f":"VLOOKUP(C13,'Resultados Gerais'!$B8:$I1048576,6,0)","v":18},{"$f":"VLOOKUP(C13,'Resultados Gerais'!$B8:$I1048576,7,0)","v":3},{"$f":"VLOOKUP(C13,'Resultados Gerais'!$B8:$I1048576,8,0)","v":14},null,null,null,1,{"$f":"COUNTIF($E$12:$J$32,N13)","v":4},{"$f":"O13","v":4}]
[null,null,{"$f":"COUNT('Resultados Gerais'!$B8:$B1048576)-2","v":1505},{"$f":"VLOOKUP(C14,'Resultados Gerais'!B8:$C1048576,2,0)","v":"2013-06-22"},{"$f":"VLOOKUP(C14,'Resultados Gerais'!$B8:$I1048576,3,0)","v":32},{"$f":"VLOOKUP(C14,'Resultados Gerais'!$B8:$I1048576,4,0)","v":1},{"$f":"VLOOKUP(C14,'Resultados Gerais'!$B8:$I1048576,5,0)","v":6},{"$f":"VLOOKUP(C14,'Resultados Gerais'!$B8:$I1048576,6,0)","v":9},{"$f":"VLOOKUP(C14,'Resultados Gerais'!$B8:$I1048576,7,0)","v":16},{"$f":"VLOOKUP(C14,'Resultados Gerais'!$B8:$I1048576,8,0)","v":2},null,null,null,22,{"$f":"COUNTIF($E$12:$J$32,N14)","v":4},4]
[null,null,{"$f":"COUNT('Resultados Gerais'!$B8:$B1048576)-3","v":1504},{"$f":"VLOOKUP(C15,'Resultados Gerais'!B8:$C1048576,2,0)","v":"2013-06-19"},{"$f":"VLOOKUP(C15,'Resultados Gerais'!$B8:$I1048576,3,0)","v":41},{"$f":"VLOOKUP(C15,'Resultados Gerais'!$B8:$I1048576,4,0)","v":2},{"$f":"VLOOKUP(C15,'Resultados Gerais'!$B8:$I1048576,5,0)","v":42},{"$f":"VLOOKUP(C15,'Resultados Gerais'!$B8:$I1048576,6,0)","v":30},{"$f":"VLOOKUP(C15,'Resultados Gerais'!$B8:$I1048576,7,0)","v":12},{"$f":"VLOOKUP(C15,'Resultados Gerais'!$B8:$I1048576,8,0)","v":10},null,null,null,49,{"$f":"COUNTIF($E$12:$J$32,N15)","v":4},4]
[null,null,{"$f":"COUNT('Resultados Gerais'!$B8:$B1048576)-4","v":1503},{"$f":"VLOOKUP(C16,'Resultados Gerais'!B8:$C1048576,2,0)","v":"2013-06-15"},{"$f":"VLOOKUP(C16,'Resultados Gerais'!$B8:$I1048576,3,0)","v":36},{"$f":"VLOOKUP(C16,'Resultados Gerais'!$B8:$I1048576,4,0)","v":22},{"$f":"VLOOKUP(C16,'Resultados Gerais'!$B8:$I1048576,5,0)","v":42},{"$f":"VLOOKUP(C16,'Resultados Gerais'!$B8:$I1048576,6,0)","v":3},{"$f":"VLOOKUP(C16,'Resultados Gerais'!$B8:$I1048576,7,0)","v":16},{"$f":"VLOOKUP(C16,'Resultados Gerais'!$B8:$I1048576,8,0)","v":4},null,null,null,6,{"$f":"COUNTIF($E$12:$J$32,N16)","v":4},4]
[null,null,{"$f":"COUNT('Resultados Gerais'!$B8:$B1048576)-5","v":1502},{"$f":"VLOOKUP(C17,'Resultados Gerais'!B8:$C1048576,2,0)","v":"2013-06-12"},{"$f":"VLOOKUP(C17,'Resultados Gerais'!$B8:$I1048576,3,0)","v":6},{"$f":"VLOOKUP(C17,'Resultados Gerais'!$B8:$I1048576,4,0)","v":43},{"$f":"VLOOKUP(C17,'Resultados Gerais'!$B8:$I1048576,5,0)","v":22},{"$f":"VLOOKUP(C17,'Resultados Gerais'!$B8:$I1048576,6,0)","v":52},{"$f":"VLOOKUP(C17,'Resultados Gerais'!$B8:$I1048576,7,0)","v":57},{"$f":"VLOOKUP(C17,'Resultados Gerais'!$B8:$I1048576,8,0)","v":51},null,null,null,24,{"$f":"COUNTIF($E$12:$J$32,N17)","v":4},4]
[null,null,{"$f":"COUNT('Resultados Gerais'!$B8:$B1048576)-6","v":1501},{"$f":"VLOOKUP(C18,'Resultados Gerais'!B8:$C1048576,2,0)","v":"2013-06-08"},{"$f":"VLOOKUP(C18,'Resultados Gerais'!$B8:$I1048576,3,0)","v":13},{"$f":"VLOOKUP(C18,'Resultados Gerais'!$B8:$I1048576,4,0)","v":37},{"$f":"VLOOKUP(C18,'Resultados Gerais'!$B8:$I1048576,5,0)","v":54},{"$f":"VLOOKUP(C18,'Resultados Gerais'!$B8:$I1048576,6,0)","v":7},{"$f":"VLOOKUP(C18,'Resultados Gerais'!$B8:$I1048576,7,0)","v":29},{"$f":"VLOOKUP(C18,'Resultados Gerais'!$B8:$I1048576,8,0)","v":1},null,null,null,14,{"$f":"COUNTIF($E$12:$J$32,N18)","v":4},4]
[null,null,{"$f":"COUNT('Resultados Gerais'!$B8:$B1048576)-7","v":1500},{"$f":"VLOOKUP(C19,'Resultados Gerais'!B8:$C1048576,2,0)","v":"2013-06-05"},{"$f":"VLOOKUP(C19,'Resultados Gerais'!$B8:$I1048576,3,0)","v":57},{"$f":"VLOOKUP(C19,'Resultados Gerais'!$B8:$I1048576,4,0)","v":43},{"$f":"VLOOKUP(C19,'Resultados Gerais'!$B8:$I1048576,5,0)","v":18},{"$f":"VLOOKUP(C19,'Resultados Gerais'!$B8:$I1048576,6,0)","v":59},{"$f":"VLOOKUP(C19,'Resultados Gerais'!$B8:$I1048576,7,0)","v":10},{"$f":"VLOOKUP(C19,'Resultados Gerais'!$B8:$I1048576,8,0)","v":31},null,null,null,18,{"$f":"COUNTIF($E$12:$J$32,N19)","v":4},4]
[null,null,{"$f":"COUNT('Resultados Gerais'!$B8:$B1048576)-8","v":1499},{"$f":"VLOOKUP(C20,'Resultados Gerais'!B8:$C1048576,2,0)","v":"2013-06-01"},{"$f":"VLOOKUP(C20,'Resultados Gerais'!$B8:$I1048576,3,0)","v":26},{"$f":"VLOOKUP(C20,'Resultados Gerais'!$B8:$I1048576,4,0)","v":37},{"$f":"VLOOKUP(C20,'Resultados Gerais'!$B8:$I1048576,5,0)","v":8},{"$f":"VLOOKUP(C20,'Resultados Gerais'!$B8:$I1048576,6,0)","v":22},{"$f":"VLOOKUP(C20,'Resultados Gerais'!$B8:$I1048576,7,0)","v":54},{"$f":"VLOOKUP(C20,'Resultados Gerais'!$B8:$I1048576,8,0)","v":33},null,null,null,54,{"$f":"COUNTIF($E$12:$J$32,N20)","v":3},3]
[null,null,{"$f":"COUNT('Resultados Gerais'!$B8:$B1048576)-9","v":1498},{"$f":"VLOOKUP(C21,'Resultados Gerais'!B8:$C1048576,2,0)","v":"2013-05-29"},{"$f":"VLOOKUP(C21,'Resultados Gerais'!$B8:$I1048576,3,0)","v":11},{"$f":"VLOOKUP(C21,'Resultados Gerais'!$B8:$I1048576,4,0)","v":46},{"$f":"VLOOKUP(C21,'Resultados Gerais'!$B8:$I1048576,5,0)","v":27},{"$f":"VLOOKUP(C21,'Resultados Gerais'!$B8:$I1048576,6,0)","v":49},{"$f":"VLOOKUP(C21,'Resultados Gerais'!$B8:$I1048576,7,0)","v":6},{"$f":"VLOOKUP(C21,'Resultados Gerais'!$B8:$I1048576,8,0)","v":40},null,null,null,27,{"$f":"COUNTIF($E$12:$J$32,N21)","v":3},3]
[null,null,{"$f":"COUNT('Resultados Gerais'!$B8:$B1048576)-10","v":1497},{"$f":"VLOOKUP(C22,'Resultados Gerais'!B8:$C1048576,2,0)","v":"2013-05-25"},{"$f":"VLOOKUP(C22,'Resultados Gerais'!$B8:$I1048576,3,0)","v":58},{"$f":"VLOOKUP(C22,'Resultados Gerais'!$B8:$I1048576,4,0)","v":7},{"$f":"VLOOKUP(C22,'Resultados Gerais'!$B8:$I1048576,5,0)","v":27},{"$f":"VLOOKUP(C22,'Resultados Gerais'!$B8:$I1048576,6,0)","v":45},{"$f":"VLOOKUP(C22,'Resultados Gerais'!$B8:$I1048576,7,0)","v":4},{"$f":"VLOOKUP(C22,'Resultados Gerais'!$B8:$I1048576,8,0)","v":5},null,null,null,28,{"$f":"COUNTIF($E$12:$J$32,N22)","v":3},3]
[null,null,{"$f":"COUNT('Resultados Gerais'!$B8:$B1048576)-11","v":1496},{"$f":"VLOOKUP(C23,'Resultados Gerais'!B8:$C1048576,2,0)","v":"2013-05-22"},{"$f":"VLOOKUP(C23,'Resultados Gerais'!$B8:$I1048576,3,0)","v":28},{"$f":"VLOOKUP(C23,'Resultados Gerais'!$B8:$I1048576,4,0)","v":18},{"$f":"VLOOKUP(C23,'Resultados Gerais'!$B8:$I1048576,5,0)","v":41},{"$f":"VLOOKUP(C23,'Resultados Gerais'!$B8:$I1048576,6,0)","v":54},{"$f":"VLOOKUP(C23,'Resultados Gerais'!$B8:$I1048576,7,0)","v":14},{"$f":"VLOOKUP(C23,'Resultados Gerais'!$B8:$I1048576,8,0)","v":47},null,null,null,7,{"$f":"COUNTIF($E$12:$J$32,N23)","v":3},3]
[null,null,{"$f":"COUNT('Resultados Gerais'!$B8:$B1048576)-12","v":1495},{"$f":"VLOOKUP(C24,'Resultados Gerais'!B8:$C1048576,2,0)","v":"2013-05-18"},{"$f":"VLOOKUP(C24,'Resultados Gerais'!$B8:$I1048576,3,0)","v":13},{"$f":"VLOOKUP(C24,'Resultados Gerais'!$B8:$I1048576,4,0)","v":49},{"$f":"VLOOKUP(C24,'Resultados Gerais'!$B8:$I1048576,5,0)","v":4},{"$f":"VLOOKUP(C24,'Resultados Gerais'!$B8:$I1048576,6,0)","v":44},{"$f":"VLOOKUP(C24,'Resultados Gerais'!$B8:$I1048576,7,0)","v":14},{"$f":"VLOOKUP(C24,'Resultados Gerais'!$B8:$I1048576,8,0)","v":57},null,null,null,57,{"$f":"COUNTIF($E$12:$J$32,N24)","v":3},3]
[null,null,{"$f":"COUNT('Resultados Gerais'!$B8:$B1048576)-13","v":1494},{"$f":"VLOOKUP(C25,'Resultados Gerais'!B8:$C1048576,2,0)","v":"2013-05-15"},{"$f":"VLOOKUP(C25,'Resultados Gerais'!$B8:$I1048576,3,0)","v":50},{"$f":"VLOOKUP(C25,'Resultados Gerais'!$B8:$I1048576,4,0)","v":28},{"$f":"VLOOKUP(C25,'Resultados Gerais'!$B8:$I1048576,5,0)","v":35},{"$f":"VLOOKUP(C25,'Resultados Gerais'!$B8:$I1048576,6,0)","v":24},{"$f":"VLOOKUP(C25,'Resultados Gerais'!$B8:$I1048576,7,0)","v":2},{"$f":"VLOOKUP(C25,'Resultados Gerais'!$B8:$I1048576,8,0)","v":14},null,null,null,43,{"$f":"COUNTIF($E$12:$J$32,N25)","v":3},3]
[null,null,{"$f":"COUNT('Resultados Gerais'!$B8:$B1048576)-14","v":1493},{"$f":"VLOOKUP(C26,'Resultados Gerais'!B8:$C1048576,2,0)","v":"2013-05-11"},{"$f":"VLOOKUP(C26,'Resultados Gerais'!$B8:$I1048576,3,0)","v":30},{"$f":"VLOOKUP(C26,'Resultados Gerais'!$B8:$I1048576,4,0)","v":24},{"$f":"VLOOKUP(C26,'Resultados Gerais'!$B8:$I1048576,5,0)","v":12},{"$f":"VLOOKUP(C26,'Resultados Gerais'!$B8:$I1048576,6,0)","v":49},{"$f":"VLOOKUP(C26,'Resultados Gerais'!$B8:$I1048576,7,0)","v":7},{"$f":"VLOOKUP(C26,'Resultados Gerais'!$B8:$I1048576,8,0)","v":27},null,null,null,26,{"$f":"COUNTIF($E$12:$J$32,N26)","v":3},3]
[null,null,{"$f":"COUNT('Resultados Gerais'!$B8:$B1048576)-15","v":1492},{"$f":"VLOOKUP(C27,'Resultados Gerais'!B8:$C1048576,2,0)","v":"2013-05-08"},{"$f":"VLOOKUP(C27,'Resultados Gerais'!$B8:$I1048576,3,0)","v":48},{"$f":"VLOOKUP(C27,'Resultados Gerais'!$B8:$I1048576,4,0)","v":44},{"$f":"VLOOKUP(C27,'Resultados Gerais'!$B8:$I1048576,5,0)","v":46},{"$f":"VLOOKUP(C27,'Resultados Gerais'!$B8:$I1048576,6,0)","v":4},{"$f":"VLOOKUP(C27,'Resultados Gerais'!$B8:$I1048576,7,0)","v":18},{"$f":"VLOOKUP(C27,'Resultados Gerais'!$B8:$I1048576,8,0)","v":9},null,null,null,45,{"$f":"COUNTIF($E$12:$J$32,N27)","v":3},3]
[null,null,{"$f":"COUNT('Resultados Gerais'!$B8:$B1048576)-16","v":1491},{"$f":"VLOOKUP(C28,'Resultados Gerais'!B8:$C1048576,2,0)","v":"2013-05-04"},{"$f":"VLOOKUP(C28,'Resultados Gerais'!$B8:$I1048576,3,0)","v":56},{"$f":"VLOOKUP(C28,'Resultados Gerais'!$B8:$I1048576,4,0)","v":6},{"$f":"VLOOKUP(C28,'Resultados Gerais'!$B8:$I1048576,5,0)","v":45},{"$f":"VLOOKUP(C28,'Resultados Gerais'!$B8:$I1048576,6,0)","v":60},{"$f":"VLOOKUP(C28,'Resultados Gerais'!$B8:$I1048576,7,0)","v":26},{"$f":"VLOOKUP(C28,'Resultados Gerais'!$B8:$I1048576,8,0)","v":50},null,null,null,3,{"$f":"COUNTIF($E$12:$J$32,N28)","v":3},3]
[null,null,{"$f":"COUNT('Resultados Gerais'!$B8:$B1048576)-17","v":1490},{"$f":"VLOOKUP(C29,'Resultados Gerais'!B8:$C1048576,2,0)","v":"2013-05-02"},{"$f":"VLOOKUP(C29,'Resultados Gerais'!$B8:$I1048576,3,0)","v":31},{"$f":"VLOOKUP(C29,'Resultados Gerais'!$B8:$I1048576,4,0)","v":32},{"$f":"VLOOKUP(C29,'Resultados Gerais'!$B8:$I1048576,5,0)","v":43},{"$f":"VLOOKUP(C29,'Resultados Gerais'!$B8:$I1048576,6,0)","v":3},{"$f":"VLOOKUP(C29,'Resultados Gerais'!$B8:$I1048576,7,0)","v":52},{"$f":"VLOOKUP(C29,'Resultados Gerais'!$B8:$I1048576,8,0)","v":1},null,null,null,46,{"$f":"COUNTIF($E$12:$J$32,N29)","v":3},3]
[null,null,{"$f":"COUNT('Resultados Gerais'!$B8:$B1048576)-18","v":1489},{"$f":"VLOOKUP(C30,'Resultados Gerais'!B8:$C1048576,2,0)","v":"2013-04-27"},{"$f":"VLOOKUP(C30,'Resultados Gerais'!$B8:$I1048576,3,0)","v":48},{"$f":"VLOOKUP(C30,'Resultados Gerais'!$B8:$I1048576,4,0)","v":15},{"$f":"VLOOKUP(C30,'Resultados Gerais'!$B8:$I1048576,5,0)","v":24},{"$f":"VLOOKUP(C30,'Resultados Gerais'!$B8:$I1048576,6,0)","v":28},{"$f":"VLOOKUP(C30,'Resultados Gerais'!$B8:$I1048576,7,0)","v":1},{"$f":"VLOOKUP(C30,'Resultados Gerais'!$B8:$I1048576,8,0)","v":26},null,null,null,50,{"$f":"COUNTIF($E$12:$J$32,N30)","v":3},3]
[null,null,{"$f":"COUNT('Resultados Gerais'!$B8:$B1048576)-19","v":1488},{"$f":"VLOOKUP(C31,'Resultados Gerais'!B8:$C1048576,2,0)","v":"2013-04-24"},{"$f":"VLOOKUP(C31,'Resultados Gerais'!$B8:$I1048576,3,0)","v":4},{"$f":"VLOOKUP(C31,'Resultados Gerais'!$B8:$I1048576,4,0)","v":51},{"$f":"VLOOKUP(C31,'Resultados Gerais'!$B8:$I1048576,5,0)","v":45},{"$f":"VLOOKUP(C31,'Resultados Gerais'!$B8:$I1048576,6,0)","v":22},{"$f":"VLOOKUP(C31,'Resultados Gerais'!$B8:$I1048576,7,0)","v":38},{"$f":"VLOOKUP(C31,'Resultados Gerais'!$B8:$I1048576,8,0)","v":25},null,null,null,51,{"$f":"COUNTIF($E$12:$J$32,N31)","v":3},3]
[null,null,null,null,null,null,null,null,null,null,null,null,null,52,{"$f":"COUNTIF($E$12:$J$32,N32)","v":3},3]
[null,null,null,null,null,null,null,null,null,null,null,null,null,2,{"$f":"COUNTIF($E$12:$J$32,N33)","v":3},3]
[null,null,null,null,null,null,null,null,null,null,null,null,null,42,{"$f":"COUNTIF($E$12:$J$32,N34)","v":3},3]
[null,null,null,null,null,null,null,null,null,null,null,null,null,13,{"$f":"COUNTIF($E$12:$J$32,N35)","v":2},2]
[null,null,null,null,null,null,null,null,null,null,null,null,null,37,{"$f":"COUNTIF($E$12:$J$32,N36)","v":2},2]
[null,null,null,null,null,null,null,null,null,null,null,null,null,10,{"$f":"COUNTIF($E$12:$J$32,N37)","v":2},2]
[null,null,null,null,null,null,null,null,null,null,null,null,null,30,{"$f":"COUNTIF($E$12:$J$32,N38)","v":2},2]
[null,null,null,null,null,null,null,null,null,null,null,null,null,31,{"$f":"COUNTIF($E$12:$J$32,N39)","v":2},2]
[null,null,null,null,null,null,null,null,null,null,null,null,null,44,{"$f":"COUNTIF($E$12:$J$32,N40)","v":2},2]
[null,null,null,null,null,null,null,null,null,null,null,null,null,9,{"$f":"COUNTIF($E$12:$J$32,N41)","v":2},2]
[null,null,null,null,null,null,null,null,null,null,null,null,null,48,{"$f":"COUNTIF($E$12:$J$32,N42)","v":2},2]
[null,null,null,null,null,null,null,null,null,null,null,null,null,56,{"$f":"COUNTIF($E$12:$J$32,N43)","v":2},2]
[null,null,null,null,null,null,null,null,null,null,null,null,null,12,{"$f":"COUNTIF($E$12:$J$32,N44)","v":2},2]
[null,null,null,null,null,null,null,null,null,null,null,null,null,16,{"$f":"COUNTIF($E$12:$J$32,N45)","v":2},2]
[null,null,null,null,null,null,null,null,null,null,null,null,null,41,{"$f":"COUNTIF($E$12:$J$32,N46)","v":2},2]
[null,null,null,null,null,null,null,null,null,null,null,null,null,32,{"$f":"COUNTIF($E$12:$J$32,N47)","v":2},2]
[null,null,null,null,null,null,null,null,null,null,null,null,null,29,{"$f":"COUNTIF($E$12:$J$32,N48)","v":1},1]
[null,null,null,null,null,null,null,null,null,null,null,null,null,35,{"$f":"COUNTIF($E$12:$J$32,N49)","v":1},1]
[null,null,null,null,null,null,null,null,null,null,null,null,null,36,{"$f":"COUNTIF($E$12:$J$32,N50)","v":1},1]
[null,null,null,null,null,null,null,null,null,null,null,null,null,40,{"$f":"COUNTIF($E$12:$J$32,N51)","v":1},1]
[null,null,null,null,null,null,null,null,null,null,null,null,null,59,{"$f":"COUNTIF($E$12:$J$32,N52)","v":1},1]
[null,null,null,null,null,null,null,null,null,null,null,null,null,5,{"$f":"COUNTIF($E$12:$J$32,N53)","v":1},1]
[null,null,null,null,null,null,null,null,null,null,null,null,null,8,{"$f":"COUNTIF($E$12:$J$32,N54)","v":1},1]
[null,null,null,null,null,null,null,null,null,null,null,null,null,11,{"$f":"COUNTIF($E$12:$J$32,N55)","v":1},1]
[null,null,null,null,null,null,null,null,null,null,null,null,null,33,{"$f":"COUNTIF($E$12:$J$32,N56)","v":1},1]
[null,null,null,null,null,null,null,null,null,null,null,null,null,47,{"$f":"COUNTIF($E$12:$J$32,N57)","v":1},1]
[null,null,null,null,null,null,null,null,null,null,null,null,null,58,{"$f":"COUNTIF($E$12:$J$32,N58)","v":1},1]
[null,null,null,null,null,null,null,null,null,null,null,null,null,15,{"$f":"COUNTIF($E$12:$J$32,N59)","v":1},1]
[null,null,null,null,null,null,null,null,null,null,null,null,null,25,{"$f":"COUNTIF($E$12:$J$32,N60)","v":1},1]
[null,null,null,null,null,null,null,null,null,null,null,null,null,34,{"$f":"COUNTIF($E$12:$J$32,N61)","v":1},1]
[null,null,null,null,null,null,null,null,null,null,null,null,null,38,{"$f":"COUNTIF($E$12:$J$32,N62)","v":1},1]
[null,null,null,null,null,null,null,null,null,null,null,null,null,60,{"$f":"COUNTIF($E$12:$J$32,N63)","v":1},1]
[null,null,null,null,null,null,null,null,null,null,null,null,null,53,{"$f":"COUNTIF($E$12:$J$32,N64)","v":0},0]
[null,null,null,null,null,null,null,null,null,null,null,null,null,17,{"$f":"COUNTIF($E$12:$J$32,N65)","v":0},0]
[null,null,null,null,null,null,null,null,null,null,null,null,null,20,{"$f":"COUNTIF($E$12:$J$32,N66)","v":0},0]
[null,null,null,null,null,null,null,null,null,null,null,null,null,23,{"$f":"COUNTIF($E$12:$J$32,N67)","v":0},0]
[null,null,null,null,null,null,null,null,null,null,null,null,null,39,{"$f":"COUNTIF($E$12:$J$32,N68)","v":0},0]
[null,null,null,null,null,null,null,null,null,null,null,null,null,55,{"$f":"COUNTIF($E$12:$J$32,N69)","v":0},0]
[null,null,null,null,null,null,null,null,null,null,null,null,null,19,{"$f":"COUNTIF($E$12:$J$32,N70)","v":0},0]
[null,null,null,null,null,null,null,null,null,null,null,null,null,21,{"$f":"COUNTIF($E$12:$J$32,N71)","v":0},0]

{"sheet":"50 Últimos Sorteios","index":4,"n_rows":71,"n_cols":17,"rows_kept":71,"cut":false,"hidden":false,"merged":[[8,14,9,15],[8,3,9,10],[5,1,5,18],[1,1,1,18],[2,1,2,18],[3,1,3,18]]}
[]
[null,"Atenção!"]
[null,"Esta planilha é de uso pessoal, é restritamente proibida a distribuição da mesma a terceiros, sujeito a punições de acordo com as leis de direitos autorais"]
[null,"Todos os direitos reservados ao site www.ApostaEsperta.com "]
[]
[null,"Planilha de Análise Estatística Mega Sena"]
[]
[]
[null,null,null,"Resultados dos Últimos 50 Sorteios",null,null,null,null,null,null,null,null,null,null,"Números Quentes Últimos 50 Sorteios"]
[]
[null,null,null,"Sorteio","Data do Sorteio","1ª Dezena","2ª Dezena","3ª Dezena","4ª Dezena","5ª Dezena","6ª Dezena",null,null,null,"Dezenas","Qtd de Saída"]
[null,null,null,{"$f":"COUNT('Resultados Gerais'!$B8:$B1048576)","v":1507},{"$f":"VLOOKUP(D12,'Resultados Gerais'!$B8:$C1048576,2,0)","v":"2013-06-29"},{"$f":"VLOOKUP(D12,'Resultados Gerais'!$B8:$I1048576,3,0)","v":46},{"$f":"VLOOKUP(D12,'Resultados Gerais'!$B8:$I1048576,4,0)","v":24},{"$f":"VLOOKUP(D12,'Resultados Gerais'!$B8:$I1048576,5,0)","v":51},{"$f":"VLOOKUP(D12,'Resultados Gerais'!$B8:$I1048576,6,0)","v":50},{"$f":"VLOOKUP(D12,'Resultados Gerais'!$B8:$I1048576,7,0)","v":56},{"$f":"VLOOKUP(D12,'Resultados Gerais'!$B8:$I1048576,8,0)","v":52},null,null,null,4,{"$f":"COUNTIF($F$12:$K$62,O12)","v":13},{"$f":"P12","v":13}]
[null,null,1,{"$f":"COUNT('Resultados Gerais'!$B8:$B1048576) -1","v":1506},{"$f":"VLOOKUP(D13,'Resultados Gerais'!B8:$C1048576,2,0)","v":"2013-06-26"},{"$f":"VLOOKUP(D13,'Resultados Gerais'!$B8:$I1048576,3,0)","v":49},{"$f":"VLOOKUP(D13,'Resultados Gerais'!$B8:$I1048576,4,0)","v":34},{"$f":"VLOOKUP(D13,'Resultados Gerais'!$B8:$I1048576,5,0)","v":42},{"$f":"VLOOKUP(D13,'Resultados Gerais'!$B8:$I1048576,6,0)","v":18},{"$f":"VLOOKUP(D13,'Resultados Gerais'!$B8:$I1048576,7,0)","v":3},{"$f":"VLOOKUP(D13,'Resultados Gerais'!$B8:$I1048576,8,0)","v":14},null,null,null,2,{"$f":"COUNTIF($F$12:$K$62,O13)","v":10},{"$f":"P13","v":10}]
[null,null,2,{"$f":"COUNT('Resultados Gerais'!$B8:$B1048576)-2","v":1505},{"$f":"VLOOKUP(D14,'Resultados Gerais'!B8:$C1048576,2,0)","v":"2013-06-22"},{"$f":"VLOOKUP(D14,'Resultados Gerais'!$B8:$I1048576,3,0)","v":32},{"$f":"VLOOKUP(D14,'Resultados Gerais'!$B8:$I1048576,4,0)","v":1},{"$f":"VLOOKUP(D14,'Resultados Gerais'!$B8:$I1048576,5,0)","v":6},{"$f":"VLOOKUP(D14,'Resultados Gerais'!$B8:$I1048576,6,0)","v":9},{"$f":"VLOOKUP(D14,'Resultados Gerais'!$B8:$I1048576,7,0)","v":16},{"$f":"VLOOKUP(D14,'Resultados Gerais'!$B8:$I1048576,8,0)","v":2},null,null,null,54,{"$f":"COUNTIF($F$12:$K$62,O14)","v":9},9]
[null,null,3,{"$f":"COUNT('Resultados Gerais'!$B8:$B1048576)-3","v":1504},{"$f":"VLOOKUP(D15,'Resultados Gerais'!B8:$C1048576,2,0)","v":"2013-06-19"},{"$f":"VLOOKUP(D15,'Resultados Gerais'!$B8:$I1048576,3,0)","v":41},{"$f":"VLOOKUP(D15,'Resultados Gerais'!$B8:$I1048576,4,0)","v":2},{"$f":"VLOOKUP(D15,'Resultados Gerais'!$B8:$I1048576,5,0)","v":42},{"$f":"VLOOKUP(D15,'Resultados Gerais'!$B8:$I1048576,6,0)","v":30},{"$f":"VLOOKUP(D15,'Resultados Gerais'!$B8:$I1048576,7,0)","v":12},{"$f":"VLOOKUP(D15,'Resultados Gerais'!$B8:$I1048576,8,0)","v":10},null,null,null,6,{"$f":"COUNTIF($F$12:$K$62,O15)","v":9},9]
[null,null,4,{"$f":"COUNT('Resultados Gerais'!$B8:$B1048576)-4","v":1503},{"$f":"VLOOKUP(D16,'Resultados Gerais'!B8:$C1048576,2,0)","v":"2013-06-15"},{"$f":"VLOOKUP(D16,'Resultados Gerais'!$B8:$I1048576,3,0)","v":36},{"$f":"VLOOKUP(D16,'Resultados Gerais'!$B8:$I1048576,4,0)","v":22},{"$f":"VLOOKUP(D16,'Resultados Gerais'!$B8:$I1048576,5,0)","v":42},{"$f":"VLOOKUP(D16,'Resultados Gerais'!$B8:$I1048576,6,0)","v":3},{"$f":"VLOOKUP(D16,'Resultados Gerais'!$B8:$I1048576,7,0)","v":16},{"$f":"VLOOKUP(D16,'Resultados Gerais'!$B8:$I1048576,8,0)","v":4},null,null,null,50,{"$f":"COUNTIF($F$12:$K$62,O16)","v":8},8]
[null,null,5,{"$f":"COUNT('Resultados Gerais'!$B8:$B1048576)-5","v":1502},{"$f":"VLOOKUP(D17,'Resultados Gerais'!B8:$C1048576,2,0)","v":"2013-06-12"},{"$f":"VLOOKUP(D17,'Resultados Gerais'!$B8:$I1048576,3,0)","v":6},{"$f":"VLOOKUP(D17,'Resultados Gerais'!$B8:$I1048576,4,0)","v":43},{"$f":"VLOOKUP(D17,'Resultados Gerais'!$B8:$I1048576,5,0)","v":22},{"$f":"VLOOKUP(D17,'Resultados Gerais'!$B8:$I1048576,6,0)","v":52},{"$f":"VLOOKUP(D17,'Resultados Gerais'!$B8:$I1048576,7,0)","v":57},{"$f":"VLOOKUP(D17,'Resultados Gerais'!$B8:$I1048576,8,0)","v":51},null,null,null,27,{"$f":"COUNTIF($F$12:$K$62,O17)","v":8},8]
[null,null,6,{"$f":"COUNT('Resultados Gerais'!$B8:$B1048576)-6","v":1501},{"$f":"VLOOKUP(D18,'Resultados Gerais'!B8:$C1048576,2,0)","v":"2013-06-08"},{"$f":"VLOOKUP(D18,'Resultados Gerais'!$B8:$I1048576,3,0)","v":13},{"$f":"VLOOKUP(D18,'Resultados Gerais'!$B8:$I1048576,4,0)","v":37},{"$f":"VLOOKUP(D18,'Resultados Gerais'!$B8:$I1048576,5,0)","v":54},{"$f":"VLOOKUP(D18,'Resultados Gerais'!$B8:$I1048576,6,0)","v":7},{"$f":"VLOOKUP(D18,'Resultados Gerais'!$B8:$I1048576,7,0)","v":29},{"$f":"VLOOKUP(D18,'Resultados Gerais'!$B8:$I1048576,8,0)","v":1},null,null,null,1,{"$f":"COUNTIF($F$12:$K$62,O18)","v":8},8]
[null,null,7,{"$f":"COUNT('Resultados Gerais'!$B8:$B1048576)-7","v":1500},{"$f":"VLOOKUP(D19,'Resultados Gerais'!B8:$C1048576,2,0)","v":"2013-06-05"},{"$f":"VLOOKUP(D19,'Resultados Gerais'!$B8:$I1048576,3,0)","v":57},{"$f":"VLOOKUP(D19,'Resultados Gerais'!$B8:$I1048576,4,0)","v":43},{"$f":"VLOOKUP(D19,'Resultados Gerais'!$B8:$I1048576,5,0)","v":18},{"$f":"VLOOKUP(D19,'Resultados Gerais'!$B8:$I1048576,6,0)","v":59},{"$f":"VLOOKUP(D19,'Resultados Gerais'!$B8:$I1048576,7,0)","v":10},{"$f":"VLOOKUP(D19,'Resultados Gerais'!$B8:$I1048576,8,0)","v":31},null,null,null,52,{"$f":"COUNTIF($F$12:$K$62,O19)","v":7},7]
[null,null,8,{"$f":"COUNT('Resultados Gerais'!$B8:$B1048576)-8","v":1499},{"$f":"VLOOKUP(D20,'Resultados Gerais'!B8:$C1048576,2,0)","v":"2013-06-01"},{"$f":"VLOOKUP(D20,'Resultados Gerais'!$B8:$I1048576,3,0)","v":26},{"$f":"VLOOKUP(D20,'Resultados Gerais'!$B8:$I1048576,4,0)","v":37},{"$f":"VLOOKUP(D20,'Resultados Gerais'!$B8:$I1048576,5,0)","v":8},{"$f":"VLOOKUP(D20,'Resultados Gerais'!$B8:$I1048576,6,0)","v":22},{"$f":"VLOOKUP(D20,'Resultados Gerais'!$B8:$I1048576,7,0)","v":54},{"$f":"VLOOKUP(D20,'Resultados Gerais'!$B8:$I1048576,8,0)","v":33},null,null,null,51,{"$f":"COUNTIF($F$12:$K$62,O20)","v":7},7]
[null,null,9,{"$f":"COUNT('Resultados Gerais'!$B8:$B1048576)-9","v":1498},{"$f":"VLOOKUP(D21,'Resultados Gerais'!B8:$C1048576,2,0)","v":"2013-05-29"},{"$f":"VLOOKUP(D21,'Resultados Gerais'!$B8:$I1048576,3,0)","v":11},{"$f":"VLOOKUP(D21,'Resultados Gerais'!$B8:$I1048576,4,0)","v":46},{"$f":"VLOOKUP(D21,'Resultados Gerais'!$B8:$I1048576,5,0)","v":27},{"$f":"VLOOKUP(D21,'Resultados Gerais'!$B8:$I1048576,6,0)","v":49},{"$f":"VLOOKUP(D21,'Resultados Gerais'!$B8:$I1048576,7,0)","v":6},{"$f":"VLOOKUP(D21,'Resultados Gerais'!$B8:$I1048576,8,0)","v":40},null,null,null,44,{"$f":"COUNTIF($F$12:$K$62,O21)","v":7},7]
[null,null,10,{"$f":"COUNT('Resultados Gerais'!$B8:$B1048576)-10","v":1497},{"$f":"VLOOKUP(D22,'Resultados Gerais'!B8:$C1048576,2,0)","v":"2013-05-25"},{"$f":"VLOOKUP(D22,'Resultados Gerais'!$B8:$I1048576,3,0)","v":58},{"$f":"VLOOKUP(D22,'Resultados Gerais'!$B8:$I1048576,4,0)","v":7},{"$f":"VLOOKUP(D22,'Resultados Gerais'!$B8:$I1048576,5,0)","v":27},{"$f":"VLOOKUP(D22,'Resultados Gerais'!$B8:$I1048576,6,0)","v":45},{"$f":"VLOOKUP(D22,'Resultados Gerais'!$B8:$I1048576,7,0)","v":4},{"$f":"VLOOKUP(D22,'Resultados Gerais'!$B8:$I1048576,8,0)","v":5},null,null,null,40,{"$f":"COUNTIF($F$12:$K$62,O22)","v":7},7]
[null,null,11,{"$f":"COUNT('Resultados Gerais'!$B8:$B1048576)-11","v":1496},{"$f":"VLOOKUP(D23,'Resultados Gerais'!B8:$C1048576,2,0)","v":"2013-05-22"},{"$f":"VLOOKUP(D23,'Resultados Gerais'!$B8:$I1048576,3,0)","v":28},{"$f":"VLOOKUP(D23,'Resultados Gerais'!$B8:$I1048576,4,0)","v":18},{"$f":"VLOOKUP(D23,'Resultados Gerais'!$B8:$I1048576,5,0)","v":41},{"$f":"VLOOKUP(D23,'Resultados Gerais'!$B8:$I1048576,6,0)","v":54},{"$f":"VLOOKUP(D23,'Resultados Gerais'!$B8:$I1048576,7,0)","v":14},{"$f":"VLOOKUP(D23,'Resultados Gerais'!$B8:$I1048576,8,0)","v":47},null,null,null,37,{"$f":"COUNTIF($F$12:$K$62,O23)","v":7},7]
[null,null,12,{"$f":"COUNT('Resultados Gerais'!$B8:$B1048576)-12","v":1495},{"$f":"VLOOKUP(D24,'Resultados Gerais'!B8:$C1048576,2,0)","v":"2013-05-18"},{"$f":"VLOOKUP(D24,'Resultados Gerais'!$B8:$I1048576,3,0)","v":13},{"$f":"VLOOKUP(D24,'Resultados Gerais'!$B8:$I1048576,4,0)","v":49},{"$f":"VLOOKUP(D24,'Resultados Gerais'!$B8:$I1048576,5,0)","v":4},{"$f":"VLOOKUP(D24,'Resultados Gerais'!$B8:$I1048576,6,0)","v":44},{"$f":"VLOOKUP(D24,'Resultados Gerais'!$B8:$I1048576,7,0)","v":14},{"$f":"VLOOKUP(D24,'Resultados Gerais'!$B8:$I1048576,8,0)","v":57},null,null,null,28,{"$f":"COUNTIF($F$12:$K$62,O24)","v":7},7]
[null,null,13,{"$f":"COUNT('Resultados Gerais'!$B8:$B1048576)-13","v":1494},{"$f":"VLOOKUP(D25,'Resultados Gerais'!B8:$C1048576,2,0)","v":"2013-05-15"},{"$f":"VLOOKUP(D25,'Resultados Gerais'!$B8:$I1048576,3,0)","v":50},{"$f":"VLOOKUP(D25,'Resultados Gerais'!$B8:$I1048576,4,0)","v":28},{"$f":"VLOOKUP(D25,'Resultados Gerais'!$B8:$I1048576,5,0)","v":35},{"$f":"VLOOKUP(D25,'Resultados Gerais'!$B8:$I1048576,6,0)","v":24},{"$f":"VLOOKUP(D25,'Resultados Gerais'!$B8:$I1048576,7,0)","v":2},{"$f":"VLOOKUP(D25,'Resultados Gerais'!$B8:$I1048576,8,0)","v":14},null,null,null,26,{"$f":"COUNTIF($F$12:$K$62,O25)","v":7},7]
[null,null,14,{"$f":"COUNT('Resultados Gerais'!$B8:$B1048576)-14","v":1493},{"$f":"VLOOKUP(D26,'Resultados Gerais'!B8:$C1048576,2,0)","v":"2013-05-11"},{"$f":"VLOOKUP(D26,'Resultados Gerais'!$B8:$I1048576,3,0)","v":30},{"$f":"VLOOKUP(D26,'Resultados Gerais'!$B8:$I1048576,4,0)","v":24},{"$f":"VLOOKUP(D26,'Resultados Gerais'!$B8:$I1048576,5,0)","v":12},{"$f":"VLOOKUP(D26,'Resultados Gerais'!$B8:$I1048576,6,0)","v":49},{"$f":"VLOOKUP(D26,'Resultados Gerais'!$B8:$I1048576,7,0)","v":7},{"$f":"VLOOKUP(D26,'Resultados Gerais'!$B8:$I1048576,8,0)","v":27},null,null,null,24,{"$f":"COUNTIF($F$12:$K$62,O26)","v":7},7]
[null,null,15,{"$f":"COUNT('Resultados Gerais'!$B8:$B1048576)-15","v":1492},{"$f":"VLOOKUP(D27,'Resultados Gerais'!B8:$C1048576,2,0)","v":"2013-05-08"},{"$f":"VLOOKUP(D27,'Resultados Gerais'!$B8:$I1048576,3,0)","v":48},{"$f":"VLOOKUP(D27,'Resultados Gerais'!$B8:$I1048576,4,0)","v":44},{"$f":"VLOOKUP(D27,'Resultados Gerais'!$B8:$I1048576,5,0)","v":46},{"$f":"VLOOKUP(D27,'Resultados Gerais'!$B8:$I1048576,6,0)","v":4},{"$f":"VLOOKUP(D27,'Resultados Gerais'!$B8:$I1048576,7,0)","v":18},{"$f":"VLOOKUP(D27,'Resultados Gerais'!$B8:$I1048576,8,0)","v":9},null,null,null,10,{"$f":"COUNTIF($F$12:$K$62,O27)","v":7},7]
[null,null,16,{"$f":"COUNT('Resultados Gerais'!$B8:$B1048576)-16","v":1491},{"$f":"VLOOKUP(D28,'Resultados Gerais'!B8:$C1048576,2,0)","v":"2013-05-04"},{"$f":"VLOOKUP(D28,'Resultados Gerais'!$B8:$I1048576,3,0)","v":56},{"$f":"VLOOKUP(D28,'Resultados Gerais'!$B8:$I1048576,4,0)","v":6},{"$f":"VLOOKUP(D28,'Resultados Gerais'!$B8:$I1048576,5,0)","v":45},{"$f":"VLOOKUP(D28,'Resultados Gerais'!$B8:$I1048576,6,0)","v":60},{"$f":"VLOOKUP(D28,'Resultados Gerais'!$B8:$I1048576,7,0)","v":26},{"$f":"VLOOKUP(D28,'Resultados Gerais'!$B8:$I1048576,8,0)","v":50},null,null,null,57,{"$f":"COUNTIF($F$12:$K$62,O28)","v":6},6]
[null,null,17,{"$f":"COUNT('Resultados Gerais'!$B8:$B1048576)-17","v":1490},{"$f":"VLOOKUP(D29,'Resultados Gerais'!B8:$C1048576,2,0)","v":"2013-05-02"},{"$f":"VLOOKUP(D29,'Resultados Gerais'!$B8:$I1048576,3,0)","v":31},{"$f":"VLOOKUP(D29,'Resultados Gerais'!$B8:$I1048576,4,0)","v":32},{"$f":"VLOOKUP(D29,'Resultados Gerais'!$B8:$I1048576,5,0)","v":43},{"$f":"VLOOKUP(D29,'Resultados Gerais'!$B8:$I1048576,6,0)","v":3},{"$f":"VLOOKUP(D29,'Resultados Gerais'!$B8:$I1048576,7,0)","v":52},{"$f":"VLOOKUP(D29,'Resultados Gerais'!$B8:$I1048576,8,0)","v":1},null,null,null,53,{"$f":"COUNTIF($F$12:$K$62,O29)","v":6},6]
[null,null,18,{"$f":"COUNT('Resultados Gerais'!$B8:$B1048576)-18","v":1489},{"$f":"VLOOKUP(D30,'Resultados Gerais'!B8:$C1048576,2,0)","v":"2013-04-27"},{"$f":"VLOOKUP(D30,'Resultados Gerais'!$B8:$I1048576,3,0)","v":48},{"$f":"VLOOKUP(D30,'Resultados Gerais'!$B8:$I1048576,4,0)","v":15},{"$f":"VLOOKUP(D30,'Resultados Gerais'!$B8:$I1048576,5,0)","v":24},{"$f":"VLOOKUP(D30,'Resultados Gerais'!$B8:$I1048576,6,0)","v":28},{"$f":"VLOOKUP(D30,'Resultados Gerais'!$B8:$I1048576,7,0)","v":1},{"$f":"VLOOKUP(D30,'Resultados Gerais'!$B8:$I1048576,8,0)","v":26},null,null,null,49,{"$f":"COUNTIF($F$12:$K$62,O30)","v":6},6]
[null,null,19,{"$f":"COUNT('Resultados Gerais'!$B8:$B1048576)-19","v":1488},{"$f":"VLOOKUP(D31,'Resultados Gerais'!B8:$C1048576,2,0)","v":"2013-04-24"},{"$f":"VLOOKUP(D31,'Resultados Gerais'!$B8:$I1048576,3,0)","v":4},{"$f":"VLOOKUP(D31,'Resultados Gerais'!$B8:$I1048576,4,0)","v":51},{"$f":"VLOOKUP(D31,'Resultados Gerais'!$B8:$I1048576,5,0)","v":45},{"$f":"VLOOKUP(D31,'Resultados Gerais'!$B8:$I1048576,6,0)","v":22},{"$f":"VLOOKUP(D31,'Resultados Gerais'!$B8:$I1048576,7,0)","v":38},{"$f":"VLOOKUP(D31,'Resultados Gerais'!$B8:$I1048576,8,0)","v":25},null,null,null,36,{"$f":"COUNTIF($F$12:$K$62,O31)","v":6},6]
[null,null,20,{"$f":"COUNT('Resultados Gerais'!$B8:$B1048576)-20","v":1487},{"$f":"VLOOKUP(D32,'Resultados Gerais'!B8:$C1048576,2,0)","v":"2013-04-20"},{"$f":"VLOOKUP(D32,'Resultados Gerais'!$B8:$I1048576,3,0)","v":4},{"$f":"VLOOKUP(D32,'Resultados Gerais'!$B8:$I1048576,4,0)","v":17},{"$f":"VLOOKUP(D32,'Resultados Gerais'!$B8:$I1048576,5,0)","v":23},{"$f":"VLOOKUP(D32,'Resultados Gerais'!$B8:$I1048576,6,0)","v":28},{"$f":"VLOOKUP(D32,'Resultados Gerais'!$B8:$I1048576,7,0)","v":9},{"$f":"VLOOKUP(D32,'Resultados Gerais'!$B8:$I1048576,8,0)","v":53},null,null,null,34,{"$f":"COUNTIF($F$12:$K$62,O32)","v":6},6]
[null,null,21,{"$f":"COUNT('Resultados Gerais'!$B8:$B1048576)-C33","v":1486},{"$f":"VLOOKUP(D33,'Resultados Gerais'!B8:$C1048576,2,0)","v":"2013-04-17"},{"$f":"VLOOKUP(D33,'Resultados Gerais'!$B8:$I1048576,3,0)","v":10},{"$f":"VLOOKUP(D33,'Resultados Gerais'!$B8:$I1048576,4,0)","v":1},{"$f":"VLOOKUP(D33,'Resultados Gerais'!$B8:$I1048576,5,0)","v":34},{"$f":"VLOOKUP(D33,'Resultados Gerais'!$B8:$I1048576,6,0)","v":54},{"$f":"VLOOKUP(D33,'Resultados Gerais'!$B8:$I1048576,7,0)","v":6},{"$f":"VLOOKUP(D33,'Resultados Gerais'!$B8:$I1048576,8,0)","v":40},null,null,null,14,{"$f":"COUNTIF($F$12:$K$62,O33)","v":6},6]
[null,null,22,{"$f":"COUNT('Resultados Gerais'!$B8:$B1048576)-C34","v":1485},{"$f":"VLOOKUP(D34,'Resultados Gerais'!B8:$C1048576,2,0)","v":"2013-04-13"},{"$f":"VLOOKUP(D34,'Resultados Gerais'!$B8:$I1048576,3,0)","v":30},{"$f":"VLOOKUP(D34,'Resultados Gerais'!$B8:$I1048576,4,0)","v":59},{"$f":"VLOOKUP(D34,'Resultados Gerais'!$B8:$I1048576,5,0)","v":27},{"$f":"VLOOKUP(D34,'Resultados Gerais'!$B8:$I1048576,6,0)","v":36},{"$f":"VLOOKUP(D34,'Resultados Gerais'!$B8:$I1048576,7,0)","v":4},{"$f":"VLOOKUP(D34,'Resultados Gerais'!$B8:$I1048576,8,0)","v":54},null,null,null,13,{"$f":"COUNTIF($F$12:$K$62,O34)","v":6},6]
[null,null,23,{"$f":"COUNT('Resultados Gerais'!$B8:$B1048576)-C35","v":1484},{"$f":"VLOOKUP(D35,'Resultados Gerais'!B8:$C1048576,2,0)","v":"2013-04-10"},{"$f":"VLOOKUP(D35,'Resultados Gerais'!$B8:$I1048576,3,0)","v":49},{"$f":"VLOOKUP(D35,'Resultados Gerais'!$B8:$I1048576,4,0)","v":29},{"$f":"VLOOKUP(D35,'Resultados Gerais'!$B8:$I1048576,5,0)","v":17},{"$f":"VLOOKUP(D35,'Resultados Gerais'!$B8:$I1048576,6,0)","v":53},{"$f":"VLOOKUP(D35,'Resultados Gerais'!$B8:$I1048576,7,0)","v":20},{"$f":"VLOOKUP(D35,'Resultados Gerais'!$B8:$I1048576,8,0)","v":24},null,null,null,9,{"$f":"COUNTIF($F$12:$K$62,O35)","v":6},6]
[null,null,24,{"$f":"COUNT('Resultados Gerais'!$B8:$B1048576)-C36","v":1483},{"$f":"VLOOKUP(D36,'Resultados Gerais'!B8:$C1048576,2,0)","v":"2013-04-06"},{"$f":"VLOOKUP(D36,'Resultados Gerais'!$B8:$I1048576,3,0)","v":55},{"$f":"VLOOKUP(D36,'Resultados Gerais'!$B8:$I1048576,4,0)","v":53},{"$f":"VLOOKUP(D36,'Resultados Gerais'!$B8:$I1048576,5,0)","v":1},{"$f":"VLOOKUP(D36,'Resultados Gerais'!$B8:$I1048576,6,0)","v":35},{"$f":"VLOOKUP(D36,'Resultados Gerais'!$B8:$I1048576,7,0)","v":56},{"$f":"VLOOKUP(D36,'Resultados Gerais'!$B8:$I1048576,8,0)","v":39},null,null,null,56,{"$f":"COUNTIF($F$12:$K$62,O36)","v":5},5]
[null,null,25,{"$f":"COUNT('Resultados Gerais'!$B8:$B1048576)-C37","v":1482},{"$f":"VLOOKUP(D37,'Resultados Gerais'!B8:$C1048576,2,0)","v":"2013-04-03"},{"$f":"VLOOKUP(D37,'Resultados Gerais'!$B8:$I1048576,3,0)","v":11},{"$f":"VLOOKUP(D37,'Resultados Gerais'!$B8:$I1048576,4,0)","v":9},{"$f":"VLOOKUP(D37,'Resultados Gerais'!$B8:$I1048576,5,0)","v":6},{"$f":"VLOOKUP(D37,'Resultados Gerais'!$B8:$I1048576,6,0)","v":34},{"$f":"VLOOKUP(D37,'Resultados Gerais'!$B8:$I1048576,7,0)","v":41},{"$f":"VLOOKUP(D37,'Resultados Gerais'!$B8:$I1048576,8,0)","v":53},null,null,null,48,{"$f":"COUNTIF($F$12:$K$62,O37)","v":5},5]
[null,null,26,{"$f":"COUNT('Resultados Gerais'!$B8:$B1048576)-C38","v":1481},{"$f":"VLOOKUP(D38,'Resultados Gerais'!B8:$C1048576,2,0)","v":"2013-03-30"},{"$f":"VLOOKUP(D38,'Resultados Gerais'!$B8:$I1048576,3,0)","v":40},{"$f":"VLOOKUP(D38,'Resultados Gerais'!$B8:$I1048576,4,0)","v":27},{"$f":"VLOOKUP(D38,'Resultados Gerais'!$B8:$I1048576,5,0)","v":55},{"$f":"VLOOKUP(D38,'Resultados Gerais'!$B8:$I1048576,6,0)","v":17},{"$f":"VLOOKUP(D38,'Resultados Gerais'!$B8:$I1048576,7,0)","v":28},{"$f":"VLOOKUP(D38,'Resultados Gerais'!$B8:$I1048576,8,0)","v":44},null,null,null,22,{"$f":"COUNTIF($F$12:$K$62,O38)","v":5},5]
[null,null,27,{"$f":"COUNT('Resultados Gerais'!$B8:$B1048576)-C39","v":1480},{"$f":"VLOOKUP(D39,'Resultados Gerais'!B8:$C1048576,2,0)","v":"2013-03-27"},{"$f":"VLOOKUP(D39,'Resultados Gerais'!$B8:$I1048576,3,0)","v":9},{"$f":"VLOOKUP(D39,'Resultados Gerais'!$B8:$I1048576,4,0)","v":14},{"$f":"VLOOKUP(D39,'Resultados Gerais'!$B8:$I1048576,5,0)","v":26},{"$f":"VLOOKUP(D39,'Resultados Gerais'!$B8:$I1048576,6,0)","v":36},{"$f":"VLOOKUP(D39,'Resultados Gerais'!$B8:$I1048576,7,0)","v":52},{"$f":"VLOOKUP(D39,'Resultados Gerais'!$B8:$I1048576,8,0)","v":21},null,null,null,18,{"$f":"COUNTIF($F$12:$K$62,O39)","v":5},5]
[null,null,28,{"$f":"COUNT('Resultados Gerais'!$B8:$B1048576)-C40","v":1479},{"$f":"VLOOKUP(D40,'Resultados Gerais'!B8:$C1048576,2,0)","v":"2013-03-23"},{"$f":"VLOOKUP(D40,'Resultados Gerais'!$B8:$I1048576,3,0)","v":57},{"$f":"VLOOKUP(D40,'Resultados Gerais'!$B8:$I1048576,4,0)","v":21},{"$f":"VLOOKUP(D40,'Resultados Gerais'!$B8:$I1048576,5,0)","v":54},{"$f":"VLOOKUP(D40,'Resultados Gerais'!$B8:$I1048576,6,0)","v":48},{"$f":"VLOOKUP(D40,'Resultados Gerais'!$B8:$I1048576,7,0)","v":50},{"$f":"VLOOKUP(D40,'Resultados Gerais'!$B8:$I1048576,8,0)","v":60},null,null,null,12,{"$f":"COUNTIF($F$12:$K$62,O40)","v":5},5]
[null,null,29,{"$f":"COUNT('Resultados Gerais'!$B8:$B1048576)-C41","v":1478},{"$f":"VLOOKUP(D41,'Resultados Gerais'!B8:$C1048576,2,0)","v":"2013-03-20"},{"$f":"VLOOKUP(D41,'Resultados Gerais'!$B8:$I1048576,3,0)","v":10},{"$f":"VLOOKUP(D41,'Resultados Gerais'!$B8:$I1048576,4,0)","v":40},{"$f":"VLOOKUP(D41,'Resultados Gerais'!$B8:$I1048576,5,0)","v":27},{"$f":"VLOOKUP(D41,'Resultados Gerais'!$B8:$I1048576,6,0)","v":47},{"$f":"VLOOKUP(D41,'Resultados Gerais'!$B8:$I1048576,7,0)","v":55},{"$f":"VLOOKUP(D41,'Resultados Gerais'!$B8:$I1048576,8,0)","v":37},null,null,null,3,{"$f":"COUNTIF($F$12:$K$62,O41)","v":5},5]
[null,null,30,{"$f":"COUNT('Resultados Gerais'!$B8:$B1048576)-C42","v":1477},{"$f":"VLOOKUP(D42,'Resultados Gerais'!B8:$C1048576,2,0)","v":"2013-03-16"},{"$f":"VLOOKUP(D42,'Resultados Gerais'!$B8:$I1048576,3,0)","v":50},{"$f":"VLOOKUP(D42,'Resultados Gerais'!$B8:$I1048576,4,0)","v":59},{"$f":"VLOOKUP(D42,'Resultados Gerais'!$B8:$I1048576,5,0)","v":56},{"$f":"VLOOKUP(D42,'Resultados Gerais'!$B8:$I1048576,6,0)","v":46},{"$f":"VLOOKUP(D42,'Resultados Gerais'!$B8:$I1048576,7,0)","v":3},{"$f":"VLOOKUP(D42,'Resultados Gerais'!$B8:$I1048576,8,0)","v":4},null,null,null,59,{"$f":"COUNTIF($F$12:$K$62,O42)","v":4},4]
[null,null,31,{"$f":"COUNT('Resultados Gerais'!$B8:$B1048576)-C43","v":1476},{"$f":"VLOOKUP(D43,'Resultados Gerais'!B8:$C1048576,2,0)","v":"2013-03-13"},{"$f":"VLOOKUP(D43,'Resultados Gerais'!$B8:$I1048576,3,0)","v":26},{"$f":"VLOOKUP(D43,'Resultados Gerais'!$B8:$I1048576,4,0)","v":10},{"$f":"VLOOKUP(D43,'Resultados Gerais'!$B8:$I1048576,5,0)","v":4},{"$f":"VLOOKUP(D43,'Resultados Gerais'!$B8:$I1048576,6,0)","v":37},{"$f":"VLOOKUP(D43,'Resultados Gerais'!$B8:$I1048576,7,0)","v":47},{"$f":"VLOOKUP(D43,'Resultados Gerais'!$B8:$I1048576,8,0)","v":57},null,null,null,58,{"$f":"COUNTIF($F$12:$K$62,O43)","v":4},4]
[null,null,32,{"$f":"COUNT('Resultados Gerais'!$B8:$B1048576)-C44","v":1475},{"$f":"VLOOKUP(D44,'Resultados Gerais'!B8:$C1048576,2,0)","v":"2013-03-09"},{"$f":"VLOOKUP(D44,'Resultados Gerais'!$B8:$I1048576,3,0)","v":13},{"$f":"VLOOKUP(D44,'Resultados Gerais'!$B8:$I1048576,4,0)","v":12},{"$f":"VLOOKUP(D44,'Resultados Gerais'!$B8:$I1048576,5,0)","v":51},{"$f":"VLOOKUP(D44,'Resultados Gerais'!$B8:$I1048576,6,0)","v":37},{"$f":"VLOOKUP(D44,'Resultados Gerais'!$B8:$I1048576,7,0)","v":48},{"$f":"VLOOKUP(D44,'Resultados Gerais'!$B8:$I1048576,8,0)","v":44},null,null,null,55,{"$f":"COUNTIF($F$12:$K$62,O44)","v":4},4]
[null,null,33,{"$f":"COUNT('Resultados Gerais'!$B8:$B1048576)-C45","v":1474},{"$f":"VLOOKUP(D45,'Resultados Gerais'!B8:$C1048576,2,0)","v":"2013-03-06"},{"$f":"VLOOKUP(D45,'Resultados Gerais'!$B8:$I1048576,3,0)","v":2},{"$f":"VLOOKUP(D45,'Resultados Gerais'!$B8:$I1048576,4,0)","v":43},{"$f":"VLOOKUP(D45,'Resultados Gerais'!$B8:$I1048576,5,0)","v":11},{"$f":"VLOOKUP(D45,'Resultados Gerais'!$B8:$I1048576,6,0)","v":1},{"$f":"VLOOKUP(D45,'Resultados Gerais'!$B8:$I1048576,7,0)","v":3},{"$f":"VLOOKUP(D45,'Resultados Gerais'!$B8:$I1048576,8,0)","v":28},null,null,null,47,{"$f":"COUNTIF($F$12:$K$62,O45)","v":4},4]
[null,null,34,{"$f":"COUNT('Resultados Gerais'!$B8:$B1048576)-C46","v":1473},{"$f":"VLOOKUP(D46,'Resultados Gerais'!B8:$C1048576,2,0)","v":"2013-03-02"},{"$f":"VLOOKUP(D46,'Resultados Gerais'!$B8:$I1048576,3,0)","v":60},{"$f":"VLOOKUP(D46,'Resultados Gerais'!$B8:$I1048576,4,0)","v":12},{"$f":"VLOOKUP(D46,'Resultados Gerais'!$B8:$I1048576,5,0)","v":57},{"$f":"VLOOKUP(D46,'Resultados Gerais'!$B8:$I1048576,6,0)","v":58},{"$f":"VLOOKUP(D46,'Resultados Gerais'!$B8:$I1048576,7,0)","v":33},{"$f":"VLOOKUP(D46,'Resultados Gerais'!$B8:$I1048576,8,0)","v":2},null,null,null,46,{"$f":"COUNTIF($F$12:$K$62,O46)","v":4},4]
[null,null,35,{"$f":"COUNT('Resultados Gerais'!$B8:$B1048576)-C47","v":1472},{"$f":"VLOOKUP(D47,'Resultados Gerais'!B8:$C1048576,2,0)","v":"2013-02-27"},{"$f":"VLOOKUP(D47,'Resultados Gerais'!$B8:$I1048576,3,0)","v":12},{"$f":"VLOOKUP(D47,'Resultados Gerais'!$B8:$I1048576,4,0)","v":23},{"$f":"VLOOKUP(D47,'Resultados Gerais'!$B8:$I1048576,5,0)","v":25},{"$f":"VLOOKUP(D47,'Resultados Gerais'!$B8:$I1048576,6,0)","v":18},{"$f":"VLOOKUP(D47,'Resultados Gerais'!$B8:$I1048576,7,0)","v":45},{"$f":"VLOOKUP(D47,'Resultados Gerais'!$B8:$I1048576,8,0)","v":50},null,null,null,45,{"$f":"COUNTIF($F$12:$K$62,O47)","v":4},4]
[null,null,36,{"$f":"COUNT('Resultados Gerais'!$B8:$B1048576)-C48","v":1471},{"$f":"VLOOKUP(D48,'Resultados Gerais'!B8:$C1048576,2,0)","v":"2013-02-23"},{"$f":"VLOOKUP(D48,'Resultados Gerais'!$B8:$I1048576,3,0)","v":58},{"$f":"VLOOKUP(D48,'Resultados Gerais'!$B8:$I1048576,4,0)","v":33},{"$f":"VLOOKUP(D48,'Resultados Gerais'!$B8:$I1048576,5,0)","v":36},{"$f":"VLOOKUP(D48,'Resultados Gerais'!$B8:$I1048576,6,0)","v":40},{"$f":"VLOOKUP(D48,'Resultados Gerais'!$B8:$I1048576,7,0)","v":25},{"$f":"VLOOKUP(D48,'Resultados Gerais'!$B8:$I1048576,8,0)","v":10},null,null,null,43,{"$f":"COUNTIF($F$12:$K$62,O48)","v":4},4]
[null,null,37,{"$f":"COUNT('Resultados Gerais'!$B8:$B1048576)-C49","v":1470},{"$f":"VLOOKUP(D49,'Resultados Gerais'!B8:$C1048576,2,0)","v":"2013-02-20"},{"$f":"VLOOKUP(D49,'Resultados Gerais'!$B8:$I1048576,3,0)","v":2},{"$f":"VLOOKUP(D49,'Resultados Gerais'!$B8:$I1048576,4,0)","v":34},{"$f":"VLOOKUP(D49,'Resultados Gerais'!$B8:$I1048576,5,0)","v":51},{"$f":"VLOOKUP(D49,'Resultados Gerais'!$B8:$I1048576,6,0)","v":36},{"$f":"VLOOKUP(D49,'Resultados Gerais'!$B8:$I1048576,7,0)","v":38},{"$f":"VLOOKUP(D49,'Resultados Gerais'!$B8:$I1048576,8,0)","v":55},null,null,null,41,{"$f":"COUNTIF($F$12:$K$62,O49)","v":4},4]
[null,null,38,{"$f":"COUNT('Resultados Gerais'!$B8:$B1048576)-C50","v":1469},{"$f":"VLOOKUP(D50,'Resultados Gerais'!B8:$C1048576,2,0)","v":"2013-02-16"},{"$f":"VLOOKUP(D50,'Resultados Gerais'!$B8:$I1048576,3,0)","v":4},{"$f":"VLOOKUP(D50,'Resultados Gerais'!$B8:$I1048576,4,0)","v":56},{"$f":"VLOOKUP(D50,'Resultados Gerais'!$B8:$I1048576,5,0)","v":54},{"$f":"VLOOKUP(D50,'Resultados Gerais'!$B8:$I1048576,6,0)","v":13},{"$f":"VLOOKUP(D50,'Resultados Gerais'!$B8:$I1048576,7,0)","v":35},{"$f":"VLOOKUP(D50,'Resultados Gerais'!$B8:$I1048576,8,0)","v":58},null,null,null,38,{"$f":"COUNTIF($F$12:$K$62,O50)","v":4},4]
[null,null,39,{"$f":"COUNT('Resultados Gerais'!$B8:$B1048576)-C51","v":1468},{"$f":"VLOOKUP(D51,'Resultados Gerais'!B8:$C1048576,2,0)","v":"2013-02-13"},{"$f":"VLOOKUP(D51,'Resultados Gerais'!$B8:$I1048576,3,0)","v":2},{"$f":"VLOOKUP(D51,'Resultados Gerais'!$B8:$I1048576,4,0)","v":20},{"$f":"VLOOKUP(D51,'Resultados Gerais'!$B8:$I1048576,5,0)","v":37},{"$f":"VLOOKUP(D51,'Resultados Gerais'!$B8:$I1048576,6,0)","v":19},{"$f":"VLOOKUP(D51,'Resultados Gerais'!$B8:$I1048576,7,0)","v":1},{"$f":"VLOOKUP(D51,'Resultados Gerais'!$B8:$I1048576,8,0)","v":10},null,null,null,35,{"$f":"COUNTIF($F$12:$K$62,O51)","v":4},4]
[null,null,40,{"$f":"COUNT('Resultados Gerais'!$B8:$B1048576)-C52","v":1467},{"$f":"VLOOKUP(D52,'Resultados Gerais'!B8:$C1048576,2,0)","v":"2013-02-09"},{"$f":"VLOOKUP(D52,'Resultados Gerais'!$B8:$I1048576,3,0)","v":41},{"$f":"VLOOKUP(D52,'Resultados Gerais'!$B8:$I1048576,4,0)","v":53},{"$f":"VLOOKUP(D52,'Resultados Gerais'!$B8:$I1048576,5,0)","v":26},{"$f":"VLOOKUP(D52,'Resultados Gerais'!$B8:$I1048576,6,0)","v":23},{"$f":"VLOOKUP(D52,'Resultados Gerais'!$B8:$I1048576,7,0)","v":52},{"$f":"VLOOKUP(D52,'Resultados Gerais'!$B8:$I1048576,8,0)","v":24},null,null,null,33,{"$f":"COUNTIF($F$12:$K$62,O52)","v":4},4]
[null,null,41,{"$f":"COUNT('Resultados Gerais'!$B8:$B1048576)-C53","v":1466},{"$f":"VLOOKUP(D53,'Resultados Gerais'!B8:$C1048576,2,0)","v":"2013-02-06"},{"$f":"VLOOKUP(D53,'Resultados Gerais'!$B8:$I1048576,3,0)","v":4},{"$f":"VLOOKUP(D53,'Resultados Gerais'!$B8:$I1048576,4,0)","v":13},{"$f":"VLOOKUP(D53,'Resultados Gerais'!$B8:$I1048576,5,0)","v":51},{"$f":"VLOOKUP(D53,'Resultados Gerais'!$B8:$I1048576,6,0)","v":37},{"$f":"VLOOKUP(D53,'Resultados Gerais'!$B8:$I1048576,7,0)","v":6},{"$f":"VLOOKUP(D53,'Resultados Gerais'!$B8:$I1048576,8,0)","v":34},null,null,null,30,{"$f":"COUNTIF($F$12:$K$62,O53)","v":4},4]
[null,null,42,{"$f":"COUNT('Resultados Gerais'!$B8:$B1048576)-C54","v":1465},{"$f":"VLOOKUP(D54,'Resultados Gerais'!B8:$C1048576,2,0)","v":"2013-02-02"},{"$f":"VLOOKUP(D54,'Resultados Gerais'!$B8:$I1048576,3,0)","v":11},{"$f":"VLOOKUP(D54,'Resultados Gerais'!$B8:$I1048576,4,0)","v":6},{"$f":"VLOOKUP(D54,'Resultados Gerais'!$B8:$I1048576,5,0)","v":53},{"$f":"VLOOKUP(D54,'Resultados Gerais'!$B8:$I1048576,6,0)","v":44},{"$f":"VLOOKUP(D54,'Resultados Gerais'!$B8:$I1048576,7,0)","v":16},{"$f":"VLOOKUP(D54,'Resultados Gerais'!$B8:$I1048576,8,0)","v":26},null,null,null,25,{"$f":"COUNTIF($F$12:$K$62,O54)","v":4},4]
[null,null,43,{"$f":"COUNT('Resultados Gerais'!$B8:$B1048576)-C55","v":1464},{"$f":"VLOOKUP(D55,'Resultados Gerais'!B8:$C1048576,2,0)","v":"2013-01-30"},{"$f":"VLOOKUP(D55,'Resultados Gerais'!$B8:$I1048576,3,0)","v":59},{"$f":"VLOOKUP(D55,'Resultados Gerais'!$B8:$I1048576,4,0)","v":2},{"$f":"VLOOKUP(D55,'Resultados Gerais'!$B8:$I1048576,5,0)","v":54},{"$f":"VLOOKUP(D55,'Resultados Gerais'!$B8:$I1048576,6,0)","v":32},{"$f":"VLOOKUP(D55,'Resultados Gerais'!$B8:$I1048576,7,0)","v":24},{"$f":"VLOOKUP(D55,'Resultados Gerais'!$B8:$I1048576,8,0)","v":50},null,null,null,16,{"$f":"COUNTIF($F$12:$K$62,O55)","v":4},4]
[null,null,44,{"$f":"COUNT('Resultados Gerais'!$B8:$B1048576)-C56","v":1463},{"$f":"VLOOKUP(D56,'Resultados Gerais'!B8:$C1048576,2,0)","v":"2013-01-26"},{"$f":"VLOOKUP(D56,'Resultados Gerais'!$B8:$I1048576,3,0)","v":40},{"$f":"VLOOKUP(D56,'Resultados Gerais'!$B8:$I1048576,4,0)","v":22},{"$f":"VLOOKUP(D56,'Resultados Gerais'!$B8:$I1048576,5,0)","v":13},{"$f":"VLOOKUP(D56,'Resultados Gerais'!$B8:$I1048576,6,0)","v":29},{"$f":"VLOOKUP(D56,'Resultados Gerais'!$B8:$I1048576,7,0)","v":48},{"$f":"VLOOKUP(D56,'Resultados Gerais'!$B8:$I1048576,8,0)","v":28},null,null,null,11,{"$f":"COUNTIF($F$12:$K$62,O56)","v":4},4]
[null,null,45,{"$f":"COUNT('Resultados Gerais'!$B8:$B1048576)-C57","v":1462},{"$f":"VLOOKUP(D57,'Resultados Gerais'!B8:$C1048576,2,0)","v":"2013-01-23"},{"$f":"VLOOKUP(D57,'Resultados Gerais'!$B8:$I1048576,3,0)","v":5},{"$f":"VLOOKUP(D57,'Resultados Gerais'!$B8:$I1048576,4,0)","v":9},{"$f":"VLOOKUP(D57,'Resultados Gerais'!$B8:$I1048576,5,0)","v":25},{"$f":"VLOOKUP(D57,'Resultados Gerais'!$B8:$I1048576,6,0)","v":40},{"$f":"VLOOKUP(D57,'Resultados Gerais'!$B8:$I1048576,7,0)","v":38},{"$f":"VLOOKUP(D57,'Resultados Gerais'!$B8:$I1048576,8,0)","v":27},null,null,null,60,{"$f":"COUNTIF($F$12:$K$62,O57)","v":3},3]
[null,null,46,{"$f":"COUNT('Resultados Gerais'!$B8:$B1048576)-C58","v":1461},{"$f":"VLOOKUP(D58,'Resultados Gerais'!B8:$C1048576,2,0)","v":"2013-01-19"},{"$f":"VLOOKUP(D58,'Resultados Gerais'!$B8:$I1048576,3,0)","v":44},{"$f":"VLOOKUP(D58,'Resultados Gerais'!$B8:$I1048576,4,0)","v":31},{"$f":"VLOOKUP(D58,'Resultados Gerais'!$B8:$I1048576,5,0)","v":49},{"$f":"VLOOKUP(D58,'Resultados Gerais'!$B8:$I1048576,6,0)","v":54},{"$f":"VLOOKUP(D58,'Resultados Gerais'!$B8:$I1048576,7,0)","v":36},{"$f":"VLOOKUP(D58,'Resultados Gerais'!$B8:$I1048576,8,0)","v":47},null,null,null,42,{"$f":"COUNTIF($F$12:$K$62,O58)","v":3},3]
[null,null,47,{"$f":"COUNT('Resultados Gerais'!$B8:$B1048576)-C59","v":1460},{"$f":"VLOOKUP(D59,'Resultados Gerais'!B8:$C1048576,2,0)","v":"2013-01-16"},{"$f":"VLOOKUP(D59,'Resultados Gerais'!$B8:$I1048576,3,0)","v":50},{"$f":"VLOOKUP(D59,'Resultados Gerais'!$B8:$I1048576,4,0)","v":52},{"$f":"VLOOKUP(D59,'Resultados Gerais'!$B8:$I1048576,5,0)","v":14},{"$f":"VLOOKUP(D59,'Resultados Gerais'!$B8:$I1048576,6,0)","v":4},{"$f":"VLOOKUP(D59,'Resultados Gerais'!$B8:$I1048576,7,0)","v":27},{"$f":"VLOOKUP(D59,'Resultados Gerais'!$B8:$I1048576,8,0)","v":38},null,null,null,32,{"$f":"COUNTIF($F$12:$K$62,O59)","v":3},3]
[null,null,48,{"$f":"COUNT('Resultados Gerais'!$B8:$B1048576)-C60","v":1459},{"$f":"VLOOKUP(D60,'Resultados Gerais'!B8:$C1048576,2,0)","v":"2013-01-12"},{"$f":"VLOOKUP(D60,'Resultados Gerais'!$B8:$I1048576,3,0)","v":2},{"$f":"VLOOKUP(D60,'Resultados Gerais'!$B8:$I1048576,4,0)","v":6},{"$f":"VLOOKUP(D60,'Resultados Gerais'!$B8:$I1048576,5,0)","v":35},{"$f":"VLOOKUP(D60,'Resultados Gerais'!$B8:$I1048576,6,0)","v":30},{"$f":"VLOOKUP(D60,'Resultados Gerais'!$B8:$I1048576,7,0)","v":52},{"$f":"VLOOKUP(D60,'Resultados Gerais'!$B8:$I1048576,8,0)","v":34},null,null,null,31,{"$f":"COUNTIF($F$12:$K$62,O60)","v":3},3]
[null,null,49,{"$f":"COUNT('Resultados Gerais'!$B8:$B1048576)-C61","v":1458},{"$f":"VLOOKUP(D61,'Resultados Gerais'!B8:$C1048576,2,0)","v":"2013-01-09"},{"$f":"VLOOKUP(D61,'Resultados Gerais'!$B8:$I1048576,3,0)","v":2},{"$f":"VLOOKUP(D61,'Resultados Gerais'!$B8:$I1048576,4,0)","v":16},{"$f":"VLOOKUP(D61,'Resultados Gerais'!$B8:$I1048576,5,0)","v":4},{"$f":"VLOOKUP(D61,'Resultados Gerais'!$B8:$I1048576,6,0)","v":44},{"$f":"VLOOKUP(D61,'Resultados Gerais'!$B8:$I1048576,7,0)","v":33},{"$f":"VLOOKUP(D61,'Resultados Gerais'!$B8:$I1048576,8,0)","v":51},null,null,null,29,{"$f":"COUNTIF($F$12:$K$62,O61)","v":3},3]
[null,null,null,null,null,null,null,null,null,null,null,null,null,null,23,{"$f":"COUNTIF($F$12:$K$62,O62)","v":3},3]
[null,null,null,null,null,null,null,null,null,null,null,null,null,null,17,{"$f":"COUNTIF($F$12:$K$62,O63)","v":3},3]
[null,null,null,null,null,null,null,null,null,null,null,null,null,null,7,{"$f":"COUNTIF($F$12:$K$62,O64)","v":3},3]
[null,null,null,null,null,null,null,null,null,null,null,null,null,null,21,{"$f":"COUNTIF($F$12:$K$62,O65)","v":2},2]
[null,null,null,null,null,null,null,null,null,null,null,null,null,null,20,{"$f":"COUNTIF($F$12:$K$62,O66)","v":2},2]
[null,null,null,null,null,null,null,null,null,null,null,null,null,null,5,{"$f":"COUNTIF($F$12:$K$62,O67)","v":2},2]
[null,null,null,null,null,null,null,null,null,null,null,null,null,null,39,{"$f":"COUNTIF($F$12:$K$62,O68)","v":1},1]
[null,null,null,null,null,null,null,null,null,null,null,null,null,null,19,{"$f":"COUNTIF($F$12:$K$62,O69)","v":1},1]
[null,null,null,null,null,null,null,null,null,null,null,null,null,null,15,{"$f":"COUNTIF($F$12:$K$62,O70)","v":1},1]
[null,null,null,null,null,null,null,null,null,null,null,null,null,null,8,{"$f":"COUNTIF($F$12:$K$62,O71)","v":1},1]

{"sheet":"100 Últimos Sorteios","index":5,"n_rows":111,"n_cols":17,"rows_kept":111,"cut":false,"hidden":false,"merged":[[8,14,9,15],[8,3,9,10],[5,1,5,18],[1,1,1,18],[2,1,2,18],[3,1,3,18]]}
[]
[null,"Atenção!"]
[null,"Esta planilha é de uso pessoal, é restritamente proibida a distribuição da mesma a terceiros, sujeito a punições de acordo com as leis de direitos autorais"]
[null,"Todos os direitos reservados ao site www.ApostaEsperta.com "]
[]
[null,"Planilha de Análise Estatística Mega Sena"]
[]
[]
[null,null,null,"Resultados dos Últimos 100 Sorteios",null,null,null,null,null,null,null,null,null,null,"Números Quentes Últimos 100 Sorteios"]
[]
[null,null,null,"Sorteio","Data do Sorteio","1ª Dezena","2ª Dezena","3ª Dezena","4ª Dezena","5ª Dezena","6ª Dezena",null,null,null,"Dezenas","Qtd de Saída"]
[null,null,null,{"$f":"COUNT('Resultados Gerais'!$B8:$B1048576)","v":1507},{"$f":"VLOOKUP(D12,'Resultados Gerais'!$B8:$C1048576,2,0)","v":"2013-06-29"},{"$f":"VLOOKUP(D12,'Resultados Gerais'!$B8:$I1048576,3,0)","v":46},{"$f":"VLOOKUP(D12,'Resultados Gerais'!$B8:$I1048576,4,0)","v":24},{"$f":"VLOOKUP(D12,'Resultados Gerais'!$B8:$I1048576,5,0)","v":51},{"$f":"VLOOKUP(D12,'Resultados Gerais'!$B8:$I1048576,6,0)","v":50},{"$f":"VLOOKUP(D12,'Resultados Gerais'!$B8:$I1048576,7,0)","v":56},{"$f":"VLOOKUP(D12,'Resultados Gerais'!$B8:$I1048576,8,0)","v":52},null,null,null,2,{"$f":"COUNTIF($F$12:$K$112,O12)","v":19},{"$f":"P12","v":19}]
[null,null,1,{"$f":"COUNT('Resultados Gerais'!$B8:$B1048576) -1","v":1506},{"$f":"VLOOKUP(D13,'Resultados Gerais'!B8:$C1048576,2,0)","v":"2013-06-26"},{"$f":"VLOOKUP(D13,'Resultados Gerais'!$B8:$I1048576,3,0)","v":49},{"$f":"VLOOKUP(D13,'Resultados Gerais'!$B8:$I1048576,4,0)","v":34},{"$f":"VLOOKUP(D13,'Resultados Gerais'!$B8:$I1048576,5,0)","v":42},{"$f":"VLOOKUP(D13,'Resultados Gerais'!$B8:$I1048576,6,0)","v":18},{"$f":"VLOOKUP(D13,'Resultados Gerais'!$B8:$I1048576,7,0)","v":3},{"$f":"VLOOKUP(D13,'Resultados Gerais'!$B8:$I1048576,8,0)","v":14},null,null,null,4,{"$f":"COUNTIF($F$12:$K$112,O13)","v":17},{"$f":"P13","v":17}]
[null,null,2,{"$f":"COUNT('Resultados Gerais'!$B8:$B1048576)-2","v":1505},{"$f":"VLOOKUP(D14,'Resultados Gerais'!B8:$C1048576,2,0)","v":"2013-06-22"},{"$f":"VLOOKUP(D14,'Resultados Gerais'!$B8:$I1048576,3,0)","v":32},{"$f":"VLOOKUP(D14,'Resultados Gerais'!$B8:$I1048576,4,0)","v":1},{"$f":"VLOOKUP(D14,'Resultados Gerais'!$B8:$I1048576,5,0)","v":6},{"$f":"VLOOKUP(D14,'Resultados Gerais'!$B8:$I1048576,6,0)","v":9},{"$f":"VLOOKUP(D14,'Resultados Gerais'!$B8:$I1048576,7,0)","v":16},{"$f":"VLOOKUP(D14,'Resultados Gerais'!$B8:$I1048576,8,0)","v":2},null,null,null,6,{"$f":"COUNTIF($F$12:$K$112,O14)","v":17},17]
[null,null,3,{"$f":"COUNT('Resultados Gerais'!$B8:$B1048576)-3","v":1504},{"$f":"VLOOKUP(D15,'Resultados Gerais'!B8:$C1048576,2,0)","v":"2013-06-19"},{"$f":"VLOOKUP(D15,'Resultados Gerais'!$B8:$I1048576,3,0)","v":41},{"$f":"VLOOKUP(D15,'Resultados Gerais'!$B8:$I1048576,4,0)","v":2},{"$f":"VLOOKUP(D15,'Resultados Gerais'!$B8:$I1048576,5,0)","v":42},{"$f":"VLOOKUP(D15,'Resultados Gerais'!$B8:$I1048576,6,0)","v":30},{"$f":"VLOOKUP(D15,'Resultados Gerais'!$B8:$I1048576,7,0)","v":12},{"$f":"VLOOKUP(D15,'Resultados Gerais'!$B8:$I1048576,8,0)","v":10},null,null,null,52,{"$f":"COUNTIF($F$12:$K$112,O15)","v":17},17]
[null,null,4,{"$f":"COUNT('Resultados Gerais'!$B8:$B1048576)-4","v":1503},{"$f":"VLOOKUP(D16,'Resultados Gerais'!B8:$C1048576,2,0)","v":"2013-06-15"},{"$f":"VLOOKUP(D16,'Resultados Gerais'!$B8:$I1048576,3,0)","v":36},{"$f":"VLOOKUP(D16,'Resultados Gerais'!$B8:$I1048576,4,0)","v":22},{"$f":"VLOOKUP(D16,'Resultados Gerais'!$B8:$I1048576,5,0)","v":42},{"$f":"VLOOKUP(D16,'Resultados Gerais'!$B8:$I1048576,6,0)","v":3},{"$f":"VLOOKUP(D16,'Resultados Gerais'!$B8:$I1048576,7,0)","v":16},{"$f":"VLOOKUP(D16,'Resultados Gerais'!$B8:$I1048576,8,0)","v":4},null,null,null,36,{"$f":"COUNTIF($F$12:$K$112,O16)","v":15},15]
[null,null,5,{"$f":"COUNT('Resultados Gerais'!$B8:$B1048576)-5","v":1502},{"$f":"VLOOKUP(D17,'Resultados Gerais'!B8:$C1048576,2,0)","v":"2013-06-12"},{"$f":"VLOOKUP(D17,'Resultados Gerais'!$B8:$I1048576,3,0)","v":6},{"$f":"VLOOKUP(D17,'Resultados Gerais'!$B8:$I1048576,4,0)","v":43},{"$f":"VLOOKUP(D17,'Resultados Gerais'!$B8:$I1048576,5,0)","v":22},{"$f":"VLOOKUP(D17,'Resultados Gerais'!$B8:$I1048576,6,0)","v":52},{"$f":"VLOOKUP(D17,'Resultados Gerais'!$B8:$I1048576,7,0)","v":57},{"$f":"VLOOKUP(D17,'Resultados Gerais'!$B8:$I1048576,8,0)","v":51},null,null,null,13,{"$f":"COUNTIF($F$12:$K$112,O17)","v":14},14]
[null,null,6,{"$f":"COUNT('Resultados Gerais'!$B8:$B1048576)-6","v":1501},{"$f":"VLOOKUP(D18,'Resultados Gerais'!B8:$C1048576,2,0)","v":"2013-06-08"},{"$f":"VLOOKUP(D18,'Resultados Gerais'!$B8:$I1048576,3,0)","v":13},{"$f":"VLOOKUP(D18,'Resultados Gerais'!$B8:$I1048576,4,0)","v":37},{"$f":"VLOOKUP(D18,'Resultados Gerais'!$B8:$I1048576,5,0)","v":54},{"$f":"VLOOKUP(D18,'Resultados Gerais'!$B8:$I1048576,6,0)","v":7},{"$f":"VLOOKUP(D18,'Resultados Gerais'!$B8:$I1048576,7,0)","v":29},{"$f":"VLOOKUP(D18,'Resultados Gerais'!$B8:$I1048576,8,0)","v":1},null,null,null,44,{"$f":"COUNTIF($F$12:$K$112,O18)","v":14},14]
[null,null,7,{"$f":"COUNT('Resultados Gerais'!$B8:$B1048576)-7","v":1500},{"$f":"VLOOKUP(D19,'Resultados Gerais'!B8:$C1048576,2,0)","v":"2013-06-05"},{"$f":"VLOOKUP(D19,'Resultados Gerais'!$B8:$I1048576,3,0)","v":57},{"$f":"VLOOKUP(D19,'Resultados Gerais'!$B8:$I1048576,4,0)","v":43},{"$f":"VLOOKUP(D19,'Resultados Gerais'!$B8:$I1048576,5,0)","v":18},{"$f":"VLOOKUP(D19,'Resultados Gerais'!$B8:$I1048576,6,0)","v":59},{"$f":"VLOOKUP(D19,'Resultados Gerais'!$B8:$I1048576,7,0)","v":10},{"$f":"VLOOKUP(D19,'Resultados Gerais'!$B8:$I1048576,8,0)","v":31},null,null,null,24,{"$f":"COUNTIF($F$12:$K$112,O19)","v":14},14]
[null,null,8,{"$f":"COUNT('Resultados Gerais'!$B8:$B1048576)-8","v":1499},{"$f":"VLOOKUP(D20,'Resultados Gerais'!B8:$C1048576,2,0)","v":"2013-06-01"},{"$f":"VLOOKUP(D20,'Resultados Gerais'!$B8:$I1048576,3,0)","v":26},{"$f":"VLOOKUP(D20,'Resultados Gerais'!$B8:$I1048576,4,0)","v":37},{"$f":"VLOOKUP(D20,'Resultados Gerais'!$B8:$I1048576,5,0)","v":8},{"$f":"VLOOKUP(D20,'Resultados Gerais'!$B8:$I1048576,6,0)","v":22},{"$f":"VLOOKUP(D20,'Resultados Gerais'!$B8:$I1048576,7,0)","v":54},{"$f":"VLOOKUP(D20,'Resultados Gerais'!$B8:$I1048576,8,0)","v":33},null,null,null,27,{"$f":"COUNTIF($F$12:$K$112,O20)","v":13},13]
[null,null,9,{"$f":"COUNT('Resultados Gerais'!$B8:$B1048576)-9","v":1498},{"$f":"VLOOKUP(D21,'Resultados Gerais'!B8:$C1048576,2,0)","v":"2013-05-29"},{"$f":"VLOOKUP(D21,'Resultados Gerais'!$B8:$I1048576,3,0)","v":11},{"$f":"VLOOKUP(D21,'Resultados Gerais'!$B8:$I1048576,4,0)","v":46},{"$f":"VLOOKUP(D21,'Resultados Gerais'!$B8:$I1048576,5,0)","v":27},{"$f":"VLOOKUP(D21,'Resultados Gerais'!$B8:$I1048576,6,0)","v":49},{"$f":"VLOOKUP(D21,'Resultados Gerais'!$B8:$I1048576,7,0)","v":6},{"$f":"VLOOKUP(D21,'Resultados Gerais'!$B8:$I1048576,8,0)","v":40},null,null,null,54,{"$f":"COUNTIF($F$12:$K$112,O21)","v":13},13]
[null,null,10,{"$f":"COUNT('Resultados Gerais'!$B8:$B1048576)-10","v":1497},{"$f":"VLOOKUP(D22,'Resultados Gerais'!B8:$C1048576,2,0)","v":"2013-05-25"},{"$f":"VLOOKUP(D22,'Resultados Gerais'!$B8:$I1048576,3,0)","v":58},{"$f":"VLOOKUP(D22,'Resultados Gerais'!$B8:$I1048576,4,0)","v":7},{"$f":"VLOOKUP(D22,'Resultados Gerais'!$B8:$I1048576,5,0)","v":27},{"$f":"VLOOKUP(D22,'Resultados Gerais'!$B8:$I1048576,6,0)","v":45},{"$f":"VLOOKUP(D22,'Resultados Gerais'!$B8:$I1048576,7,0)","v":4},{"$f":"VLOOKUP(D22,'Resultados Gerais'!$B8:$I1048576,8,0)","v":5},null,null,null,40,{"$f":"COUNTIF($F$12:$K$112,O22)","v":13},13]
[null,null,11,{"$f":"COUNT('Resultados Gerais'!$B8:$B1048576)-11","v":1496},{"$f":"VLOOKUP(D23,'Resultados Gerais'!B8:$C1048576,2,0)","v":"2013-05-22"},{"$f":"VLOOKUP(D23,'Resultados Gerais'!$B8:$I1048576,3,0)","v":28},{"$f":"VLOOKUP(D23,'Resultados Gerais'!$B8:$I1048576,4,0)","v":18},{"$f":"VLOOKUP(D23,'Resultados Gerais'!$B8:$I1048576,5,0)","v":41},{"$f":"VLOOKUP(D23,'Resultados Gerais'!$B8:$I1048576,6,0)","v":54},{"$f":"VLOOKUP(D23,'Resultados Gerais'!$B8:$I1048576,7,0)","v":14},{"$f":"VLOOKUP(D23,'Resultados Gerais'!$B8:$I1048576,8,0)","v":47},null,null,null,50,{"$f":"COUNTIF($F$12:$K$112,O23)","v":13},13]
[null,null,12,{"$f":"COUNT('Resultados Gerais'!$B8:$B1048576)-12","v":1495},{"$f":"VLOOKUP(D24,'Resultados Gerais'!B8:$C1048576,2,0)","v":"2013-05-18"},{"$f":"VLOOKUP(D24,'Resultados Gerais'!$B8:$I1048576,3,0)","v":13},{"$f":"VLOOKUP(D24,'Resultados Gerais'!$B8:$I1048576,4,0)","v":49},{"$f":"VLOOKUP(D24,'Resultados Gerais'!$B8:$I1048576,5,0)","v":4},{"$f":"VLOOKUP(D24,'Resultados Gerais'!$B8:$I1048576,6,0)","v":44},{"$f":"VLOOKUP(D24,'Resultados Gerais'!$B8:$I1048576,7,0)","v":14},{"$f":"VLOOKUP(D24,'Resultados Gerais'!$B8:$I1048576,8,0)","v":57},null,null,null,26,{"$f":"COUNTIF($F$12:$K$112,O24)","v":12},12]
[null,null,13,{"$f":"COUNT('Resultados Gerais'!$B8:$B1048576)-13","v":1494},{"$f":"VLOOKUP(D25,'Resultados Gerais'!B8:$C1048576,2,0)","v":"2013-05-15"},{"$f":"VLOOKUP(D25,'Resultados Gerais'!$B8:$I1048576,3,0)","v":50},{"$f":"VLOOKUP(D25,'Resultados Gerais'!$B8:$I1048576,4,0)","v":28},{"$f":"VLOOKUP(D25,'Resultados Gerais'!$B8:$I1048576,5,0)","v":35},{"$f":"VLOOKUP(D25,'Resultados Gerais'!$B8:$I1048576,6,0)","v":24},{"$f":"VLOOKUP(D25,'Resultados Gerais'!$B8:$I1048576,7,0)","v":2},{"$f":"VLOOKUP(D25,'Resultados Gerais'!$B8:$I1048576,8,0)","v":14},null,null,null,48,{"$f":"COUNTIF($F$12:$K$112,O25)","v":12},12]
[null,null,14,{"$f":"COUNT('Resultados Gerais'!$B8:$B1048576)-14","v":1493},{"$f":"VLOOKUP(D26,'Resultados Gerais'!B8:$C1048576,2,0)","v":"2013-05-11"},{"$f":"VLOOKUP(D26,'Resultados Gerais'!$B8:$I1048576,3,0)","v":30},{"$f":"VLOOKUP(D26,'Resultados Gerais'!$B8:$I1048576,4,0)","v":24},{"$f":"VLOOKUP(D26,'Resultados Gerais'!$B8:$I1048576,5,0)","v":12},{"$f":"VLOOKUP(D26,'Resultados Gerais'!$B8:$I1048576,6,0)","v":49},{"$f":"VLOOKUP(D26,'Resultados Gerais'!$B8:$I1048576,7,0)","v":7},{"$f":"VLOOKUP(D26,'Resultados Gerais'!$B8:$I1048576,8,0)","v":27},null,null,null,49,{"$f":"COUNTIF($F$12:$K$112,O26)","v":12},12]
[null,null,15,{"$f":"COUNT('Resultados Gerais'!$B8:$B1048576)-15","v":1492},{"$f":"VLOOKUP(D27,'Resultados Gerais'!B8:$C1048576,2,0)","v":"2013-05-08"},{"$f":"VLOOKUP(D27,'Resultados Gerais'!$B8:$I1048576,3,0)","v":48},{"$f":"VLOOKUP(D27,'Resultados Gerais'!$B8:$I1048576,4,0)","v":44},{"$f":"VLOOKUP(D27,'Resultados Gerais'!$B8:$I1048576,5,0)","v":46},{"$f":"VLOOKUP(D27,'Resultados Gerais'!$B8:$I1048576,6,0)","v":4},{"$f":"VLOOKUP(D27,'Resultados Gerais'!$B8:$I1048576,7,0)","v":18},{"$f":"VLOOKUP(D27,'Resultados Gerais'!$B8:$I1048576,8,0)","v":9},null,null,null,56,{"$f":"COUNTIF($F$12:$K$112,O27)","v":12},12]
[null,null,16,{"$f":"COUNT('Resultados Gerais'!$B8:$B1048576)-16","v":1491},{"$f":"VLOOKUP(D28,'Resultados Gerais'!B8:$C1048576,2,0)","v":"2013-05-04"},{"$f":"VLOOKUP(D28,'Resultados Gerais'!$B8:$I1048576,3,0)","v":56},{"$f":"VLOOKUP(D28,'Resultados Gerais'!$B8:$I1048576,4,0)","v":6},{"$f":"VLOOKUP(D28,'Resultados Gerais'!$B8:$I1048576,5,0)","v":45},{"$f":"VLOOKUP(D28,'Resultados Gerais'!$B8:$I1048576,6,0)","v":60},{"$f":"VLOOKUP(D28,'Resultados Gerais'!$B8:$I1048576,7,0)","v":26},{"$f":"VLOOKUP(D28,'Resultados Gerais'!$B8:$I1048576,8,0)","v":50},null,null,null,57,{"$f":"COUNTIF($F$12:$K$112,O28)","v":11},11]
[null,null,17,{"$f":"COUNT('Resultados Gerais'!$B8:$B1048576)-17","v":1490},{"$f":"VLOOKUP(D29,'Resultados Gerais'!B8:$C1048576,2,0)","v":"2013-05-02"},{"$f":"VLOOKUP(D29,'Resultados Gerais'!$B8:$I1048576,3,0)","v":31},{"$f":"VLOOKUP(D29,'Resultados Gerais'!$B8:$I1048576,4,0)","v":32},{"$f":"VLOOKUP(D29,'Resultados Gerais'!$B8:$I1048576,5,0)","v":43},{"$f":"VLOOKUP(D29,'Resultados Gerais'!$B8:$I1048576,6,0)","v":3},{"$f":"VLOOKUP(D29,'Resultados Gerais'!$B8:$I1048576,7,0)","v":52},{"$f":"VLOOKUP(D29,'Resultados Gerais'!$B8:$I1048576,8,0)","v":1},null,null,null,37,{"$f":"COUNTIF($F$12:$K$112,O29)","v":11},11]
[null,null,18,{"$f":"COUNT('Resultados Gerais'!$B8:$B1048576)-18","v":1489},{"$f":"VLOOKUP(D30,'Resultados Gerais'!B8:$C1048576,2,0)","v":"2013-04-27"},{"$f":"VLOOKUP(D30,'Resultados Gerais'!$B8:$I1048576,3,0)","v":48},{"$f":"VLOOKUP(D30,'Resultados Gerais'!$B8:$I1048576,4,0)","v":15},{"$f":"VLOOKUP(D30,'Resultados Gerais'!$B8:$I1048576,5,0)","v":24},{"$f":"VLOOKUP(D30,'Resultados Gerais'!$B8:$I1048576,6,0)","v":28},{"$f":"VLOOKUP(D30,'Resultados Gerais'!$B8:$I1048576,7,0)","v":1},{"$f":"VLOOKUP(D30,'Resultados Gerais'!$B8:$I1048576,8,0)","v":26},null,null,null,28,{"$f":"COUNTIF($F$12:$K$112,O30)","v":11},11]
[null,null,19,{"$f":"COUNT('Resultados Gerais'!$B8:$B1048576)-19","v":1488},{"$f":"VLOOKUP(D31,'Resultados Gerais'!B8:$C1048576,2,0)","v":"2013-04-24"},{"$f":"VLOOKUP(D31,'Resultados Gerais'!$B8:$I1048576,3,0)","v":4},{"$f":"VLOOKUP(D31,'Resultados Gerais'!$B8:$I1048576,4,0)","v":51},{"$f":"VLOOKUP(D31,'Resultados Gerais'!$B8:$I1048576,5,0)","v":45},{"$f":"VLOOKUP(D31,'Resultados Gerais'!$B8:$I1048576,6,0)","v":22},{"$f":"VLOOKUP(D31,'Resultados Gerais'!$B8:$I1048576,7,0)","v":38},{"$f":"VLOOKUP(D31,'Resultados Gerais'!$B8:$I1048576,8,0)","v":25},null,null,null,14,{"$f":"COUNTIF($F$12:$K$112,O31)","v":11},11]
[null,null,20,{"$f":"COUNT('Resultados Gerais'!$B8:$B1048576)-20","v":1487},{"$f":"VLOOKUP(D32,'Resultados Gerais'!B8:$C1048576,2,0)","v":"2013-04-20"},{"$f":"VLOOKUP(D32,'Resultados Gerais'!$B8:$I1048576,3,0)","v":4},{"$f":"VLOOKUP(D32,'Resultados Gerais'!$B8:$I1048576,4,0)","v":17},{"$f":"VLOOKUP(D32,'Resultados Gerais'!$B8:$I1048576,5,0)","v":23},{"$f":"VLOOKUP(D32,'Resultados Gerais'!$B8:$I1048576,6,0)","v":28},{"$f":"VLOOKUP(D32,'Resultados Gerais'!$B8:$I1048576,7,0)","v":9},{"$f":"VLOOKUP(D32,'Resultados Gerais'!$B8:$I1048576,8,0)","v":53},null,null,null,45,{"$f":"COUNTIF($F$12:$K$112,O32)","v":11},11]
[null,null,21,{"$f":"COUNT('Resultados Gerais'!$B8:$B1048576)-C33","v":1486},{"$f":"VLOOKUP(D33,'Resultados Gerais'!B8:$C1048576,2,0)","v":"2013-04-17"},{"$f":"VLOOKUP(D33,'Resultados Gerais'!$B8:$I1048576,3,0)","v":10},{"$f":"VLOOKUP(D33,'Resultados Gerais'!$B8:$I1048576,4,0)","v":1},{"$f":"VLOOKUP(D33,'Resultados Gerais'!$B8:$I1048576,5,0)","v":34},{"$f":"VLOOKUP(D33,'Resultados Gerais'!$B8:$I1048576,6,0)","v":54},{"$f":"VLOOKUP(D33,'Resultados Gerais'!$B8:$I1048576,7,0)","v":6},{"$f":"VLOOKUP(D33,'Resultados Gerais'!$B8:$I1048576,8,0)","v":40},null,null,null,1,{"$f":"COUNTIF($F$12:$K$112,O33)","v":11},11]
[null,null,22,{"$f":"COUNT('Resultados Gerais'!$B8:$B1048576)-C34","v":1485},{"$f":"VLOOKUP(D34,'Resultados Gerais'!B8:$C1048576,2,0)","v":"2013-04-13"},{"$f":"VLOOKUP(D34,'Resultados Gerais'!$B8:$I1048576,3,0)","v":30},{"$f":"VLOOKUP(D34,'Resultados Gerais'!$B8:$I1048576,4,0)","v":59},{"$f":"VLOOKUP(D34,'Resultados Gerais'!$B8:$I1048576,5,0)","v":27},{"$f":"VLOOKUP(D34,'Resultados Gerais'!$B8:$I1048576,6,0)","v":36},{"$f":"VLOOKUP(D34,'Resultados Gerais'!$B8:$I1048576,7,0)","v":4},{"$f":"VLOOKUP(D34,'Resultados Gerais'!$B8:$I1048576,8,0)","v":54},null,null,null,34,{"$f":"COUNTIF($F$12:$K$112,O34)","v":11},11]
[null,null,23,{"$f":"COUNT('Resultados Gerais'!$B8:$B1048576)-C35","v":1484},{"$f":"VLOOKUP(D35,'Resultados Gerais'!B8:$C1048576,2,0)","v":"2013-04-10"},{"$f":"VLOOKUP(D35,'Resultados Gerais'!$B8:$I1048576,3,0)","v":49},{"$f":"VLOOKUP(D35,'Resultados Gerais'!$B8:$I1048576,4,0)","v":29},{"$f":"VLOOKUP(D35,'Resultados Gerais'!$B8:$I1048576,5,0)","v":17},{"$f":"VLOOKUP(D35,'Resultados Gerais'!$B8:$I1048576,6,0)","v":53},{"$f":"VLOOKUP(D35,'Resultados Gerais'!$B8:$I1048576,7,0)","v":20},{"$f":"VLOOKUP(D35,'Resultados Gerais'!$B8:$I1048576,8,0)","v":24},null,null,null,12,{"$f":"COUNTIF($F$12:$K$112,O35)","v":11},11]
[null,null,24,{"$f":"COUNT('Resultados Gerais'!$B8:$B1048576)-C36","v":1483},{"$f":"VLOOKUP(D36,'Resultados Gerais'!B8:$C1048576,2,0)","v":"2013-04-06"},{"$f":"VLOOKUP(D36,'Resultados Gerais'!$B8:$I1048576,3,0)","v":55},{"$f":"VLOOKUP(D36,'Resultados Gerais'!$B8:$I1048576,4,0)","v":53},{"$f":"VLOOKUP(D36,'Resultados Gerais'!$B8:$I1048576,5,0)","v":1},{"$f":"VLOOKUP(D36,'Resultados Gerais'!$B8:$I1048576,6,0)","v":35},{"$f":"VLOOKUP(D36,'Resultados Gerais'!$B8:$I1048576,7,0)","v":56},{"$f":"VLOOKUP(D36,'Resultados Gerais'!$B8:$I1048576,8,0)","v":39},null,null,null,51,{"$f":"COUNTIF($F$12:$K$112,O36)","v":10},10]
[null,null,25,{"$f":"COUNT('Resultados Gerais'!$B8:$B1048576)-C37","v":1482},{"$f":"VLOOKUP(D37,'Resultados Gerais'!B8:$C1048576,2,0)","v":"2013-04-03"},{"$f":"VLOOKUP(D37,'Resultados Gerais'!$B8:$I1048576,3,0)","v":11},{"$f":"VLOOKUP(D37,'Resultados Gerais'!$B8:$I1048576,4,0)","v":9},{"$f":"VLOOKUP(D37,'Resultados Gerais'!$B8:$I1048576,5,0)","v":6},{"$f":"VLOOKUP(D37,'Resultados Gerais'!$B8:$I1048576,6,0)","v":34},{"$f":"VLOOKUP(D37,'Resultados Gerais'!$B8:$I1048576,7,0)","v":41},{"$f":"VLOOKUP(D37,'Resultados Gerais'!$B8:$I1048576,8,0)","v":53},null,null,null,22,{"$f":"COUNTIF($F$12:$K$112,O37)","v":10},10]
[null,null,26,{"$f":"COUNT('Resultados Gerais'!$B8:$B1048576)-C38","v":1481},{"$f":"VLOOKUP(D38,'Resultados Gerais'!B8:$C1048576,2,0)","v":"2013-03-30"},{"$f":"VLOOKUP(D38,'Resultados Gerais'!$B8:$I1048576,3,0)","v":40},{"$f":"VLOOKUP(D38,'Resultados Gerais'!$B8:$I1048576,4,0)","v":27},{"$f":"VLOOKUP(D38,'Resultados Gerais'!$B8:$I1048576,5,0)","v":55},{"$f":"VLOOKUP(D38,'Resultados Gerais'!$B8:$I1048576,6,0)","v":17},{"$f":"VLOOKUP(D38,'Resultados Gerais'!$B8:$I1048576,7,0)","v":28},{"$f":"VLOOKUP(D38,'Resultados Gerais'!$B8:$I1048576,8,0)","v":44},null,null,null,33,{"$f":"COUNTIF($F$12:$K$112,O38)","v":10},10]
[null,null,27,{"$f":"COUNT('Resultados Gerais'!$B8:$B1048576)-C39","v":1480},{"$f":"VLOOKUP(D39,'Resultados Gerais'!B8:$C1048576,2,0)","v":"2013-03-27"},{"$f":"VLOOKUP(D39,'Resultados Gerais'!$B8:$I1048576,3,0)","v":9},{"$f":"VLOOKUP(D39,'Resultados Gerais'!$B8:$I1048576,4,0)","v":14},{"$f":"VLOOKUP(D39,'Resultados Gerais'!$B8:$I1048576,5,0)","v":26},{"$f":"VLOOKUP(D39,'Resultados Gerais'!$B8:$I1048576,6,0)","v":36},{"$f":"VLOOKUP(D39,'Resultados Gerais'!$B8:$I1048576,7,0)","v":52},{"$f":"VLOOKUP(D39,'Resultados Gerais'!$B8:$I1048576,8,0)","v":21},null,null,null,18,{"$f":"COUNTIF($F$12:$K$112,O39)","v":10},10]
[null,null,28,{"$f":"COUNT('Resultados Gerais'!$B8:$B1048576)-C40","v":1479},{"$f":"VLOOKUP(D40,'Resultados Gerais'!B8:$C1048576,2,0)","v":"2013-03-23"},{"$f":"VLOOKUP(D40,'Resultados Gerais'!$B8:$I1048576,3,0)","v":57},{"$f":"VLOOKUP(D40,'Resultados Gerais'!$B8:$I1048576,4,0)","v":21},{"$f":"VLOOKUP(D40,'Resultados Gerais'!$B8:$I1048576,5,0)","v":54},{"$f":"VLOOKUP(D40,'Resultados Gerais'!$B8:$I1048576,6,0)","v":48},{"$f":"VLOOKUP(D40,'Resultados Gerais'!$B8:$I1048576,7,0)","v":50},{"$f":"VLOOKUP(D40,'Resultados Gerais'!$B8:$I1048576,8,0)","v":60},null,null,null,46,{"$f":"COUNTIF($F$12:$K$112,O40)","v":10},10]
[null,null,29,{"$f":"COUNT('Resultados Gerais'!$B8:$B1048576)-C41","v":1478},{"$f":"VLOOKUP(D41,'Resultados Gerais'!B8:$C1048576,2,0)","v":"2013-03-20"},{"$f":"VLOOKUP(D41,'Resultados Gerais'!$B8:$I1048576,3,0)","v":10},{"$f":"VLOOKUP(D41,'Resultados Gerais'!$B8:$I1048576,4,0)","v":40},{"$f":"VLOOKUP(D41,'Resultados Gerais'!$B8:$I1048576,5,0)","v":27},{"$f":"VLOOKUP(D41,'Resultados Gerais'!$B8:$I1048576,6,0)","v":47},{"$f":"VLOOKUP(D41,'Resultados Gerais'!$B8:$I1048576,7,0)","v":55},{"$f":"VLOOKUP(D41,'Resultados Gerais'!$B8:$I1048576,8,0)","v":37},null,null,null,30,{"$f":"COUNTIF($F$12:$K$112,O41)","v":10},10]
[null,null,30,{"$f":"COUNT('Resultados Gerais'!$B8:$B1048576)-C42","v":1477},{"$f":"VLOOKUP(D42,'Resultados Gerais'!B8:$C1048576,2,0)","v":"2013-03-16"},{"$f":"VLOOKUP(D42,'Resultados Gerais'!$B8:$I1048576,3,0)","v":50},{"$f":"VLOOKUP(D42,'Resultados Gerais'!$B8:$I1048576,4,0)","v":59},{"$f":"VLOOKUP(D42,'Resultados Gerais'!$B8:$I1048576,5,0)","v":56},{"$f":"VLOOKUP(D42,'Resultados Gerais'!$B8:$I1048576,6,0)","v":46},{"$f":"VLOOKUP(D42,'Resultados Gerais'!$B8:$I1048576,7,0)","v":3},{"$f":"VLOOKUP(D42,'Resultados Gerais'!$B8:$I1048576,8,0)","v":4},null,null,null,53,{"$f":"COUNTIF($F$12:$K$112,O42)","v":9},9]
[null,null,31,{"$f":"COUNT('Resultados Gerais'!$B8:$B1048576)-C43","v":1476},{"$f":"VLOOKUP(D43,'Resultados Gerais'!B8:$C1048576,2,0)","v":"2013-03-13"},{"$f":"VLOOKUP(D43,'Resultados Gerais'!$B8:$I1048576,3,0)","v":26},{"$f":"VLOOKUP(D43,'Resultados Gerais'!$B8:$I1048576,4,0)","v":10},{"$f":"VLOOKUP(D43,'Resultados Gerais'!$B8:$I1048576,5,0)","v":4},{"$f":"VLOOKUP(D43,'Resultados Gerais'!$B8:$I1048576,6,0)","v":37},{"$f":"VLOOKUP(D43,'Resultados Gerais'!$B8:$I1048576,7,0)","v":47},{"$f":"VLOOKUP(D43,'Resultados Gerais'!$B8:$I1048576,8,0)","v":57},null,null,null,29,{"$f":"COUNTIF($F$12:$K$112,O43)","v":9},9]
[null,null,32,{"$f":"COUNT('Resultados Gerais'!$B8:$B1048576)-C44","v":1475},{"$f":"VLOOKUP(D44,'Resultados Gerais'!B8:$C1048576,2,0)","v":"2013-03-09"},{"$f":"VLOOKUP(D44,'Resultados Gerais'!$B8:$I1048576,3,0)","v":13},{"$f":"VLOOKUP(D44,'Resultados Gerais'!$B8:$I1048576,4,0)","v":12},{"$f":"VLOOKUP(D44,'Resultados Gerais'!$B8:$I1048576,5,0)","v":51},{"$f":"VLOOKUP(D44,'Resultados Gerais'!$B8:$I1048576,6,0)","v":37},{"$f":"VLOOKUP(D44,'Resultados Gerais'!$B8:$I1048576,7,0)","v":48},{"$f":"VLOOKUP(D44,'Resultados Gerais'!$B8:$I1048576,8,0)","v":44},null,null,null,32,{"$f":"COUNTIF($F$12:$K$112,O44)","v":9},9]
[null,null,33,{"$f":"COUNT('Resultados Gerais'!$B8:$B1048576)-C45","v":1474},{"$f":"VLOOKUP(D45,'Resultados Gerais'!B8:$C1048576,2,0)","v":"2013-03-06"},{"$f":"VLOOKUP(D45,'Resultados Gerais'!$B8:$I1048576,3,0)","v":2},{"$f":"VLOOKUP(D45,'Resultados Gerais'!$B8:$I1048576,4,0)","v":43},{"$f":"VLOOKUP(D45,'Resultados Gerais'!$B8:$I1048576,5,0)","v":11},{"$f":"VLOOKUP(D45,'Resultados Gerais'!$B8:$I1048576,6,0)","v":1},{"$f":"VLOOKUP(D45,'Resultados Gerais'!$B8:$I1048576,7,0)","v":3},{"$f":"VLOOKUP(D45,'Resultados Gerais'!$B8:$I1048576,8,0)","v":28},null,null,null,38,{"$f":"COUNTIF($F$12:$K$112,O45)","v":9},9]
[null,null,34,{"$f":"COUNT('Resultados Gerais'!$B8:$B1048576)-C46","v":1473},{"$f":"VLOOKUP(D46,'Resultados Gerais'!B8:$C1048576,2,0)","v":"2013-03-02"},{"$f":"VLOOKUP(D46,'Resultados Gerais'!$B8:$I1048576,3,0)","v":60},{"$f":"VLOOKUP(D46,'Resultados Gerais'!$B8:$I1048576,4,0)","v":12},{"$f":"VLOOKUP(D46,'Resultados Gerais'!$B8:$I1048576,5,0)","v":57},{"$f":"VLOOKUP(D46,'Resultados Gerais'!$B8:$I1048576,6,0)","v":58},{"$f":"VLOOKUP(D46,'Resultados Gerais'!$B8:$I1048576,7,0)","v":33},{"$f":"VLOOKUP(D46,'Resultados Gerais'!$B8:$I1048576,8,0)","v":2},null,null,null,10,{"$f":"COUNTIF($F$12:$K$112,O46)","v":9},9]
[null,null,35,{"$f":"COUNT('Resultados Gerais'!$B8:$B1048576)-C47","v":1472},{"$f":"VLOOKUP(D47,'Resultados Gerais'!B8:$C1048576,2,0)","v":"2013-02-27"},{"$f":"VLOOKUP(D47,'Resultados Gerais'!$B8:$I1048576,3,0)","v":12},{"$f":"VLOOKUP(D47,'Resultados Gerais'!$B8:$I1048576,4,0)","v":23},{"$f":"VLOOKUP(D47,'Resultados Gerais'!$B8:$I1048576,5,0)","v":25},{"$f":"VLOOKUP(D47,'Resultados Gerais'!$B8:$I1048576,6,0)","v":18},{"$f":"VLOOKUP(D47,'Resultados Gerais'!$B8:$I1048576,7,0)","v":45},{"$f":"VLOOKUP(D47,'Resultados Gerais'!$B8:$I1048576,8,0)","v":50},null,null,null,3,{"$f":"COUNTIF($F$12:$K$112,O47)","v":9},9]
[null,null,36,{"$f":"COUNT('Resultados Gerais'!$B8:$B1048576)-C48","v":1471},{"$f":"VLOOKUP(D48,'Resultados Gerais'!B8:$C1048576,2,0)","v":"2013-02-23"},{"$f":"VLOOKUP(D48,'Resultados Gerais'!$B8:$I1048576,3,0)","v":58},{"$f":"VLOOKUP(D48,'Resultados Gerais'!$B8:$I1048576,4,0)","v":33},{"$f":"VLOOKUP(D48,'Resultados Gerais'!$B8:$I1048576,5,0)","v":36},{"$f":"VLOOKUP(D48,'Resultados Gerais'!$B8:$I1048576,6,0)","v":40},{"$f":"VLOOKUP(D48,'Resultados Gerais'!$B8:$I1048576,7,0)","v":25},{"$f":"VLOOKUP(D48,'Resultados Gerais'!$B8:$I1048576,8,0)","v":10},null,null,null,58,{"$f":"COUNTIF($F$12:$K$112,O48)","v":9},9]
[null,null,37,{"$f":"COUNT('Resultados Gerais'!$B8:$B1048576)-C49","v":1470},{"$f":"VLOOKUP(D49,'Resultados Gerais'!B8:$C1048576,2,0)","v":"2013-02-20"},{"$f":"VLOOKUP(D49,'Resultados Gerais'!$B8:$I1048576,3,0)","v":2},{"$f":"VLOOKUP(D49,'Resultados Gerais'!$B8:$I1048576,4,0)","v":34},{"$f":"VLOOKUP(D49,'Resultados Gerais'!$B8:$I1048576,5,0)","v":51},{"$f":"VLOOKUP(D49,'Resultados Gerais'!$B8:$I1048576,6,0)","v":36},{"$f":"VLOOKUP(D49,'Resultados Gerais'!$B8:$I1048576,7,0)","v":38},{"$f":"VLOOKUP(D49,'Resultados Gerais'!$B8:$I1048576,8,0)","v":55},null,null,null,55,{"$f":"COUNTIF($F$12:$K$112,O49)","v":9},9]
[null,null,38,{"$f":"COUNT('Resultados Gerais'!$B8:$B1048576)-C50","v":1469},{"$f":"VLOOKUP(D50,'Resultados Gerais'!B8:$C1048576,2,0)","v":"2013-02-16"},{"$f":"VLOOKUP(D50,'Resultados Gerais'!$B8:$I1048576,3,0)","v":4},{"$f":"VLOOKUP(D50,'Resultados Gerais'!$B8:$I1048576,4,0)","v":56},{"$f":"VLOOKUP(D50,'Resultados Gerais'!$B8:$I1048576,5,0)","v":54},{"$f":"VLOOKUP(D50,'Resultados Gerais'!$B8:$I1048576,6,0)","v":13},{"$f":"VLOOKUP(D50,'Resultados Gerais'!$B8:$I1048576,7,0)","v":35},{"$f":"VLOOKUP(D50,'Resultados Gerais'!$B8:$I1048576,8,0)","v":58},null,null,null,19,{"$f":"COUNTIF($F$12:$K$112,O50)","v":9},9]
[null,null,39,{"$f":"COUNT('Resultados Gerais'!$B8:$B1048576)-C51","v":1468},{"$f":"VLOOKUP(D51,'Resultados Gerais'!B8:$C1048576,2,0)","v":"2013-02-13"},{"$f":"VLOOKUP(D51,'Resultados Gerais'!$B8:$I1048576,3,0)","v":2},{"$f":"VLOOKUP(D51,'Resultados Gerais'!$B8:$I1048576,4,0)","v":20},{"$f":"VLOOKUP(D51,'Resultados Gerais'!$B8:$I1048576,5,0)","v":37},{"$f":"VLOOKUP(D51,'Resultados Gerais'!$B8:$I1048576,6,0)","v":19},{"$f":"VLOOKUP(D51,'Resultados Gerais'!$B8:$I1048576,7,0)","v":1},{"$f":"VLOOKUP(D51,'Resultados Gerais'!$B8:$I1048576,8,0)","v":10},null,null,null,41,{"$f":"COUNTIF($F$12:$K$112,O51)","v":9},9]
[null,null,40,{"$f":"COUNT('Resultados Gerais'!$B8:$B1048576)-C52","v":1467},{"$f":"VLOOKUP(D52,'Resultados Gerais'!B8:$C1048576,2,0)","v":"2013-02-09"},{"$f":"VLOOKUP(D52,'Resultados Gerais'!$B8:$I1048576,3,0)","v":41},{"$f":"VLOOKUP(D52,'Resultados Gerais'!$B8:$I1048576,4,0)","v":53},{"$f":"VLOOKUP(D52,'Resultados Gerais'!$B8:$I1048576,5,0)","v":26},{"$f":"VLOOKUP(D52,'Resultados Gerais'!$B8:$I1048576,6,0)","v":23},{"$f":"VLOOKUP(D52,'Resultados Gerais'!$B8:$I1048576,7,0)","v":52},{"$f":"VLOOKUP(D52,'Resultados Gerais'!$B8:$I1048576,8,0)","v":24},null,null,null,7,{"$f":"COUNTIF($F$12:$K$112,O52)","v":8},8]
[null,null,41,{"$f":"COUNT('Resultados Gerais'!$B8:$B1048576)-C53","v":1466},{"$f":"VLOOKUP(D53,'Resultados Gerais'!B8:$C1048576,2,0)","v":"2013-02-06"},{"$f":"VLOOKUP(D53,'Resultados Gerais'!$B8:$I1048576,3,0)","v":4},{"$f":"VLOOKUP(D53,'Resultados Gerais'!$B8:$I1048576,4,0)","v":13},{"$f":"VLOOKUP(D53,'Resultados Gerais'!$B8:$I1048576,5,0)","v":51},{"$f":"VLOOKUP(D53,'Resultados Gerais'!$B8:$I1048576,6,0)","v":37},{"$f":"VLOOKUP(D53,'Resultados Gerais'!$B8:$I1048576,7,0)","v":6},{"$f":"VLOOKUP(D53,'Resultados Gerais'!$B8:$I1048576,8,0)","v":34},null,null,null,59,{"$f":"COUNTIF($F$12:$K$112,O53)","v":8},8]
[null,null,42,{"$f":"COUNT('Resultados Gerais'!$B8:$B1048576)-C54","v":1465},{"$f":"VLOOKUP(D54,'Resultados Gerais'!B8:$C1048576,2,0)","v":"2013-02-02"},{"$f":"VLOOKUP(D54,'Resultados Gerais'!$B8:$I1048576,3,0)","v":11},{"$f":"VLOOKUP(D54,'Resultados Gerais'!$B8:$I1048576,4,0)","v":6},{"$f":"VLOOKUP(D54,'Resultados Gerais'!$B8:$I1048576,5,0)","v":53},{"$f":"VLOOKUP(D54,'Resultados Gerais'!$B8:$I1048576,6,0)","v":44},{"$f":"VLOOKUP(D54,'Resultados Gerais'!$B8:$I1048576,7,0)","v":16},{"$f":"VLOOKUP(D54,'Resultados Gerais'!$B8:$I1048576,8,0)","v":26},null,null,null,47,{"$f":"COUNTIF($F$12:$K$112,O54)","v":8},8]
[null,null,43,{"$f":"COUNT('Resultados Gerais'!$B8:$B1048576)-C55","v":1464},{"$f":"VLOOKUP(D55,'Resultados Gerais'!B8:$C1048576,2,0)","v":"2013-01-30"},{"$f":"VLOOKUP(D55,'Resultados Gerais'!$B8:$I1048576,3,0)","v":59},{"$f":"VLOOKUP(D55,'Resultados Gerais'!$B8:$I1048576,4,0)","v":2},{"$f":"VLOOKUP(D55,'Resultados Gerais'!$B8:$I1048576,5,0)","v":54},{"$f":"VLOOKUP(D55,'Resultados Gerais'!$B8:$I1048576,6,0)","v":32},{"$f":"VLOOKUP(D55,'Resultados Gerais'!$B8:$I1048576,7,0)","v":24},{"$f":"VLOOKUP(D55,'Resultados Gerais'!$B8:$I1048576,8,0)","v":50},null,null,null,25,{"$f":"COUNTIF($F$12:$K$112,O55)","v":8},8]
[null,null,44,{"$f":"COUNT('Resultados Gerais'!$B8:$B1048576)-C56","v":1463},{"$f":"VLOOKUP(D56,'Resultados Gerais'!B8:$C1048576,2,0)","v":"2013-01-26"},{"$f":"VLOOKUP(D56,'Resultados Gerais'!$B8:$I1048576,3,0)","v":40},{"$f":"VLOOKUP(D56,'Resultados Gerais'!$B8:$I1048576,4,0)","v":22},{"$f":"VLOOKUP(D56,'Resultados Gerais'!$B8:$I1048576,5,0)","v":13},{"$f":"VLOOKUP(D56,'Resultados Gerais'!$B8:$I1048576,6,0)","v":29},{"$f":"VLOOKUP(D56,'Resultados Gerais'!$B8:$I1048576,7,0)","v":48},{"$f":"VLOOKUP(D56,'Resultados Gerais'!$B8:$I1048576,8,0)","v":28},null,null,null,16,{"$f":"COUNTIF($F$12:$K$112,O56)","v":8},8]
[null,null,45,{"$f":"COUNT('Resultados Gerais'!$B8:$B1048576)-C57","v":1462},{"$f":"VLOOKUP(D57,'Resultados Gerais'!B8:$C1048576,2,0)","v":"2013-01-23"},{"$f":"VLOOKUP(D57,'Resultados Gerais'!$B8:$I1048576,3,0)","v":5},{"$f":"VLOOKUP(D57,'Resultados Gerais'!$B8:$I1048576,4,0)","v":9},{"$f":"VLOOKUP(D57,'Resultados Gerais'!$B8:$I1048576,5,0)","v":25},{"$f":"VLOOKUP(D57,'Resultados Gerais'!$B8:$I1048576,6,0)","v":40},{"$f":"VLOOKUP(D57,'Resultados Gerais'!$B8:$I1048576,7,0)","v":38},{"$f":"VLOOKUP(D57,'Resultados Gerais'!$B8:$I1048576,8,0)","v":27},null,null,null,9,{"$f":"COUNTIF($F$12:$K$112,O57)","v":8},8]
[null,null,46,{"$f":"COUNT('Resultados Gerais'!$B8:$B1048576)-C58","v":1461},{"$f":"VLOOKUP(D58,'Resultados Gerais'!B8:$C1048576,2,0)","v":"2013-01-19"},{"$f":"VLOOKUP(D58,'Resultados Gerais'!$B8:$I1048576,3,0)","v":44},{"$f":"VLOOKUP(D58,'Resultados Gerais'!$B8:$I1048576,4,0)","v":31},{"$f":"VLOOKUP(D58,'Resultados Gerais'!$B8:$I1048576,5,0)","v":49},{"$f":"VLOOKUP(D58,'Resultados Gerais'!$B8:$I1048576,6,0)","v":54},{"$f":"VLOOKUP(D58,'Resultados Gerais'!$B8:$I1048576,7,0)","v":36},{"$f":"VLOOKUP(D58,'Resultados Gerais'!$B8:$I1048576,8,0)","v":47},null,null,null,39,{"$f":"COUNTIF($F$12:$K$112,O58)","v":7},7]
[null,null,47,{"$f":"COUNT('Resultados Gerais'!$B8:$B1048576)-C59","v":1460},{"$f":"VLOOKUP(D59,'Resultados Gerais'!B8:$C1048576,2,0)","v":"2013-01-16"},{"$f":"VLOOKUP(D59,'Resultados Gerais'!$B8:$I1048576,3,0)","v":50},{"$f":"VLOOKUP(D59,'Resultados Gerais'!$B8:$I1048576,4,0)","v":52},{"$f":"VLOOKUP(D59,'Resultados Gerais'!$B8:$I1048576,5,0)","v":14},{"$f":"VLOOKUP(D59,'Resultados Gerais'!$B8:$I1048576,6,0)","v":4},{"$f":"VLOOKUP(D59,'Resultados Gerais'!$B8:$I1048576,7,0)","v":27},{"$f":"VLOOKUP(D59,'Resultados Gerais'!$B8:$I1048576,8,0)","v":38},null,null,null,43,{"$f":"COUNTIF($F$12:$K$112,O59)","v":7},7]
[null,null,48,{"$f":"COUNT('Resultados Gerais'!$B8:$B1048576)-C60","v":1459},{"$f":"VLOOKUP(D60,'Resultados Gerais'!B8:$C1048576,2,0)","v":"2013-01-12"},{"$f":"VLOOKUP(D60,'Resultados Gerais'!$B8:$I1048576,3,0)","v":2},{"$f":"VLOOKUP(D60,'Resultados Gerais'!$B8:$I1048576,4,0)","v":6},{"$f":"VLOOKUP(D60,'Resultados Gerais'!$B8:$I1048576,5,0)","v":35},{"$f":"VLOOKUP(D60,'Resultados Gerais'!$B8:$I1048576,6,0)","v":30},{"$f":"VLOOKUP(D60,'Resultados Gerais'!$B8:$I1048576,7,0)","v":52},{"$f":"VLOOKUP(D60,'Resultados Gerais'!$B8:$I1048576,8,0)","v":34},null,null,null,8,{"$f":"COUNTIF($F$12:$K$112,O60)","v":7},7]
[null,null,49,{"$f":"COUNT('Resultados Gerais'!$B8:$B1048576)-C61","v":1458},{"$f":"VLOOKUP(D61,'Resultados Gerais'!B8:$C1048576,2,0)","v":"2013-01-09"},{"$f":"VLOOKUP(D61,'Resultados Gerais'!$B8:$I1048576,3,0)","v":2},{"$f":"VLOOKUP(D61,'Resultados Gerais'!$B8:$I1048576,4,0)","v":16},{"$f":"VLOOKUP(D61,'Resultados Gerais'!$B8:$I1048576,5,0)","v":4},{"$f":"VLOOKUP(D61,'Resultados Gerais'!$B8:$I1048576,6,0)","v":44},{"$f":"VLOOKUP(D61,'Resultados Gerais'!$B8:$I1048576,7,0)","v":33},{"$f":"VLOOKUP(D61,'Resultados Gerais'!$B8:$I1048576,8,0)","v":51},null,null,null,5,{"$f":"COUNTIF($F$12:$K$112,O61)","v":7},7]
[null,null,50,{"$f":"COUNT('Resultados Gerais'!$B8:$B1048576)-C62","v":1457},{"$f":"VLOOKUP(D62,'Resultados Gerais'!B8:$C1048576,2,0)","v":"2013-01-05"},{"$f":"VLOOKUP(D62,'Resultados Gerais'!$B8:$I1048576,3,0)","v":34},{"$f":"VLOOKUP(D62,'Resultados Gerais'!$B8:$I1048576,4,0)","v":16},{"$f":"VLOOKUP(D62,'Resultados Gerais'!$B8:$I1048576,5,0)","v":46},{"$f":"VLOOKUP(D62,'Resultados Gerais'!$B8:$I1048576,6,0)","v":15},{"$f":"VLOOKUP(D62,'Resultados Gerais'!$B8:$I1048576,7,0)","v":42},{"$f":"VLOOKUP(D62,'Resultados Gerais'!$B8:$I1048576,8,0)","v":59},null,null,null,42,{"$f":"COUNTIF($F$12:$K$112,O62)","v":7},7]
[null,null,51,{"$f":"COUNT('Resultados Gerais'!$B8:$B1048576)-C63","v":1456},{"$f":"VLOOKUP(D63,'Resultados Gerais'!B8:$C1048576,2,0)","v":"2013-01-02"},{"$f":"VLOOKUP(D63,'Resultados Gerais'!$B8:$I1048576,3,0)","v":36},{"$f":"VLOOKUP(D63,'Resultados Gerais'!$B8:$I1048576,4,0)","v":6},{"$f":"VLOOKUP(D63,'Resultados Gerais'!$B8:$I1048576,5,0)","v":40},{"$f":"VLOOKUP(D63,'Resultados Gerais'!$B8:$I1048576,6,0)","v":14},{"$f":"VLOOKUP(D63,'Resultados Gerais'!$B8:$I1048576,7,0)","v":8},{"$f":"VLOOKUP(D63,'Resultados Gerais'!$B8:$I1048576,8,0)","v":26},null,null,null,15,{"$f":"COUNTIF($F$12:$K$112,O63)","v":7},7]
[null,null,52,{"$f":"COUNT('Resultados Gerais'!$B8:$B1048576)-C64","v":1455},{"$f":"VLOOKUP(D64,'Resultados Gerais'!B8:$C1048576,2,0)","v":"2012-12-31"},{"$f":"VLOOKUP(D64,'Resultados Gerais'!$B8:$I1048576,3,0)","v":33},{"$f":"VLOOKUP(D64,'Resultados Gerais'!$B8:$I1048576,4,0)","v":14},{"$f":"VLOOKUP(D64,'Resultados Gerais'!$B8:$I1048576,5,0)","v":52},{"$f":"VLOOKUP(D64,'Resultados Gerais'!$B8:$I1048576,6,0)","v":36},{"$f":"VLOOKUP(D64,'Resultados Gerais'!$B8:$I1048576,7,0)","v":32},{"$f":"VLOOKUP(D64,'Resultados Gerais'!$B8:$I1048576,8,0)","v":41},null,null,null,31,{"$f":"COUNTIF($F$12:$K$112,O64)","v":6},6]
[null,null,53,{"$f":"COUNT('Resultados Gerais'!$B8:$B1048576)-C65","v":1454},{"$f":"VLOOKUP(D65,'Resultados Gerais'!B8:$C1048576,2,0)","v":"2012-12-22"},{"$f":"VLOOKUP(D65,'Resultados Gerais'!$B8:$I1048576,3,0)","v":27},{"$f":"VLOOKUP(D65,'Resultados Gerais'!$B8:$I1048576,4,0)","v":52},{"$f":"VLOOKUP(D65,'Resultados Gerais'!$B8:$I1048576,5,0)","v":41},{"$f":"VLOOKUP(D65,'Resultados Gerais'!$B8:$I1048576,6,0)","v":29},{"$f":"VLOOKUP(D65,'Resultados Gerais'!$B8:$I1048576,7,0)","v":4},{"$f":"VLOOKUP(D65,'Resultados Gerais'!$B8:$I1048576,8,0)","v":48},null,null,null,17,{"$f":"COUNTIF($F$12:$K$112,O65)","v":6},6]
[null,null,54,{"$f":"COUNT('Resultados Gerais'!$B8:$B1048576)-C66","v":1453},{"$f":"VLOOKUP(D66,'Resultados Gerais'!B8:$C1048576,2,0)","v":"2012-12-20"},{"$f":"VLOOKUP(D66,'Resultados Gerais'!$B8:$I1048576,3,0)","v":47},{"$f":"VLOOKUP(D66,'Resultados Gerais'!$B8:$I1048576,4,0)","v":32},{"$f":"VLOOKUP(D66,'Resultados Gerais'!$B8:$I1048576,5,0)","v":25},{"$f":"VLOOKUP(D66,'Resultados Gerais'!$B8:$I1048576,6,0)","v":57},{"$f":"VLOOKUP(D66,'Resultados Gerais'!$B8:$I1048576,7,0)","v":6},{"$f":"VLOOKUP(D66,'Resultados Gerais'!$B8:$I1048576,8,0)","v":13},null,null,null,35,{"$f":"COUNTIF($F$12:$K$112,O66)","v":6},6]
[null,null,55,{"$f":"COUNT('Resultados Gerais'!$B8:$B1048576)-C67","v":1452},{"$f":"VLOOKUP(D67,'Resultados Gerais'!B8:$C1048576,2,0)","v":"2012-12-18"},{"$f":"VLOOKUP(D67,'Resultados Gerais'!$B8:$I1048576,3,0)","v":50},{"$f":"VLOOKUP(D67,'Resultados Gerais'!$B8:$I1048576,4,0)","v":57},{"$f":"VLOOKUP(D67,'Resultados Gerais'!$B8:$I1048576,5,0)","v":58},{"$f":"VLOOKUP(D67,'Resultados Gerais'!$B8:$I1048576,6,0)","v":28},{"$f":"VLOOKUP(D67,'Resultados Gerais'!$B8:$I1048576,7,0)","v":2},{"$f":"VLOOKUP(D67,'Resultados Gerais'!$B8:$I1048576,8,0)","v":14},null,null,null,11,{"$f":"COUNTIF($F$12:$K$112,O67)","v":6},6]
[null,null,56,{"$f":"COUNT('Resultados Gerais'!$B8:$B1048576)-C68","v":1451},{"$f":"VLOOKUP(D68,'Resultados Gerais'!B8:$C1048576,2,0)","v":"2012-12-15"},{"$f":"VLOOKUP(D68,'Resultados Gerais'!$B8:$I1048576,3,0)","v":57},{"$f":"VLOOKUP(D68,'Resultados Gerais'!$B8:$I1048576,4,0)","v":10},{"$f":"VLOOKUP(D68,'Resultados Gerais'!$B8:$I1048576,5,0)","v":33},{"$f":"VLOOKUP(D68,'Resultados Gerais'!$B8:$I1048576,6,0)","v":2},{"$f":"VLOOKUP(D68,'Resultados Gerais'!$B8:$I1048576,7,0)","v":11},{"$f":"VLOOKUP(D68,'Resultados Gerais'!$B8:$I1048576,8,0)","v":52},null,null,null,60,{"$f":"COUNTIF($F$12:$K$112,O68)","v":6},6]
[null,null,57,{"$f":"COUNT('Resultados Gerais'!$B8:$B1048576)-C69","v":1450},{"$f":"VLOOKUP(D69,'Resultados Gerais'!B8:$C1048576,2,0)","v":"2012-12-12"},{"$f":"VLOOKUP(D69,'Resultados Gerais'!$B8:$I1048576,3,0)","v":27},{"$f":"VLOOKUP(D69,'Resultados Gerais'!$B8:$I1048576,4,0)","v":45},{"$f":"VLOOKUP(D69,'Resultados Gerais'!$B8:$I1048576,5,0)","v":44},{"$f":"VLOOKUP(D69,'Resultados Gerais'!$B8:$I1048576,6,0)","v":26},{"$f":"VLOOKUP(D69,'Resultados Gerais'!$B8:$I1048576,7,0)","v":38},{"$f":"VLOOKUP(D69,'Resultados Gerais'!$B8:$I1048576,8,0)","v":31},null,null,null,20,{"$f":"COUNTIF($F$12:$K$112,O69)","v":5},5]
[null,null,58,{"$f":"COUNT('Resultados Gerais'!$B8:$B1048576)-C70","v":1449},{"$f":"VLOOKUP(D70,'Resultados Gerais'!B8:$C1048576,2,0)","v":"2012-12-08"},{"$f":"VLOOKUP(D70,'Resultados Gerais'!$B8:$I1048576,3,0)","v":2},{"$f":"VLOOKUP(D70,'Resultados Gerais'!$B8:$I1048576,4,0)","v":18},{"$f":"VLOOKUP(D70,'Resultados Gerais'!$B8:$I1048576,5,0)","v":30},{"$f":"VLOOKUP(D70,'Resultados Gerais'!$B8:$I1048576,6,0)","v":56},{"$f":"VLOOKUP(D70,'Resultados Gerais'!$B8:$I1048576,7,0)","v":52},{"$f":"VLOOKUP(D70,'Resultados Gerais'!$B8:$I1048576,8,0)","v":6},null,null,null,23,{"$f":"COUNTIF($F$12:$K$112,O70)","v":5},5]
[null,null,59,{"$f":"COUNT('Resultados Gerais'!$B8:$B1048576)-C71","v":1448},{"$f":"VLOOKUP(D71,'Resultados Gerais'!B8:$C1048576,2,0)","v":"2012-12-05"},{"$f":"VLOOKUP(D71,'Resultados Gerais'!$B8:$I1048576,3,0)","v":25},{"$f":"VLOOKUP(D71,'Resultados Gerais'!$B8:$I1048576,4,0)","v":29},{"$f":"VLOOKUP(D71,'Resultados Gerais'!$B8:$I1048576,5,0)","v":36},{"$f":"VLOOKUP(D71,'Resultados Gerais'!$B8:$I1048576,6,0)","v":1},{"$f":"VLOOKUP(D71,'Resultados Gerais'!$B8:$I1048576,7,0)","v":56},{"$f":"VLOOKUP(D71,'Resultados Gerais'!$B8:$I1048576,8,0)","v":60},null,null,null,21,{"$f":"COUNTIF($F$12:$K$112,O71)","v":5},5]
[null,null,60,{"$f":"COUNT('Resultados Gerais'!$B8:$B1048576)-C72","v":1447},{"$f":"VLOOKUP(D72,'Resultados Gerais'!B8:$C1048576,2,0)","v":"2012-12-01"},{"$f":"VLOOKUP(D72,'Resultados Gerais'!$B8:$I1048576,3,0)","v":1},{"$f":"VLOOKUP(D72,'Resultados Gerais'!$B8:$I1048576,4,0)","v":41},{"$f":"VLOOKUP(D72,'Resultados Gerais'!$B8:$I1048576,5,0)","v":28},{"$f":"VLOOKUP(D72,'Resultados Gerais'!$B8:$I1048576,6,0)","v":33},{"$f":"VLOOKUP(D72,'Resultados Gerais'!$B8:$I1048576,7,0)","v":39},{"$f":"VLOOKUP(D72,'Resultados Gerais'!$B8:$I1048576,8,0)","v":19}]
[null,null,61,{"$f":"COUNT('Resultados Gerais'!$B8:$B1048576)-C73","v":1446},{"$f":"VLOOKUP(D73,'Resultados Gerais'!B8:$C1048576,2,0)","v":"2012-11-28"},{"$f":"VLOOKUP(D73,'Resultados Gerais'!$B8:$I1048576,3,0)","v":13},{"$f":"VLOOKUP(D73,'Resultados Gerais'!$B8:$I1048576,4,0)","v":32},{"$f":"VLOOKUP(D73,'Resultados Gerais'!$B8:$I1048576,5,0)","v":6},{"$f":"VLOOKUP(D73,'Resultados Gerais'!$B8:$I1048576,6,0)","v":51},{"$f":"VLOOKUP(D73,'Resultados Gerais'!$B8:$I1048576,7,0)","v":40},{"$f":"VLOOKUP(D73,'Resultados Gerais'!$B8:$I1048576,8,0)","v":24}]
[null,null,62,{"$f":"COUNT('Resultados Gerais'!$B8:$B1048576)-C74","v":1445},{"$f":"VLOOKUP(D74,'Resultados Gerais'!B8:$C1048576,2,0)","v":"2012-11-24"},{"$f":"VLOOKUP(D74,'Resultados Gerais'!$B8:$I1048576,3,0)","v":41},{"$f":"VLOOKUP(D74,'Resultados Gerais'!$B8:$I1048576,4,0)","v":32},{"$f":"VLOOKUP(D74,'Resultados Gerais'!$B8:$I1048576,5,0)","v":19},{"$f":"VLOOKUP(D74,'Resultados Gerais'!$B8:$I1048576,6,0)","v":58},{"$f":"VLOOKUP(D74,'Resultados Gerais'!$B8:$I1048576,7,0)","v":5},{"$f":"VLOOKUP(D74,'Resultados Gerais'!$B8:$I1048576,8,0)","v":49}]
[null,null,63,{"$f":"COUNT('Resultados Gerais'!$B8:$B1048576)-C75","v":1444},{"$f":"VLOOKUP(D75,'Resultados Gerais'!B8:$C1048576,2,0)","v":"2012-11-21"},{"$f":"VLOOKUP(D75,'Resultados Gerais'!$B8:$I1048576,3,0)","v":2},{"$f":"VLOOKUP(D75,'Resultados Gerais'!$B8:$I1048576,4,0)","v":5},{"$f":"VLOOKUP(D75,'Resultados Gerais'!$B8:$I1048576,5,0)","v":55},{"$f":"VLOOKUP(D75,'Resultados Gerais'!$B8:$I1048576,6,0)","v":28},{"$f":"VLOOKUP(D75,'Resultados Gerais'!$B8:$I1048576,7,0)","v":27},{"$f":"VLOOKUP(D75,'Resultados Gerais'!$B8:$I1048576,8,0)","v":48}]
[null,null,64,{"$f":"COUNT('Resultados Gerais'!$B8:$B1048576)-C76","v":1443},{"$f":"VLOOKUP(D76,'Resultados Gerais'!B8:$C1048576,2,0)","v":"2012-11-17"},{"$f":"VLOOKUP(D76,'Resultados Gerais'!$B8:$I1048576,3,0)","v":52},{"$f":"VLOOKUP(D76,'Resultados Gerais'!$B8:$I1048576,4,0)","v":32},{"$f":"VLOOKUP(D76,'Resultados Gerais'!$B8:$I1048576,5,0)","v":12},{"$f":"VLOOKUP(D76,'Resultados Gerais'!$B8:$I1048576,6,0)","v":54},{"$f":"VLOOKUP(D76,'Resultados Gerais'!$B8:$I1048576,7,0)","v":20},{"$f":"VLOOKUP(D76,'Resultados Gerais'!$B8:$I1048576,8,0)","v":48}]
[null,null,65,{"$f":"COUNT('Resultados Gerais'!$B8:$B1048576)-C77","v":1442},{"$f":"VLOOKUP(D77,'Resultados Gerais'!B8:$C1048576,2,0)","v":"2012-11-14"},{"$f":"VLOOKUP(D77,'Resultados Gerais'!$B8:$I1048576,3,0)","v":12},{"$f":"VLOOKUP(D77,'Resultados Gerais'!$B8:$I1048576,4,0)","v":20},{"$f":"VLOOKUP(D77,'Resultados Gerais'!$B8:$I1048576,5,0)","v":13},{"$f":"VLOOKUP(D77,'Resultados Gerais'!$B8:$I1048576,6,0)","v":49},{"$f":"VLOOKUP(D77,'Resultados Gerais'!$B8:$I1048576,7,0)","v":34},{"$f":"VLOOKUP(D77,'Resultados Gerais'!$B8:$I1048576,8,0)","v":30}]
[null,null,66,{"$f":"COUNT('Resultados Gerais'!$B8:$B1048576)-C78","v":1441},{"$f":"VLOOKUP(D78,'Resultados Gerais'!B8:$C1048576,2,0)","v":"2012-11-10"},{"$f":"VLOOKUP(D78,'Resultados Gerais'!$B8:$I1048576,3,0)","v":56},{"$f":"VLOOKUP(D78,'Resultados Gerais'!$B8:$I1048576,4,0)","v":29},{"$f":"VLOOKUP(D78,'Resultados Gerais'!$B8:$I1048576,5,0)","v":53},{"$f":"VLOOKUP(D78,'Resultados Gerais'!$B8:$I1048576,6,0)","v":36},{"$f":"VLOOKUP(D78,'Resultados Gerais'!$B8:$I1048576,7,0)","v":38},{"$f":"VLOOKUP(D78,'Resultados Gerais'!$B8:$I1048576,8,0)","v":17}]
[null,null,67,{"$f":"COUNT('Resultados Gerais'!$B8:$B1048576)-C79","v":1440},{"$f":"VLOOKUP(D79,'Resultados Gerais'!B8:$C1048576,2,0)","v":"2012-11-07"},{"$f":"VLOOKUP(D79,'Resultados Gerais'!$B8:$I1048576,3,0)","v":6},{"$f":"VLOOKUP(D79,'Resultados Gerais'!$B8:$I1048576,4,0)","v":28},{"$f":"VLOOKUP(D79,'Resultados Gerais'!$B8:$I1048576,5,0)","v":56},{"$f":"VLOOKUP(D79,'Resultados Gerais'!$B8:$I1048576,6,0)","v":2},{"$f":"VLOOKUP(D79,'Resultados Gerais'!$B8:$I1048576,7,0)","v":36},{"$f":"VLOOKUP(D79,'Resultados Gerais'!$B8:$I1048576,8,0)","v":51}]
[null,null,68,{"$f":"COUNT('Resultados Gerais'!$B8:$B1048576)-C80","v":1439},{"$f":"VLOOKUP(D80,'Resultados Gerais'!B8:$C1048576,2,0)","v":"2012-11-03"},{"$f":"VLOOKUP(D80,'Resultados Gerais'!$B8:$I1048576,3,0)","v":35},{"$f":"VLOOKUP(D80,'Resultados Gerais'!$B8:$I1048576,4,0)","v":55},{"$f":"VLOOKUP(D80,'Resultados Gerais'!$B8:$I1048576,5,0)","v":2},{"$f":"VLOOKUP(D80,'Resultados Gerais'!$B8:$I1048576,6,0)","v":43},{"$f":"VLOOKUP(D80,'Resultados Gerais'!$B8:$I1048576,7,0)","v":34},{"$f":"VLOOKUP(D80,'Resultados Gerais'!$B8:$I1048576,8,0)","v":42}]
[null,null,69,{"$f":"COUNT('Resultados Gerais'!$B8:$B1048576)-C81","v":1438},{"$f":"VLOOKUP(D81,'Resultados Gerais'!B8:$C1048576,2,0)","v":"2012-10-31"},{"$f":"VLOOKUP(D81,'Resultados Gerais'!$B8:$I1048576,3,0)","v":49},{"$f":"VLOOKUP(D81,'Resultados Gerais'!$B8:$I1048576,4,0)","v":7},{"$f":"VLOOKUP(D81,'Resultados Gerais'!$B8:$I1048576,5,0)","v":33},{"$f":"VLOOKUP(D81,'Resultados Gerais'!$B8:$I1048576,6,0)","v":31},{"$f":"VLOOKUP(D81,'Resultados Gerais'!$B8:$I1048576,7,0)","v":36},{"$f":"VLOOKUP(D81,'Resultados Gerais'!$B8:$I1048576,8,0)","v":14}]
[null,null,70,{"$f":"COUNT('Resultados Gerais'!$B8:$B1048576)-C82","v":1437},{"$f":"VLOOKUP(D82,'Resultados Gerais'!B8:$C1048576,2,0)","v":"2012-10-27"},{"$f":"VLOOKUP(D82,'Resultados Gerais'!$B8:$I1048576,3,0)","v":48},{"$f":"VLOOKUP(D82,'Resultados Gerais'!$B8:$I1048576,4,0)","v":37},{"$f":"VLOOKUP(D82,'Resultados Gerais'!$B8:$I1048576,5,0)","v":26},{"$f":"VLOOKUP(D82,'Resultados Gerais'!$B8:$I1048576,6,0)","v":22},{"$f":"VLOOKUP(D82,'Resultados Gerais'!$B8:$I1048576,7,0)","v":38},{"$f":"VLOOKUP(D82,'Resultados Gerais'!$B8:$I1048576,8,0)","v":23}]
[null,null,71,{"$f":"COUNT('Resultados Gerais'!$B8:$B1048576)-C83","v":1436},{"$f":"VLOOKUP(D83,'Resultados Gerais'!B8:$C1048576,2,0)","v":"2012-10-24"},{"$f":"VLOOKUP(D83,'Resultados Gerais'!$B8:$I1048576,3,0)","v":1},{"$f":"VLOOKUP(D83,'Resultados Gerais'!$B8:$I1048576,4,0)","v":23},{"$f":"VLOOKUP(D83,'Resultados Gerais'!$B8:$I1048576,5,0)","v":13},{"$f":"VLOOKUP(D83,'Resultados Gerais'!$B8:$I1048576,6,0)","v":30},{"$f":"VLOOKUP(D83,'Resultados Gerais'!$B8:$I1048576,7,0)","v":24},{"$f":"VLOOKUP(D83,'Resultados Gerais'!$B8:$I1048576,8,0)","v":57}]
[null,null,72,{"$f":"COUNT('Resultados Gerais'!$B8:$B1048576)-C84","v":1435},{"$f":"VLOOKUP(D84,'Resultados Gerais'!B8:$C1048576,2,0)","v":"2012-10-20"},{"$f":"VLOOKUP(D84,'Resultados Gerais'!$B8:$I1048576,3,0)","v":45},{"$f":"VLOOKUP(D84,'Resultados Gerais'!$B8:$I1048576,4,0)","v":47},{"$f":"VLOOKUP(D84,'Resultados Gerais'!$B8:$I1048576,5,0)","v":50},{"$f":"VLOOKUP(D84,'Resultados Gerais'!$B8:$I1048576,6,0)","v":52},{"$f":"VLOOKUP(D84,'Resultados Gerais'!$B8:$I1048576,7,0)","v":15},{"$f":"VLOOKUP(D84,'Resultados Gerais'!$B8:$I1048576,8,0)","v":4}]
[null,null,73,{"$f":"COUNT('Resultados Gerais'!$B8:$B1048576)-C85","v":1434},{"$f":"VLOOKUP(D85,'Resultados Gerais'!B8:$C1048576,2,0)","v":"2012-10-17"},{"$f":"VLOOKUP(D85,'Resultados Gerais'!$B8:$I1048576,3,0)","v":3},{"$f":"VLOOKUP(D85,'Resultados Gerais'!$B8:$I1048576,4,0)","v":34},{"$f":"VLOOKUP(D85,'Resultados Gerais'!$B8:$I1048576,5,0)","v":58},{"$f":"VLOOKUP(D85,'Resultados Gerais'!$B8:$I1048576,6,0)","v":22},{"$f":"VLOOKUP(D85,'Resultados Gerais'!$B8:$I1048576,7,0)","v":18},{"$f":"VLOOKUP(D85,'Resultados Gerais'!$B8:$I1048576,8,0)","v":55}]
[null,null,74,{"$f":"COUNT('Resultados Gerais'!$B8:$B1048576)-C86","v":1433},{"$f":"VLOOKUP(D86,'Resultados Gerais'!B8:$C1048576,2,0)","v":"2012-10-13"},{"$f":"VLOOKUP(D86,'Resultados Gerais'!$B8:$I1048576,3,0)","v":14},{"$f":"VLOOKUP(D86,'Resultados Gerais'!$B8:$I1048576,4,0)","v":46},{"$f":"VLOOKUP(D86,'Resultados Gerais'!$B8:$I1048576,5,0)","v":40},{"$f":"VLOOKUP(D86,'Resultados Gerais'!$B8:$I1048576,6,0)","v":13},{"$f":"VLOOKUP(D86,'Resultados Gerais'!$B8:$I1048576,7,0)","v":4},{"$f":"VLOOKUP(D86,'Resultados Gerais'!$B8:$I1048576,8,0)","v":52}]
[null,null,75,{"$f":"COUNT('Resultados Gerais'!$B8:$B1048576)-C87","v":1432},{"$f":"VLOOKUP(D87,'Resultados Gerais'!B8:$C1048576,2,0)","v":"2012-10-10"},{"$f":"VLOOKUP(D87,'Resultados Gerais'!$B8:$I1048576,3,0)","v":16},{"$f":"VLOOKUP(D87,'Resultados Gerais'!$B8:$I1048576,4,0)","v":24},{"$f":"VLOOKUP(D87,'Resultados Gerais'!$B8:$I1048576,5,0)","v":25},{"$f":"VLOOKUP(D87,'Resultados Gerais'!$B8:$I1048576,6,0)","v":45},{"$f":"VLOOKUP(D87,'Resultados Gerais'!$B8:$I1048576,7,0)","v":59},{"$f":"VLOOKUP(D87,'Resultados Gerais'!$B8:$I1048576,8,0)","v":42}]
[null,null,76,{"$f":"COUNT('Resultados Gerais'!$B8:$B1048576)-C88","v":1431},{"$f":"VLOOKUP(D88,'Resultados Gerais'!B8:$C1048576,2,0)","v":"2012-10-06"},{"$f":"VLOOKUP(D88,'Resultados Gerais'!$B8:$I1048576,3,0)","v":33},{"$f":"VLOOKUP(D88,'Resultados Gerais'!$B8:$I1048576,4,0)","v":54},{"$f":"VLOOKUP(D88,'Resultados Gerais'!$B8:$I1048576,5,0)","v":40},{"$f":"VLOOKUP(D88,'Resultados Gerais'!$B8:$I1048576,6,0)","v":5},{"$f":"VLOOKUP(D88,'Resultados Gerais'!$B8:$I1048576,7,0)","v":9},{"$f":"VLOOKUP(D88,'Resultados Gerais'!$B8:$I1048576,8,0)","v":13}]
[null,null,77,{"$f":"COUNT('Resultados Gerais'!$B8:$B1048576)-C89","v":1430},{"$f":"VLOOKUP(D89,'Resultados Gerais'!B8:$C1048576,2,0)","v":"2012-10-03"},{"$f":"VLOOKUP(D89,'Resultados Gerais'!$B8:$I1048576,3,0)","v":19},{"$f":"VLOOKUP(D89,'Resultados Gerais'!$B8:$I1048576,4,0)","v":2},{"$f":"VLOOKUP(D89,'Resultados Gerais'!$B8:$I1048576,5,0)","v":30},{"$f":"VLOOKUP(D89,'Resultados Gerais'!$B8:$I1048576,6,0)","v":46},{"$f":"VLOOKUP(D89,'Resultados Gerais'!$B8:$I1048576,7,0)","v":22},{"$f":"VLOOKUP(D89,'Resultados Gerais'!$B8:$I1048576,8,0)","v":52}]
[null,null,78,{"$f":"COUNT('Resultados Gerais'!$B8:$B1048576)-C90","v":1429},{"$f":"VLOOKUP(D90,'Resultados Gerais'!B8:$C1048576,2,0)","v":"2012-09-29"},{"$f":"VLOOKUP(D90,'Resultados Gerais'!$B8:$I1048576,3,0)","v":9},{"$f":"VLOOKUP(D90,'Resultados Gerais'!$B8:$I1048576,4,0)","v":22},{"$f":"VLOOKUP(D90,'Resultados Gerais'!$B8:$I1048576,5,0)","v":60},{"$f":"VLOOKUP(D90,'Resultados Gerais'!$B8:$I1048576,6,0)","v":48},{"$f":"VLOOKUP(D90,'Resultados Gerais'!$B8:$I1048576,7,0)","v":12},{"$f":"VLOOKUP(D90,'Resultados Gerais'!$B8:$I1048576,8,0)","v":39}]
[null,null,79,{"$f":"COUNT('Resultados Gerais'!$B8:$B1048576)-C91","v":1428},{"$f":"VLOOKUP(D91,'Resultados Gerais'!B8:$C1048576,2,0)","v":"2012-09-26"},{"$f":"VLOOKUP(D91,'Resultados Gerais'!$B8:$I1048576,3,0)","v":15},{"$f":"VLOOKUP(D91,'Resultados Gerais'!$B8:$I1048576,4,0)","v":55},{"$f":"VLOOKUP(D91,'Resultados Gerais'!$B8:$I1048576,5,0)","v":37},{"$f":"VLOOKUP(D91,'Resultados Gerais'!$B8:$I1048576,6,0)","v":34},{"$f":"VLOOKUP(D91,'Resultados Gerais'!$B8:$I1048576,7,0)","v":19},{"$f":"VLOOKUP(D91,'Resultados Gerais'!$B8:$I1048576,8,0)","v":7}]
[null,null,80,{"$f":"COUNT('Resultados Gerais'!$B8:$B1048576)-C92","v":1427},{"$f":"VLOOKUP(D92,'Resultados Gerais'!B8:$C1048576,2,0)","v":"2012-09-22"},{"$f":"VLOOKUP(D92,'Resultados Gerais'!$B8:$I1048576,3,0)","v":47},{"$f":"VLOOKUP(D92,'Resultados Gerais'!$B8:$I1048576,4,0)","v":44},{"$f":"VLOOKUP(D92,'Resultados Gerais'!$B8:$I1048576,5,0)","v":53},{"$f":"VLOOKUP(D92,'Resultados Gerais'!$B8:$I1048576,6,0)","v":56},{"$f":"VLOOKUP(D92,'Resultados Gerais'!$B8:$I1048576,7,0)","v":8},{"$f":"VLOOKUP(D92,'Resultados Gerais'!$B8:$I1048576,8,0)","v":39}]
[null,null,81,{"$f":"COUNT('Resultados Gerais'!$B8:$B1048576)-C93","v":1426},{"$f":"VLOOKUP(D93,'Resultados Gerais'!B8:$C1048576,2,0)","v":"2012-09-19"},{"$f":"VLOOKUP(D93,'Resultados Gerais'!$B8:$I1048576,3,0)","v":24},{"$f":"VLOOKUP(D93,'Resultados Gerais'!$B8:$I1048576,4,0)","v":44},{"$f":"VLOOKUP(D93,'Resultados Gerais'!$B8:$I1048576,5,0)","v":6},{"$f":"VLOOKUP(D93,'Resultados Gerais'!$B8:$I1048576,6,0)","v":15},{"$f":"VLOOKUP(D93,'Resultados Gerais'!$B8:$I1048576,7,0)","v":18},{"$f":"VLOOKUP(D93,'Resultados Gerais'!$B8:$I1048576,8,0)","v":30}]
[null,null,82,{"$f":"COUNT('Resultados Gerais'!$B8:$B1048576)-C94","v":1425},{"$f":"VLOOKUP(D94,'Resultados Gerais'!B8:$C1048576,2,0)","v":"2012-09-15"},{"$f":"VLOOKUP(D94,'Resultados Gerais'!$B8:$I1048576,3,0)","v":7},{"$f":"VLOOKUP(D94,'Resultados Gerais'!$B8:$I1048576,4,0)","v":29},{"$f":"VLOOKUP(D94,'Resultados Gerais'!$B8:$I1048576,5,0)","v":50},{"$f":"VLOOKUP(D94,'Resultados Gerais'!$B8:$I1048576,6,0)","v":16},{"$f":"VLOOKUP(D94,'Resultados Gerais'!$B8:$I1048576,7,0)","v":38},{"$f":"VLOOKUP(D94,'Resultados Gerais'!$B8:$I1048576,8,0)","v":36}]
[null,null,83,{"$f":"COUNT('Resultados Gerais'!$B8:$B1048576)-C95","v":1424},{"$f":"VLOOKUP(D95,'Resultados Gerais'!B8:$C1048576,2,0)","v":"2012-09-12"},{"$f":"VLOOKUP(D95,'Resultados Gerais'!$B8:$I1048576,3,0)","v":60},{"$f":"VLOOKUP(D95,'Resultados Gerais'!$B8:$I1048576,4,0)","v":38},{"$f":"VLOOKUP(D95,'Resultados Gerais'!$B8:$I1048576,5,0)","v":29},{"$f":"VLOOKUP(D95,'Resultados Gerais'!$B8:$I1048576,6,0)","v":3},{"$f":"VLOOKUP(D95,'Resultados Gerais'!$B8:$I1048576,7,0)","v":7},{"$f":"VLOOKUP(D95,'Resultados Gerais'!$B8:$I1048576,8,0)","v":15}]
[null,null,84,{"$f":"COUNT('Resultados Gerais'!$B8:$B1048576)-C96","v":1423},{"$f":"VLOOKUP(D96,'Resultados Gerais'!B8:$C1048576,2,0)","v":"2012-09-08"},{"$f":"VLOOKUP(D96,'Resultados Gerais'!$B8:$I1048576,3,0)","v":43},{"$f":"VLOOKUP(D96,'Resultados Gerais'!$B8:$I1048576,4,0)","v":8},{"$f":"VLOOKUP(D96,'Resultados Gerais'!$B8:$I1048576,5,0)","v":21},{"$f":"VLOOKUP(D96,'Resultados Gerais'!$B8:$I1048576,6,0)","v":27},{"$f":"VLOOKUP(D96,'Resultados Gerais'!$B8:$I1048576,7,0)","v":3},{"$f":"VLOOKUP(D96,'Resultados Gerais'!$B8:$I1048576,8,0)","v":25}]
[null,null,85,{"$f":"COUNT('Resultados Gerais'!$B8:$B1048576)-C97","v":1422},{"$f":"VLOOKUP(D97,'Resultados Gerais'!B8:$C1048576,2,0)","v":"2012-09-05"},{"$f":"VLOOKUP(D97,'Resultados Gerais'!$B8:$I1048576,3,0)","v":17},{"$f":"VLOOKUP(D97,'Resultados Gerais'!$B8:$I1048576,4,0)","v":44},{"$f":"VLOOKUP(D97,'Resultados Gerais'!$B8:$I1048576,5,0)","v":2},{"$f":"VLOOKUP(D97,'Resultados Gerais'!$B8:$I1048576,6,0)","v":5},{"$f":"VLOOKUP(D97,'Resultados Gerais'!$B8:$I1048576,7,0)","v":13},{"$f":"VLOOKUP(D97,'Resultados Gerais'!$B8:$I1048576,8,0)","v":39}]
[null,null,86,{"$f":"COUNT('Resultados Gerais'!$B8:$B1048576)-C98","v":1421},{"$f":"VLOOKUP(D98,'Resultados Gerais'!B8:$C1048576,2,0)","v":"2012-09-01"},{"$f":"VLOOKUP(D98,'Resultados Gerais'!$B8:$I1048576,3,0)","v":31},{"$f":"VLOOKUP(D98,'Resultados Gerais'!$B8:$I1048576,4,0)","v":39},{"$f":"VLOOKUP(D98,'Resultados Gerais'!$B8:$I1048576,5,0)","v":59},{"$f":"VLOOKUP(D98,'Resultados Gerais'!$B8:$I1048576,6,0)","v":19},{"$f":"VLOOKUP(D98,'Resultados Gerais'!$B8:$I1048576,7,0)","v":53},{"$f":"VLOOKUP(D98,'Resultados Gerais'!$B8:$I1048576,8,0)","v":44}]
[null,null,87,{"$f":"COUNT('Resultados Gerais'!$B8:$B1048576)-C99","v":1420},{"$f":"VLOOKUP(D99,'Resultados Gerais'!B8:$C1048576,2,0)","v":"2012-08-29"},{"$f":"VLOOKUP(D99,'Resultados Gerais'!$B8:$I1048576,3,0)","v":45},{"$f":"VLOOKUP(D99,'Resultados Gerais'!$B8:$I1048576,4,0)","v":16},{"$f":"VLOOKUP(D99,'Resultados Gerais'!$B8:$I1048576,5,0)","v":18},{"$f":"VLOOKUP(D99,'Resultados Gerais'!$B8:$I1048576,6,0)","v":11},{"$f":"VLOOKUP(D99,'Resultados Gerais'!$B8:$I1048576,7,0)","v":36},{"$f":"VLOOKUP(D99,'Resultados Gerais'!$B8:$I1048576,8,0)","v":2}]
[null,null,88,{"$f":"COUNT('Resultados Gerais'!$B8:$B1048576)-C100","v":1419},{"$f":"VLOOKUP(D100,'Resultados Gerais'!B8:$C1048576,2,0)","v":"2012-08-25"},{"$f":"VLOOKUP(D100,'Resultados Gerais'!$B8:$I1048576,3,0)","v":52},{"$f":"VLOOKUP(D100,'Resultados Gerais'!$B8:$I1048576,4,0)","v":21},{"$f":"VLOOKUP(D100,'Resultados Gerais'!$B8:$I1048576,5,0)","v":48},{"$f":"VLOOKUP(D100,'Resultados Gerais'!$B8:$I1048576,6,0)","v":58},{"$f":"VLOOKUP(D100,'Resultados Gerais'!$B8:$I1048576,7,0)","v":30},{"$f":"VLOOKUP(D100,'Resultados Gerais'!$B8:$I1048576,8,0)","v":17}]
[null,null,89,{"$f":"COUNT('Resultados Gerais'!$B8:$B1048576)-C101","v":1418},{"$f":"VLOOKUP(D101,'Resultados Gerais'!B8:$C1048576,2,0)","v":"2012-08-22"},{"$f":"VLOOKUP(D101,'Resultados Gerais'!$B8:$I1048576,3,0)","v":7},{"$f":"VLOOKUP(D101,'Resultados Gerais'!$B8:$I1048576,4,0)","v":8},{"$f":"VLOOKUP(D101,'Resultados Gerais'!$B8:$I1048576,5,0)","v":10},{"$f":"VLOOKUP(D101,'Resultados Gerais'!$B8:$I1048576,6,0)","v":27},{"$f":"VLOOKUP(D101,'Resultados Gerais'!$B8:$I1048576,7,0)","v":12},{"$f":"VLOOKUP(D101,'Resultados Gerais'!$B8:$I1048576,8,0)","v":56}]
[null,null,90,{"$f":"COUNT('Resultados Gerais'!$B8:$B1048576)-C102","v":1417},{"$f":"VLOOKUP(D102,'Resultados Gerais'!B8:$C1048576,2,0)","v":"2012-08-18"},{"$f":"VLOOKUP(D102,'Resultados Gerais'!$B8:$I1048576,3,0)","v":12},{"$f":"VLOOKUP(D102,'Resultados Gerais'!$B8:$I1048576,4,0)","v":56},{"$f":"VLOOKUP(D102,'Resultados Gerais'!$B8:$I1048576,5,0)","v":5},{"$f":"VLOOKUP(D102,'Resultados Gerais'!$B8:$I1048576,6,0)","v":52},{"$f":"VLOOKUP(D102,'Resultados Gerais'!$B8:$I1048576,7,0)","v":45},{"$f":"VLOOKUP(D102,'Resultados Gerais'!$B8:$I1048576,8,0)","v":59}]
[null,null,91,{"$f":"COUNT('Resultados Gerais'!$B8:$B1048576)-C103","v":1416},{"$f":"VLOOKUP(D103,'Resultados Gerais'!B8:$C1048576,2,0)","v":"2012-08-15"},{"$f":"VLOOKUP(D103,'Resultados Gerais'!$B8:$I1048576,3,0)","v":49},{"$f":"VLOOKUP(D103,'Resultados Gerais'!$B8:$I1048576,4,0)","v":3},{"$f":"VLOOKUP(D103,'Resultados Gerais'!$B8:$I1048576,5,0)","v":19},{"$f":"VLOOKUP(D103,'Resultados Gerais'!$B8:$I1048576,6,0)","v":35},{"$f":"VLOOKUP(D103,'Resultados Gerais'!$B8:$I1048576,7,0)","v":22},{"$f":"VLOOKUP(D103,'Resultados Gerais'!$B8:$I1048576,8,0)","v":24}]
[null,null,92,{"$f":"COUNT('Resultados Gerais'!$B8:$B1048576)-C104","v":1415},{"$f":"VLOOKUP(D104,'Resultados Gerais'!B8:$C1048576,2,0)","v":"2012-08-11"},{"$f":"VLOOKUP(D104,'Resultados Gerais'!$B8:$I1048576,3,0)","v":51},{"$f":"VLOOKUP(D104,'Resultados Gerais'!$B8:$I1048576,4,0)","v":49},{"$f":"VLOOKUP(D104,'Resultados Gerais'!$B8:$I1048576,5,0)","v":46},{"$f":"VLOOKUP(D104,'Resultados Gerais'!$B8:$I1048576,6,0)","v":40},{"$f":"VLOOKUP(D104,'Resultados Gerais'!$B8:$I1048576,7,0)","v":36},{"$f":"VLOOKUP(D104,'Resultados Gerais'!$B8:$I1048576,8,0)","v":26}]
[null,null,93,{"$f":"COUNT('Resultados Gerais'!$B8:$B1048576)-C105","v":1414},{"$f":"VLOOKUP(D105,'Resultados Gerais'!B8:$C1048576,2,0)","v":"2012-08-09"},{"$f":"VLOOKUP(D105,'Resultados Gerais'!$B8:$I1048576,3,0)","v":44},{"$f":"VLOOKUP(D105,'Resultados Gerais'!$B8:$I1048576,4,0)","v":49},{"$f":"VLOOKUP(D105,'Resultados Gerais'!$B8:$I1048576,5,0)","v":57},{"$f":"VLOOKUP(D105,'Resultados Gerais'!$B8:$I1048576,6,0)","v":37},{"$f":"VLOOKUP(D105,'Resultados Gerais'!$B8:$I1048576,7,0)","v":21},{"$f":"VLOOKUP(D105,'Resultados Gerais'!$B8:$I1048576,8,0)","v":46}]
[null,null,94,{"$f":"COUNT('Resultados Gerais'!$B8:$B1048576)-C106","v":1413},{"$f":"VLOOKUP(D106,'Resultados Gerais'!B8:$C1048576,2,0)","v":"2012-08-07"},{"$f":"VLOOKUP(D106,'Resultados Gerais'!$B8:$I1048576,3,0)","v":54},{"$f":"VLOOKUP(D106,'Resultados Gerais'!$B8:$I1048576,4,0)","v":33},{"$f":"VLOOKUP(D106,'Resultados Gerais'!$B8:$I1048576,5,0)","v":13},{"$f":"VLOOKUP(D106,'Resultados Gerais'!$B8:$I1048576,6,0)","v":55},{"$f":"VLOOKUP(D106,'Resultados Gerais'!$B8:$I1048576,7,0)","v":45},{"$f":"VLOOKUP(D106,'Resultados Gerais'!$B8:$I1048576,8,0)","v":15}]
[null,null,95,{"$f":"COUNT('Resultados Gerais'!$B8:$B1048576)-C107","v":1412},{"$f":"VLOOKUP(D107,'Resultados Gerais'!B8:$C1048576,2,0)","v":"2012-08-04"},{"$f":"VLOOKUP(D107,'Resultados Gerais'!$B8:$I1048576,3,0)","v":6},{"$f":"VLOOKUP(D107,'Resultados Gerais'!$B8:$I1048576,4,0)","v":8},{"$f":"VLOOKUP(D107,'Resultados Gerais'!$B8:$I1048576,5,0)","v":37},{"$f":"VLOOKUP(D107,'Resultados Gerais'!$B8:$I1048576,6,0)","v":24},{"$f":"VLOOKUP(D107,'Resultados Gerais'!$B8:$I1048576,7,0)","v":45},{"$f":"VLOOKUP(D107,'Resultados Gerais'!$B8:$I1048576,8,0)","v":41}]
[null,null,96,{"$f":"COUNT('Resultados Gerais'!$B8:$B1048576)-C108","v":1411},{"$f":"VLOOKUP(D108,'Resultados Gerais'!B8:$C1048576,2,0)","v":"2012-08-01"},{"$f":"VLOOKUP(D108,'Resultados Gerais'!$B8:$I1048576,3,0)","v":32},{"$f":"VLOOKUP(D108,'Resultados Gerais'!$B8:$I1048576,4,0)","v":44},{"$f":"VLOOKUP(D108,'Resultados Gerais'!$B8:$I1048576,5,0)","v":12},{"$f":"VLOOKUP(D108,'Resultados Gerais'!$B8:$I1048576,6,0)","v":8},{"$f":"VLOOKUP(D108,'Resultados Gerais'!$B8:$I1048576,7,0)","v":48},{"$f":"VLOOKUP(D108,'Resultados Gerais'!$B8:$I1048576,8,0)","v":46}]
[null,null,97,{"$f":"COUNT('Resultados Gerais'!$B8:$B1048576)-C109","v":1410},{"$f":"VLOOKUP(D109,'Resultados Gerais'!B8:$C1048576,2,0)","v":"2012-07-28"},{"$f":"VLOOKUP(D109,'Resultados Gerais'!$B8:$I1048576,3,0)","v":54},{"$f":"VLOOKUP(D109,'Resultados Gerais'!$B8:$I1048576,4,0)","v":29},{"$f":"VLOOKUP(D109,'Resultados Gerais'!$B8:$I1048576,5,0)","v":18},{"$f":"VLOOKUP(D109,'Resultados Gerais'!$B8:$I1048576,6,0)","v":42},{"$f":"VLOOKUP(D109,'Resultados Gerais'!$B8:$I1048576,7,0)","v":40},{"$f":"VLOOKUP(D109,'Resultados Gerais'!$B8:$I1048576,8,0)","v":50}]
[null,null,98,{"$f":"COUNT('Resultados Gerais'!$B8:$B1048576)-C110","v":1409},{"$f":"VLOOKUP(D110,'Resultados Gerais'!B8:$C1048576,2,0)","v":"2012-07-25"},{"$f":"VLOOKUP(D110,'Resultados Gerais'!$B8:$I1048576,3,0)","v":50},{"$f":"VLOOKUP(D110,'Resultados Gerais'!$B8:$I1048576,4,0)","v":6},{"$f":"VLOOKUP(D110,'Resultados Gerais'!$B8:$I1048576,5,0)","v":47},{"$f":"VLOOKUP(D110,'Resultados Gerais'!$B8:$I1048576,6,0)","v":58},{"$f":"VLOOKUP(D110,'Resultados Gerais'!$B8:$I1048576,7,0)","v":26},{"$f":"VLOOKUP(D110,'Resultados Gerais'!$B8:$I1048576,8,0)","v":19}]
[null,null,99,{"$f":"COUNT('Resultados Gerais'!$B8:$B1048576)-C111","v":1408},{"$f":"VLOOKUP(D111,'Resultados Gerais'!B8:$C1048576,2,0)","v":"2012-07-21"},{"$f":"VLOOKUP(D111,'Resultados Gerais'!$B8:$I1048576,3,0)","v":43},{"$f":"VLOOKUP(D111,'Resultados Gerais'!$B8:$I1048576,4,0)","v":39},{"$f":"VLOOKUP(D111,'Resultados Gerais'!$B8:$I1048576,5,0)","v":20},{"$f":"VLOOKUP(D111,'Resultados Gerais'!$B8:$I1048576,6,0)","v":19},{"$f":"VLOOKUP(D111,'Resultados Gerais'!$B8:$I1048576,7,0)","v":24},{"$f":"VLOOKUP(D111,'Resultados Gerais'!$B8:$I1048576,8,0)","v":4}]