{"text_format":"1","workbook":"xlsx","n_sheets":6,"sheets":["Resultados Gerais","Total de Saída de Cada Dezena","10 Últimos Sorteios","20 Últimos Sorteios","50 Últimos Sorteios","100 Últimos Sorteios"],"not_rendered":{"charts":1,"images":3,"macros":1,"external_links":0,"defined_names":6,"comments":0,"pivot_tables":0},"unopened":[],"bounds":{"document_bytes":16777216,"sheet_cells":100000,"rows_first":2000,"rows_last":500,"rows_between":2000,"halvings":0,"cell_chars":16384,"cell_head_chars":4096},"cells_cut":0,"cells_raw":0,"read":"whole","date_system":"1900"}

{"sheet":"Resultados Gerais","index":0,"n_rows":1181,"n_cols":31,"rows_kept":1181,"cut":false,"hidden":false,"merged":[[5,1,5,9],[1,1,1,8],[2,1,2,8],[3,1,3,8]]}
[]
[null,"Atenção!"]
[null,"Esta planilha é de uso pessoal, é restritamente proibida a distribuição da mesma a terceiros, sujeito a punições de acordo com as leis de direitos autorais"]
[null,"Todos os direitos reservados ao site www.ApostaEsperta.com "]
[]
[null,"Planilha de Análise Estatística Dupla Sena"]
[null,"Concurso","Data Sorteio","1º número_Sorteio1","2º número_Sorteio1","3º número_Sorteio1","4º número_Sorteio1","5º número_Sorteio1","6º número_Sorteio1","Arrecadação_Total","Ganhadores_Sena_Sorteio1","Rateio_Sena_Sorteio1","Ganhadores_Quina_Sorteio1","Rateio_Quina_Sorteio1","Ganhadores_Quadra_Sorteio1","Rateio_Quadra_Sorteio1","Acumulado_Sena_Sorteio1","Valor_Acumulado_Sena_Sorteio1","1º número_Sorteio2","2º número_Sorteio2","3º número_Sorteio2","4º número_Sorteio2","5º número_Sorteio2","6º número_Sorteio2","Ganhadores_Sena_Sorteio2","Rateio_Sena_Sorteio2","Ganhadores_Quina_Sorteio2","Rateio_Quina_Sorteio2","Ganhadores_Quadra_Sorteio2","Rateio_Quadra_Sorteio2","Estimativa_Prêmio"]
[null,1,"2001-11-06",41,48,15,7,24,50,0,0,0,0,0,0,0,"SIM",588519.68000000005,43,37,41,49,44,9,0,0,55,2317.59,1307,97.16,0]
[null,2,"2001-11-09",11,38,32,4,9,42,0,0,0,0,0,0,0,"SIM",867336.46,13,9,46,29,19,24,0,0,35,2655.4,2014,45.98,0]
[null,3,"2001-11-13",42,34,11,44,45,47,0,0,0,0,0,0,0,"SIM",1164691.74,24,47,48,30,40,12,0,0,21,4719.93,1264,78.13,0]
[null,4,"2001-11-16",38,44,50,46,43,29,0,0,0,0,0,0,0,"SIM",1420727.93,44,46,2,7,49,11,0,0,8,10668.17,1042,81.59,0]
[null,5,"2001-11-20",32,16,12,40,25,7,0,0,0,0,0,0,0,"SIM",1720949.6,12,19,3,49,10,26,0,0,34,2943.35,1804,55.26,0]
[null,6,"2001-11-23",16,14,31,13,41,9,0,0,0,0,0,0,0,"SIM",2070565.76,2,31,42,35,36,47,0,0,16,7283.67,1160,100.09,0]
[null,7,"2001-11-27",24,32,9,17,6,23,0,0,0,0,0,0,0,"SIM",2435460.4500000002,45,30,5,28,32,8,0,0,35,3475.19,2040,59.4,0]
[null,8,"2001-11-30",29,32,11,39,38,24,0,0,0,0,0,0,0,"SIM",2770141.78,39,2,30,31,17,14,0,0,22,5070.93,1279,86.89,0]
[null,9,"2001-12-04",44,22,37,18,42,10,0,1,2979726.32,0,0,0,0,"NÃO",0,26,31,42,46,10,37,0,0,17,8219.01,1300,107.08,0]
[null,10,"2001-12-07",31,19,44,34,17,39,0,0,0,0,0,0,0,"SIM",496270.76,24,20,11,4,40,5,0,0,31,3082.65,1342,70.94,0]
[null,11,"2001-12-11",4,36,27,2,8,43,0,0,0,0,0,0,0,"SIM",779322.59,43,5,8,45,17,40,0,0,12,7862.55,1159,81.11,0]
[null,12,"2001-12-14",28,29,48,21,45,12,0,0,0,0,0,0,0,"SIM",1068498.22,15,18,25,31,19,20,0,0,22,4381.45,1316,72.98,0]
[null,13,"2001-12-18",1,3,31,33,37,46,0,0,0,0,0,0,0,"SIM",1366579.16,43,31,4,13,49,47,0,0,26,3821.55,1503,65.86,0]
[null,14,"2001-12-21",47,6,39,38,33,7,0,0,0,0,0,0,0,"SIM",1669794.79,19,26,12,5,14,16,0,0,36,2807.55,2196,45.86,0]
[null,15,"2001-12-28",43,44,40,30,4,32,0,0,0,0,0,0,0,"SIM",2082122,23,20,7,28,13,34,0,0,35,3926.93,2057,66.569999999999993,0]
[null,16,"2002-01-04",25,21,46,26,19,41,0,0,0,0,0,0,0,"SIM",2319056.08,22,6,5,31,38,27,1,236934.09,28,5641.29,1927,81.66,0]
[null,17,"2002-01-08",3,5,44,43,47,14,0,0,0,0,0,0,0,"SIM",2673263.7599999998,27,43,37,36,1,2,0,0,14,8433.52,1337,87.98,0]
[null,18,"2002-01-11",28,35,50,41,15,27,0,0,0,0,0,0,0,"SIM",3060908.89,1,13,23,14,22,38,0,0,17,7600.88,1485,86.68,0]
[null,19,"2002-01-15",10,19,34,33,25,5,0,0,0,0,0,0,0,"SIM",3460934.9,47,32,39,27,15,24,0,0,62,2150.6799999999998,2252,58.99,0]
[null,20,"2002-01-18",7,13,26,16,49,45,0,0,0,0,0,0,0,"SIM",3867191.94,18,39,48,43,25,47,0,0,40,3385.48,2245,60.1,0]
[null,21,"2002-01-22",37,30,14,44,17,6,0,0,0,0,0,0,0,"SIM",4245925.8600000003,14,9,24,6,26,20,0,0,24,5260.2,1767,71.180000000000007,0]
[null,22,"2002-01-25",2,42,27,34,17,29,0,1,4431627.7300000004,0,0,0,0,"NÃO",0,13,43,28,7,42,34,0,0,57,2171.9499999999998,2962,41.64,0]
[null,23,"2002-01-29",9,8,42,22,11,10,0,0,0,0,0,0,0,"SIM",418708.44,37,4,8,7,34,20,0,0,17,4568.76,1059,73.069999999999993,0]
[null,24,"2002-02-01",26,24,19,25,44,42,0,1,541936,0,0,0,0,"NÃO",0,1,11,6,15,16,36,0,0,28,2933.99,1216,67.31,0]
[null,25,"2002-02-05",15,35,46,42,6,30,0,0,0,0,0,0,0,"SIM",340714.35,24,33,23,44,41,19,0,0,19,3815.56,1091,66.2,0]
[null,26,"2002-02-08",38,2,23,4,17,8,0,0,0,0,0,0,0,"SIM",598321.47,4,39,26,19,49,48,0,0,9,9541,1143,74.849999999999994,0]
[null,27,"2002-02-15",32,29,19,35,7,5,0,0,0,0,0,0,0,"SIM",889266.76,42,47,3,37,28,44,0,0,20,4849.09,1344,71.89,0]
[null,28,"2002-02-19",38,22,1,26,13,10,0,0,0,0,0,0,0,"SIM",1123000.6399999999,27,49,34,40,30,31,0,0,7,11130.19,607,127.88,0]
[null,29,"2002-02-22",50,23,39,19,12,1,0,0,0,0,0,0,0,"SIM",1374281.7,47,45,41,35,25,16,0,0,11,7614.58,928,89.92,0]
[null,30,"2002-02-26",33,36,8,21,18,46,0,0,0,0,0,0,0,"SIM",1616173.24,28,5,3,15,43,13,0,0,27,2986.32,1775,45.26,0]
[null,31,"2002-03-01",20,19,29,5,32,43,0,0,0,0,0,0,0,"SIM",1878394.41,35,31,49,46,47,36,0,0,19,4600.37,758,114.89,0]
[null,32,"2002-03-05",30,47,18,39,20,24,0,0,0,0,0,0,0,"SIM",2135511.41,14,6,12,39,26,25,0,0,27,3174.29,1416,60.3,0]
[null,33,"2002-03-08",24,17,32,11,19,16,0,0,0,0,0,0,0,"SIM",2414365.17,33,21,22,25,49,13,0,0,21,4426.25,1443,64.180000000000007,0]
[null,34,"2002-03-12",7,29,41,40,45,1,0,0,0,0,0,0,0,"SIM",2728434.75,29,24,45,22,1,15,0,0,29,3610,1454,71.73,0]
[null,35,"2002-03-15",6,26,2,30,1,45,0,0,0,0,0,0,0,"NÃO",0,8,7,47,33,13,28,1,175661.04,85,1377.74,3194,36.53,0]
[null,36,"2002-03-19",14,12,50,9,22,17,0,0,0,0,0,0,0,"SIM",3241084.98,44,13,42,41,45,2,0,0,19,5912.09,1557,71.88,0]
[null,37,"2002-03-22",45,25,33,48,47,11,0,0,0,0,0,0,0,"SIM",3632410.35,45,30,10,29,11,47,0,0,39,3344.66,1686,77.08,0]
[null,38,"2002-03-26",18,19,31,39,46,2,0,0,0,0,0,0,0,"SIM",4025375.98,29,24,48,45,15,22,0,0,224,582.54999999999995,2291,56.96,0]
[null,39,"2002-04-02",50,15,3,12,44,37,0,1,4268873.4000000004,0,0,0,0,"NÃO",0,7,46,34,22,44,28,0,0,64,2536.4299999999998,2716,59.55,0]
[null,40,"2002-04-05",15,21,9,32,4,23,0,0,0,0,0,0,0,"SIM",464427.42,8,15,36,41,9,6,0,0,12,6136.95,1114,65.86,0]
[null,41,"2002-04-09",25,32,47,34,22,15,0,0,0,0,0,0,0,"SIM",686590.19,43,6,33,26,28,18,0,0,13,5696.49,858,85.99,0]
[null,42,"2002-04-12",42,5,6,39,14,48,0,1,803642.47,0,0,0,0,"NÃO",0,38,4,45,43,21,27,0,0,30,2601.16,1139,68.25,0]
[null,43,"2002-04-17",34,1,32,39,43,10,0,0,0,0,0,0,0,"SIM",310856.25,26,32,39,11,41,5,0,0,16,4037.58,784,82.09,0]
[null,44,"2002-04-19",28,9,35,45,3,15,0,1,420070.34,0,0,0,0,"NÃO",0,3,42,33,4,45,30,0,0,14,5200.68,892,81.31,0]
[null,45,"2002-04-23",19,23,47,28,2,44,0,0,0,0,0,0,0,"SIM",287623.65000000002,42,21,30,36,46,49,0,0,4,14867.47,444,133.44,0]
[null,46,"2002-04-26",29,26,14,41,9,1,0,0,0,0,0,0,0,"SIM",480956.17,20,34,39,42,30,16,0,0,13,4957.24,580,110.69,0]
[null,47,"2002-04-30",37,13,21,26,34,3,0,0,0,0,0,0,0,"SIM",686366.74,6,30,28,44,22,9,0,0,17,4027.66,1148,59.42,0]
[null,48,"2002-05-03",43,16,42,41,32,23,0,0,0,0,0,0,0,"SIM",877244.24,18,2,19,49,39,42,0,0,11,5784.17,833,76.09,0]
[null,49,"2002-05-07",41,33,21,45,2,15,0,0,0,0,0,0,0,"SIM",1084543.56,32,45,49,41,29,35,0,0,10,6909.98,652,105.58,0]
[null,50,"2002-05-10",33,7,36,40,26,8,0,0,0,0,0,0,0,"SIM",1307401.67,13,35,34,42,2,15,0,0,16,4642.88,1188,62.3,0]
[null,51,"2002-05-14",11,28,7,12,22,4,0,0,0,0,0,0,0,"SIM",1529151.04,33,41,47,45,48,42,0,0,37,1997.74,1157,63.65,0]
[null,52,"2002-05-17",3,17,42,26,48,39,0,0,0,0,0,0,0,"SIM",1769566.49,7,8,48,14,43,34,0,0,15,5342.57,1220,65.45,0]
[null,53,"2002-05-21",20,23,4,29,42,5,0,0,0,0,0,0,0,"SIM",2037692.93,3,8,34,48,35,25,0,0,20,4468.78,1480,60.17,0]
[null,54,"2002-05-24",5,23,34,4,36,27,0,0,0,0,0,0,0,"SIM",2347513.59,44,37,24,45,10,32,0,0,28,3688.34,1538,66.900000000000006,0]
[null,55,"2002-05-28",45,44,4,27,43,33,0,1,2503788.98,0,0,0,0,"NÃO",0,17,42,46,6,24,26,0,0,52,2003.53,2010,51.64,0]
[null,56,"2002-05-31",18,10,33,47,40,3,0,0,0,0,0,0,0,"SIM",335885.73,39,18,41,14,15,40,0,0,12,4989.18,747,79.849999999999994,0]
[null,57,"2002-06-04",18,1,35,38,23,46,0,0,0,0,0,0,0,"SIM",526827.38,11,48,15,44,30,47,0,0,10,6364.73,815,77.81,0]
[null,58,"2002-06-07",14,32,42,33,23,25,0,0,0,0,0,0,0,"SIM",750547.6,40,9,49,29,14,48,0,0,13,5736.41,730,101.78,0]
[null,59,"2002-06-11",38,33,2,16,28,46,0,0,0,0,0,0,0,"SIM",964423.67,28,32,23,38,35,43,0,0,26,2742,1077,65.95,0]
[null,60,"2002-06-14",35,12,36,43,29,15,0,0,0,0,0,0,0,"SIM",1186971.54,49,21,7,3,29,34,0,0,15,4945.51,1241,59.56,0]
[null,61,"2002-06-18",1,18,32,9,36,28,0,0,0,0,0,0,0,"SIM",1293632.99,17,30,10,41,24,38,1,106661.45,23,3091.64,934,75.86,0]
[null,62,"2002-06-21",28,43,38,23,8,4,0,0,0,0,0,0,0,"SIM",1515513.45,5,42,27,47,48,11,0,0,26,2844.62,1372,53.7,0]
[null,63,"2002-06-25",10,47,9,16,40,5,0,0,0,0,0,0,0,"SIM",1763068.06,41,24,46,28,30,12,0,0,34,2427.0100000000002,1188,69.2,0]
[null,64,"2002-06-28",42,26,10,11,12,37,0,0,0,0,0,0,0,"SIM",2057768.47,15,49,44,42,16,32,0,0,19,5170.18,1224,79.959999999999994,0]
[null,65,"2002-07-02",44,29,1,8,14,5,0,0,0,0,0,0,0,"SIM",2341325.75,23,35,18,14,28,11,0,0,24,3938.3,1480,63.63,0]
[null,66,"2002-07-05",6,33,19,47,31,17,0,0,0,0,0,0,0,"SIM",2661786.46,49,13,39,47,24,15,0,0,25,4272.8100000000004,1682,63.27,0]
[null,67,"2002-07-09",35,46,43,48,40,34,0,0,0,0,0,0,0,"SIM",2943332.06,49,2,12,34,18,33,0,0,13,7219.12,1126,83.04,0]
[null,68,"2002-07-12",12,21,3,24,15,28,0,1,3112887.14,0,0,0,0,"NÃO",0,9,11,38,13,18,43,0,0,22,5138.03,2042,55.14,0]
[null,69,"2002-07-16",18,37,47,2,14,9,0,0,0,0,0,0,0,"SIM",360522.62,27,35,45,14,25,49,0,0,10,6365.59,996,63.67,0]
[null,70,"2002-07-19",23,25,46,26,17,29,0,0,0,0,0,0,0,"SIM",564430.49,14,49,22,20,40,2,0,0,12,5664.11,670,101.07,0]
[null,71,"2002-07-23",25,45,47,36,33,15,0,0,0,0,0,0,0,"SIM",768030.9,8,42,7,37,12,49,0,0,21,3231.75,1052,64.28,0]
[null,72,"2002-07-26",37,34,8,39,14,47,0,0,0,0,0,0,0,"SIM",988260.18,5,48,32,1,2,16,0,0,24,3058.74,1212,60.34,0]
[null,73,"2002-07-30",33,17,21,45,40,6,0,0,0,0,0,0,0,"SIM",1205089.8899999999,1,20,48,49,39,6,0,0,11,6570.6,620,116.14,0]
[null,74,"2002-08-02",16,28,7,12,46,15,0,0,0,0,0,0,0,"SIM",1471464.41,13,4,15,39,27,24,0,0,23,3860.5,1813,48.8,0]
[null,75,"2002-08-06",13,30,43,7,22,11,0,0,0,0,0,0,0,"SIM",1738336.44,23,41,28,19,16,34,0,0,33,2695.68,1450,61.12,0]
[null,76,"2002-08-09",48,11,41,21,31,36,0,0,0,0,0,0,0,"SIM",1900684.78,19,47,4,16,29,44,1,162348.35,35,3092.35,2035,52.98,0]
[null,77,"2002-08-13",29,11,31,50,39,23,0,0,0,0,0,0,0,"SIM",2040788.14,11,14,15,34,4,37,1,140103.35999999999,16,5837.64,1156,80.5,0]
[null,78,"2002-08-16",6,42,21,41,45,8,0,0,0,0,0,0,0,"SIM",2337253.41,33,43,12,49,36,19,0,0,37,2670.86,1652,59.6,0]
[null,79,"2002-08-20",18,26,4,2,8,33,0,0,0,0,0,0,0,"SIM",2621722.17,46,28,47,14,4,1,0,0,23,4122.74,1374,68.75,0]
[null,80,"2002-08-23",41,27,19,33,45,23,0,0,0,0,0,0,0,"SIM",2908230.16,45,50,19,10,37,33,0,0,24,3979.28,1380,68.95,0]
[null,81,"2002-08-27",39,4,31,32,38,16,0,0,0,0,0,0,0,"SIM",3072038.96,26,32,19,35,15,12,1,163808.81,31,3522.77,1651,65.900000000000006,0]
[null,82,"2002-08-30",35,39,32,15,23,18,0,0,0,0,0,0,0,"SIM",3264002.65,14,17,42,48,36,12,1,191963.69,71,1802.48,2644,48.22,0]
[null,83,"2002-09-03",6,13,48,15,8,41,0,0,0,0,0,0,0,"SIM",3666387.94,6,9,48,18,41,12,0,0,39,3439.19,2281,58.58,0]
[null,84,"2002-09-06",34,27,11,42,4,31,0,0,0,0,0,0,0,"SIM",4157263.44,25,17,27,35,50,39,0,0,14,11687.51,1985,82.12,0]
[null,85,"2002-09-10",9,25,28,27,19,32,0,0,0,0,0,0,0,"SIM",4370829.75,23,24,45,1,19,30,1,213566.32,35,4067.93,1925,73.69,0]
[null,86,"2002-09-13",23,48,14,33,25,32,0,0,0,0,0,0,0,"SIM",4957512.3099999996,37,33,13,29,27,31,0,0,73,2678.92,3598,54.15,0]
[null,87,"2002-09-17",19,47,39,42,23,1,0,0,0,0,0,0,0,"SIM",5249466.32,23,37,41,19,13,38,1,291954.03000000003,58,3355.8,3448,56.24,0]
[null,88,"2002-09-20",46,50,30,42,18,20,0,0,0,0,0,0,0,"SIM",5560952.5,9,17,28,21,33,1,1,311486.18,50,4153.1499999999996,2920,70.849999999999994,0]
[null,89,"2002-09-24",4,14,42,39,8,31,0,0,0,0,0,0,0,"SIM",6213771.7599999998,4,44,3,32,11,31,0,0,46,4730.58,3135,69.150000000000006,0]
[null,90,"2002-09-27",7,50,36,28,39,40,0,0,0,0,0,0,0,"SIM",6895025.2599999998,8,37,5,3,43,15,0,0,67,3389.32,3902,57.98,0]
[null,91,"2002-10-01",19,15,34,11,33,43,0,0,0,0,0,0,0,"SIM",7510992.4900000002,13,41,43,11,3,44,0,0,109,1883.69,3779,54.13,0]
[null,92,"2002-10-04",34,28,31,35,1,38,0,0,0,0,0,0,0,"SIM",8176154.3499999996,24,31,41,11,40,45,0,0,46,4820.0200000000004,2448,90.23,0]
[null,93,"2002-10-08",25,33,1,28,22,44,0,0,0,0,0,0,0,"SIM",8804295.2200000007,17,38,50,36,4,11,0,0,55,3806.91,2610,79.92,0]
[null,94,"2002-10-11",36,26,43,25,21,32,0,0,0,0,0,0,0,"SIM",9486596.8000000007,23,17,40,21,41,2,0,0,43,5289.16,2729,83.03,0]
[null,95,"2002-10-15",31,42,27,29,38,19,0,1,9786055.5800000001,0,0,0,0,"NÃO",0,5,6,23,35,44,3,0,0,55,3629.81,3167,62.81,0]
[null,96,"2002-10-18",9,7,13,22,11,50,0,1,434535.34,0,0,0,0,"NÃO",0,1,37,31,19,7,42,0,0,18,5002.83,1300,69.010000000000005,0]
[null,97,"2002-10-22",17,21,19,16,4,5,0,0,0,0,0,0,0,"SIM",355331.93,46,28,42,18,39,45,0,0,11,6674.41,726,100.75,0]
[null,98,"2002-10-25",33,20,17,27,11,15,0,1,477268.1,0,0,0,0,"NÃO",0,37,38,34,45,19,7,0,0,19,4278.46,1306,62.02,0]
[null,99,"2002-10-29",45,38,30,43,21,12,0,0,0,0,0,0,0,"SIM",321151.42,17,7,27,32,8,1,0,0,23,2887.18,1133,58.39,0]
[null,100,"2002-11-01",9,22,11,26,47,33,0,0,0,0,0,0,0,"SIM",555696.93000000005,4,39,33,26,12,2,0,0,25,3127.28,1292,60.29,0]
[null,101,"2002-11-05",3,19,39,25,37,49,0,0,0,0,0,0,0,"SIM",655372.48,7,22,42,32,8,9,1,99675.57,5,13290.08,838,79,0]
[null,102,"2002-11-08",30,35,40,5,26,19,0,0,0,0,0,0,0,"SIM",903557.54,25,35,32,27,13,38,0,0,30,2757.61,1636,50.38,0]
[null,103,"2002-11-12",7,45,37,33,15,41,0,0,0,0,0,0,0,"SIM",1145085.43,6,45,17,43,14,48,0,0,23,3500.4,1208,66.39,0]
[null,104,"2002-11-15",29,38,28,24,30,8,0,0,0,0,0,0,0,"SIM",1330036.4099999999,19,8,16,49,13,36,0,0,17,3626.49,1158,53.04,0]
[null,105,"2002-11-19",2,50,43,23,6,27,0,0,0,0,0,0,0,"SIM",1617972.22,42,1,36,2,16,29,0,0,16,5998.66,1013,94.39,0]
[null,106,"2002-11-22",6,49,11,31,1,46,0,0,0,0,0,0,0,"SIM",1934807.06,47,40,37,49,31,21,0,0,11,9601.06,798,131.85,0]
[null,107,"2002-11-26",36,19,33,17,40,31,0,0,0,0,0,0,0,"SIM",2235631.0699999998,41,15,7,33,31,10,0,0,18,5570.81,1475,67.73,0]
[null,108,"2002-11-29",16,14,18,10,34,6,0,0,0,0,0,0,0,"SIM",2541641.5299999998,27,42,26,15,41,37,0,0,25,4080.14,1123,90.49,0]
[null,109,"2002-12-03",45,41,32,46,26,44,0,0,0,0,0,0,0,"SIM",2898668.82,43,44,33,46,49,28,0,0,50,2380.1799999999998,1643,72.16,0]
[null,110,"2002-12-06",38,14,27,20,34,43,0,0,0,0,0,0,0,"SIM",3274352.56,21,37,36,19,39,1,0,0,29,4318.21,1318,94.66,0]
[null,111,"2002-12-10",7,49,6,48,47,16,0,0,0,0,0,0,0,"SIM",3631533.11,13,22,18,12,40,39,0,0,22,5411.83,1401,84.66,0]
[null,112,"2002-12-13",16,45,46,47,37,14,0,0,0,0,0,0,0,"SIM",4018503.42,12,6,32,27,23,10,0,0,33,3908.79,2042,62.93,0]
[null,113,"2002-12-17",21,50,42,30,45,31,0,0,0,0,0,0,0,"SIM",4394888.41,16,46,7,14,13,21,0,0,40,3136.54,2145,58.27,0]
[null,114,"2002-12-20",29,14,33,28,30,39,0,0,0,0,0,0,0,"SIM",4800865.16,2,41,22,40,44,12,0,0,35,3866.45,1763,76.47,0]
[null,115,"2002-12-27",3,8,44,38,23,26,0,0,0,0,0,0,0,"SIM",5383732.54,23,35,19,9,22,33,0,0,42,4625.93,2815,68.760000000000005,0]
[null,116,"2003-01-03",47,5,34,10,38,8,0,0,0,0,0,0,0,"SIM",6018394.8600000003,41,32,44,12,5,47,0,0,36,5876.5,3087,68.27,0]
[null,117,"2003-01-07",46,26,28,44,14,13,0,0,0,0,0,0,0,"SIM",6556954.5199999996,24,23,32,7,11,15,0,0,41,4378.53,3266,54.77,0]
[null,118,"2003-01-10",49,5,18,16,33,3,0,0,0,0,0,0,0,"SIM",7150767.7199999997,46,15,11,38,26,45,0,0,43,4603.2,2718,72.56,0]
[null,119,"2003-01-14",38,20,45,27,36,11,0,0,0,0,0,0,0,"SIM",7742424.29,40,35,9,33,38,44,0,0,48,4108.72,2158,91.05,0]
[null,120,"2003-01-17",36,34,40,50,38,29,0,0,0,0,0,0,0,"SIM",8333166.6299999999,25,40,36,44,3,49,0,0,58,3395.07,2414,81.27,0]
[null,121,"2003-01-21",9,31,39,12,7,15,0,0,0,0,0,0,0,"SIM",8949150.8800000008,25,46,50,29,49,20,0,0,33,6222.07,2269,90.15,0]
[null,122,"2003-01-24",18,22,9,38,3,17,0,0,0,0,0,0,0,"SIM",9721432.0700000003,21,28,8,23,19,35,0,0,77,3343.21,4556,56.29,0]
[null,123,"2003-01-28",49,12,38,32,39,35,0,0,0,0,0,0,0,"SIM",10531108.640000001,19,43,48,45,28,31,0,0,72,3748.5,4061,66.209999999999994,0]
[null,124,"2003-01-31",28,37,36,47,46,11,0,0,0,0,0,0,0,"SIM",10996596.380000001,22,48,6,38,9,30,1,465487.75,73,4251.03,3570,86.59,0]
[null,125,"2003-02-04",46,41,15,8,7,11,0,1,11443167.800000001,0,0,0,0,"NÃO",0,39,31,35,43,49,24,0,0,68,4378.1499999999996,3861,76.819999999999993,0]
[null,126,"2003-02-07",43,25,47,42,1,4,0,0,0,0,0,0,0,"SIM",756324.61,39,26,36,9,20,24,0,0,19,5434.27,1119,91.92,0]
[null,127,"2003-02-11",44,17,1,16,42,31,0,0,0,0,0,0,0,"SIM",1052383.7,9,49,31,38,30,14,0,0,15,6579.09,978,100.53,0]
[null,128,"2003-02-14",21,28,4,12,22,42,0,0,0,0,0,0,0,"SIM",1378724.54,49,4,44,27,3,35,0,0,36,3021.67,1717,63.11,0]
[null,129,"2003-02-18",49,14,33,3,11,27,0,0,0,0,0,0,0,"SIM",1692403.84,44,34,6,11,37,31,0,0,7,14937.11,1029,101.24,0]
[null,130,"2003-02-21",39,16,1,18,4,45,0,0,0,0,0,0,0,"SIM",1857076.68,50,10,2,45,5,13,1,164672.85,84,1306.93,2851,38.36,0]
[null,131,"2003-02-25",4,30,47,29,23,40,0,0,0,0,0,0,0,"SIM",2170649.12,5,43,32,31,6,26,0,0,12,8710.35,1131,92.07,0]
[null,132,"2003-02-28",46,4,7,37,19,44,0,1,2345136.62,0,0,0,0,"NÃO",0,9,47,16,12,21,23,1,174487.51,40,2908.13,1841,62.95,0]
[null,133,"2003-03-07",27,3,41,29,38,47,0,0,0,0,0,0,0,"SIM",278944.53999999998,9,20,30,19,8,1,0,0,50,1859.63,1727,53.64,0]
[null,134,"2003-03-11",22,31,29,25,19,21,0,0,0,0,0,0,0,"SIM",520268.13,46,37,12,40,33,3,0,0,8,10055.15,1093,73.33,0]
[null,135,"2003-03-14",44,13,2,3,12,26,0,0,0,0,0,0,0,"SIM",788791.15,45,6,3,49,46,43,0,0,25,3580.31,1192,74.81,0]
[null,136,"2003-03-18",10,47,38,20,6,26,0,0,0,0,0,0,0,"SIM",1042353.82,37,27,46,2,21,40,0,0,15,5634.72,652,129.15,0]
[null,137,"2003-03-21",48,14,31,29,18,42,0,0,0,0,0,0,0,"SIM",1353867.99,1,15,4,33,20,35,0,0,26,3993.77,1254,82.5,0]
[null,138,"2003-03-25",24,42,11,2,3,1,0,0,0,0,0,0,0,"SIM",1504001.29,16,35,40,5,36,21,1,150133.29999999999,23,4351.6899999999996,1232,80.94,0]
[null,139,"2003-03-28",42,48,44,13,29,19,0,0,0,0,0,0,0,"SIM",1817908.55,17,18,8,7,50,32,0,0,37,2828,1418,73.510000000000005,0]
[null,140,"2003-04-01",8,44,4,43,47,46,0,0,0,0,0,0,0,"SIM",2300000,12,7,47,19,17,32,0,0,46,2141,2130,46.07,0]
[null,141,"2003-04-04",15,32,33,42,27,43,0,0,0,0,0,0,0,"SIM",2443233.1,9,42,19,39,36,15,0,0,46,2390.34,1900,57.66,0]
[null,142,"2003-04-08",36,6,38,20,5,45,0,0,0,0,0,0,0,"SIM",2772505.2,34,5,7,46,43,14,0,0,39,2814.29,1949,56.1,0]
[null,143,"2003-04-11",6,19,49,1,44,32,0,1,2950802.89,0,0,0,0,"NÃO",0,25,35,43,21,39,47,0,0,35,3396.15,1694,69.91,0]
[null,144,"2003-04-15",45,35,21,8,42,49,0,0,0,0,0,0,0,"SIM",416568.92,24,42,28,33,6,35,0,0,30,2647.46,1414,55.96,0]
[null,145,"2003-04-18",29,43,12,15,19,47,0,0,0,0,0,0,0,"SIM",574098.99,12,42,38,31,26,2,0,0,11,4773.6400000000003,566,92.43,0]
[null,146,"2003-04-22",47,8,34,42,11,14,0,0,0,0,0,0,0,"SIM",776299.86,47,9,11,28,32,7,0,0,17,3964.73,1316,51.03,0]
[null,147,"2003-04-25",44,34,40,9,5,33,0,0,0,0,0,0,0,"SIM",1060120.05,5,21,32,12,43,27,0,0,35,2703.05,1623,58.07,0]
[null,148,"2003-04-29",28,9,48,27,32,49,0,0,0,0,0,0,0,"SIM",1356497.14,44,34,19,1,11,18,0,0,29,3406.63,1275,77.2,0]
[null,149,"2003-05-02",37,39,50,18,41,31,0,0,0,0,0,0,0,"SIM",1646338.51,27,41,20,24,38,5,0,0,23,4200.6000000000004,1290,74.62,0]
[null,150,"2003-05-06",10,50,3,27,13,5,0,0,0,0,0,0,0,"SIM",1943709.32,47,48,10,50,34,29,0,0,13,7624.89,1035,95.41,0]
[null,151,"2003-05-09",37,27,22,41,12,20,0,0,0,0,0,0,0,"SIM",2260919.4700000002,6,44,28,13,29,1,0,0,36,2937.13,1677,62.82,0]
[null,152,"2003-05-13",42,49,8,24,47,25,0,1,2419133.61,0,0,0,0,"NÃO",0,40,26,23,45,41,27,2,79107.070000000007,22,4794.37,1275,82.42,0]
[null,153,"2003-05-16",41,8,21,3,38,15,0,0,0,0,0,0,0,"SIM",231804.84,31,24,37,28,9,43,0,0,18,4292.68,1026,75.03,0]
[null,154,"2003-05-20",19,13,17,1,2,4,0,0,0,0,0,0,0,"SIM",459141.67,20,12,19,46,26,25,0,0,18,4209.9399999999996,1096,68.88,0]
[null,155,"2003-05-23",7,22,3,31,25,37,0,0,0,0,0,0,0,"SIM",733901.24,21,32,26,12,9,19,0,0,25,3663.46,1569,58.15,0]
[null,156,"2003-05-27",8,19,37,21,46,32,0,0,0,0,0,0,0,"SIM",986491.25,33,20,4,18,46,10,0,0,9,9355.19,1125,74.56,0]
[null,157,"2003-05-30",22,27,36,45,35,9,0,0,0,0,0,0,0,"SIM",1256934.42,12,26,16,7,1,23,0,0,31,2907.99,1505,59.68,0]
[null,158,"2003-06-03",38,2,14,10,29,20,0,0,0,0,0,0,0,"SIM",1523201.51,29,41,22,39,2,30,0,0,16,5547.23,781,113.21,0]
[null,159,"2003-06-06",42,21,37,12,3,28,0,1,1672571.34,0,0,0,0,"NÃO",0,3,47,4,40,10,11,0,0,17,5857.64,1547,64.13,0]
[null,160,"2003-06-10",37,19,6,27,34,38,0,0,0,0,0,0,0,"SIM",362780.75,19,38,45,17,3,35,0,0,20,3556.85,1335,53.09,0]
[null,161,"2003-06-13",24,29,44,9,26,35,0,0,0,0,0,0,0,"SIM",603939.98,7,11,25,36,30,49,0,0,17,4728.62,1105,72.48,0]
[null,162,"2003-06-17",40,38,43,44,39,31,0,0,0,0,0,0,0,"SIM",833010.06,23,13,14,39,27,8,0,0,27,2828.03,1368,55.61,0]
[null,163,"2003-06-20",19,34,25,20,15,46,0,0,0,0,0,0,0,"SIM",949056.32,4,20,16,35,49,22,1,116046.26,21,3684.01,1125,68.510000000000005,0]
[null,164,"2003-06-24",40,41,47,23,45,4,0,0,0,0,0,0,0,"SIM",1186210.1100000001,26,50,33,27,19,20,0,0,17,4650.08,1016,77.52,0]
[null,165,"2003-06-27",11,26,49,16,44,6,0,0,0,0,0,0,0,"SIM",1482726.97,7,38,19,35,20,26,0,0,27,3660.7,1461,67.400000000000006,0]
[null,166,"2003-07-01",27,36,40,39,41,47,0,0,0,0,0,0,0,"SIM",1783878.22,49,50,16,9,11,6,0,0,25,4015.35,2213,45.19,0]
[null,167,"2003-07-04",12,21,11,33,17,14,0,0,0,0,0,0,0,"SIM",2108382.8199999998,50,2,39,26,35,16,0,0,16,6760.51,1091,98.78,0]
[null,168,"2003-07-08",21,29,20,17,7,14,0,0,0,0,0,0,0,"SIM",2483042.14,41,49,8,32,31,17,0,0,23,5429.85,1292,96.3,0]
[null,169,"2003-07-11",38,46,1,22,23,12,0,1,2682725.5,0,0,0,0,"NÃO",0,4,32,27,20,12,36,0,0,29,4590.42,1906,69.58,0]
[null,170,"2003-07-15",42,49,16,33,29,4,0,0,0,0,0,0,0,"SIM",421915.66,12,23,43,16,18,47,0,0,15,4938.5,1283,57.53,0]
[null,171,"2003-07-18",35,31,16,43,21,25,0,0,0,0,0,0,0,"SIM",672949.92,23,21,46,45,33,25,0,0,9,9297.57,990,84.2,0]
[null,172,"2003-07-22",6,11,47,25,42,34,0,0,0,0,0,0,0,"SIM",928044.32,15,34,12,16,2,28,0,0,20,4251.57,1402,60.42,0]
[null,173,"2003-07-25",14,25,44,27,3,22,0,0,0,0,0,0,0,"SIM",1215303.6599999999,16,49,35,15,44,26,0,0,13,7365.63,1395,68.38,0]
[null,174,"2003-07-29",11,9,29,12,19,34,0,0,0,0,0,0,0,"SIM",1348121.61,10,15,43,50,28,12,1,132817.96,40,2213.64,1331,66.28,0]
[null,175,"2003-08-01",48,2,15,45,44,28,0,0,0,0,0,0,0,"SIM",1637230.67,12,6,22,43,37,1,0,0,20,4818.4799999999996,1143,83.99,0]
[null,176,"2003-08-05",46,21,22,9,29,19,0,0,0,0,0,0,0,"SIM",1921864.16,39,31,10,48,6,27,0,0,21,4517.99,1064,88.84,0]
[null,177,"2003-08-08",20,23,33,31,13,36,0,0,0,0,0,0,0,"SIM",2291913.31,44,40,28,47,7,49,0,0,26,4744.22,1942,63.28,0]
[null,178,"2003-08-12",7,10,14,8,44,21,0,1,2483253.5699999998,0,0,0,0,"NÃO",0,18,49,9,41,15,29,0,0,30,4252.01,1575,80.69,0]
[null,179,"2003-08-15",18,21,15,13,29,33,0,0,0,0,0,0,0,"SIM",427002.83,11,36,20,16,40,17,0,0,14,5611.02,790,99.07,0]
[null,180,"2003-08-19",2,9,42,35,38,20,0,0,0,0,0,0,0,"SIM",654024.06999999995,21,31,26,9,28,33,0,0,10,7567.38,785,96.04,0]
[null,181,"2003-08-22",19,33,3,25,30,49,0,0,0,0,0,0,0,"SIM",921393.78,49,38,11,30,25,28,0,0,14,6365.94,950,93.46,0]
[null,182,"2003-08-26",3,17,45,49,42,26,0,0,0,0,0,0,0,"SIM",1196835.02,13,23,11,16,22,5,0,0,32,2869.18,1726,53,0]
[null,183,"2003-08-29",39,49,24,26,42,21,0,0,0,0,0,0,0,"SIM",1515556.93,6,36,16,10,38,13,0,0,29,3663.47,1538,68.819999999999993,0]
[null,184,"2003-09-02",39,19,47,46,8,44,0,0,0,0,0,0,0,"SIM",1671818.73,14,24,28,7,17,48,1,156261.81,25,4166.99,1857,55.89,0]
[null,185,"2003-09-05",42,10,49,46,31,44,0,0,0,0,0,0,0,"SIM",2002119.89,7,19,43,8,29,4,0,0,35,3145.73,1927,56.93,0]
[null,186,"2003-09-09",14,15,30,1,22,36,0,0,0,0,0,0,0,"SIM",2318953.63,22,9,41,20,27,50,0,0,24,4400.47,1323,79.53,0]
[null,187,"2003-09-12",10,9,26,11,37,4,0,0,0,0,0,0,0,"SIM",2662478.36,11,10,42,2,12,37,0,0,33,3469.95,1594,71.569999999999993,0]
[null,188,"2003-09-16",9,33,2,49,6,24,0,0,0,0,0,0,0,"SIM",2988430.76,24,48,37,35,3,28,0,0,28,3880.38,1776,60.95,0]
[null,189,"2003-09-19",1,17,3,18,25,33,0,0,0,0,0,0,0,"SIM",3337306.85,18,27,30,47,49,17,0,0,12,9691,1276,90.8,0]
[null,190,"2003-09-23",2,11,45,36,43,29,0,0,0,0,0,0,0,"SIM",3509497.39,25,49,2,47,3,48,1,172190.55,60,1913.23,1945,58.8,0]
[null,191,"2003-09-26",31,43,3,37,35,34,0,0,0,0,0,0,0,"SIM",3850164.07,2,41,11,10,9,27,0,0,40,2838.89,2146,52.72,0]
[null,192,"2003-09-30",21,23,9,31,2,19,0,0,0,0,0,0,0,"SIM",4045064.76,5,27,28,33,3,44,1,194900.7,47,2764.55,2334,55.46,0]
[null,193,"2003-10-03",40,47,46,16,41,6,0,0,0,0,0,0,0,"SIM",4525535.57,13,17,44,30,46,36,0,0,39,4106.59,2355,67.760000000000005,0]
[null,194,"2003-10-07",12,18,2,6,19,13,0,0,0,0,0,0,0,"SIM",5024866.38,26,32,47,4,36,20,0,0,36,4623.43,2053,80.77,0]
[null,195,"2003-10-10",5,30,32,42,34,20,0,1,5327708.0999999996,0,0,0,0,"NÃO",0,6,5,12,23,40,25,0,0,44,4588.51,3198,62.9,0]
[null,196,"2003-10-14",43,32,45,28,23,42,0,1,412346.54,0,0,0,0,"NÃO",0,33,29,40,23,45,21,0,0,9,8111.47,787,92.41,0]
[null,197,"2003-10-17",18,3,12,40,31,13,0,0,0,0,0,0,0,"SIM",333392.53000000003,12,33,4,29,16,35,0,0,29,2573.42,1396,53.26,0]
[null,198,"2003-10-21",35,39,30,38,43,7,0,0,0,0,0,0,0,"SIM",527252.9,7,39,44,38,31,25,0,0,17,3801.19,915,70.37,0]
[null,199,"2003-10-24",25,48,1,40,11,33,0,0,0,0,0,0,0,"SIM",768683.16,2,39,46,29,19,38,0,0,22,3658.04,901,88.99,0]
[null,200,"2003-10-28",23,8,29,4,6,36,0,0,0,0,0,0,0,"SIM",982739.3,39,50,38,23,34,32,0,0,8,8919.01,611,116.34,0]
[null,201,"2003-10-31",49,43,31,44,8,32,0,0,0,0,0,0,0,"SIM",1234376.25,13,41,42,20,49,44,0,0,14,5991.36,1124,74.34,0]
[null,202,"2003-11-04",1,41,3,18,38,5,0,0,0,0,0,0,0,"SIM",1483751.76,17,49,33,8,21,46,0,0,34,2444.86,1346,61.53,0]
[null,203,"2003-11-07",37,40,36,44,24,12,0,0,0,0,0,0,0,"SIM",1785336.17,46,36,37,43,34,21,0,0,23,4370.79,1150,87.08,0]
[null,204,"2003-11-11",40,6,28,39,2,34,0,0,0,0,0,0,0,"SIM",2072561.12,44,36,34,41,3,35,0,0,23,4162.68,1059,90.07,0]
[null,205,"2003-11-14",45,8,35,48,28,33,0,0,0,0,0,0,0,"SIM",2255056.62,8,37,4,44,50,23,2,91247.76,54,2253.0300000000002,1903,63.7,0]
[null,206,"2003-11-18",21,7,45,8,16,26,0,0,0,0,0,0,0,"SIM",2531363.09,46,30,4,42,12,10,0,0,19,4847.4799999999996,1170,78.430000000000007,0]
[null,207,"2003-11-21",15,36,27,12,16,43,0,0,0,0,0,0,0,"SIM",2860810.84,44,13,35,30,38,45,0,0,39,2815.8,1342,81.52,0]
[null,208,"2003-11-25",46,10,39,18,9,38,0,0,0,0,0,0,0,"SIM",3159127.5,28,47,31,49,48,36,0,0,13,7649.15,1111,89.17,0]
[null,209,"2003-11-28",10,36,2,30,47,23,0,0,0,0,0,0,0,"SIM",3487651.03,2,38,5,42,30,35,0,0,19,5763.57,1431,76.239999999999995,0]
[null,210,"2003-12-02",4,29,39,38,20,42,0,0,0,0,0,0,0,"SIM",3818006.74,22,25,37,11,36,45,0,0,21,5243.74,1371,80.02,0]
[null,211,"2003-12-05",10,31,36,13,25,28,0,0,0,0,0,0,0,"SIM",4194759.29,10,29,40,47,14,3,0,0,28,4485.1499999999996,1492,83.86,0]
[null,212,"2003-12-09",19,34,8,40,29,17,0,0,0,0,0,0,0,"SIM",4552562.49,27,22,17,49,13,14,0,0,25,4770.71,2048,58.02,0]
[null,213,"2003-12-12",13,35,4,18,12,8,0,0,0,0,0,0,0,"SIM",4974215.82,49,47,42,19,7,15,0,0,59,2382.2199999999998,2704,51.79,0]
[null,214,"2003-12-16",34,21,47,12,22,20,0,0,0,0,0,0,0,"SIM",5397711.6699999999,35,2,42,47,14,36,0,0,53,2663.5,2212,63.58,0]
[null,215,"2003-12-19",40,11,44,18,25,8,0,1,5650886.3799999999,0,0,0,0,"NÃO",0,11,30,21,42,2,3,0,0,41,4116.66,2208,76.150000000000006,0]
[null,216,"2003-12-23",39,21,33,40,50,15,0,1,386240.61,0,0,0,0,"NÃO",0,19,18,15,50,39,13,0,0,19,4668.9799999999996,1338,66.05,0]
[null,217,"2003-12-26",2,18,36,37,26,5,0,0,0,0,0,0,0,"SIM",321690.62,40,15,35,3,20,30,0,0,14,4491.0600000000004,761,82.32,0]
[null,218,"2003-12-30",19,34,30,7,41,37,0,0,0,0,0,0,0,"SIM",583566.44999999995,41,36,18,17,46,28,0,0,13,6714.77,760,114.43,0]
[null,219,"2004-01-02",3,21,13,29,35,4,0,0,0,0,0,0,0,"SIM",781713.62,4,22,18,43,25,17,0,0,28,2358.9,1232,53.41,0]
[null,220,"2004-01-06",6,33,11,5,31,19,0,0,0,0,0,0,0,"SIM",1015059.62,47,24,18,41,50,42,0,0,25,3111.28,1106,70.069999999999993,0]
[null,221,"2004-01-09",17,21,34,33,39,16,0,0,0,0,0,0,0,"SIM",1293550.45,2,1,14,37,19,32,0,0,43,2158.85,1421,65.09,0]
[null,222,"2004-01-13",15,28,43,35,11,41,0,0,0,0,0,0,0,"SIM",1546109.78,45,12,31,8,50,10,0,0,28,3006.66,1220,68.739999999999995,0]
[null,223,"2004-01-16",44,3,14,13,26,45,0,1,1689711.8,0,0,0,0,"NÃO",0,48,17,25,50,14,24,0,0,36,2659.3,1274,74.86,0]
[null,224,"2004-01-20",26,7,1,44,13,42,0,0,0,0,0,0,0,"SIM",327489.95,38,36,10,2,34,39,0,0,7,8756.57,766,79.72,0]
[null,225,"2004-01-23",25,47,13,28,49,45,0,0,0,0,0,0,0,"SIM",548944.07999999996,36,44,12,47,29,48,0,0,29,2545.4499999999998,1219,60.32,0]
[null,226,"2004-01-27",28,35,3,44,20,47,0,0,0,0,0,0,0,"SIM",743062.54,22,29,31,32,3,24,0,0,10,6470.62,720,89.53,0]
[null,227,"2004-01-30",1,19,10,33,14,40,0,0,0,0,0,0,0,"SIM",973485.77,30,14,22,39,26,21,0,0,11,6982.53,774,98.87,0]
[null,228,"2004-02-03",3,12,30,21,14,11,0,0,0,0,0,0,0,"SIM",1081077.1599999999,15,39,50,26,8,22,1,107591.4,17,4219.2700000000004,845,84.57,0]
[null,229,"2004-02-06",5,28,48,8,30,19,0,0,0,0,0,0,0,"SIM",1354542.4,46,9,10,6,23,37,0,0,35,2604.4299999999998,1637,55.47,0]
[null,230,"2004-02-10",12,5,47,26,21,45,0,0,0,0,0,0,0,"SIM",1605524.51,33,34,6,46,1,7,0,0,18,4647.82,986,84.53,0]
[null,231,"2004-02-13",12,41,26,36,4,5,0,0,0,0,0,0,0,"SIM",1928932.59,15,25,46,22,18,6,0,0,49,2200.06,1981,54.22,0]
[null,232,"2004-02-17",27,47,12,14,48,44,0,0,0,0,0,0,0,"SIM",2209249.12,7,32,46,27,48,21,0,0,19,4917.83,1328,70.099999999999994,0]
[null,233,"2004-02-20",5,43,24,27,38,25,0,0,0,0,0,0,0,"SIM",2370454.81,5,2,19,6,48,27,2,80602.850000000006,73,1472.2,2513,42.61,0]
[null,234,"2004-02-27",35,29,22,4,36,47,0,1,2537529.5299999998,0,0,0,0,"NÃO",0,37,2,47,48,44,42,0,0,20,5569.16,1408,78.81,0]
[null,235,"2004-03-02",18,22,45,13,25,21,0,0,0,0,0,0,0,"SIM",348543.1,19,11,10,35,13,39,0,0,23,2629.97,1079,55.85,0]
[null,236,"2004-03-05",18,35,16,26,25,21,0,0,0,0,0,0,0,"SIM",573772.67000000004,10,23,46,3,20,15,0,0,25,3003.06,1055,70.900000000000006,0]
[null,237,"2004-03-09",43,14,24,29,28,26,0,0,0,0,0,0,0,"SIM",767207.62,45,36,9,44,4,14,0,0,32,2014.95,1126,57.05,0]
[null,238,"2004-03-12",45,14,7,24,6,48,0,1,886122.65,0,0,0,0,"NÃO",0,37,8,43,27,49,13,0,0,28,2831.31,1479,53.4,0]
[null,239,"2004-03-16",42,1,45,37,7,16,0,0,0,0,0,0,0,"SIM",291427.28000000003,45,33,14,38,9,48,0,0,23,2500.1799999999998,973,58.88,0]
[null,240,"2004-03-19",44,31,34,17,47,27,0,0,0,0,0,0,0,"SIM",501859.95,21,26,1,13,9,16,0,0,21,3340.2,1056,66.180000000000007,0]
[null,241,"2004-03-23",5,45,18,3,16,48,0,0,0,0,0,0,0,"SIM",690814.14,41,48,31,16,46,25,0,0,16,3936.55,630,99.61,0]
[null,242,"2004-03-26",3,14,25,13,16,26,0,0,0,0,0,0,0,"SIM",921341.83,11,35,49,17,1,5,0,0,17,4520.1499999999996,1262,60.66,0]
[null,243,"2004-03-30",40,16,39,17,31,3,0,1,1021865.61,0,0,0,0,"NÃO",0,13,19,6,32,12,20,0,0,20,3350.79,1191,56.06,0]
[null,244,"2004-04-02",44,17,41,26,31,42,0,0,0,0,0,0,0,"SIM",297794.65000000002,46,17,29,24,47,23,0,0,23,2859,1231,53.22,0]
[null,245,"2004-04-06",20,43,2,40,46,5,0,0,0,0,0,0,0,"SIM",471723.43,33,43,12,18,34,9,0,0,16,3623.52,973,59.37,0]
[null,246,"2004-04-13",38,21,27,11,50,26,0,0,0,0,0,0,0,"SIM",710856.92,12,31,37,2,1,50,0,0,13,6131.63,796,99.76,0]
[null,247,"2004-04-16",2,47,46,18,24,12,0,0,0,0,0,0,0,"SIM",935858.72,6,13,50,48,19,31,0,0,31,2419.37,1397,53.49,0]
[null,248,"2004-04-20",22,13,41,23,14,10,0,0,0,0,0,0,0,"SIM",1153555.53,26,11,39,44,23,48,0,0,20,3628.28,1136,63.64,0]
[null,249,"2004-04-23",48,7,4,8,11,46,0,0,0,0,0,0,0,"SIM",1398674.16,17,43,32,29,21,23,0,0,32,2553.3200000000002,1360,59.86,0]
[null,250,"2004-04-27",31,23,48,18,28,14,0,0,0,0,0,0,0,"SIM",1628691.4,45,47,34,17,35,8,0,0,18,4259.58,1145,66.72,0]
[null,251,"2004-04-30",6,47,4,1,43,35,0,0,0,0,0,0,0,"SIM",1760259.83,49,1,21,24,38,39,1,131568.45000000001,7,12530.33,771,113.34,0]
[null,252,"2004-05-04",14,19,36,42,31,5,0,0,0,0,0,0,0,"SIM",1974180.65,38,47,12,34,18,19,0,0,23,3100.3,1325,53.62,0]
[null,253,"2004-05-07",25,43,12,3,5,13,0,0,0,0,0,0,0,"SIM",2256677.2799999998,7,6,43,11,39,38,0,0,22,4280.25,1207,77.73,0]
[null,254,"2004-05-11",41,14,18,40,21,29,0,0,0,0,0,0,0,"SIM",2515126.71,9,43,47,28,42,41,0,0,8,10768.73,1148,74.760000000000005,0]
[null,255,"2004-05-14",47,33,24,37,25,39,0,0,0,0,0,0,0,"SIM",2813918.52,4,15,5,29,43,31,0,0,25,3983.89,1297,76.5,0]
[null,256,"2004-05-18",30,35,47,29,34,7,0,0,0,0,0,0,0,"SIM",3088553.66,2,41,44,45,12,6,0,0,18,5085.84,1119,81.5,0]
[null,257,"2004-05-21",11,48,23,5,33,46,0,0,0,0,0,0,0,"SIM",3403236.67,29,26,48,2,3,5,0,0,36,2913.73,1798,58.12,0]
[null,258,"2004-05-25",32,19,21,35,48,29,0,0,0,0,0,0,0,"SIM",3698545.7,22,17,48,37,31,29,0,0,16,6152.27,1155,84.91,0]
[null,259,"2004-05-28",22,29,40,28,10,17,0,0,0,0,0,0,0,"SIM",4049904.35,41,37,15,20,31,48,0,0,22,5323.62,1137,102.62,0]
[null,260,"2004-06-01",5,40,35,18,26,42,0,0,0,0,0,0,0,"SIM",4393451.45,49,26,6,30,40,5,0,0,23,4978.9399999999996,1102,103.53,0]
[null,261,"2004-06-04",20,30,15,27,40,26,0,0,0,0,0,0,0,"SIM",4816517.4400000004,28,17,48,36,3,39,0,0,54,2611.52,2239,62.75,0]
[null,262,"2004-06-08",25,9,23,36,44,50,0,0,0,0,0,0,0,"SIM",5214558.78,20,7,49,35,2,28,0,0,38,3491.59,1914,69.069999999999993,0]
[null,263,"2004-06-11",30,15,48,17,11,42,0,1,5411630.9800000004,0,0,0,0,"NÃO",0,36,1,6,13,43,25,1,197072.22,64,2052.84,2195,59.63,0]
[null,264,"2004-06-15",38,5,13,41,4,30,0,0,0,0,0,0,0,"SIM",184445.52,22,43,39,24,31,23,0,0,11,5589.26,670,91.43,0]
[null,265,"2004-06-18",17,48,3,21,47,15,0,0,0,0,0,0,0,"SIM",400366.35,43,48,28,1,46,31,0,0,6,11995.6,689,104.08,0]
[null,266,"2004-06-22",12,33,9,16,10,47,0,1,496476.03,0,0,0,0,"NÃO",0,26,17,6,43,3,14,0,0,24,2669.71,1141,55.95,0]
[null,267,"2004-06-25",24,36,14,46,7,3,0,0,0,0,0,0,0,"SIM",292679.28999999998,23,3,50,34,4,27,0,0,10,6552.32,834,78.28,0]
[null,268,"2004-06-29",17,33,41,26,45,34,0,0,0,0,0,0,0,"SIM",472389.08,5,29,36,32,50,34,0,0,13,4607.9399999999996,797,74.88,0]
[null,269,"2004-07-02",16,44,34,18,29,4,0,0,0,0,0,0,0,"SIM",700715.58,27,36,37,45,47,6,0,0,25,3044.35,899,84.34,0]
[null,270,"2004-07-06",48,49,11,7,1,31,0,0,0,0,0,0,0,"SIM",902398.59,16,34,41,32,15,44,0,0,12,5602.31,678,98.79,0]
[null,271,"2004-07-09",12,17,48,29,39,30,0,0,0,0,0,0,0,"SIM",1132436.71,20,28,41,32,43,50,0,0,6,12779.9,596,128.18,0]
[null,272,"2004-07-13",27,12,11,17,9,13,0,1,1244505.73,0,0,0,0,"NÃO",0,12,26,29,4,13,33,0,0,36,2075.35,1614,46.12,0]
[null,273,"2004-07-16",14,44,30,41,19,16,0,0,0,0,0,0,0,"SIM",313989.62,32,47,9,45,12,27,0,0,35,1923.05,1247,53.77,0]
[null,274,"2004-07-20",46,27,20,11,15,38,0,0,0,0,0,0,0,"SIM",486931.67,37,14,29,11,8,18,0,0,10,5764.74,773,74.3,0]
[null,275,"2004-07-23",5,12,31,42,45,20,0,0,0,0,0,0,0,"SIM",706514.44,30,14,28,45,1,12,0,0,16,4574.6400000000003,911,80.040000000000006,0]
[null,276,"2004-07-27",50,1,14,23,26,47,0,0,0,0,0,0,0,"SIM",797543.88,35,14,6,15,34,16,1,91029.45,29,2092.63,849,71.209999999999994,0]
[null,277,"2004-07-30",29,7,2,39,35,38,0,0,0,0,0,0,0,"SIM",1009006.16,34,24,29,38,4,43,0,0,14,5034.82,853,82.32,0]
[null,278,"2004-08-03",10,48,8,21,25,17,0,0,0,0,0,0,0,"SIM",1223650.5900000001,12,25,2,16,29,19,0,0,22,3252.19,1205,59.16,0]
[null,279,"2004-08-06",43,21,18,49,50,46,0,0,0,0,0,0,0,"SIM",1498295.36,9,39,30,18,19,20,0,0,26,3521.09,1220,74.760000000000005,0]
[null,280,"2004-08-10",40,46,43,24,33,20,0,0,0,0,0,0,0,"SIM",1738196.65,17,48,23,10,29,35,0,0,69,1158.95,1745,45.66,0]
[null,281,"2004-08-13",40,27,13,45,14,5,0,1,1885419.47,0,0,0,0,"NÃO",0,10,17,12,30,20,49,0,0,14,7010.61,1191,82.1,0]
[null,282,"2004-08-17",26,31,32,41,34,23,0,0,0,0,0,0,0,"SIM",315857,48,38,9,26,39,37,0,0,9,6245.71,768,72.92,0]
[null,283,"2004-08-20",4,26,47,18,11,29,0,0,0,0,0,0,0,"SIM",518802.76,4,43,39,3,17,15,0,0,32,2114.02,1139,59.17,0]
[null,284,"2004-08-24",44,34,8,27,39,20,0,0,0,0,0,0,0,"SIM",694473.29,15,13,7,3,35,34,0,0,26,2252.1799999999998,1430,40.799999999999997,0]
[null,285,"2004-08-27",7,23,9,8,5,43,0,0,0,0,0,0,0,"SIM",906046.66,10,41,20,24,16,49,0,0,8,8815.56,732,95.99,0]
[null,286,"2004-08-31",25,3,50,32,38,46,0,0,0,0,0,0,0,"SIM",1099669.81,49,19,21,3,25,16,0,0,29,2225.56,1258,51.12,0]
[null,287,"2004-09-03",1,31,36,34,35,3,0,0,0,0,0,0,0,"SIM",1342909.69,11,9,20,41,23,45,0,0,14,5791.43,1115,72.45,0]
[null,288,"2004-09-10",11,5,25,32,35,15,0,0,0,0,0,0,0,"SIM",1655351.04,28,10,47,48,36,39,0,0,28,3719.54,1327,78.19,0]
[null,289,"2004-09-14",12,33,36,49,45,21,0,0,0,0,0,0,0,"SIM",1774797.97,43,48,25,21,22,7,1,119446.95,30,2654.38,1364,58.16,0]
[null,290,"2004-09-17",4,24,41,35,10,11,0,0,0,0,0,0,0,"SIM",2092001.29,15,26,7,13,5,28,0,0,47,2249.67,2248,46.87,0]
[null,291,"2004-09-21",11,49,41,35,6,37,0,0,0,0,0,0,0,"SIM",2353538.41,45,13,25,9,26,35,0,0,26,3353.04,1594,54.5,0]
[null,292,"2004-09-24",15,34,11,43,36,2,0,0,0,0,0,0,0,"SIM",2642064.92,16,41,34,43,27,26,0,0,19,5061.87,1159,82.67,0]
[null,293,"2004-09-28",40,7,12,9,41,42,0,0,0,0,0,0,0,"SIM",2901579.82,8,47,19,21,42,37,0,0,27,3203.89,1351,63.79,0]
[null,294,"2004-10-01",46,2,9,6,16,29,0,0,0,0,0,0,0,"SIM",3056387.81,3,46,24,29,33,30,1,154808.01,20,5160.26,1602,64.19,0]
[null,295,"2004-10-05",40,16,15,5,30,21,0,1,3218590.66,0,0,0,0,"NÃO",0,49,10,22,48,30,41,0,0,19,5691.33,1083,99.48,0]
[null,296,"2004-10-08",22,28,14,2,40,11,0,0,0,0,0,0,0,"SIM",374284.47,36,48,35,25,33,24,0,0,20,3534.7,1050,67.08,0]
[null,297,"2004-10-15",10,40,49,9,44,8,0,0,0,0,0,0,0,"SIM",647668.55000000005,24,43,15,27,6,42,0,0,37,2462.92,1714,52.97,0]
[null,298,"2004-10-19",33,4,11,20,43,14,0,0,0,0,0,0,0,"SIM",847832.04,47,37,44,9,50,36,0,0,11,6065.56,633,105,0]
[null,299,"2004-10-22",44,2,25,36,45,16,0,0,0,0,0,0,0,"SIM",1087258.93,42,20,33,4,2,5,0,0,17,4694.6499999999996,1036,76.75,0]
[null,300,"2004-10-26",37,22,46,14,2,42,0,0,0,0,0,0,0,"SIM",1290021.6399999999,12,8,49,15,35,45,0,0,21,3218.46,1053,63.95,0]
[null,301,"2004-10-29",33,1,41,6,13,45,0,0,0,0,0,0,0,"SIM",1537502.12,33,14,35,13,5,43,0,0,32,2577.92,1547,53.12,0]
[null,302,"2004-11-05",15,31,12,44,13,37,0,0,0,0,0,0,0,"SIM",1849066.39,9,30,1,27,42,32,0,0,25,4154.1899999999996,1137,91,0]
[null,303,"2004-11-09",28,41,24,32,25,36,0,1,1972407.66,0,0,0,0,"NÃO",0,33,1,12,3,46,24,1,123341.27,43,1912.27,1571,52.15,0]
[null,304,"2004-11-12",42,24,47,18,8,12,0,0,0,0,0,0,0,"SIM",190969.02,43,4,42,50,29,18,0,0,19,3350.34,613,103.45,0]
[null,305,"2004-11-16",6,3,19,30,2,49,0,0,0,0,0,0,0,"SIM",325102.48,18,47,13,11,15,21,0,0,14,3193.66,849,52.47,0]
[null,306,"2004-11-19",32,36,29,26,50,49,0,0,0,0,0,0,0,"SIM",529402.65,28,6,11,36,22,35,0,0,12,5675.01,959,70.75,0]
[null,307,"2004-11-23",28,49,5,16,26,8,0,0,0,0,0,0,0,"SIM",722748.49,18,48,30,1,46,45,0,0,5,12889.72,671,95.69,0]
[null,308,"2004-11-26",31,30,10,32,1,34,0,0,0,0,0,0,0,"SIM",838719.6,49,35,36,48,29,28,1,115971.11,26,2973.62,1067,72.19,0]
[null,309,"2004-11-30",20,44,9,2,23,10,0,0,0,0,0,0,0,"SIM",1027213.43,32,33,23,10,31,29,0,0,15,4188.76,667,93.85,0]
[null,310,"2004-12-03",31,14,16,15,29,49,0,0,0,0,0,0,0,"SIM",1280328.1399999999,36,8,28,45,7,44,0,0,26,3245.06,1202,69.930000000000007,0]
[null,311,"2004-12-07",36,12,28,19,35,9,0,0,0,0,0,0,0,"SIM",1504747.37,34,8,27,18,16,6,0,0,16,4675.3999999999996,1168,63.81,0]
[null,312,"2004-12-10",45,49,15,35,19,29,0,0,0,0,0,0,0,"SIM",1774162.42,47,46,6,36,43,30,0,0,7,12829.29,909,98.43,0]
[null,313,"2004-12-14",43,9,7,18,15,42,0,0,0,0,0,0,0,"SIM",2013702.65,16,37,2,10,32,35,0,0,10,7984.67,819,97.12,0]
[null,314,"2004-12-17",36,18,17,40,32,23,0,0,0,0,0,0,0,"SIM",2161502.9500000002,26,15,10,48,44,46,1,147800.29999999999,25,3941.34,1299,75.58,0]
[null,315,"2004-12-21",5,39,46,49,34,4,0,1,2291175.63,0,0,0,0,"NÃO",0,24,5,26,2,42,30,0,0,23,3758.63,1285,67.02,0]
[null,316,"2004-12-28",33,8,20,42,4,11,0,0,0,0,0,0,0,"SIM",243543.09,25,10,15,50,48,22,1,113870.39999999999,23,3300.6,1120,67.53,0]
[null,317,"2005-01-04",41,20,50,14,23,32,0,1,346311.97,0,0,0,0,"NÃO",0,12,38,29,33,45,49,0,0,16,4282.04,1134,60.19,0]
[null,318,"2005-01-07",14,32,42,34,44,41,0,0,0,0,0,0,0,"SIM",299423.15999999997,39,46,30,29,32,19,0,0,12,5462.62,672,97.18,0]
[null,319,"2005-01-11",13,6,33,26,15,23,0,0,0,0,0,0,0,"SIM",384012.65,37,20,42,1,35,24,1,84589.51,11,5126.6400000000003,590,95.22,0]
[null,320,"2005-01-14",47,6,50,45,12,14,0,0,0,0,0,0,0,"SIM",591048.71,26,7,46,49,28,15,0,0,21,3286.29,1211,56.78,0]
[null,321,"2005-01-18",6,34,16,47,23,29,0,0,0,0,0,0,0,"SIM",772556.65,44,11,16,26,48,2,0,0,19,3184.35,1028,58.63,0]
[null,322,"2005-01-21",23,15,3,39,35,12,0,1,885713.31,0,0,0,0,"NÃO",0,42,49,7,34,15,17,0,0,20,3771.89,1357,55.38,0]
[null,323,"2005-01-25",5,48,25,40,27,45,0,0,0,0,0,0,0,"SIM",258304.19,49,35,12,8,2,42,0,0,12,4031.88,830,58.07,0]
[null,324,"2005-01-28",31,35,9,23,38,45,0,0,0,0,0,0,0,"SIM",450499.53,39,12,46,29,1,33,0,0,8,8008.14,866,73.7,0]
[null,325,"2005-02-01",39,23,25,1,30,10,0,1,535680.28,0,0,0,0,"NÃO",0,11,16,23,9,43,19,0,0,22,2581.23,1046,54.09,0]
[null,326,"2005-02-04",47,49,38,17,33,18,0,0,0,0,0,0,0,"SIM",270367.83,19,4,31,25,44,50,0,0,24,2572.04,923,66.63,0]
[null,327,"2005-02-11",5,33,34,23,26,19,0,0,0,0,0,0,0,"SIM",483907.23,32,38,8,33,50,39,0,0,6,11863.3,671,105.68,0]
[null,328,"2005-02-15",39,37,7,25,18,21,0,0,0,0,0,0,0,"SIM",652387.19999999995,46,50,40,35,12,27,0,0,7,8022.86,608,92.02,0]
[null,329,"2005-02-18",14,21,42,32,9,3,0,0,0,0,0,0,0,"SIM",858332.63,32,18,11,27,50,28,0,0,5,13729.7,660,103.62,0]
[null,330,"2005-02-22",30,48,6,44,4,18,0,0,0,0,0,0,0,"SIM",1045831.45,29,39,42,30,7,17,0,0,11,5681.79,693,89.85,0]
[null,331,"2005-02-25",16,29,11,41,47,6,0,0,0,0,0,0,0,"SIM",1297977.3799999999,28,33,31,20,14,15,0,0,17,4944.04,903,92.73,0]
[null,332,"2005-03-01",47,31,24,14,44,29,0,1,1408949.13,0,0,0,0,"NÃO",0,22,2,32,50,25,1,0,0,21,3522.92,1085,67.930000000000007,0]
[null,333,"2005-03-04",33,19,4,27,39,1,0,0,0,0,0,0,0,"SIM",305809.03000000003,22,8,25,11,27,38,0,0,18,3608.1,999,64.77,0]
[null,334,"2005-03-08",41,47,38,18,34,20,0,0,0,0,0,0,0,"SIM",475024.84,14,2,26,49,20,4,0,0,10,5640.53,763,73.64,0]
[null,335,"2005-03-11",50,26,49,8,21,32,0,0,0,0,0,0,0,"SIM",677819.54,4,47,37,21,38,17,0,0,24,2816.59,856,78.67,0]
[null,336,"2005-03-15",39,25,14,36,11,27,0,0,0,0,0,0,0,"SIM",853590.64,5,20,50,40,23,33,0,0,15,3906.03,660,88.44,0]
[null,337,"2005-03-18",30,35,14,20,4,1,0,0,0,0,0,0,0,"SIM",1077658.97,20,26,6,3,30,33,0,0,6,12448.24,1001,74.34,0]
[null,338,"2005-03-22",47,45,30,7,6,11,0,0,0,0,0,0,0,"SIM",1279544.8,39,18,6,16,48,34,0,0,16,4205.95,1001,66.98,0]
[null,339,"2005-03-29",50,25,38,1,11,28,0,0,0,0,0,0,0,"SIM",1525964.8,28,3,45,40,48,22,0,0,20,4107,1137,71.97,0]
[null,340,"2005-04-01",8,39,49,42,11,30,0,0,0,0,0,0,0,"SIM",1764542.56,44,7,4,48,37,35,0,0,26,3058.69,1176,67.37,0]
[null,341,"2005-04-05",37,49,33,30,3,26,0,0,0,0,0,0,0,"SIM",1985060.45,33,41,43,47,5,21,0,0,25,2940.24,1011,72.44,0]
[null,342,"2005-04-08",17,45,31,46,44,42,0,0,0,0,0,0,0,"SIM",2248928.7200000002,11,37,48,12,49,29,0,0,20,4397.8,1089,80.47,0]
[null,343,"2005-04-12",15,37,43,8,28,20,0,0,0,0,0,0,0,"SIM",2490065.2200000002,46,5,22,26,15,8,0,0,33,2435.7199999999998,1386,57.77,0]
[null,344,"2005-04-15",45,20,28,7,24,38,0,0,0,0,0,0,0,"SIM",2778043.93,46,48,22,40,4,38,0,0,11,8726.6299999999992,1105,86.54,0]
[null,345,"2005-04-19",4,18,14,37,46,39,0,0,0,0,0,0,0,"SIM",2905520.59,13,29,34,38,49,9,1,127476.68,33,2575.29,1333,63.51,0]
[null,346,"2005-04-22",17,38,47,18,50,48,0,0,0,0,0,0,0,"SIM",3208442.63,48,50,29,45,28,4,0,0,22,4589.7299999999996,1592,63.18,0]
[null,347,"2005-04-26",20,42,35,11,39,33,0,0,0,0,0,0,0,"SIM",3528353.14,19,1,45,7,46,4,0,0,29,3677.13,1909,55.65,0]
[null,348,"2005-04-29",3,40,1,4,15,25,0,0,0,0,0,0,0,"SIM",3896705.45,11,25,13,8,7,36,0,0,58,2116.9699999999998,2724,44.91,0]
[null,349,"2005-05-03",19,22,43,8,31,20,0,0,0,0,0,0,0,"SIM",4237271.3600000003,39,1,26,23,31,46,0,0,14,8108.71,1125,100.53,0]
[null,350,"2005-05-06",28,31,23,40,4,1,0,0,0,0,0,0,0,"SIM",4632252.54,3,43,42,31,41,4,0,0,27,4876.3100000000004,1466,89.47,0]
[null,351,"2005-05-10",35,16,27,14,49,19,0,0,0,0,0,0,0,"SIM",4989457.87,44,5,28,33,40,1,0,0,30,3968.95,1508,78.66,0]
[null,352,"2005-05-13",19,24,28,16,10,39,0,0,0,0,0,0,0,"SIM",5411574.3099999996,11,23,40,5,30,48,0,0,27,5211.32,1742,80.47,0]
[null,353,"2005-05-17",18,31,26,40,24,4,0,1,5605395.2199999997,0,0,0,0,"NÃO",0,23,25,19,6,29,43,0,0,34,3800.41,2141,60.13,0]
[null,354,"2005-05-20",38,4,44,40,21,31,0,0,0,0,0,0,0,"SIM",407534.09,45,47,39,49,38,7,0,0,22,3238.08,1047,67.790000000000006,0]
[null,355,"2005-05-24",50,1,44,10,26,9,0,0,0,0,0,0,0,"SIM",593055.23,23,9,1,18,34,14,0,0,14,4417.17,798,77.2,0]
[null,356,"2005-05-27",17,47,31,28,42,36,0,0,0,0,0,0,0,"SIM",814356.09,48,11,23,1,34,15,0,0,15,4917.8,972,75.61,0]
[null,357,"2005-05-31",22,41,21,11,40,42,0,0,0,0,0,0,0,"SIM",921352.08,14,19,10,23,3,49,1,106996,29,2459.6799999999998,1177,60.37,0]
[null,358,"2005-06-03",21,17,7,44,13,26,0,0,0,0,0,0,0,"SIM",1182397.05,26,1,40,38,44,27,0,0,22,3955.23,934,92.82,0]
[null,359,"2005-06-07",33,50,27,42,44,13,0,0,0,0,0,0,0,"SIM",1418992.32,23,50,2,22,45,24,0,0,28,2816.61,1143,68.739999999999995,0]
[null,360,"2005-06-10",33,30,6,43,48,13,0,0,0,0,0,0,0,"SIM",1705101.51,23,6,27,32,1,14,0,0,21,4541.42,1490,63.77,0]
[null,361,"2005-06-14",27,32,38,28,30,20,0,0,0,0,0,0,0,"SIM",1957293.66,21,2,18,20,49,31,0,0,8,10508.01,799,104.82,0]
[null,362,"2005-06-17",45,47,1,19,24,33,0,0,0,0,0,0,0,"SIM",2255085.46,31,10,45,8,29,16,0,0,44,2256,1424,69.45,0]
[null,363,"2005-06-21",23,9,10,38,36,39,0,0,0,0,0,0,0,"SIM",2525667.48,39,49,13,9,10,27,0,0,30,3006.47,1670,53.81,0]
[null,364,"2005-06-24",14,13,48,1,8,37,0,0,0,0,0,0,0,"SIM",2824845.49,8,22,9,37,3,33,0,0,50,1994.52,2069,48.02,0]
[null,365,"2005-06-28",15,22,34,31,37,36,0,0,0,0,0,0,0,"SIM",2965762.59,36,16,14,4,43,12,1,140917.10999999999,32,2935.78,1541,60.74,0]
[null,366,"2005-07-01",3,46,26,6,35,42,0,0,0,0,0,0,0,"SIM",3309802.58,22,46,42,18,50,1,0,0,27,4247.41,1333,85.71,0]
[null,367,"2005-07-05",50,15,31,48,40,4,0,0,0,0,0,0,0,"SIM",3635812.66,8,13,7,6,46,36,0,0,31,3505.49,1872,57.83,0]
[null,368,"2005-07-08",9,10,46,25,5,31,0,0,0,0,0,0,0,"SIM",4022416.37,36,41,17,4,18,37,0,0,23,5602.95,1470,87.34,0]
[null,369,"2005-07-12",31,47,1,25,5,11,0,0,0,0,0,0,0,"SIM",4198856.4000000004,45,31,17,38,5,30,1,176440.03,38,3095.44,1654,70.849999999999994,0]
[null,370,"2005-07-15",9,33,39,43,49,6,0,0,0,0,0,0,0,"SIM",4596511.34,47,4,26,2,25,45,0,0,42,3155.99,2270,58.17,0]
[null,371,"2005-07-19",15,22,17,30,6,41,0,0,0,0,0,0,0,"SIM",4952166.62,29,19,23,30,16,33,0,0,20,5927.59,1479,79.849999999999994,0]
[null,372,"2005-07-22",42,27,45,19,36,46,0,0,0,0,0,0,0,"SIM",5362075.5999999996,9,40,38,41,11,22,0,0,30,4554.55,1708,79.7,0]
[null,373,"2005-07-26",17,14,29,10,31,41,0,0,0,0,0,0,0,"SIM",5748123.3600000003,1,6,28,41,10,3,0,0,40,3217.06,2200,58.28,0]
[null,374,"2005-07-29",3,41,10,22,37,50,0,0,0,0,0,0,0,"SIM",6023580.1399999997,43,26,39,19,6,48,1,275456.78000000003,88,2086.8000000000002,3041,60.17,0]
[null,375,"2005-08-02",35,15,33,34,8,28,0,0,0,0,0,0,0,"SIM",6302254.7599999998,17,9,7,21,1,25,2,139337.31,94,1976.42,3584,51.65,0]
[null,376,"2005-08-05",34,29,43,17,15,32,0,1,6629189.4500000002,0,0,0,0,"NÃO",0,48,49,6,17,38,47,1,326934.69,119,1831.57,3796,57.21,0]
[null,377,"2005-08-09",40,34,43,31,15,8,0,0,0,0,0,0,0,"SIM",219424.69,3,42,37,15,38,40,0,0,21,3482.93,978,74.510000000000005,0]
[null,378,"2005-08-12",17,25,30,19,8,43,0,0,0,0,0,0,0,"SIM",469881.74,17,15,18,29,47,23,0,0,35,2385.3000000000002,1567,53.08,0]
[null,379,"2005-08-16",8,13,25,44,6,9,0,0,0,0,0,0,0,"SIM",668815.59,48,32,42,14,7,30,0,0,21,3157.68,859,76.900000000000006,0]
[null,380,"2005-08-20",45,40,39,12,41,36,0,0,0,0,0,0,0,"SIM",918286.31,48,11,33,26,18,49,0,0,29,2867.48,1456,56.91,0]
[null,381,"2005-08-23",13,41,8,39,31,20,0,0,0,0,0,0,0,"SIM",1136645.53,7,13,3,15,31,44,0,0,33,2205.65,1639,44.25,0]
[null,382,"2005-08-26",38,14,35,30,47,50,0,0,0,0,0,0,0,"SIM",1424891.77,50,28,19,14,48,17,0,0,26,3695.47,1622,59.02,0]
[null,383,"2005-08-30",23,20,15,12,32,37,0,0,0,0,0,0,0,"SIM",1680973.62,4,34,31,47,6,13,0,0,15,5690.71,1389,61.23,0]
[null,384,"2005-09-02",45,27,9,48,43,40,0,0,0,0,0,0,0,"SIM",2003486.33,6,13,32,5,8,21,0,0,33,3257.71,1899,56.4,0]
[null,385,"2005-09-06",23,5,37,6,50,15,0,0,0,0,0,0,0,"SIM",2332334.69,32,38,10,26,14,18,0,0,31,3536.01,1585,68.900000000000006,0]
[null,386,"2005-09-09",19,15,10,9,24,38,0,0,0,0,0,0,0,"SIM",2700388.24,7,3,38,26,18,6,0,0,35,3505.28,2103,58.12,0]
[null,387,"2005-09-13",46,15,33,11,23,26,0,0,0,0,0,0,0,"SIM",3054912.97,24,35,26,39,22,44,0,0,21,5627.37,1535,76.7,0]
[null,388,"2005-09-16",3,42,9,32,15,16,0,2,1630314.45,0,0,0,0,"NÃO",0,18,33,24,35,29,47,0,0,43,3189.39,2227,61.35,0]
[null,389,"2005-09-20",22,40,49,35,34,47,0,0,0,0,0,0,0,"SIM",390599.41,1,4,16,7,38,26,0,0,10,6162.78,944,65.05,0]
[null,390,"2005-09-23",14,19,35,21,5,28,0,1,513972.94,0,0,0,0,"NÃO",0,48,22,29,8,19,23,0,0,14,5874.93,1256,65.239999999999995,0]
[null,391,"2005-09-27",4,37,28,42,38,26,0,0,0,0,0,0,0,"SIM",304481.02,46,2,29,1,42,37,0,0,6,10061.530000000001,569,105.7,0]
[null,392,"2005-09-30",32,38,43,33,17,16,0,0,0,0,0,0,0,"SIM",537798.92000000004,35,48,16,13,36,15,0,0,36,2160.35,1345,57.61,0]
[null,393,"2005-10-04",27,3,43,48,2,16,0,0,0,0,0,0,0,"SIM",747763.85,23,48,49,39,42,18,0,0,12,5832.36,985,70.790000000000006,0]
[null,394,"2005-10-07",27,3,22,46,34,13,0,0,0,0,0,0,0,"SIM",1008899.22,20,47,43,29,27,41,0,0,25,3481.8,917,94.56,0]
[null,395,"2005-10-11",31,29,2,40,1,47,0,0,0,0,0,0,0,"SIM",1260606.06,35,40,14,24,47,19,0,0,15,5593.49,994,84.09,0]
[null,396,"2005-10-14",8,12,29,18,1,33,0,0,0,0,0,0,0,"SIM",1516291.16,18,39,9,2,17,14,0,0,19,4485.7,1293,65.67,0]
[null,397,"2005-10-18",48,24,10,25,49,20,0,0,0,0,0,0,0,"SIM",1761121.74,22,29,3,16,38,12,0,0,26,3138.85,1291,62.97,0]
[null,398,"2005-10-21",34,9,21,33,10,8,0,0,0,0,0,0,0,"SIM",1930741.9,21,34,12,7,2,38,1,169620.16,27,4188.1499999999996,1607,70.11,0]
[null,399,"2005-10-25",10,48,4,7,15,12,0,0,0,0,0,0,0,"SIM",2224375.73,5,8,14,44,31,11,0,0,41,2387.27,1549,62.95,0]
[null,400,"2005-10-28",49,44,11,32,50,40,0,0,0,0,0,0,0,"SIM",2544697.79,42,29,15,5,13,7,0,0,29,3681.86,2231,47.68,0]
[null,401,"2005-11-01",22,20,12,18,30,31,0,0,0,0,0,0,0,"SIM",2852465.73,42,26,39,22,17,15,0,0,26,3945.74,1392,73.42,0]
[null,402,"2005-11-04",8,32,11,16,41,1,0,0,0,0,0,0,0,"SIM",3178481.91,14,3,49,40,41,13,0,0,27,4024.89,1341,80.739999999999995,0]
[null,403,"2005-11-08",46,19,37,11,30,34,0,0,0,0,0,0,0,"SIM",3492208.17,30,43,35,11,50,37,0,0,15,6971.7,990,105.23,0]
[null,404,"2005-11-11",18,3,41,29,46,37,0,0,0,0,0,0,0,"SIM",3874481.8,26,19,43,20,42,46,0,0,18,7079.14,1357,93.55,0]
[null,405,"2005-11-18",26,19,3,18,33,5,0,0,0,0,0,0,0,"SIM",4324835.7699999996,25,23,16,5,42,48,0,0,67,2240.5700000000002,2735,54.69,0]
[null,406,"2005-11-22",45,34,7,49,30,19,0,0,0,0,0,0,0,"SIM",4518374.2699999996,9,20,34,46,33,44,1,193538.5,22,5864.81,1131,113.65,0]
[null,407,"2005-11-25",34,20,15,16,31,23,0,0,0,0,0,0,0,"SIM",5022558.0199999996,40,22,27,3,43,46,0,0,43,3908.41,2455,68.2,0]
[null,408,"2005-11-29",22,33,23,35,45,50,0,0,0,0,0,0,0,"SIM",5472200.9500000002,32,28,3,45,24,14,0,0,65,2305.86,2801,53.31,0]
[null,409,"2005-12-02",26,41,10,46,39,44,0,0,0,0,0,0,0,"SIM",6020888,18,20,21,6,5,27,0,0,47,3891.4,2555,71.319999999999993,0]
[null,410,"2005-12-06",19,37,23,15,21,7,0,0,0,0,0,0,0,"SIM",6520392.9699999997,31,10,2,12,43,37,0,0,40,4162.54,2035,81.510000000000005,0]
[null,411,"2005-12-09",28,14,48,32,47,11,0,1,6796034.6299999999,0,0,0,0,"NÃO",0,48,7,42,33,8,39,1,275641.65999999997,47,3909.81,2436,75.16,0]
[null,412,"2005-12-13",34,44,25,23,1,24,0,0,0,0,0,0,0,"SIM",207887.8,2,49,44,24,30,22,0,0,11,6299.63,928,74.39,0]
[null,413,"2005-12-16",22,45,48,31,19,32,0,0,0,0,0,0,0,"SIM",456934.76,5,21,2,27,41,36,0,0,23,3609.38,940,87.99,0]
[null,414,"2005-12-20",19,39,35,42,33,45,0,0,0,0,0,0,0,"SIM",680374.13,37,9,29,30,13,45,0,0,18,4137.7700000000004,1097,67.650000000000006,0]
[null,415,"2005-12-23",38,45,10,34,12,1,0,0,0,0,0,0,0,"SIM",982860.78,32,48,45,36,19,9,0,0,42,2400.69,2056,48.86,0]
[null,416,"2005-12-27",48,10,28,31,35,20,0,0,0,0,0,0,0,"SIM",1208664.22,36,15,42,45,28,14,0,0,31,2428,1172,63.98,0]
[null,417,"2005-12-30",7,43,47,5,12,10,0,0,0,0,0,0,0,"SIM",1345875.4,11,13,18,46,16,17,1,137211.18,26,3518.24,1511,60.31,0]
[null,418,"2006-01-03",24,8,36,32,50,2,0,0,0,0,0,0,0,"SIM",1589738.86,9,27,31,25,48,10,0,0,24,3387,1184,68.39,0]
[null,419,"2006-01-06",17,43,30,27,15,16,0,0,0,0,0,0,0,"SIM",1932917.67,20,33,24,16,5,15,0,0,28,4085.46,1535,74.25,0]
[null,420,"2006-01-10",37,42,3,31,46,14,0,0,0,0,0,0,0,"SIM",2231578.77,27,36,41,32,46,22,0,0,10,9955.3700000000008,838,118.35,0]
[null,421,"2006-01-13",4,9,31,46,6,7,0,0,0,0,0,0,0,"SIM",2595144.34,14,43,9,35,19,34,0,0,33,3672.38,1773,68.099999999999994,0]
[null,422,"2006-01-17",2,40,30,16,43,27,0,0,0,0,0,0,0,"SIM",2895901.97,40,8,42,47,44,36,0,0,23,4358.8100000000004,1256,79.52,0]
[null,423,"2006-01-20",12,43,42,23,34,9,0,0,0,0,0,0,0,"SIM",3243786.18,32,16,25,38,39,8,0,0,37,3134.09,1946,59.37,0]
[null,424,"2006-01-24",6,16,24,46,44,45,0,0,0,0,0,0,0,"SIM",3404132.37,4,27,49,22,43,35,3,53448.73,92,1161.93,2140,49.78,0]
[null,425,"2006-01-27",47,20,9,25,41,33,0,0,0,0,0,0,0,"SIM",3769321.19,41,19,36,31,4,2,0,0,21,5796.65,1420,85.41,0]
[null,426,"2006-01-31",39,19,50,16,32,26,0,0,0,0,0,0,0,"SIM",3937902.87,34,22,6,17,41,37,1,168581.68,21,5351.8,1478,75.760000000000005,0]
[null,427,"2006-02-03",1,8,43,2,16,19,0,0,0,0,0,0,0,"SIM",4350370.5999999996,16,25,18,10,1,46,0,0,27,5092.2,1911,71.680000000000007,0]
[null,428,"2006-02-07",12,13,48,47,28,40,0,0,0,0,0,0,0,"SIM",4720168.13,24,11,31,14,5,16,0,0,17,7250.93,1545,79.48,0]
[null,429,"2006-02-10",6,5,26,42,3,31,0,0,0,0,0,0,0,"SIM",4940792.9000000004,40,37,41,13,31,26,1,220624.77,26,5657.05,1640,89.35,0]
[null,430,"2006-02-14",37,18,50,9,8,39,0,0,0,0,0,0,0,"SIM",5355938.62,40,49,9,19,10,45,0,0,24,5765.91,1718,80.25,0]
[null,431,"2006-02-17",49,32,13,36,35,43,0,0,0,0,0,0,0,"SIM",5832732.7000000002,8,18,35,9,29,32,0,0,29,5480.4,1924,82.29,0]
[null,432,"2006-02-21",42,11,12,19,44,21,0,0,0,0,0,0,0,"SIM",6272616.5199999996,8,28,43,17,32,27,0,0,38,3858.63,1916,76.239999999999995,0]
[null,433,"2006-02-24",33,42,21,4,38,20,0,0,0,0,0,0,0,"SIM",6564514.8099999996,19,5,34,39,6,46,3,97299.43,76,2560.5100000000002,3097,62.61,0]
[null,434,"2006-03-03",21,37,16,7,20,44,0,0,0,0,0,0,0,"SIM",7221699.4500000002,10,23,38,14,20,5,0,0,45,4868.04,2814,77.56,0]
[null,435,"2006-03-07",24,4,17,37,13,25,0,0,0,0,0,0,0,"SIM",7793119.9299999997,50,31,41,37,49,30,0,0,29,6568.06,1743,108.87,0]
[null,436,"2006-03-10",29,50,25,5,30,13,0,0,0,0,0,0,0,"SIM",8442040.9900000002,21,15,13,30,20,9,0,0,42,5150.17,2742,78.599999999999994,0]
[null,437,"2006-03-14",11,2,41,47,8,40,0,0,0,0,0,0,0,"SIM",9041467.1600000001,13,16,26,5,42,33,0,0,62,3222.72,3547,56.12,0]
[null,438,"2006-03-17",2,34,6,28,17,8,0,0,0,0,0,0,0,"SIM",9817027.7599999998,8,5,12,17,1,21,0,0,98,2637.96,4881,52.77,0]
[null,439,"2006-03-21",4,20,21,44,8,40,0,0,0,0,0,0,0,"SIM",10610078.41,46,41,15,9,5,48,0,0,64,4130.47,3538,74.44,0]
[null,440,"2006-03-24",1,33,48,37,31,38,0,0,0,0,0,0,0,"SIM",11526420.25,36,19,47,18,32,5,0,0,95,3215.24,4917,61.89,0]
[null,441,"2006-03-28",42,17,47,25,26,13,0,0,0,0,0,0,0,"SIM",12383517.720000001,20,5,41,11,14,36,0,0,66,4328.78,3529,80.66,0]
[null,442,"2006-03-31",4,35,23,13,19,28,0,0,0,0,0,0,0,"SIM",13319490.15,8,9,14,49,17,36,0,0,79,3949.25,5335,58.26,0]
[null,443,"2006-04-04",23,35,47,22,25,41,0,1,13768755.84,0,0,0,0,"NÃO",0,49,19,38,47,8,42,0,0,76,3940.93,4917,60.68,0]
[null,444,"2006-04-07",38,21,27,18,6,29,0,0,0,0,0,0,0,"SIM",795911.2,8,13,23,15,34,14,0,0,26,4444.17,1754,65.63,0]
[null,445,"2006-04-11",48,29,20,15,38,33,0,0,0,0,0,0,0,"SIM",1098557.02,29,2,36,1,8,30,0,0,18,5604.55,1177,85.39,0]
[null,446,"2006-04-18",20,32,40,47,12,34,0,0,0,0,0,0,0,"SIM",1461119.07,49,44,8,40,4,32,0,0,36,3357.06,2079,57.91,0]
[null,447,"2006-04-25",22,8,20,16,38,42,0,0,0,0,0,0,0,"SIM",1836489.25,32,46,20,31,17,50,0,0,19,6585.44,1069,116.61,0]
[null,448,"2006-04-28",15,10,26,14,39,28,0,0,0,0,0,0,0,"SIM",2011929.17,42,3,46,24,5,25,1,175439.92,40,2924,2157,54.03,0]
[null,449,"2006-05-02",4,22,15,48,35,11,0,0,0,0,0,0,0,"SIM",2256055.7200000002,32,14,36,15,6,23,0,0,18,4520.8599999999997,1341,60.45,0]
[null,450,"2006-05-05",21,22,11,18,9,39,0,0,0,0,0,0,0,"SIM",2632533.35,17,28,48,37,20,24,0,0,28,4481.88,1440,86.82,0]
[null,451,"2006-05-09",49,35,28,39,14,5,0,0,0,0,0,0,0,"SIM",2984596.78,3,48,40,34,19,5,0,0,24,4889.7700000000004,1780,65.680000000000007,0]
[null,452,"2006-05-12",16,24,25,40,49,23,0,0,0,0,0,0,0,"SIM",3186754.13,22,37,39,2,26,27,1,202157.35,15,8984.77,1366,98.29,0]
[null,453,"2006-05-16",17,45,13,31,43,21,0,0,0,0,0,0,0,"SIM",3541608.14,22,4,50,47,37,48,0,0,24,4928.53,1586,74.3,0]
[null,454,"2006-05-19",11,25,28,40,49,44,0,0,0,0,0,0,0,"SIM",3735020.27,16,18,41,24,10,45,4,48353.04,29,4446.26,1849,69.48,0]
[null,455,"2006-05-23",41,3,2,5,49,11,0,0,0,0,0,0,0,"SIM",4082134.45,22,37,44,5,16,26,0,0,34,3403.08,1979,58.25,0]
[null,456,"2006-05-26",9,35,30,11,36,5,0,0,0,0,0,0,0,"SIM",4495361.3,50,10,23,31,30,9,0,0,26,5297.78,1638,83.79,0]
[null,457,"2006-05-30",45,15,39,11,5,20,0,0,0,0,0,0,0,"SIM",4871818.7699999996,21,23,47,48,43,44,0,0,34,3690.76,1492,83.8,0]
[null,458,"2006-06-02",44,23,34,1,21,46,0,1,5131586.5999999996,0,0,0,0,"NÃO",0,1,32,38,11,5,7,0,0,27,6414.02,2241,76.989999999999995,0]
[null,459,"2006-06-06",1,32,38,12,41,8,0,0,0,0,0,0,0,"SIM",501046.13,37,17,9,1,22,15,0,0,25,3217.04,1151,69.62,0]
[null,460,"2006-06-09",17,42,6,20,36,13,0,0,0,0,0,0,0,"SIM",787237.78,5,35,29,27,49,33,0,0,47,2029.73,1863,51.02,0]
[null,461,"2006-06-13",2,5,44,3,32,42,0,0,0,0,0,0,0,"SIM",997854.97,43,50,16,35,42,25,0,0,9,7800.64,670,104.4,0]
[null,462,"2006-06-16",44,25,19,31,45,29,0,0,0,0,0,0,0,"SIM",1258768.49,5,34,1,41,18,17,0,0,23,3781.36,1141,75.95,0]
[null,463,"2006-06-20",30,36,3,37,28,44,0,0,0,0,0,0,0,"SIM",1526512.42,43,35,1,39,27,14,0,0,35,2549.94,1343,66.209999999999994,0]
[null,464,"2006-06-23",20,47,44,33,3,35,0,0,0,0,0,0,0,"SIM",1832548.95,16,12,31,34,47,35,0,0,25,4080.49,1555,65.36,0]
[null,465,"2006-06-27",22,30,45,24,31,19,0,0,0,0,0,0,0,"SIM",2070662.28,43,9,32,4,24,50,0,0,18,4409.51,1159,68.23,0]
[null,466,"2006-06-30",28,13,6,9,46,50,0,0,0,0,0,0,0,"SIM",2374772.35,23,26,2,8,28,39,0,0,43,2357.44,1559,64.78,0]
[null,467,"2006-07-04",46,39,27,48,38,6,0,1,2514240.8199999998,0,0,0,0,"NÃO",0,25,17,10,23,22,28,0,0,14,6641.36,1314,70.5,0]
[null,468,"2006-07-07",1,3,19,6,8,16,0,1,257161.01,0,0,0,0,"NÃO",0,9,42,22,32,30,36,0,0,18,4358.9799999999996,800,97.71,0]
[null,469,"2006-07-11",32,47,24,22,21,34,0,0,0,0,0,0,0,"SIM",311607.06,10,31,42,49,12,32,0,0,11,5876.2,644,99.99,0]
[null,470,"2006-07-14",9,20,48,44,11,3,0,0,0,0,0,0,0,"SIM",551216.44999999995,1,32,34,44,40,28,0,0,12,6655.81,607,131.08000000000001,0]
[null,471,"2006-07-18",50,15,33,9,37,8,0,0,0,0,0,0,0,"SIM",765396.82,15,13,50,30,34,19,0,0,20,3569.68,1085,65.55,0]
[null,472,"2006-07-21",34,37,33,36,4,13,0,1,898362.04,0,0,0,0,"NÃO",0,30,18,16,6,8,46,0,0,18,4924.6400000000003,1223,72.209999999999994,0]
[null,473,"2006-07-25",1,32,28,42,43,31,0,0,0,0,0,0,0,"SIM",325405.88,33,43,28,40,2,36,0,0,18,3563.72,680,93.99,0]
[null,474,"2006-07-28",24,29,30,18,33,1,0,0,0,0,0,0,0,"SIM",565767.72,13,14,7,38,22,40,0,0,35,2289.16,1065,74.95,0]
[null,475,"2006-08-01",43,49,14,50,22,30,0,0,0,0,0,0,0,"SIM",753175.93,7,1,31,15,37,5,0,0,14,4462.1000000000004,896,69.459999999999994,0]
[null,476,"2006-08-04",1,39,8,46,9,10,0,0,0,0,0,0,0,"SIM",1005496.01,1,22,8,42,31,26,0,0,11,7646.06,1008,83.13,0]
[null,477,"2006-08-08",6,7,1,12,30,9,0,0,0,0,0,0,0,"SIM",1239486.8899999999,15,26,11,27,40,30,0,0,24,3249.87,744,104.45,0]
[null,478,"2006-08-11",37,5,26,9,36,25,0,0,0,0,0,0,0,"SIM",1523968.95,42,2,20,12,41,11,0,0,22,4310.34,1001,94.38,0]
[null,479,"2006-08-15",28,15,9,17,38,50,0,0,0,0,0,0,0,"SIM",1764615.51,8,20,29,46,10,37,0,0,8,10026.94,864,92.5,0]
[null,480,"2006-08-18",31,36,49,48,19,41,0,0,0,0,0,0,0,"SIM",2067823.92,33,38,48,10,28,1,0,0,12,8422.4599999999991,1161,86.73,0]
[null,481,"2006-08-22",30,11,48,2,47,18,0,0,0,0,0,0,0,"SIM",2348779.77,42,10,2,12,16,28,0,0,25,3746.08,1600,58.31,0]
[null,482,"2006-08-25",23,20,12,38,1,40,0,0,0,0,0,0,0,"SIM",2686386.85,14,30,15,40,44,49,0,0,7,16076.53,929,120.68,0]
[null,483,"2006-08-29",47,27,21,44,8,40,0,0,0,0,0,0,0,"SIM",2959368.62,27,5,8,47,37,36,0,0,12,7582.83,1210,74.930000000000007,0]
[null,484,"2006-09-01",42,38,7,21,13,24,0,0,0,0,0,0,0,"SIM",3295749.57,44,11,18,21,5,45,0,0,18,6229.28,1595,70.040000000000006,0]
[null,485,"2006-09-05",38,31,7,17,30,20,0,0,0,0,0,0,0,"SIM",3595341.54,28,14,42,9,26,27,0,0,22,4539.2700000000004,1503,66.19,0]
[null,486,"2006-09-08",12,14,44,39,2,24,0,0,0,0,0,0,0,"SIM",3898515.01,37,1,23,14,24,36,0,0,17,5944.58,855,117.76,0]
[null,487,"2006-09-12",12,50,37,16,24,36,0,0,0,0,0,0,0,"SIM",4235948.12,32,37,16,33,13,44,0,0,28,4017.06,1703,65.8,0]
[null,488,"2006-09-15",5,18,27,22,8,43,0,0,0,0,0,0,0,"SIM",4617233.5599999996,43,18,4,41,39,1,0,0,13,9776.5499999999993,1228,103.11,0]
[null,489,"2006-09-19",13,10,44,15,28,43,0,0,0,0,0,0,0,"SIM",4949365.4000000004,44,6,22,42,40,34,0,0,20,5535.53,1470,75.040000000000006,0]
[null,490,"2006-09-22",38,7,29,41,1,3,0,0,0,0,0,0,0,"SIM",5365598.4000000004,40,23,11,6,21,44,0,0,42,3303.44,1927,71.73,0]
[null,491,"2006-09-26",49,32,24,29,18,35,0,0,0,0,0,0,0,"SIM",5736899.0099999998,25,11,50,14,33,42,0,0,43,2878.3,2013,61.26,0]
[null,492,"2006-09-29",31,39,34,36,38,8,0,0,0,0,0,0,0,"SIM",6166168.4800000004,34,25,27,29,40,32,0,0,38,3765.52,1758,81.09,0]
[null,493,"2006-10-03",3,24,2,27,35,17,0,0,0,0,0,0,0,"SIM",6572474.7000000002,1,5,11,27,14,6,0,0,53,2555.39,2214,60.94,0]
[null,494,"2006-10-06",16,35,21,47,28,46,0,0,0,0,0,0,0,"SIM",7050456.6399999997,21,45,31,19,47,10,0,0,47,3389.94,2443,64.98,0]
[null,495,"2006-10-10",6,39,49,29,12,24,0,0,0,0,0,0,0,"SIM",7474326.3099999996,37,49,6,14,42,35,0,0,58,2436.0300000000002,2706,52.03,0]
[null,496,"2006-10-13",36,22,4,24,26,37,0,0,0,0,0,0,0,"SIM",7921193.6299999999,35,13,22,8,47,49,0,0,94,1584.64,3269,45.4,0]
[null,497,"2006-10-17",5,1,29,39,28,38,0,0,0,0,0,0,0,"SIM",8383782.0599999996,29,13,5,23,46,24,0,0,40,3854.9,2793,55.01,0]
[null,498,"2006-10-21",5,46,39,1,14,24,0,0,0,0,0,0,0,"SIM",8875841.5299999993,16,49,39,20,36,15,0,0,19,8632.6200000000008,1585,103.1,0]
[null,499,"2006-10-24",35,6,33,14,24,43,0,2,4544120.67,0,0,0,0,"NÃO",0,42,27,23,11,43,13,0,0,35,4045.71,2185,64.56,0]
[null,500,"2006-10-27",13,44,20,14,27,12,0,0,0,0,0,0,0,"SIM",456295.65,33,41,43,37,49,19,0,0,23,3534.72,1287,62.93,0]
[null,501,"2006-10-31",3,50,43,27,49,1,0,0,0,0,0,0,0,"SIM",669717.09,10,15,35,48,39,24,0,0,24,2964.19,1038,68.27,800000]
[null,502,"2006-11-03",17,31,27,6,34,13,0,0,0,0,0,0,0,"SIM",886955.95,23,1,18,41,39,31,0,0,6,12068.82,646,111.68,0]
[null,503,"2006-11-07",44,25,40,17,24,29,0,0,0,0,0,0,0,"SIM",1125114.01,21,9,3,38,17,19,0,0,40,1984.65,1613,49.03,0]
[null,504,"2006-11-10",28,12,32,34,37,47,0,0,0,0,0,0,0,"SIM",1411912.25,30,28,2,20,26,27,0,0,11,8690.85,1052,90.53,0]
[null,505,"2006-11-14",30,13,24,10,33,45,0,0,0,0,0,0,0,"SIM",1547678.13,21,15,24,2,37,9,1,135765.88,34,2662.08,1480,60.93,0]
[null,506,"2006-11-17",15,10,23,21,45,9,0,0,0,0,0,0,0,"SIM",1816529.12,24,31,35,12,48,30,0,0,24,3734.04,1086,82.21,0]
[null,507,"2006-11-21",8,48,21,23,26,30,0,0,0,0,0,0,0,"SIM",2061983.12,2,20,50,21,43,36,0,0,13,6293.69,855,95.33,0]
[null,508,"2006-11-24",21,10,15,31,14,11,0,1,2211572.6,0,0,0,0,"NÃO",0,24,41,12,48,1,4,0,0,13,7671.26,1430,69.48,0]
[null,509,"2006-11-28",31,46,48,3,25,6,0,0,0,0,0,0,0,"SIM",341894.99,33,30,47,1,24,27,0,0,17,3770.69,845,75.58,0]
[null,510,"2006-12-01",39,18,31,27,12,38,0,0,0,0,0,0,0,"SIM",575629.43000000005,41,39,28,24,47,21,0,0,21,3710.07,950,81.709999999999994,0]
[null,511,"2006-12-05",23,22,34,18,10,4,0,0,0,0,0,0,0,"SIM",783649.59,27,49,30,22,10,36,0,0,10,6934.01,817,84.55,0]
[null,512,"2006-12-08",4,29,47,38,46,42,0,0,0,0,0,0,0,"SIM",1027976.93,31,48,33,36,27,17,0,0,16,5090.1499999999996,1201,67.56,0]
[null,513,"2006-12-12",8,25,29,4,2,15,0,0,0,0,0,0,0,"SIM",1275196.17,1,49,30,21,28,16,0,0,11,7491.5,751,109.32,0]
[null,514,"2006-12-15",29,23,5,37,39,47,0,0,0,0,0,0,0,"SIM",1550337.53,22,41,32,50,14,42,0,0,10,9171.3799999999992,961,95.08,0]
[null,515,"2006-12-19",49,12,9,33,30,18,0,0,0,0,0,0,0,"SIM",1799271.16,25,9,1,23,3,18,0,0,50,1659.56,1989,41.57,0]
[null,516,"2006-12-22",5,48,38,2,12,42,0,1,1950047.66,0,0,0,0,"NÃO",0,20,2,13,17,48,18,0,0,16,6282.36,1487,67.349999999999994,0]
[null,517,"2006-12-26",7,27,34,10,2,49,0,0,0,0,0,0,0,"SIM",309903.39,39,2,45,6,50,34,0,0,11,4822.0200000000004,698,75.709999999999994,0]
[null,518,"2006-12-29",4,7,11,48,37,9,0,0,0,0,0,0,0,"SIM",536065.31000000006,36,38,24,49,34,25,0,0,16,4711.7,860,87.33,0]
[null,519,"2007-01-02",12,24,2,3,25,49,0,0,0,0,0,0,0,"SIM",688466.43,8,46,49,30,35,17,0,0,10,5080.04,562,90.06,0]
[null,520,"2007-01-05",3,2,46,50,1,8,0,0,0,0,0,0,0,"SIM",806044.97,7,5,10,9,13,27,1,117578.55,62,1264.29,2579,30.28,0]
[null,521,"2007-01-09",41,5,39,13,24,30,0,0,0,0,0,0,0,"SIM",1050851.7,8,43,20,3,16,14,0,0,28,2914.36,1150,70.7,0]
[null,522,"2007-01-12",49,6,22,4,43,20,0,0,0,0,0,0,0,"SIM",1349725.41,37,46,7,40,49,29,0,0,22,4528.3900000000003,1043,95.16,0]
[null,523,"2007-01-16",18,32,31,4,19,5,0,0,0,0,0,0,0,"SIM",1617968.5,25,33,7,10,20,21,0,0,16,5588.4,1316,67.7,0]
[null,524,"2007-01-19",16,47,26,28,6,42,0,0,0,0,0,0,0,"SIM",1914779.87,34,23,21,32,17,31,0,0,23,4301.62,1066,92.46,0]
[null,525,"2007-01-23",19,5,20,27,25,6,0,0,0,0,0,0,0,"SIM",2186579.5099999998,7,21,40,3,18,1,0,0,37,2448.65,1574,57.35,0]
[null,526,"2007-01-26",14,44,7,12,32,15,0,0,0,0,0,0,0,"SIM",2490451.64,46,23,31,12,35,4,0,0,30,3376.36,1379,73.19,0]
[null,527,"2007-01-30",23,37,7,18,6,13,0,0,0,0,0,0,0,"SIM",2795591.31,25,29,12,23,5,28,0,0,33,3082.22,1953,51.89,0]
[null,528,"2007-02-02",46,50,2,38,12,16,0,0,0,0,0,0,0,"SIM",2980484.25,35,50,36,44,14,34,1,184892.94,21,5869.62,1368,89.76,0]
[null,529,"2007-02-06",25,42,44,32,35,19,0,0,0,0,0,0,0,"SIM",3314386.51,14,47,49,30,27,24,0,0,34,3273.55,1706,65,0]
[null,530,"2007-02-09",19,37,31,49,16,30,0,0,0,0,0,0,0,"SIM",3505160.95,29,18,39,1,13,11,1,190774.45,27,4710.4799999999996,1745,72.62,0]
[null,531,"2007-02-13",2,45,17,21,18,30,0,1,3677913.99,0,0,0,0,"NÃO",0,46,9,3,26,39,12,0,0,32,3599.02,1998,57.43,0]
[null,532,"2007-02-16",28,26,18,43,10,5,0,0,0,0,0,0,0,"SIM",410258.3,2,9,6,46,37,30,0,0,17,4656.96,1019,77.400000000000006,0]
[null,533,"2007-02-23",12,33,6,21,48,38,0,0,0,0,0,0,0,"SIM",664304.25,26,25,37,20,40,42,0,0,5,16936.400000000001,739,114.16,0]
[null,534,"2007-02-27",8,14,28,47,37,30,0,0,0,0,0,0,0,"SIM",880727.96,49,9,32,10,24,19,0,0,23,3136.58,1183,60.75,0]
[null,535,"2007-03-02",11,3,20,18,45,7,0,0,0,0,0,0,0,"SIM",1142484.72,47,29,46,4,20,17,0,0,21,4154.87,1154,75.33,0]
[null,536,"2007-03-06",11,50,22,24,28,23,0,0,0,0,0,0,0,"SIM",1265547.83,17,36,26,49,11,4,2,61531.56,29,2829.04,1177,69.44,0]
[null,537,"2007-03-09",22,30,29,44,46,12,0,0,0,0,0,0,0,"SIM",1579221.96,17,48,13,44,23,38,0,0,32,3267.44,2100,49.61,0]
[null,538,"2007-03-13",1,5,46,36,29,48,0,0,0,0,0,0,0,"SIM",1886652.86,25,1,9,16,24,3,0,0,28,3659.89,1930,52.9,0]
[null,539,"2007-03-16",30,34,13,4,42,36,0,0,0,0,0,0,0,"SIM",2218272.21,24,46,11,49,8,33,0,0,39,2834.35,1934,56.95,0]
[null,540,"2007-03-20",37,28,38,2,49,31,0,0,0,0,0,0,0,"SIM",2519672.5,44,4,38,2,5,15,0,0,16,6279.17,1382,72.430000000000007,0]
[null,541,"2007-03-23",33,12,21,5,16,28,0,0,0,0,0,0,0,"SIM",2895530.03,41,49,37,18,29,11,0,0,23,5447.21,1580,78.989999999999995,0]
[null,542,"2007-03-27",8,43,50,22,4,38,0,0,0,0,0,0,0,"SIM",3273290.71,46,21,11,22,37,31,0,0,17,7407.08,1369,91.64,0]
[null,543,"2007-03-30",11,25,21,35,38,37,0,0,0,0,0,0,0,"SIM",3476621.96,35,23,32,13,17,12,1,203331.25,49,2766.41,2734,49.4,0]
[null,544,"2007-04-03",43,21,26,13,11,32,0,0,0,0,0,0,0,"SIM",3657921.84,11,13,31,42,19,46,1,181299.89,39,3099.14,1952,61.69,0]
[null,545,"2007-04-07",21,30,17,45,12,25,0,0,0,0,0,0,0,"SIM",3915460.92,4,25,8,6,43,44,0,0,19,4518.2299999999996,1360,62.89,0]
[null,546,"2007-04-10",44,19,33,29,18,20,0,0,0,0,0,0,0,"SIM",4238191.42,42,4,48,43,37,27,0,0,34,3164.03,1605,66.78,0]
[null,547,"2007-04-13",17,46,26,30,20,6,0,0,0,0,0,0,0,"SIM",4666011.24,9,5,23,42,19,10,0,0,37,3854.23,2799,50.76,0]
[null,548,"2007-04-17",10,50,47,17,49,29,0,0,0,0,0,0,0,"SIM",5122252.72,2,17,11,18,47,40,0,0,35,4345.16,1961,77.260000000000005,0]
[null,549,"2007-04-20",38,1,40,7,32,41,0,0,0,0,0,0,0,"SIM",5649959.9100000001,32,43,5,30,24,47,0,0,47,3742.6,2437,71.91,0]
[null,550,"2007-04-24",50,39,9,7,29,34,0,0,0,0,0,0,0,"SIM",6048460.1100000003,47,43,32,31,42,6,0,0,29,4580.46,1667,79.39,0]
[null,551,"2007-04-27",49,50,37,36,11,42,0,1,6320890.0300000003,0,0,0,0,"NÃO",0,9,14,25,16,13,50,0,0,36,5045,2656,68.13,0]
[null,552,"2007-05-02",15,26,25,42,38,49,0,0,0,0,0,0,0,"SIM",428619.61,49,45,25,38,20,28,0,0,8,6507.9,494,104.99,0]
[null,553,"2007-05-04",41,43,18,9,13,26,0,0,0,0,0,0,0,"SIM",660616.73,17,35,36,20,13,44,0,0,20,3866.62,1270,60.66,0]
[null,554,"2007-05-08",16,28,45,2,40,8,0,0,0,0,0,0,0,"SIM",892565.03,27,45,18,21,46,48,0,0,7,11045.16,971,79.33,0]
[null,555,"2007-05-11",1,46,8,28,20,50,0,0,0,0,0,0,0,"SIM",1175048.17,10,32,42,12,41,39,0,0,11,8560.09,1020,91.96,0]
[null,556,"2007-05-15",16,6,7,44,45,34,0,0,0,0,0,0,0,"SIM",1433660.67,40,50,24,15,39,25,0,0,12,7183.68,822,104.48,0]
[null,557,"2007-05-18",45,36,39,12,20,10,0,0,0,0,0,0,0,"SIM",1731196.02,35,46,49,7,29,43,0,0,28,3542.09,1529,64.63,2000000]
[null,558,"2007-05-22",2,29,31,20,34,10,0,0,0,0,0,0,0,"SIM",2002995.1,6,37,39,43,10,36,0,0,15,6039.98,1027,87.89,2200000]
[null,559,"2007-05-25",33,28,30,9,11,20,0,0,0,0,0,0,0,"SIM",2315976.84,48,36,46,37,13,31,0,0,24,4346.97,1370,75.87,2500000]
[null,560,"2007-05-29",7,2,23,15,37,29,0,1,2461010.2200000002,0,0,0,0,"NÃO",0,38,19,7,11,12,3,0,0,36,2685.81,2061,46.74,250000]
[null,561,"2007-06-01",18,8,11,21,20,17,0,0,0,0,0,0,0,"SIM",374851.87,9,23,3,5,45,24,0,0,59,1298.4100000000001,1684,45.32,500000]
[null,562,"2007-06-05",37,31,13,10,18,32,0,0,0,0,0,0,0,"SIM",587438.76,44,32,8,19,20,28,0,0,13,5450.95,839,84.14,700000]
[null,563,"2007-06-08",47,39,40,34,4,22,0,0,0,0,0,0,0,"SIM",803344.99,35,28,36,8,32,33,0,0,21,3427.09,1002,71.55,1000000]
[null,564,"2007-06-12",47,25,2,36,41,45,0,0,0,0,0,0,0,"SIM",1040049.15,27,23,6,16,41,14,0,0,19,4152.71,1322,59.47,1200000]
[null,565,"2007-06-15",43,21,27,49,15,11,0,1,1185031.5900000001,0,0,0,0,"NÃO",0,42,39,26,40,7,28,0,0,21,4602.62,1126,85.52,250000]
[null,566,"2007-06-19",4,11,27,2,44,26,0,0,0,0,0,0,0,"SIM",348920.26,16,32,31,15,35,30,0,0,18,3776.63,652,103.87,500000]
[null,567,"2007-06-22",11,12,45,13,22,49,0,0,0,0,0,0,0,"SIM",590676.47999999998,35,12,38,21,22,32,0,0,16,5036.59,980,81.92,700000]
[null,568,"2007-06-26",48,11,40,9,34,27,0,1,697123.19,0,0,0,0,"NÃO",0,40,42,21,37,3,8,0,0,19,3734.97,947,74.66,200000]
[null,569,"2007-06-29",20,30,26,10,1,19,0,0,0,0,0,0,0,"SIM",318003.46000000002,30,20,44,40,46,50,0,0,22,3205.41,1079,65.12,400000]
[null,570,"2007-07-03",38,31,16,42,39,37,0,0,0,0,0,0,0,"SIM",420781.22,50,29,49,25,34,9,1,102777.76,21,3262.79,1140,59.89,500000]
[null,571,"2007-07-06",48,1,47,15,21,33,0,0,0,0,0,0,0,"SIM",657571.55000000005,49,42,26,33,20,22,0,0,12,6577.51,892,88.15,800000]
[null,572,"2007-07-10",35,2,33,15,37,1,0,0,0,0,0,0,0,"SIM",768121.86,17,38,48,32,25,33,1,110550.32,24,3070.84,1334,55.05,1000000]
[null,573,"2007-07-13",3,34,49,10,50,35,0,0,0,0,0,0,0,"SIM",1043779.58,17,18,22,45,3,7,0,0,29,3168.48,1739,52.64,1200000]
[null,574,"2007-07-17",49,30,26,15,46,34,0,0,0,0,0,0,0,"SIM",1275102.81,18,34,46,14,25,37,0,0,43,1793.2,1197,64.180000000000007,1500000]
[null,575,"2007-07-20",22,48,14,46,42,49,0,0,0,0,0,0,0,"SIM",1542319.45,13,20,27,43,16,15,0,0,16,5567.01,1207,73.52,1700000]
[null,576,"2007-07-24",7,26,39,24,4,17,0,0,0,0,0,0,0,"SIM",1783389.39,3,17,45,36,39,31,0,0,19,4229.3,1229,65.14,2000000]
[null,577,"2007-07-27",14,12,47,45,4,25,0,0,0,0,0,0,0,"SIM",2064076.05,41,11,14,44,28,46,0,0,24,3898.42,1430,65.19,2200000]
[null,578,"2007-07-31",48,28,32,27,5,3,0,0,0,0,0,0,0,"SIM",2354542.88,48,18,31,23,33,24,0,0,20,4841.1099999999997,1205,80.05,2500000]
[null,579,"2007-08-03",35,16,29,21,17,31,0,0,0,0,0,0,0,"SIM",2694478.15,26,19,5,21,30,4,0,0,22,5150.53,1729,65.3,2900000]
[null,580,"2007-08-07",23,43,46,8,21,29,0,1,2853253.32,0,0,0,0,"NÃO",0,22,43,6,50,16,39,0,0,13,8142.32,1152,91.55,250000]
[null,581,"2007-08-10",49,2,26,39,19,6,0,0,0,0,0,0,0,"SIM",401720.16,4,9,39,22,6,24,0,0,24,3374.24,1392,57.95,550000]
[null,582,"2007-08-14",20,8,43,24,49,41,0,0,0,0,0,0,0,"SIM",617961.4,6,24,32,31,28,33,0,0,9,8008.94,959,74.88,750000]
[null,583,"2007-08-17",36,13,14,8,3,32,0,0,0,0,0,0,0,"SIM",870483.02,34,14,7,41,49,44,0,0,16,5260.87,1267,66.180000000000007,1000000]
[null,584,"2007-08-21",38,12,50,23,32,46,0,0,0,0,0,0,0,"SIM",1106786.3700000001,31,12,38,1,15,3,0,0,18,4375.99,1034,75.900000000000006,1250000]
[null,585,"2007-08-24",7,3,49,44,25,2,0,0,0,0,0,0,0,"SIM",1376701.71,21,19,11,10,38,8,0,0,30,2999.06,1477,60.69,1500000]
[null,586,"2007-08-28",10,21,16,34,15,39,0,0,0,0,0,0,0,"SIM",1625593.93,44,46,6,49,23,17,0,0,35,2370.4,1375,60.12,1750000]
[null,587,"2007-08-31",21,3,15,19,10,49,0,0,0,0,0,0,0,"SIM",1916178.34,38,13,3,7,42,45,0,0,37,2617.88,2001,48.23,2000000]
[null,588,"2007-09-04",33,44,12,40,13,38,0,0,0,0,0,0,0,"SIM",2227456.59,36,12,19,43,35,24,0,0,45,2305.7600000000002,1972,52.43,2400000]
[null,589,"2007-09-08",25,41,46,5,35,8,0,0,0,0,0,0,0,"SIM",2469822.17,26,25,38,2,4,28,0,0,18,4488.25,1039,77.47,2600000]
[null,590,"2007-09-11",9,39,14,7,33,31,0,0,0,0,0,0,0,"SIM",2804370.58,31,44,35,32,1,3,0,0,24,4646.51,1267,87.69,3000000]
[null,591,"2007-09-14",35,4,30,6,33,21,0,0,0,0,0,0,0,"SIM",3241186.13,46,8,1,40,5,36,0,0,32,4550.17,1507,96.26,3500000]
[null,592,"2007-09-18",16,25,20,33,22,11,0,0,0,0,0,0,0,"SIM",3630897.5,26,11,29,39,43,33,0,0,24,5412.66,1511,85.65,3800000]
[null,593,"2007-09-21",16,17,33,9,46,26,0,0,0,0,0,0,0,"SIM",4058784.08,33,37,34,26,2,43,0,0,20,7131.44,1615,87.99,4300000]
[null,594,"2007-09-25",32,11,1,50,48,47,0,0,0,0,0,0,0,"SIM",4461812.74,14,19,21,35,41,49,0,0,46,2920.5,2282,58.65,4700000]
[null,595,"2007-09-28",22,47,4,35,33,7,0,0,0,0,0,0,0,"SIM",4992308.29,34,11,29,38,27,49,0,0,34,5200.93,2336,75.42,5300000]
[null,596,"2007-10-02",39,37,14,46,17,26,0,2,2642208.2000000002,0,0,0,0,"NÃO",0,7,28,13,20,3,32,0,0,48,4057.06,3131,61.97,400000]
[null,597,"2007-10-05",3,5,47,20,39,25,0,1,432137.62,0,0,0,0,"NÃO",0,17,42,22,37,35,46,0,0,27,3457.52,1360,68.38,250000]
[null,598,"2007-10-09",46,8,10,17,9,4,0,0,0,0,0,0,0,"SIM",368519.43,33,11,4,2,25,44,0,0,29,2626.32,1597,47.52,500000]
[null,599,"2007-10-13",36,9,5,25,2,24,0,0,0,0,0,0,0,"SIM",539427.26,40,30,46,2,15,4,0,0,13,4382.26,526,107.9,700000]
[null,600,"2007-10-16",27,44,43,38,26,34,0,0,0,0,0,0,0,"SIM",742469.33,45,44,41,42,29,5,0,0,14,4834.34,951,70.900000000000006,900000]
[null,601,"2007-10-19",39,8,17,18,46,13,0,0,0,0,0,0,0,"SIM",886396.75,47,22,29,38,27,19,1,143927.42000000001,17,5644.22,1347,70.97,1000000]
[null,602,"2007-10-23",19,11,35,28,48,16,0,0,0,0,0,0,0,"SIM",1144819.3700000001,31,10,36,38,39,42,0,0,14,6152.92,918,93.49,1300000]
[null,603,"2007-10-26",7,29,17,12,39,43,0,0,0,0,0,0,0,"SIM",1452006.04,40,38,46,43,27,6,0,0,18,5688.65,1175,86.82,1600000]
[null,604,"2007-10-30",2,9,6,48,13,26,0,0,0,0,0,0,0,"SIM",1721745.93,18,34,42,16,31,50,0,0,12,7492.78,932,96.11,1900000]
[null,605,"2007-11-03",28,1,20,30,48,42,0,0,0,0,0,0,0,"SIM",1956425.85,33,4,6,36,2,47,0,0,28,2793.81,1227,63.51,2100000]
[null,606,"2007-11-06",17,24,10,29,46,19,0,0,0,0,0,0,0,"SIM",2237744.06,34,35,29,8,37,47,0,0,21,4465.37,1281,72.930000000000007,2400000]
[null,607,"2007-11-09",47,6,20,11,16,46,0,0,0,0,0,0,0,"SIM",2601840.42,10,8,5,41,21,24,0,0,38,3193.83,1631,74.13,2900000]
[null,608,"2007-11-13",35,18,45,27,47,40,0,0,0,0,0,0,0,"SIM",2941215.13,19,16,35,29,45,47,0,0,26,4350.96,1680,67.09,3100000]
[null,609,"2007-11-16",12,19,39,6,44,16,0,0,0,0,0,0,0,"SIM",3103733.39,48,11,50,31,24,20,1,162518.26,17,6373.27,1254,86.08,3300000]
[null,610,"2007-11-21",36,2,23,46,38,7,0,0,0,0,0,0,0,"SIM",3409189.22,17,50,6,15,8,30,0,0,28,3636.38,1372,73.930000000000007,3600000]
[null,611,"2007-11-23",14,26,2,30,42,4,0,0,0,0,0,0,0,"SIM",3790461.53,22,31,42,12,25,13,0,0,29,4382.4399999999996,1905,66.459999999999994,4000000]
[null,612,"2007-11-27",34,21,26,22,38,14,0,0,0,0,0,0,0,"SIM",3975440.99,45,13,16,28,22,3,1,184979.47,61,2021.63,2367,51.91,4200000]
[null,613,"2007-11-30",13,31,17,25,47,44,0,0,0,0,0,0,0,"SIM",4382516.32,40,39,20,25,46,5,0,0,24,5653.83,1717,78.73,4600000]
[null,614,"2007-12-04",6,50,49,20,40,36,0,0,0,0,0,0,0,"SIM",4800964,24,40,35,8,37,33,0,0,25,5579.31,1752,79.319999999999993,5000000]
[null,615,"2007-12-07",3,15,48,23,25,41,0,0,0,0,0,0,0,"SIM",5382154.8600000003,50,34,25,7,36,6,0,0,33,5870.62,2329,82.88,5700000]
[null,616,"2007-12-11",7,23,48,16,33,46,0,0,0,0,0,0,0,"SIM",5682189.3600000003,28,32,39,1,34,27,1,300034.5,53,3774.02,2356,84.58,6000000]
[null,617,"2007-12-14",12,32,27,4,16,41,0,0,0,0,0,0,0,"SIM",6343065.8799999999,10,3,38,26,23,48,0,0,61,3611.35,3029,72.459999999999994,6700000]
[null,618,"2007-12-18",32,13,16,28,42,9,0,0,0,0,0,0,0,"SIM",7055361.1600000001,47,31,10,45,9,50,0,0,53,4479.84,3274,72.25,7500000]
[null,619,"2007-12-21",28,50,27,34,36,26,0,0,0,0,0,0,0,"SIM",7851681.2400000002,45,31,1,44,26,34,0,0,33,8043.64,2634,100.4,8300000]
[null,620,"2007-12-28",50,16,22,49,23,46,0,0,0,0,0,0,0,"SIM",8703934.2899999991,3,9,35,1,28,42,0,0,83,3422.7,4157,68.09,9200000]
[null,621,"2008-01-04",15,7,16,17,10,36,0,0,0,0,0,0,0,"SIM",9533637.6699999999,5,29,48,10,14,28,0,0,60,4609.46,3892,71.06,10000000]
[null,622,"2008-01-08",27,37,45,14,8,32,0,1,9977736.4199999999,0,0,0,0,"NÃO",0,4,26,1,43,45,22,0,0,84,3524.6,4173,70.95,550000]
[null,623,"2008-01-11",10,26,46,33,13,45,0,0,0,0,0,0,0,"SIM",760704.34,41,16,26,27,43,18,0,0,22,4797.0600000000004,1056,99.94,1000000]
[null,624,"2008-01-15",37,24,30,33,6,41,0,0,0,0,0,0,0,"SIM",1046666.93,10,38,19,50,49,20,0,0,43,2216.7600000000002,1422,67.040000000000006,1200000]
[null,625,"2008-01-18",3,42,21,38,22,43,0,0,0,0,0,0,0,"SIM",1214143.1200000001,34,18,40,37,5,1,1,167476.19,24,4652.12,1339,83.38,1400000]
[null,626,"2008-01-22",19,4,45,14,8,15,0,2,686145.53,0,0,0,0,"NÃO",0,21,11,44,19,5,42,0,0,53,1989.29,1898,55.55,300000]
[null,627,"2008-01-25",6,33,13,5,20,11,0,2,143392.1,0,0,0,0,"NÃO",0,34,27,44,38,18,2,1,128636.25,18,4764.3100000000004,997,86.01,120000]
[null,628,"2008-01-29",32,27,1,2,24,14,0,0,0,0,0,0,0,"SIM",213815.8,41,6,25,48,36,31,0,0,17,4192.47,809,88.1,350000]
[null,629,"2008-02-01",32,30,46,20,38,49,0,0,0,0,0,0,0,"SIM",476878.56,8,37,12,34,25,11,0,0,23,3812.51,1459,60.1,600000]
[null,630,"2008-02-08",27,16,19,1,4,42,0,0,0,0,0,0,0,"SIM",775768.91,10,35,32,4,37,25,0,0,14,7116.44,1251,79.64,900000]
[null,631,"2008-02-12",36,30,27,19,47,1,0,0,0,0,0,0,0,"SIM",1035881.34,25,1,30,29,38,7,0,0,13,6669.55,1002,86.53,1200000]
[null,632,"2008-02-15",5,7,9,40,21,38,0,0,0,0,0,0,0,"SIM",1357832.37,31,45,5,20,22,17,0,0,34,3156.38,1586,67.67,1500000]
[null,633,"2008-02-19",8,34,16,49,2,17,0,0,0,0,0,0,0,"SIM",1646851.41,8,31,15,34,16,50,0,0,22,4379.08,1337,72.06,1800000]
[null,634,"2008-02-22",31,48,29,47,42,33,0,0,0,0,0,0,0,"SIM",1974476.42,38,8,22,39,49,32,0,0,15,7280.56,1241,88,2200000]
[null,635,"2008-02-26",10,8,20,17,9,42,0,0,0,0,0,0,0,"SIM",2283383.2200000002,10,14,29,44,46,36,0,0,16,6435.56,1281,80.39,2500000]
[null,636,"2008-02-29",30,32,43,26,37,10,0,0,0,0,0,0,0,"SIM",2688672.79,41,47,18,42,45,39,0,0,17,7946.85,1809,74.680000000000007,2900000]
[null,637,"2008-03-04",9,14,31,39,43,7,0,0,0,0,0,0,0,"SIM",3066066.67,27,6,39,40,2,43,0,0,18,6988.78,1479,85.05,3300000]
[null,638,"2008-03-07",50,35,44,7,45,29,0,0,0,0,0,0,0,"SIM",3277217.52,10,46,9,21,22,30,1,211150.85,29,4854.04,1619,86.95,3500000]
[null,639,"2008-03-11",32,33,4,12,6,7,0,0,0,0,0,0,0,"SIM",3472955.54,7,45,1,35,15,3,1,195738.02,44,2965.73,2155,60.55,3700000]
[null,640,"2008-03-14",15,3,18,19,30,13,0,0,0,0,0,0,0,"SIM",3893596.64,46,44,42,28,22,23,0,0,70,2003.05,2340,59.92,4000000]
[null,641,"2008-03-18",36,31,32,21,40,38,0,0,0,0,0,0,0,"SIM",4300358.7699999996,8,12,28,43,32,11,0,0,36,3766.32,1947,69.64,4500000]
[null,642,"2008-03-25",38,36,3,13,10,7,0,0,0,0,0,0,0,"SIM",4832338.7300000004,32,27,45,37,25,15,0,0,62,2860.11,2871,61.77,5100000]
[null,643,"2008-03-28",29,41,7,9,14,16,0,0,0,0,0,0,0,"SIM",5369041.8200000003,19,46,49,23,5,6,0,0,70,2555.73,3614,49.5,5700000]
[null,644,"2008-04-01",23,49,35,4,13,11,0,4,1413914.33,0,0,0,0,"NÃO",0,30,48,22,24,20,44,0,0,43,4443.6499999999996,2396,79.75,400000]
[null,645,"2008-04-04",42,35,10,36,43,50,0,0,0,0,0,0,0,"SIM",569490.42000000004,3,38,33,42,12,44,0,0,25,3771.67,1473,64.010000000000005,700000]
[null,646,"2008-04-08",31,47,46,2,30,10,0,0,0,0,0,0,0,"SIM",831100.74,32,22,34,29,2,43,0,0,15,5813.56,944,92.38,1000000]
[null,647,"2008-04-11",18,32,49,20,35,1,0,0,0,0,0,0,0,"SIM",1137815.42,35,42,19,50,38,29,0,0,11,9294.39,1260,81.14,1300000]
[null,648,"2008-04-15",24,6,14,5,48,10,0,0,0,0,0,0,0,"SIM",1422193.4,49,39,37,2,46,25,0,0,29,3268.71,1323,71.650000000000006,1500000]
[null,649,"2008-04-18",40,1,10,14,27,11,0,0,0,0,0,0,0,"SIM",1742584.79,24,16,20,34,45,40,0,0,16,6674.82,974,109.65,1900000]
[null,650,"2008-04-22",7,20,12,43,16,40,0,0,0,0,0,0,0,"SIM",1988482.87,17,44,37,23,38,9,0,0,38,2157,1456,56.3,2150000]
[null,651,"2008-04-25",18,32,30,42,23,41,0,0,0,0,0,0,0,"SIM",2356365.04,7,47,5,35,17,32,0,0,63,1946.47,2346,52.27,2500000]
[null,652,"2008-04-29",48,4,26,33,17,42,0,1,2518710.34,0,0,0,0,"NÃO",0,31,23,5,42,36,26,0,0,21,5153.82,1436,75.37,300000]
[null,653,"2008-05-02",11,42,16,8,30,48,0,0,0,0,0,0,0,"SIM",376229.68,42,20,12,31,18,26,0,0,6,11882.47,863,82.61,500000]
[null,654,"2008-05-06",12,37,44,8,25,11,0,1,495720.26,0,0,0,0,"NÃO",0,35,23,34,44,7,47,0,0,23,3463.5,1261,63.17,240000]
[null,655,"2008-05-09",4,8,1,2,16,33,0,0,0,0,0,0,0,"SIM",366008.19,50,45,4,14,39,25,0,0,21,3912.98,1061,77.45,500000]
[null,656,"2008-05-13",6,43,28,34,15,47,0,1,480294.85,0,0,0,0,"NÃO",0,45,12,17,32,22,24,0,0,16,4761.9399999999996,1315,57.94,230000]
[null,657,"2008-05-16",9,39,50,21,34,20,0,0,0,0,0,0,0,"SIM",352611.68,10,18,48,44,8,42,0,0,18,4413.43,1212,65.55,500000]
[null,658,"2008-05-20",47,28,32,50,30,15,0,0,0,0,0,0,0,"SIM",467534.79,39,25,48,9,43,13,2,57461.56,29,2641.91,1627,47.09,600000]
[null,659,"2008-05-23",44,43,14,25,20,36,0,0,0,0,0,0,0,"SIM",685195.91,38,18,23,45,50,36,0,0,17,4267.87,1022,70.989999999999995,800000]
[null,660,"2008-05-27",13,3,25,47,41,33,0,0,0,0,0,0,0,"SIM",916293.21,4,28,43,2,3,22,0,0,14,5502.32,1020,75.52,1100000]
[null,661,"2008-05-30",24,4,46,17,7,19,0,0,0,0,0,0,0,"SIM",1200163.8700000001,48,6,30,15,1,7,0,0,22,4301.07,1390,68.069999999999993,1400000]
[null,662,"2008-06-03",33,48,28,14,27,2,0,0,0,0,0,0,0,"SIM",1506107.59,49,47,46,27,38,6,0,0,20,5099.0600000000004,1396,73.06,1700000]
[null,663,"2008-06-06",21,45,31,4,37,44,0,0,0,0,0,0,0,"SIM",1685351.05,50,34,41,7,28,13,1,179243.46,58,2060.27,2147,55.66,1900000]
[null,664,"2008-06-10",27,1,42,23,38,2,0,0,0,0,0,0,0,"SIM",2018260.13,37,6,33,9,34,17,0,0,38,2920.26,1598,69.44,2200000]
[null,665,"2008-06-13",1,9,14,29,23,27,0,0,0,0,0,0,0,"SIM",2430981.52,30,3,24,7,18,42,0,0,62,2218.9299999999998,2451,56.13,2600000]
[null,666,"2008-06-17",4,47,29,13,28,10,0,0,0,0,0,0,0,"SIM",2812244.76,31,38,45,13,36,2,0,0,44,2888.36,1897,66.989999999999995,3000000]
[null,667,"2008-06-20",25,24,14,38,34,36,0,0,0,0,0,0,0,"SIM",3218241.32,4,50,32,8,33,34,0,0,29,4666.63,1720,78.680000000000007,3500000]
[null,668,"2008-06-24",35,1,19,28,26,7,0,0,0,0,0,0,0,"SIM",3583869.78,6,50,35,41,44,13,0,0,35,3482.18,1857,65.63,3800000]
[null,669,"2008-06-27",16,42,30,43,33,23,0,1,3803972.63,0,0,0,0,"NÃO",0,34,37,47,36,22,2,0,0,22,6669.79,1877,78.17,350000]
[null,670,"2008-07-01",29,44,43,7,10,32,0,0,0,0,0,0,0,"SIM",463734.67,16,19,12,23,9,1,0,0,27,3007.8,1673,48.54,600000]
[null,671,"2008-07-04",39,32,14,34,46,1,0,0,0,0,0,0,0,"SIM",765929.57,6,37,1,40,21,25,0,0,22,4578.71,1045,96.39,900000]
[null,672,"2008-07-08",10,15,39,41,19,32,0,0,0,0,0,0,0,"SIM",1038698.36,42,39,21,35,29,9,0,0,19,4785.42,1067,85.22,1200000]
[null,673,"2008-07-11",47,6,33,32,43,16,0,0,0,0,0,0,0,"SIM",1359279.44,37,50,13,12,43,16,0,0,23,4646.1000000000004,1472,72.59,1500000]
[null,674,"2008-07-15",21,5,7,34,45,39,0,0,0,0,0,0,0,"SIM",1661973.7,35,36,3,2,8,49,0,0,17,5935.19,1540,65.52,1800000]
[null,675,"2008-07-18",37,6,25,34,17,30,0,0,0,0,0,0,0,"SIM",2000740.9,16,44,19,17,15,2,0,0,15,7528.16,1721,65.62,2200000]
[null,676,"2008-07-22",17,39,33,34,45,43,0,0,0,0,0,0,0,"SIM",2324746.88,22,23,34,7,37,49,0,0,51,2117.69,1932,55.9,2500000]
[null,677,"2008-07-25",45,41,3,15,20,9,0,0,0,0,0,0,0,"SIM",2682895.27,31,12,42,17,45,6,0,0,21,5684.89,1465,81.489999999999995,2900000]
[null,678,"2008-07-29",26,46,1,36,28,4,0,0,0,0,0,0,0,"SIM",3083101.55,7,30,42,18,2,4,0,0,21,6352.48,1962,68,3300000]
[null,679,"2008-08-01",18,49,5,44,21,10,0,1,3322757.63,0,0,0,0,"NÃO",0,22,24,5,46,10,13,0,0,38,4204.49,2955,54.07,350000]
[null,680,"2008-08-05",36,19,1,39,45,34,0,0,0,0,0,0,0,"SIM",499413.54,32,40,37,10,30,50,0,0,21,4123.1400000000003,1352,64.040000000000006,600000]
[null,681,"2008-08-08",7,23,2,35,36,32,0,0,0,0,0,0,0,"SIM",808419.99,32,22,7,45,18,1,0,0,18,5722.34,1228,83.88,1000000]
[null,682,"2008-08-12",27,50,36,41,33,28,0,0,0,0,0,0,0,"SIM",1083451.33,11,22,7,13,48,36,0,0,45,2037.27,1877,48.84,1300000]
[null,683,"2008-08-15",42,12,47,3,50,19,0,0,0,0,0,0,0,"SIM",1385409.03,32,8,19,44,10,48,0,0,34,2960.37,1513,66.53,1500000]
[null,684,"2008-08-19",20,38,6,12,48,2,0,0,0,0,0,0,0,"SIM",1685779.35,29,40,19,50,11,34,0,0,14,7151.67,1018,98.35,1800000]
[null,685,"2008-08-22",10,36,35,3,6,22,0,0,0,0,0,0,0,"SIM",2033238.7,11,6,39,36,23,49,0,0,40,2895.5,1589,72.89,2300000]
[null,686,"2008-08-26",46,38,21,16,5,27,0,0,0,0,0,0,0,"SIM",2191609.4500000002,1,7,26,16,2,12,1,158370.75,47,2246.4,1823,57.92,2400000]
[null,687,"2008-08-29",6,45,12,7,34,21,0,0,0,0,0,0,0,"SIM",2549402.14,40,5,10,4,9,17,0,0,21,5679.25,1857,64.22,2700000]
[null,688,"2008-09-02",12,48,33,32,22,3,0,0,0,0,0,0,0,"SIM",2897379.53,6,32,3,11,25,1,0,0,35,3314.07,2026,57.25,3100000]
[null,689,"2008-09-05",41,6,38,37,19,42,0,0,0,0,0,0,0,"SIM",3289002.19,10,17,31,9,50,33,0,0,39,3347.2,1910,68.349999999999994,3500000]
[null,690,"2008-09-09",26,34,50,8,44,35,0,0,0,0,0,0,0,"SIM",3684957.32,41,17,23,37,9,16,0,0,67,1969.93,2071,63.73,3900000]
[null,691,"2008-09-12",38,46,24,19,29,47,0,0,0,0,0,0,0,"SIM",4194186.44,29,13,50,42,11,21,0,0,40,4243.58,2230,76.12,4500000]
[null,692,"2008-09-16",37,40,30,31,8,2,0,0,0,0,0,0,0,"SIM",4663157.5,27,35,13,29,14,30,0,0,45,3473.86,2160,72.37,5000000]
[null,693,"2008-09-19",24,28,32,4,10,29,0,0,0,0,0,0,0,"SIM",5250132.54,18,32,5,20,3,40,0,0,39,5016.88,2286,85.59,5500000]
[null,694,"2008-09-23",28,15,29,9,27,1,0,0,0,0,0,0,0,"SIM",5848197.0700000003,22,19,6,36,50,39,0,0,54,3691.76,2946,67.67,6200000]
[null,695,"2008-09-26",1,17,10,18,37,8,0,0,0,0,0,0,0,"SIM",6562623.0899999999,30,23,25,48,37,3,0,0,61,3903.97,3867,61.58,7000000]
[null,696,"2008-09-30",20,26,37,43,9,3,0,0,0,0,0,0,0,"SIM",7271184.3200000003,50,5,44,17,49,20,0,0,93,2539.65,3574,66.08,7500000]
[null,697,"2008-10-03",12,29,24,20,3,18,0,0,0,0,0,0,0,"SIM",8044994.8399999999,38,5,30,35,12,20,0,0,61,4228.47,3057,84.38,8500000]
[null,698,"2008-10-07",46,15,7,2,49,27,0,1,8417995.8000000007,0,0,0,0,"NÃO",0,17,22,40,11,19,6,0,0,62,4010.77,3864,64.36,500000]
[null,699,"2008-10-10",9,41,2,18,31,13,0,0,0,0,0,0,0,"SIM",685849.41,40,5,47,6,27,33,0,0,20,5214.1400000000003,1392,74.92,900000]
[null,700,"2008-10-14",5,39,18,41,24,47,0,1,826189.97,0,0,0,0,"NÃO",0,3,31,47,36,1,27,0,0,12,7796.7,1092,85.68,300000]
[null,701,"2008-10-17",3,12,16,33,46,10,0,0,0,0,0,0,0,"SIM",284221.57,44,6,2,5,18,13,1,143881.01,33,2906.69,1948,49.24,400000]
[null,702,"2008-10-21",29,31,7,18,16,44,0,0,0,0,0,0,0,"SIM",530769.89,9,10,4,36,13,24,0,0,23,3573.17,1573,52.25,700000]
[null,703,"2008-10-24",6,10,2,42,44,12,0,0,0,0,0,0,0,"SIM",819075.84,48,50,40,11,3,45,0,0,16,6006.38,1124,85.5,1000000]
[null,704,"2008-10-28",45,3,30,8,50,49,0,0,0,0,0,0,0,"SIM",1110138.1599999999,42,41,8,44,28,7,0,0,25,3880.83,1248,77.739999999999995,1300000]
[null,705,"2008-10-31",30,7,32,5,31,3,0,0,0,0,0,0,0,"SIM",1456767.21,5,38,27,11,15,48,0,0,39,2962.64,1775,65.099999999999994,1700000]
[null,706,"2008-11-04",17,3,34,6,7,44,0,0,0,0,0,0,0,"SIM",1786421.84,2,3,29,19,42,11,0,0,37,2969.86,1814,60.58,2000000]
[null,707,"2008-11-07",16,36,15,39,1,5,0,0,0,0,0,0,0,"SIM",2169064.67,36,4,41,2,37,9,0,0,40,3188.69,1787,71.38,2400000]
[null,708,"2008-11-11",25,33,20,34,27,16,0,0,0,0,0,0,0,"SIM",2348626.59,11,2,8,19,44,9,1,179561.92,64,1870.44,2956,40.5,2600000]
[null,709,"2008-11-14",17,12,36,25,3,34,0,0,0,0,0,0,0,"SIM",2773853.84,42,45,14,15,49,50,0,0,15,9449.49,2145,66.08,3000000]
[null,710,"2008-11-18",36,3,32,40,25,18,0,0,0,0,0,0,0,"SIM",3161752.82,30,45,32,16,25,5,0,0,44,2938.63,1830,70.66,3400000]
[null,711,"2008-11-21",48,1,33,47,29,15,0,0,0,0,0,0,0,"SIM",3621171.85,4,8,5,15,50,40,0,0,60,2552.33,2209,69.33,3800000]
[null,712,"2008-11-25",30,39,21,11,13,36,0,0,0,0,0,0,0,"SIM",3838643.95,39,44,6,17,3,11,1,217472.11,55,2636.03,2883,50.29,4100000]
[null,713,"2008-11-28",26,35,14,11,22,6,0,0,0,0,0,0,0,"SIM",4315590.93,16,13,26,9,34,1,0,0,43,3697.26,2357,67.45,4500000]
[null,714,"2008-12-02",1,28,40,20,45,34,0,0,0,0,0,0,0,"SIM",4798562.6100000003,36,42,6,37,48,1,0,0,20,8049.53,1888,85.27,5000000]
[null,715,"2008-12-05",32,5,30,14,41,21,0,0,0,0,0,0,0,"SIM",5342421.51,14,36,47,24,2,18,0,0,64,2832.6,3100,58.48,5700000]
[null,716,"2008-12-09",31,32,19,18,11,14,0,1,5594052.5700000003,0,0,0,0,"NÃO",0,21,33,39,14,50,1,0,0,27,6213.11,1725,97.25,400000]
[null,717,"2008-12-12",5,41,45,13,21,37,0,0,0,0,0,0,0,"SIM",413536.25,33,16,6,49,24,8,2,80952.600000000006,37,2917.21,1763,61.23,600000]
[null,718,"2008-12-16",46,43,47,27,30,2,0,0,0,0,0,0,0,"SIM",694601.73,13,27,43,29,23,44,0,0,19,4930.97,1468,63.82,900000]
[null,719,"2008-12-19",50,23,24,25,6,26,0,1,868900.47,0,0,0,0,"NÃO",0,27,31,25,35,28,45,0,0,21,5533.29,1212,95.88,300000]
[null,720,"2008-12-23",13,18,5,8,36,33,0,1,309521.71999999997,0,0,0,0,"NÃO",0,3,23,46,6,39,8,0,0,26,3467.26,1473,61.2,250000]
[null,721,"2008-12-26",9,16,34,20,4,25,0,0,0,0,0,0,0,"SIM",358923.59,16,15,38,6,7,44,0,0,6,12427.81,973,76.64,500000]
[null,722,"2008-12-30",24,32,25,39,27,6,0,3,166494.32,0,0,0,0,"NÃO",0,50,4,33,5,23,30,0,0,21,4462.2,1259,74.430000000000007,250000]
[null,723,"2009-01-02",50,28,8,31,11,3,0,0,0,0,0,0,0,"SIM",350056.73,41,13,20,21,28,15,0,0,18,3879.58,741,94.24,500000]
[null,724,"2009-01-06",44,26,9,6,14,3,0,0,0,0,0,0,0,"SIM",618687.89,25,20,38,21,27,39,0,0,21,4263.9799999999996,834,107.37,800000]
[null,725,"2009-01-09",28,10,40,19,50,18,0,0,0,0,0,0,0,"SIM",940016.25,6,29,42,44,19,45,0,0,20,5355.47,1485,72.13,1100000]
[null,726,"2009-01-13",24,39,17,42,45,44,0,0,0,0,0,0,0,"SIM",1084531.03,10,36,50,12,49,25,1,144514.79,34,2833.63,1657,58.15,1300000]
[null,727,"2009-01-16",40,20,9,2,24,47,0,0,0,0,0,0,0,"SIM",1410420.95,48,45,32,49,17,20,0,0,17,6390,1365,79.58,1600000]
[null,728,"2009-01-20",12,2,1,6,44,42,0,0,0,0,0,0,0,"SIM",1703318.57,27,39,25,11,18,2,0,0,43,2270.52,1541,63.35,1900000]
[null,729,"2009-01-23",4,30,3,1,16,6,0,0,0,0,0,0,0,"SIM",2087920.94,43,20,4,39,41,9,0,0,13,9861.6,1377,93.1,2200000]
[null,730,"2009-01-27",48,31,4,3,33,44,0,0,0,0,0,0,0,"SIM",2440215.66,2,17,46,30,31,43,0,0,21,5591.98,1407,83.47,2700000]
[null,731,"2009-01-30",27,46,44,17,11,35,0,0,0,0,0,0,0,"SIM",2843155.02,4,46,21,9,20,10,0,0,42,3197.93,2002,67.09,3000000]
[null,732,"2009-02-03",40,13,44,33,32,50,0,0,0,0,0,0,0,"SIM",3230874.28,1,19,27,50,47,37,0,0,32,4038.75,1946,66.41,3500000]
[null,733,"2009-02-06",4,12,18,50,27,23,0,1,3456267.02,0,0,0,0,"NÃO",0,40,49,30,28,4,43,0,0,13,11558.6,1481,101.46,350000]
[null,734,"2009-02-10",49,21,19,8,15,4,0,0,0,0,0,0,0,"SIM",484756.4,45,1,11,24,31,8,0,0,19,4550.24,1110,77.89,700000]
[null,735,"2009-02-13",39,7,49,10,36,29,0,1,644087.31000000006,0,0,0,0,"NÃO",0,49,48,44,5,35,43,0,0,22,4828.21,1337,79.45,250000]
[null,736,"2009-02-17",40,47,41,20,18,23,0,0,0,0,0,0,0,"SIM",390332.26,25,17,15,2,29,42,0,0,24,3208.36,1189,64.760000000000005,550000]
[null,737,"2009-02-20",11,50,22,14,39,27,0,1,531459.86,0,0,0,0,"NÃO",0,44,48,33,3,41,49,0,0,31,3035,1738,54.14,250000]
[null,738,"2009-02-27",21,6,3,7,13,35,0,0,0,0,0,0,0,"SIM",432031.12,20,37,50,41,21,31,0,0,9,10774.21,939,103.27,600000]
[null,739,"2009-03-03",10,35,8,9,17,39,0,1,559352.86,0,0,0,0,"NÃO",0,10,28,12,31,8,4,2,63660.87,40,2122.0300000000002,1686,50.35,120000]
[null,740,"2009-03-06",50,20,7,42,45,22,0,0,0,0,0,0,0,"SIM",253644.01,29,14,5,44,26,36,0,0,27,3131.41,1365,61.94,400000]
[null,741,"2009-03-10",45,39,18,13,33,20,0,0,0,0,0,0,0,"SIM",488447.43,22,39,29,33,18,8,0,0,13,6020.6,827,94.64,600000]
[null,742,"2009-03-13",11,16,25,50,18,47,0,0,0,0,0,0,0,"SIM",791263.53,40,45,4,21,25,37,0,0,14,7209.91,1245,81.08,1000000]
[null,743,"2009-03-17",5,30,34,19,12,47,0,0,0,0,0,0,0,"SIM",1071925.78,50,11,35,45,31,1,0,0,14,6682.44,1243,75.27,1200000]
[null,744,"2009-03-20",50,22,20,17,23,34,0,1,1235087.42,0,0,0,0,"NÃO",0,6,18,2,37,30,40,1,163161.64000000001,25,4350.9799999999996,1166,93.29,120000]
[null,745,"2009-03-24",35,19,6,40,1,25,0,0,0,0,0,0,0,"SIM",225370.63,2,10,6,23,22,29,0,0,23,3266.24,1271,59.11,400000]
[null,746,"2009-03-27",42,22,5,21,45,28,0,0,0,0,0,0,0,"SIM",490930.75,37,17,44,47,1,8,0,0,18,4917.78,1157,76.510000000000005,600000]
[null,747,"2009-03-31",50,2,17,14,24,40,0,0,0,0,0,0,0,"SIM",739265.57,8,26,50,24,10,45,0,0,33,2508.4299999999998,1492,55.48,900000]
[null,748,"2009-04-03",6,21,14,46,42,40,0,0,0,0,0,0,0,"SIM",1048239.11,3,23,29,9,32,50,0,0,32,3218.48,1666,61.82,1200000]
[null,749,"2009-04-07",9,46,22,50,8,40,0,0,0,0,0,0,0,"SIM",1342460.49,33,10,21,17,14,43,0,0,22,4457.8999999999996,1259,77.900000000000006,1500000]
[null,750,"2009-04-15",44,35,31,17,10,40,0,0,0,0,0,0,0,"SIM",1699019.84,1,14,22,46,9,47,0,0,21,5659.67,1669,71.22,1900000]
[null,751,"2009-04-17",24,33,21,26,49,39,0,0,0,0,0,0,0,"SIM",1862336.23,44,24,26,9,49,42,1,163316.39000000001,53,2054.29,2051,53.09,2000000]
[null,752,"2009-04-22",6,20,25,36,11,3,0,0,0,0,0,0,0,"SIM",2051803.27,41,8,24,31,37,45,0,0,12,5262.98,826,109.22,2200000]
[null,753,"2009-04-24",29,7,50,27,20,12,0,1,2207529.29,0,0,0,0,"NÃO",0,8,10,35,42,37,25,0,0,18,5767.63,1473,100.68,300000]
[null,754,"2009-04-28",40,28,41,35,38,10,0,0,0,0,0,0,0,"SIM",378107.14,50,45,48,13,16,19,0,0,28,2647.4,1358,77.97,500000]
[null,755,"2009-05-02",39,33,7,45,28,34,0,1,455433.62,0,0,0,0,"NÃO",0,27,10,48,2,47,50,0,0,11,4686.46,877,83.97,200000]
[null,756,"2009-05-05",33,10,29,13,14,32,0,0,0,0,0,0,0,"SIM",278120.78000000003,15,43,50,37,34,36,0,0,16,4183.22,875,109.27,400000]
[null,757,"2009-05-08",35,14,19,22,49,6,0,0,0,0,0,0,0,"SIM",548606.86,39,43,44,26,40,46,0,0,12,7513.5,1033,124.68,700000]
[null,758,"2009-05-12",11,45,4,19,34,24,0,0,0,0,0,0,0,"SIM",795574.48,20,31,11,9,35,41,0,0,12,6860.21,890,132.13,1000000]
[null,759,"2009-05-15",1,20,31,10,29,6,0,0,0,0,0,0,0,"SIM",1093129.44,26,22,12,9,16,5,0,0,42,2361.5500000000002,1661,85.3,1300000]
[null,760,"2009-05-19",25,48,36,15,21,9,0,0,0,0,0,0,0,"SIM",1371475.52,32,7,33,45,27,5,0,0,36,2577.2800000000002,1801,73.59,1500000]
[null,761,"2009-05-22",18,21,12,8,20,28,0,0,0,0,0,0,0,"SIM",1688840.04,4,24,11,35,39,2,0,0,25,4231.53,1389,108.8,1900000]
[null,762,"2009-05-26",12,11,28,35,34,45,1561995,1,1833231.14,0,0,0,0,"NÃO",144391.1,23,45,22,50,49,13,0,0,14,6875.77,1578,87.14,300000]
[null,763,"2009-05-29",40,49,33,50,31,41,1437361,1,277261.01,0,0,0,0,"NÃO",132869.91,12,50,41,31,45,23,0,0,15,5905.33,1159,109.18,250000]
[null,764,"2009-06-02",25,41,32,46,50,4,1200188,0,0,0,0,0,0,"SIM",354761.09,27,47,35,31,19,21,0,0,16,4622.7299999999996,937,112.76,500000]
[null,765,"2009-06-05",20,11,4,24,7,42,1436677,0,0,0,0,0,0,"SIM",620374.44999999995,31,49,2,4,44,5,0,0,14,6324.13,1250,101.18,800000]
[null,766,"2009-06-09",39,17,9,50,38,41,1392582,0,0,0,0,0,0,"SIM",877835.5,30,45,50,6,2,3,0,0,35,2452.0100000000002,1623,75.53,1000000]
[null,767,"2009-06-12",8,23,9,28,13,17,1408096,0,0,0,0,0,0,"SIM",1138164.79,34,29,42,28,32,49,0,0,14,6198.32,1005,123.34,1300000]
[null,768,"2009-06-16",6,2,21,5,25,1,1521015,0,0,0,0,0,0,"SIM",1278767.69,39,48,17,5,29,14,1,140602.91,17,5513.84,1378,97.17,1500000]
[null,769,"2009-06-19",35,38,7,45,15,30,1696191,0,0,0,0,0,0,"SIM",1592360.09,3,49,43,16,50,13,0,0,31,3371.96,1785,83.65,1800000]
[null,770,"2009-06-23",20,33,24,50,1,34,1578991,2,869161.15,0,0,0,0,"NÃO",145962.22,17,18,41,4,43,49,0,0,29,3355.45,1239,112.19,300000]
[null,771,"2009-06-26",18,32,29,7,4,24,1393350,1,274763.75,0,0,0,0,"NÃO",128801.53,19,42,23,8,43,25,0,0,18,4770.43,1287,95.31,260000]
[null,772,"2009-06-30",13,4,42,30,32,21,1287414,0,0,0,0,0,0,"SIM",366819.09,24,19,40,9,1,25,0,0,17,4667.01,1151,98.47,500000]
[null,773,"2009-07-03",9,33,17,20,18,6,1614730,1,516085.02,0,0,0,0,"NÃO",149265.94,5,47,9,1,7,42,0,0,23,4326.55,2193,64.819999999999993,250000]
[null,774,"2009-07-07",5,48,7,25,45,12,1297758,0,0,0,0,0,0,"SIM",389195.9,25,7,8,30,45,19,0,0,31,2579.9,1388,82.31,500000]
[null,775,"2009-07-10",47,38,16,7,37,35,1494426,0,0,0,0,0,0,"SIM",665485.91,7,5,13,32,17,47,0,0,62,1485.43,2532,51.96,800000]
[null,776,"2009-07-14",37,39,4,36,49,40,1354867,0,0,0,0,0,0,"SIM",915974.2,29,1,36,40,4,16,0,0,14,5964.01,903,132.09,1100000]
[null,777,"2009-07-17",36,1,6,23,48,22,1623668,0,0,0,0,0,0,"SIM",1216158.54,32,43,2,18,7,28,0,0,14,7147.25,1294,110.46,1400000]
[null,778,"2009-07-21",29,6,14,34,38,32,1541708,0,0,0,0,0,0,"SIM",1501190.07,8,13,16,26,24,37,0,0,21,4524.3100000000004,1663,81.61,1700000]
[null,779,"2009-07-24",23,13,34,46,36,45,1737757,0,0,0,0,0,0,"SIM",1822467.22,42,23,21,7,37,20,0,0,30,3569.75,1598,95.73,2000000]
[null,780,"2009-07-28",21,50,24,29,33,39,1722344,0,0,0,0,0,0,"SIM",2140894.7999999998,34,29,35,20,42,36,0,0,15,7076.17,1100,137.84,2300000]
[null,781,"2009-07-31",50,2,17,41,40,20,2054938,0,0,0,0,0,0,"SIM",2520812.4900000002,16,18,50,45,21,48,0,0,31,4085.13,1820,99.4,2800000]
[null,782,"2009-08-04",37,32,11,47,34,22,1964141,0,0,0,0,0,0,"SIM",2883943.61,6,37,35,29,43,44,0,0,28,4322.99,1529,113.09,3000000]
[null,783,"2009-08-07",41,7,25,3,50,1,2568537,0,0,0,0,0,0,"SIM",3358815.68,21,29,50,40,5,1,0,0,46,3441.11,2267,99.74,3600000]
[null,784,"2009-08-11",23,45,18,8,28,38,2598712,1,3599041.09,0,0,0,0,"NÃO",240225.42,1,43,45,5,37,30,0,0,34,4710.3,1786,128.09,350000]
[null,785,"2009-08-14",20,1,40,24,17,41,1680313,0,0,0,0,0,0,"SIM",550882.29,36,7,2,3,20,19,0,0,46,2251.13,1883,78.56,700000]
[null,786,"2009-08-18",14,19,4,50,44,32,1512622,0,0,0,0,0,0,"SIM",690709.35,1,39,2,10,8,16,1,139827.06,31,3007.04,1624,82,850000]
[null,787,"2009-08-21",40,5,23,11,1,19,1799460,0,0,0,0,0,0,"SIM",1023394.16,40,4,50,48,32,25,0,0,24,4620.62,1583,100.07,1200000]
[null,788,"2009-08-25",21,37,32,25,46,13,1631831,0,0,0,0,0,0,"SIM",1325087.6599999999,7,43,4,20,24,41,0,0,23,4372.37,1564,91.85,1500000]
[null,789,"2009-08-28",34,32,43,47,5,50,1996627,0,0,0,0,0,0,"SIM",1694224.8,37,18,40,5,14,15,0,0,17,7237.98,1504,116.87,1800000]
[null,790,"2009-09-01",12,31,24,14,39,49,1834635,0,0,0,0,0,0,"SIM",2033412.78,35,40,23,46,49,28,0,0,25,4522.51,1403,115.12,2200000]
[null,791,"2009-09-04",24,6,14,29,21,4,2266860,0,0,0,0,0,0,"SIM",2452510.69,42,35,43,24,3,32,0,0,17,8217.61,1762,113.26,2600000]
[null,792,"2009-09-08",35,18,50,42,8,5,1535586,0,0,0,0,0,0,"SIM",2736410.37,18,47,20,30,29,15,0,0,7,13519.03,936,144.43,3000000]
[null,793,"2009-09-11",2,33,14,41,8,7,2400421,0,0,0,0,0,0,"SIM",3180201.09,3,38,18,39,43,30,0,0,43,3440.24,1700,124.31,3500000]
[null,794,"2009-09-15",38,11,35,6,47,18,2156369,1,3379536.24,0,0,0,0,"NÃO",199335.15,48,10,46,16,45,34,0,0,35,3796.86,1772,107.13,300000]
[null,795,"2009-09-18",43,20,40,30,33,17,1566084,0,0,0,0,0,0,"SIM",488873.33,24,29,9,23,7,11,0,0,28,3446.88,1924,71.66,700000]
[null,796,"2009-09-22",11,36,49,37,29,1,1501042,0,0,0,0,0,0,"SIM",766386.51,8,4,35,45,17,37,0,0,28,3303.73,1367,96.67,900000]
[null,797,"2009-09-25",19,49,50,8,16,29,1754383,0,0,0,0,0,0,"SIM",1090737.47,9,39,24,48,36,28,0,0,31,3487.64,1662,92.93,1300000]
[null,798,"2009-09-29",49,25,29,45,22,2,1564325,0,0,0,0,0,0,"SIM",1379950.44,20,41,39,1,37,47,0,0,7,13772.05,853,161.44999999999999,1500000]
[null,799,"2009-10-02",11,17,47,38,42,49,1996609,0,0,0,0,0,0,"SIM",1564517.34,35,13,15,18,21,42,3,61522.3,93,1323.06,2336,75.239999999999995,1800000]
[null,800,"2009-10-06",5,37,7,39,40,30,1704110,0,0,0,0,0,0,"SIM",1879573.81,47,50,38,7,25,22,0,0,45,2333.7600000000002,1692,88.66,2000000]
[null,801,"2009-10-09",48,5,43,35,39,17,1845630,0,0,0,0,0,0,"SIM",2220794.5499999998,4,12,33,14,22,8,0,0,43,2645.12,1814,89.57,2400000]
[null,802,"2009-10-13",48,6,10,35,44,37,1433993,0,0,0,0,0,0,"SIM",2485911.6800000002,17,18,5,3,48,31,0,0,29,3047.32,1389,90.89,2700000]
[null,803,"2009-10-16",31,32,20,12,5,37,1979367,0,0,0,0,0,0,"SIM",2851857.78,30,9,40,5,8,31,0,0,20,6099.1,1528,114.04,3000000]
[null,804,"2009-10-20",44,35,23,38,22,16,1896191,0,0,0,0,0,0,"SIM",3202426.27,9,43,32,19,33,2,0,0,25,4674.25,1565,106.66,3400000]
[null,805,"2009-10-23",9,3,16,19,14,42,2041661,0,0,0,0,0,0,"SIM",3579889.3,42,22,1,35,5,3,0,0,28,4493.6099999999997,1929,93.18,3800000]
[null,806,"2009-10-27",30,20,33,16,8,11,1893785,1,3754951.13,0,0,0,0,"NÃO",175061.84,9,49,12,8,5,36,0,0,58,2012.2,2321,71.83,300000]
[null,807,"2009-10-30",37,29,11,36,13,6,1348161,1,299686.08,0,0,0,0,"NÃO",124624.25,5,39,17,20,2,47,0,0,30,2769.43,1331,89.17,200000]
[null,808,"2009-11-03",8,27,15,9,12,50,973431,0,0,0,0,0,0,"SIM",304592.52,5,47,16,29,8,36,0,0,20,2999.47,1101,77.83,450000]
[null,809,"2009-11-06",29,49,8,34,50,10,1328854,0,0,0,0,0,0,"SIM",550271.52,17,23,7,42,22,30,0,0,12,6824.42,1001,116.87,700000]
[null,810,"2009-11-10",34,32,42,45,30,18,1318132,0,0,0,0,0,0,"SIM",793968.23,2,49,45,26,40,46,0,0,15,5415.48,769,150.9,900000]
[null,811,"2009-11-13",6,37,10,9,20,45,1474788,0,0,0,0,0,0,"SIM",1066627.57,24,10,4,48,38,22,0,0,19,4783.5,1226,105.9,1200000]
[null,812,"2009-11-17",26,40,9,48,22,27,1441210,0,0,0,0,0,0,"SIM",1333078.98,15,7,10,48,45,9,0,0,41,2166.27,1653,76.75,1500000]
[null,813,"2009-11-20",9,3,13,38,45,50,1386641,0,0,0,0,0,0,"SIM",1589441.66,37,2,14,9,5,44,0,0,26,3286.7,1420,85.97,1800000]
[null,814,"2009-11-24",49,38,24,2,29,50,1573347,0,0,0,0,0,0,"SIM",1880322.62,43,35,7,6,16,4,0,0,17,5703.55,1501,92.28,2000000]
[null,815,"2009-11-27",35,9,22,28,46,39,1697374,0,0,0,0,0,0,"SIM",2194133.7400000002,29,30,50,43,21,2,0,0,27,3874.21,1158,129.04,2400000]
[null,816,"2009-12-01",45,40,43,36,50,31,1753545,0,0,0,0,0,0,"SIM",2356231.7599999998,12,33,13,49,5,15,1,162098.01999999999,34,3178.4,2074,74.430000000000007,2500000]
[null,817,"2009-12-04",24,48,9,7,18,5,1839181,0,0,0,0,0,0,"SIM",2696260.21,34,36,49,25,39,35,0,0,27,4197.88,1281,126.39,3000000]
[null,818,"2009-12-08",39,45,29,50,41,44,1673273,0,0,0,0,0,0,"SIM",3005615.53,28,31,46,14,5,50,0,0,17,6065.79,1497,98.4,3200000]
[null,819,"2009-12-11",11,28,21,32,4,34,1904140,0,0,0,0,0,0,"SIM",3181634.58,26,40,8,33,46,3,1,176019.06,36,3259.61,1551,108.08,3400000]
[null,820,"2009-12-15",35,11,4,1,44,42,1917751,0,0,0,0,0,0,"SIM",3536189.09,39,18,25,21,27,7,0,0,27,4377.22,1760,95.92,3800000]
[null,821,"2009-12-18",19,10,17,1,34,7,2056570,0,0,0,0,0,0,"SIM",3726298.8,44,12,17,38,19,2,2,95054.86,53,2391.3200000000002,2189,82.71,4000000]
[null,822,"2009-12-22",20,32,40,25,12,14,1951826,0,0,0,0,0,0,"SIM",4087153.11,32,2,17,19,34,10,0,0,66,1822.5,2715,63.29,4200000]
[null,823,"2009-12-26",22,1,39,28,48,45,1221141,0,0,0,0,0,0,"SIM",4200035.6100000003,16,47,21,5,42,38,1,112882.5,16,4703.4399999999996,1045,102.87,4400000]
[null,824,"2009-12-29",12,30,6,41,10,36,1782405,0,0,0,0,0,0,"SIM",4529567.28,41,34,3,11,43,44,0,0,34,3230.7,1530,102.56,4700000]
[null,825,"2010-01-02",34,19,36,13,17,20,605547,0,0,0,0,0,0,"SIM",4641521.01,6,17,43,5,35,45,0,0,9,4146.43,562,94.85,4800000]
[null,826,"2010-01-05",29,2,18,39,50,44,2242095,0,0,0,0,0,0,"SIM",4848780.6900000004,47,36,10,5,43,24,1,207259.68,58,2382.29,2485,79.430000000000007,5000000]
[null,827,"2010-01-09",49,23,15,30,6,36,2956315,0,0,0,0,0,0,"SIM",5122062.99,25,27,49,15,43,16,1,273282.31,17,10716.96,2595,100.29,5300000]
[null,828,"2009-01-12",20,5,9,24,39,32,2448576,0,0,0,0,0,0,"SIM",5574756.6299999999,26,42,46,11,50,19,0,0,31,4867.67,2119,101.73,6000000]
[null,829,"2010-01-15",38,39,36,12,44,23,2900801,1,5842907.21,0,0,0,0,"NÃO",268150.59000000003,9,18,17,33,27,14,0,0,46,3886.24,3008,84.9,400000]
[null,830,"2010-01-19",28,1,49,29,7,21,1347324,0,0,0,0,0,0,"SIM",517244.34,39,42,4,18,8,35,0,0,21,3953.87,1280,92.66,700000]
[null,831,"2010-01-22",20,46,12,27,1,8,1502130,0,0,0,0,0,0,"SIM",794958.67,35,50,38,25,9,36,0,0,12,7714.29,1126,117.44,1000000]
[null,832,"2010-01-26",33,23,10,49,46,27,1458137,0,0,0,0,0,0,"SIM",1064539.56,45,32,25,35,30,8,0,0,15,5990.69,1048,122.49,1200000]
[null,833,"2010-01-29",17,8,40,24,30,34,1672726,0,0,0,0,0,0,"SIM",1373793.75,19,18,32,41,37,50,0,0,20,5154.24,1296,113.62,1500000]
[null,834,"2010-02-02",40,43,37,30,11,21,1680625,0,0,0,0,0,0,"SIM",1684508.31,42,7,43,22,20,10,0,0,20,5178.58,1239,119.41,1900000]
[null,835,"2010-02-05",15,50,21,22,12,6,1770977,0,0,0,0,0,0,"SIM",2011927.18,29,43,26,36,50,45,0,0,26,4197.68,1310,119.01,2200000]
[null,836,"2010-02-09",45,33,21,13,20,6,1824308,0,0,0,0,0,0,"SIM",2349205.91,47,39,41,27,4,19,0,0,20,5621.31,1656,96.98,2500000]
[null,837,"2010-02-12",14,15,11,30,36,7,1848864,0,0,0,0,0,0,"SIM",2520115.2400000002,6,2,45,28,38,18,1,170909.33,23,4953.8999999999996,1589,102.43,2600000]
[null,838,"2010-02-17",10,28,50,30,31,41,875643,0,0,0,0,0,0,"SIM",2682004.42,40,16,33,12,22,24,0,0,12,4496.92,725,106.33,2900000]
[null,839,"2010-02-19",6,3,2,26,25,22,1731986,0,0,0,0,0,0,"SIM",3002214.62,9,40,38,7,23,5,0,0,22,4851.67,1515,100.64,3200000]
[null,840,"2010-02-23",6,48,2,50,7,24,1952159,0,0,0,0,0,0,"SIM",3363130.49,5,3,34,47,13,21,0,0,56,2148.31,2245,76.55,3600000]
[null,841,"2010-02-26",39,24,36,30,14,5,2201088,0,0,0,0,0,0,"SIM",3770068.45,9,33,44,13,7,17,0,0,136,1424.85,3891,49.8,4000000]
[null,842,"2010-03-02",17,10,49,50,26,37,2566653,0,0,0,0,0,0,"SIM",4244592.2,4,6,47,46,7,27,0,0,47,3365.42,2398,94.23,4500000]
[null,843,"2010-03-05",18,10,42,37,31,13,3108916,1,4531980.9800000004,0,0,0,0,"NÃO",287388.78000000003,9,40,27,4,50,32,0,0,44,4354.38,2734,100.11,400000]
[null,844,"2010-03-09",2,4,5,26,24,40,1485284,0,0,0,0,0,0,"SIM",561988.61,38,4,40,47,25,30,0,0,8,11441.66,888,147.25,800000]
[null,845,"2010-03-12",36,40,39,41,43,49,1545104,0,0,0,0,0,0,"SIM",704818.31,36,8,45,35,41,2,1,142829.70000000001,33,2885.45,1146,118.69,900000]
[null,846,"2010-03-16",24,1,11,44,45,48,1554995,0,0,0,0,0,0,"SIM",992306.33,48,36,24,44,39,18,0,0,42,2281.65,2003,68.34,1200000]
[null,847,"2010-03-19",11,36,38,47,49,32,1621761,0,0,0,0,0,0,"SIM",1292138.0900000001,12,4,49,42,28,13,0,0,30,3331.47,1657,86.16,1500000]
[null,848,"2010-03-23",21,49,20,43,4,27,1599948,0,0,0,0,0,0,"SIM",1587937.05,34,17,43,44,36,48,0,0,15,6573.31,1702,82.75,1800000]
[null,849,"2010-03-26",36,15,23,42,10,37,1747016,0,0,0,0,0,0,"SIM",1910925.99,44,5,34,17,2,6,0,0,28,3845.1,1433,107.33,2100000]
[null,850,"2010-03-30",25,50,21,19,45,10,1759580,0,0,0,0,0,0,"SIM",2236237.79,34,20,22,45,14,21,0,0,20,5421.86,1201,128.97999999999999,2400000]
[null,851,"2010-04-03",42,7,17,10,2,40,1258013,0,0,0,0,0,0,"SIM",2468819.6800000002,50,39,15,42,23,35,0,0,19,4080.39,1177,94.09,2600000]
[null,852,"2010-04-06",50,36,48,14,24,6,1692798,0,0,0,0,0,0,"SIM",2625302.23,16,1,5,50,31,8,1,156482.54999999999,30,3477.39,1748,85.25,2800000]
[null,853,"2010-04-09",29,3,27,7,10,50,1982795,0,0,0,0,0,0,"SIM",2991882.09,7,18,2,20,44,33,0,0,37,3302.52,1834,95.18,3200000]
[null,854,"2010-04-13",4,25,47,11,30,12,2142026,0,0,0,0,0,0,"SIM",3387900.64,31,19,17,37,39,14,0,0,49,2694,1879,100.36,3600000]
[null,855,"2010-04-16",5,17,29,50,31,10,2547875,1,3623426.67,0,0,0,0,"NÃO",235526.04,4,21,11,1,50,15,0,0,55,2854.86,2628,85.35,400000]
[null,856,"2010-04-20",21,28,39,32,3,22,1337004,0,0,0,0,0,0,"SIM",482711.81,18,4,33,7,25,28,0,0,42,1961.79,1555,75.69,600000]
[null,857,"2010-04-23",44,2,42,21,43,1,1296504,0,0,0,0,0,0,"SIM",722409.93,28,25,45,21,4,29,0,0,18,4438.8599999999997,1186,96.24,900000]
[null,858,"2010-04-27",11,34,3,48,4,8,1493226,0,0,0,0,0,0,"SIM",998478.09,43,21,29,1,35,18,0,0,19,4843.3,1068,123.09,1200000]
[null,859,"2010-04-30",28,27,31,7,5,12,1512679,0,0,0,0,0,0,"SIM",1278142.73,36,4,35,40,26,45,0,0,14,6658.68,919,144.91,1500000]
[null,860,"2010-05-04",1,24,41,9,34,3,1542682,0,0,0,0,0,0,"SIM",1563354.34,42,20,6,11,44,43,0,0,25,3802.82,1287,105.52,1800000]
[null,861,"2010-05-07",11,49,30,25,40,41,1787812,0,0,0,0,0,0,"SIM",1893885.68,48,4,18,47,13,12,0,0,42,2623.27,1753,89.78,2100000]
[null,862,"2010-05-11",37,50,30,6,10,4,1964030,1,2075440.97,0,0,0,0,"NÃO",181555.29,6,36,10,12,31,35,0,0,26,4655.26,1631,106.01,300000]
[null,863,"2010-05-14",3,30,7,38,46,40,1423322,0,0,0,0,0,0,"SIM",444699.57,49,9,13,1,11,30,0,0,23,3813.69,1536,81.569999999999993,600000]
[null,864,"2010-05-18",24,16,4,28,32,46,1399429,1,574063.05000000005,0,0,0,0,"NÃO",129363.48,18,5,10,6,21,46,0,0,25,3449.7,1589,77.53,300000]
[null,865,"2010-05-21",38,11,21,46,17,41,1297057,0,0,0,0,0,0,"SIM",369163.85,37,5,21,27,39,20,0,0,20,3996.68,956,119.44,500000]
[null,866,"2010-05-25",4,9,37,40,23,47,1515150,0,0,30,2334.34,1201,55.53,"SIM",602598.41,42,44,3,7,34,33,0,0,24,2917.93,1427,46.73,800000]
[null,867,"2010-05-28",19,11,8,20,46,7,1791020,0,0,38,2178.4499999999998,1689,46.67,"SIM",768160.63,10,26,12,6,27,36,1,110374.81,27,3065.97,1994,39.53,1000000]
[null,868,"2010-06-01",6,15,30,34,31,18,1896152,0,0,26,3370.78,1307,63.86,"SIM",943441.27,45,37,11,47,35,7,1,116853.75999999999,37,2368.66,1689,49.41,1200000]
[null,869,"2010-06-04",22,42,18,30,6,16,1844124,0,0,24,3551.48,1273,63.76,"SIM",1227559.8600000001,16,43,3,14,8,11,0,0,39,2185.5300000000002,1759,46.14,1500000]
[null,870,"2010-06-08",4,37,10,8,35,22,2060505,0,0,49,1943.61,2098,43.23,"SIM",1545015.62,24,10,13,18,4,7,0,0,78,1220.99,2933,30.92,1700000]
[null,871,"2010-06-11",14,16,23,49,4,9,2386381,0,0,53,2081.11,2510,41.85,"SIM",1912678.13,50,40,9,43,20,44,0,0,26,4242.26,1813,57.94,2200000]
[null,872,"2010-06-15",34,33,36,31,29,18,2008484,0,0,20,4641.6099999999997,1469,60.18,"SIM",2222119.17,20,31,48,45,40,32,0,0,17,5460.73,1074,82.32,2500000]
[null,873,"2010-06-18",46,5,9,8,2,47,2485175,0,0,47,2443.94,2554,42.83,"SIM",2451849.2000000002,40,1,10,38,47,46,1,153153.35999999999,17,6756.77,1491,73.37,2700000]
[null,874,"2010-06-22",20,19,7,42,4,38,2385553,0,0,33,3341.23,2354,44.6,"SIM",2819384.13,37,5,11,24,7,19,0,0,78,1413.6,3253,32.28,3000000]
[null,875,"2010-06-25",10,40,7,12,8,18,2455565,0,0,58,1956.83,2605,41.49,"SIM",3197705.61,20,9,15,45,11,22,0,0,34,3338.13,2196,49.22,3500000]
[null,876,"2010-06-29",47,24,2,19,44,15,2560170,0,0,44,2689.35,2655,42.44,"SIM",3592143.25,23,37,15,41,40,17,0,0,36,3286.98,2008,56.12,3800000]
[null,877,"2010-07-02",33,28,41,14,30,18,2591123,0,0,27,4435.63,1721,66.27,"SIM",3991349.73,22,49,38,6,7,32,0,0,23,5207.05,1738,65.62,4200000]
[null,878,"2010-07-06",1,36,48,28,30,43,3001088,0,0,32,4334.71,1812,72.900000000000006,"SIM",4453718.28,10,40,49,47,13,35,0,0,48,2889.81,2824,46.77,4700000]
[null,879,"2010-07-09",19,13,22,45,49,17,2860580,0,0,72,1836.34,3748,33.590000000000003,"SIM",4718150.83,1,20,13,37,25,18,1,176288.37,57,2319.59,2715,46.37,5000000]
[null,880,"2010-07-13",18,42,6,27,19,33,3401376,0,0,68,2311.94,3164,47.32,"SIM",5242190.55,46,22,47,33,7,48,0,0,45,3493.6,3088,48.48,5500000]
[null,881,"2010-07-16",33,49,36,29,23,21,3766411,0,0,51,3413.41,2961,55.99,"SIM",5822470.1100000003,34,5,18,28,20,46,0,0,62,2807.8,3332,49.75,6000000]
[null,882,"2010-07-20",14,21,31,12,45,19,3965881,0,0,56,3273.27,3625,48.15,"SIM",6433481.4199999999,18,35,12,10,1,24,0,0,52,3525.06,3723,46.89,6800000]
[null,883,"2010-07-23",6,38,1,32,50,12,4287577,0,0,70,2831.04,3045,61.98,"SIM",6829825.8399999999,11,8,9,15,18,38,1,264229.62,66,3002.61,3918,48.17,7000000]
[null,884,"2010-07-27",14,43,27,47,9,23,4024315,0,0,116,1603.49,4821,36.74,"SIM",7449839.8899999997,16,21,37,23,31,43,0,0,48,3875.09,3019,58.67,8000000]
[null,885,"2010-07-30",19,46,1,9,13,11,4486265,0,0,128,1619.97,5347,36.93,"SIM",7864551.0700000003,49,32,10,4,33,25,1,276474.12,91,2278.63,4627,42.68,8500000]
[null,886,"2010-08-03",8,27,29,11,35,21,4781957,0,0,58,3810.73,3903,53.93,"SIM",8306596.0700000003,34,11,42,49,8,15,1,294696.67,111,1991.2,4704,44.74,8800000]
[null,887,"2010-08-06",40,17,11,24,25,31,5174688,0,0,47,5088.82,3507,64.95,"SIM",8784945.1999999993,28,37,3,1,29,2,1,318899.42,97,2465.7199999999998,3359,67.81,9300000]
[null,888,"2010-08-10",41,28,7,9,11,40,5598210,0,0,107,2418.2199999999998,5096,48.35,"SIM",9647444.5099999998,40,12,39,28,27,13,0,0,71,3644.37,4051,60.83,10000000]
[null,889,"2010-08-13",45,21,25,15,49,22,5965609,0,0,77,3580.92,4940,53.15,"SIM",10198906.529999999,8,50,12,32,39,29,1,367641.35,104,2651.26,5080,51.69,11000000]
[null,890,"2010-08-17",5,33,19,3,49,18,5669553,0,0,133,1970.28,7257,34.39,"SIM",11072397.43,28,45,18,33,27,40,0,0,62,4226.57,4430,56.33,11700000]
[null,891,"2010-08-20",21,15,13,48,6,36,5995440,1,11626617.029999999,100,2771.1,5931,44.49,"NÃO",369479.74,18,49,2,30,20,41,0,0,68,4075.15,4206,62.74,400000]
[null,892,"2010-08-24",19,8,5,36,42,43,2179894,0,0,35,2878.71,2186,43.89,"SIM",705329.41,47,36,32,29,48,16,0,0,42,2398.9299999999998,1907,50.31,900000]
[null,893,"2010-08-27",12,29,14,24,38,22,2221089,0,0,31,3311.58,1508,64.83,"SIM",1047525.87,6,19,40,13,7,47,0,0,51,2012.92,2586,37.799999999999997,1300000]
[null,894,"2010-08-31",45,50,6,1,47,37,2272011,0,0,42,2500.3000000000002,1877,53.28,"SIM",1397567.73,9,23,41,48,43,12,0,0,22,4773.3,1932,51.76,1600000]
[null,895,"2010-09-03",34,23,26,20,29,47,2502627,1,1628911.03,31,3731.35,1897,58.07,"NÃO",154228.87,3,18,43,35,13,17,0,0,51,2268.0700000000002,2977,37,300000]
[null,896,"2010-09-08",29,4,35,43,28,45,1295663,1,274000.19,22,2722.07,977,58.37,"NÃO",79847.55,9,38,27,47,17,1,0,0,15,3992.38,993,57.43,200000]
[null,897,"2010-09-10",4,26,3,32,10,34,1811609,0,0,17,4925.46,1463,54.5,"SIM",358956.66,33,12,13,3,32,31,0,0,68,1231.3699999999999,1820,43.81,500000]
[null,898,"2010-09-14",7,46,37,44,42,43,2016800,0,0,25,3728.67,1809,49.07,"SIM",669678.92000000004,15,36,5,18,29,32,0,0,46,2026.45,1976,44.92,800000]
[null,899,"2010-09-17",23,9,37,43,39,42,2170325,0,0,34,2950.37,2045,46.71,"SIM",1004054.33,12,23,2,8,7,46,0,0,29,3459.05,2104,45.4,1200000]
[null,900,"2010-09-21",17,9,27,38,40,35,2148134,0,0,44,2256.52,1905,49.63,"SIM",1335010.83,10,28,21,46,41,29,0,0,26,3818.73,1524,62.04,1500000]
[null,901,"2010-09-24",5,45,11,40,46,2,2375570,0,0,27,4066.63,1722,60.72,"SIM",1701007.72,13,36,24,31,15,25,0,0,28,3921.4,2112,49.51,2000000]
[null,902,"2010-09-28",33,19,6,40,7,3,2461044,0,0,44,2585.2199999999998,2966,36.520000000000003,"SIM",1928507.08,35,47,37,39,23,45,1,151666.25,64,1777.34,2345,46.19,2200000]
[null,903,"2010-10-01",37,27,8,33,49,3,2613582,0,0,69,1750.73,3225,35.67,"SIM",2170107.08,4,20,44,27,15,40,1,161066.67000000001,34,3552.95,2021,56.92,2400000]
[null,904,"2010-10-05",44,36,14,3,47,29,2596095,0,0,83,1445.69,2750,41.55,"SIM",2570079.59,24,35,39,29,20,11,0,0,26,4615.07,1480,77.209999999999994,3000000]
[null,905,"2010-10-08",26,22,35,15,34,5,3100396,1,2856680.78,32,4478.1400000000003,2534,53.85,"NÃO",191067.46,4,5,7,31,44,29,0,0,54,2653.72,2958,46.13,250000]
[null,906,"2010-10-13",29,40,18,17,30,15,1405727,0,0,14,4640.92,778,79.53,"SIM",407643.56,18,23,48,16,1,12,0,0,30,2165.7600000000002,1308,47.3,700000]
[null,907,"2010-10-15",25,5,37,29,13,4,1947451,0,0,41,2195.4,2359,36.33,"SIM",707681.44,28,24,48,9,25,38,0,0,25,3600.45,1507,56.88,900000]
[null,908,"2010-10-19",14,36,37,44,27,45,2064766,0,0,38,2511.42,1872,48.55,"SIM",1025793.68,21,29,17,8,1,46,0,0,31,3078.51,1581,57.48,1200000]
[null,909,"2010-10-22",20,16,33,30,3,49,2339902,0,0,40,2703.76,1936,53.2,"SIM",1386295.3,25,43,28,23,33,17,0,0,27,4005.57,2115,48.69,1600000]
[null,910,"2010-10-26",8,50,15,19,30,16,2332159,0,0,33,3266.44,1786,57.48,"SIM",1745603.98,28,43,42,47,35,27,0,0,48,2245.6799999999998,2299,44.65,2000000]
[null,911,"2010-10-29",35,47,1,27,6,28,2636028,0,0,37,3292.9,3997,29.03,"SIM",2151728.85,14,5,44,10,25,24,0,0,47,2592.29,2419,47.96,2300000]
[null,912,"2010-11-03",40,42,29,28,3,14,1910368,0,0,21,4204.6400000000003,1466,57.36,"SIM",2446053.46,34,8,39,12,40,50,0,0,20,4414.87,1444,58.23,2800000]
[null,913,"2010-11-05",40,28,33,27,17,32,2688882,0,0,37,3358.93,2023,58.5,"SIM",2860321.37,18,34,33,25,2,49,0,0,56,2219.29,2691,43.98,3200000]
[null,914,"2010-11-09",1,26,41,2,47,45,3017671,0,0,33,4226.58,2065,64.319999999999993,"SIM",3139275.44,13,3,48,40,30,4,1,185969.38,54,2582.91,2284,58.15,3500000]
[null,915,"2010-11-12",24,35,13,8,19,34,3137581,0,0,42,3452.84,2828,48.83,"SIM",3622673.05,42,31,11,47,43,25,0,0,38,3816.3,2617,52.77,4000000]
[null,916,"2010-11-16",39,14,36,38,6,48,2736397,0,0,34,3719.9,2126,56.65,"SIM",4044261.46,39,4,2,16,27,28,0,0,47,2690.99,2320,51.91,4400000]
[null,917,"2010-11-19",1,38,26,44,30,39,3692438,0,0,33,5171.66,2134,76.16,"SIM",4385591.12,32,5,48,12,28,39,1,227553.11,51,3346.37,3287,49.44,4700000]
[null,918,"2010-11-23",24,42,1,19,26,21,3589606,0,0,42,3950.29,2850,55.44,"SIM",4938630.8600000003,21,42,43,23,37,34,0,0,80,2073.9,3895,40.56,5300000]
[null,919,"2010-11-26",36,45,8,11,28,30,3867970,1,5296186.7300000004,85,2103.27,3489,48.8,"NÃO",238370.58,18,7,46,5,31,34,0,0,74,2415.92,3855,44.16,400000]
[null,920,"2010-11-30",22,10,30,40,29,12,1913471,0,0,20,4422.04,1416,59.48,"SIM",533173.26,43,38,3,4,30,23,0,0,22,4020.03,1515,55.59,700000]
[null,921,"2010-12-03",49,11,2,8,32,30,2258960,0,0,51,2047.25,1922,51.73,"SIM",881204.39,5,21,33,41,43,47,0,0,41,2546.5700000000002,1992,49.91,1100000]
[null,922,"2010-12-07",12,44,39,20,34,3,2297715,0,0,26,4084.64,1637,61.78,"SIM",1093605.5900000001,42,3,29,12,46,23,1,141600.79999999999,39,2723.1,2373,42.62,1300000]
[null,923,"2010-12-10",47,46,33,30,10,45,2524987,0,0,31,3764.68,1896,58.62,"SIM",1482622.69,31,32,16,15,9,35,0,0,32,3647.04,1771,62.75,1700000]
[null,924,"2010-12-14",44,21,38,4,1,41,2485026,0,0,28,4102.07,1763,62.04,"SIM",1865483.13,15,32,12,29,18,33,0,0,33,3480.55,2447,44.7,2100000]
[null,925,"2010-12-17",22,38,39,23,36,48,2746326,0,0,34,3733.4,2469,48.96,"SIM",2288601.2599999998,39,43,9,36,49,11,0,0,49,2590.52,2908,41.57,2600000]
[null,926,"2010-12-21",44,1,19,32,35,6,2606332,1,2529531.0699999998,29,4153.97,2068,55.47,"NÃO",160619.88,11,32,12,29,22,46,0,0,21,5736.43,1813,63.28,300000]
[null,927,"2010-12-24",48,1,50,9,20,39,1522637,0,0,22,3198.93,1202,55.76,"SIM",395207.94,17,33,27,37,19,40,0,0,23,3059.84,1528,43.86,600000]
[null,928,"2010-12-28",22,46,16,9,5,4,1765208,1,558384.07999999996,30,2719.6,1769,43.92,"NÃO",108784.1,4,45,40,47,19,36,0,0,17,4799.3,1449,53.62,200000]
[null,929,"2010-12-31",34,44,35,25,33,6,1229309,0,0,12,4734.8999999999996,885,61.14,"SIM",298180.01,7,43,24,36,30,22,0,0,25,2272.75,1069,50.62,400000]
[null,930,"2011-01-04",39,49,9,37,34,11,1734255,0,0,38,2109.41,2384,32.020000000000003,"SIM",458494.85,20,33,45,1,2,13,1,106876.57,33,2429.0100000000002,1582,48.25,650000]
[null,931,"2011-01-07",2,43,47,3,16,4,2097984,0,0,23,4216.05,1894,48.76,"SIM",781724.89,40,42,30,18,21,26,0,0,20,4848.45,1260,73.290000000000006,1000000]
[null,932,"2011-01-11",26,17,40,2,39,15,2211996,0,0,29,3525.47,1521,64.010000000000005,"SIM",1122520.42,1,39,9,3,42,29,0,0,39,2621.5,2108,46.19,1400000]
[null,933,"2011-01-14",49,32,26,19,13,11,2325206,0,0,69,1557.55,2535,40.369999999999997,"SIM",1337462.8899999999,32,12,18,1,38,6,2,71647.490000000005,84,1279.42,1938,52.81,1600000]
[null,934,"2011-01-18",45,35,23,3,6,50,2399098,0,0,49,2262.9899999999998,2316,45.59,"SIM",1707084.66,2,24,36,40,5,32,0,0,41,2704.55,2036,51.86,1950000]
[null,935,"2011-01-21",1,48,28,47,25,36,2527913,0,0,36,3245.57,2119,52.51,"SIM",2096552.57,19,32,7,22,17,1,0,0,33,3540.62,2276,48.89,2400000]
[null,936,"2011-01-25",49,50,16,43,25,23,2473776,0,0,29,3942.7,2285,47.65,"SIM",2477679.75,46,47,10,41,16,14,0,0,49,2333.4299999999998,2053,53.04,2700000]
[null,937,"2011-01-28",33,35,18,9,41,15,2795024,0,0,38,3399.64,2674,46.01,"SIM",2908300.64,43,36,21,41,40,24,0,0,36,3588.51,1918,64.14,3200000]
[null,938,"2011-02-01",20,47,13,31,10,37,2898435,0,0,51,2626.78,2542,50.19,"SIM",3354853.76,39,7,27,14,3,41,0,0,87,1539.84,3048,41.85,3600000]
[null,939,"2011-02-04",47,12,6,34,23,15,3270028,1,3657135.76,99,1526.68,3517,40.92,"NÃO",0,45,42,27,19,8,50,1,201521.34,61,2477.7199999999998,3190,45.12,150000]
[null,940,"2011-02-08",41,40,10,9,17,14,1845665,0,0,30,2843.56,1656,49.06,"SIM",284356.02,17,4,37,8,24,26,0,0,25,3412.27,1919,42.33,500000]
[null,941,"2011-02-11",13,11,22,4,29,31,2023764,0,0,48,1948.72,1884,47.28,"SIM",596151.21,25,13,26,10,45,50,0,0,99,1349.76,2583,34.479999999999997,800000]
[null,942,"2011-02-15",2,15,47,20,39,29,2109556,1,791158.95,42,2321.52,1794,51.76,"NÃO",130005.17,8,22,2,37,46,4,0,0,37,2635.24,1959,47.4,250000]
[null,943,"2011-02-18",7,32,23,41,25,43,1830852,0,0,38,2226.9,1802,44.72,"SIM",412078.99,46,18,19,17,15,48,0,0,22,3846.46,1582,50.94,600000]
[null,944,"2011-02-22",6,20,45,30,9,25,1918784,1,589451.73,21,4223.16,1403,60.2,"NÃO",118248.5,21,43,47,42,18,7,0,0,28,3167.37,1651,51.15,300000]
[null,945,"2011-02-25",1,17,25,20,26,41,1830874,1,287494.82,21,4029.67,1406,57.32,"NÃO",112830.88,23,38,39,40,2,11,0,0,29,2918.04,1516,53.16,260000]
[null,946,"2011-03-01",26,12,18,46,31,32,1801388,0,0,16,5203.7700000000004,1380,57.46,"SIM",390365.27,17,27,46,36,34,48,0,0,25,3330.42,1611,49.22,600000]
[null,947,"2011-03-04",7,23,20,9,46,15,2169775,0,0,60,1671.46,2317,41.22,"SIM",724655.94,19,35,46,25,32,2,0,0,19,5278.28,1716,55.65,900000]
[null,948,"2011-03-09",10,6,11,26,31,28,983254,0,0,10,4544.6099999999997,805,53.76,"SIM",815548.11,5,39,46,34,15,21,1,60594.78,29,1567.11,801,54.03,1000000]
[null,949,"2011-03-11",17,24,28,8,36,14,1929058,0,0,26,3429.28,1973,43.03,"SIM",993870.58,14,22,35,29,24,16,1,118881.66,53,1682.29,1722,49.31,1200000]
[null,950,"2011-03-15",19,47,12,39,7,2,2078844,0,0,31,3099.5,2128,43,"SIM",1314151.78,16,45,28,30,3,15,0,0,38,2528.54,1990,45.98,1500000]
[null,951,"2011-03-18",2,21,15,45,16,14,2275399,0,0,30,3505.64,1795,55.8,"SIM",1664715.62,15,37,36,42,25,45,0,0,31,3392.55,1746,57.36,1900000]
[null,952,"2011-03-22",33,22,36,39,23,49,2374930,0,0,54,2032.77,2116,49.4,"SIM",2030613.89,35,50,13,11,3,36,0,0,36,3049.16,2371,44.09,2300000]
[null,953,"2011-03-25",32,40,34,45,30,3,2507665,0,0,25,4636.18,1599,69.03,"SIM",2416962.25,50,41,38,44,25,16,0,0,30,3863.49,2096,52.66,2700000]
[null,954,"2011-03-29",42,49,47,19,23,16,2654292,1,2662325.5,69,1778,2884,40.51,"NÃO",0,22,32,34,44,26,46,1,163575.5,22,5576.44,1826,63.98,200000]
[null,955,"2011-04-01",48,49,40,17,5,29,1865230,0,0,11,7837.37,1490,55.1,"SIM",287370.34000000003,31,41,11,9,40,14,0,0,28,3078.97,1687,48.66,500000]
[null,956,"2011-04-05",42,34,27,35,32,25,1950456,0,0,13,6934.64,1522,56.41,"SIM",587871.18000000005,34,19,39,49,41,17,0,0,27,3338.9,1953,43.96,800000]
[null,957,"2011-04-08",10,50,41,8,31,49,2102355,0,0,40,2429.2800000000002,1975,46.85,"SIM",911774.66,11,26,22,25,6,46,0,0,20,4858.55,1799,51.44,1100000]
[null,958,"2011-04-12",8,17,40,32,2,31,2214318,0,0,24,4264.42,1510,64.55,"SIM",1252927.93,21,12,9,30,16,2,0,0,40,2558.65,1870,52.12,1500000]
[null,959,"2011-04-15",4,47,9,46,20,21,2248048,0,0,29,3582.93,1822,54.31,"SIM",1460737.9,18,15,1,2,12,44,1,138539.99,33,3148.64,1942,50.95,1700000]
[null,960,"2011-04-19",19,11,2,36,41,10,2229245,0,0,36,2862.11,2117,46.35,"SIM",1804190.92,36,23,50,3,14,22,0,0,24,4293.16,1821,53.88,1950000]
[null,961,"2011-04-23",47,16,23,36,32,35,1222796,0,0,19,2974.62,1292,41.66,"SIM",1992583.39,42,49,13,24,48,46,0,0,31,1823.15,1473,36.54,2200000]
[null,962,"2011-04-26",2,40,24,6,13,50,2443933,0,0,38,2972.6,2366,45.46,"SIM",2369112.75,2,35,12,44,31,24,0,0,26,4344.57,1710,62.91,2600000]
[null,963,"2011-04-29",39,5,11,13,10,37,2966978,1,2643380.7400000002,81,1693.01,3359,38.880000000000003,"NÃO",182845.33,30,31,40,12,7,48,0,0,22,6233.36,2012,64.91,300000]
[null,964,"2011-05-03",12,2,47,37,14,34,1966278,0,0,34,2672.99,1631,53.06,"SIM",485783.83,27,12,34,49,3,18,0,0,82,1108.31,2476,34.950000000000003,700000]
[null,965,"2011-05-06",9,4,35,29,28,5,2130297,0,0,39,2524.6799999999998,2089,44.88,"SIM",813992.23,6,29,47,37,10,14,0,0,32,3076.95,1940,48.33,1000000]
[null,966,"2011-05-10",43,19,48,21,3,47,2269871,0,0,40,2622.84,2307,43.31,"SIM",1163704.3899999999,13,30,10,15,12,38,0,0,26,4035.14,1886,52.97,1400000]
[null,967,"2011-05-13",9,48,22,27,28,33,2659291,0,0,44,2793.47,2254,51.93,"SIM",1573413.31,16,35,48,49,13,6,0,0,34,3615.08,2586,45.26,1800000]
[null,968,"2011-05-17",43,19,23,13,14,46,2594607,0,0,38,3155.87,2170,52.63,"SIM",1973156.56,45,32,17,47,6,26,0,0,32,3747.59,2382,47.94,2300000]
[null,969,"2011-05-20",21,36,28,8,19,26,2863514,0,0,42,3151.24,2104,59.9,"SIM",2414329.5,8,30,16,34,35,21,0,0,54,2450.96,2118,59.51,2700000]
[null,970,"2011-05-24",14,34,30,22,13,9,2920986,0,0,32,4219.01,2241,57.37,"SIM",2864356.98,42,18,36,26,33,5,0,0,49,2755.27,2811,45.74,3200000]
[null,971,"2011-05-27",45,5,37,19,48,47,3121668,0,0,46,3136.61,3204,42.88,"SIM",3345302.92,3,16,38,42,45,5,0,0,47,3069.87,2996,45.86,3600000]
[null,972,"2011-05-31",45,4,19,47,34,11,3321388,1,3652332.64,88,1744.49,3796,38.51,"NÃO",204686.49,17,49,27,26,8,3,0,0,55,2791.18,3398,43.02,400000]
[null,973,"2011-06-03",33,45,47,4,28,9,2131018,0,0,65,1515.32,2891,32.44,"SIM",533005.98,50,43,20,19,42,46,0,0,34,2896.94,1455,64.47,700000]
[null,974,"2011-06-07",2,23,37,21,3,48,2131115,0,0,21,4690.49,1782,52.64,"SIM",730006.65,46,24,49,17,40,8,1,131333.78,50,1970.01,1832,51.2,1000000]
[null,975,"2011-06-10",49,13,23,40,24,1,2368438,0,0,27,4054.43,1719,60.64,"SIM",1094904.72,12,40,46,37,25,34,0,0,33,3317.26,1801,57.88,1300000]
[null,976,"2011-06-14",5,16,10,47,4,30,2377698,0,0,40,2747.43,2160,48.45,"SIM",1461229.46,50,32,21,2,45,24,0,0,31,3545.08,1783,58.7,1700000]
[null,977,"2011-06-17",10,7,18,29,47,3,2486651,0,0,33,3482.83,2754,39.74,"SIM",1844340.25,15,35,6,3,23,18,0,0,67,1715.42,3178,34.44,2100000]
[null,978,"2011-06-21",11,2,16,37,22,32,2686431,0,0,28,4434.54,1924,61.46,"SIM",2258230.5499999998,15,10,18,28,30,14,0,0,44,2821.98,1981,59.69,2500000]
[null,979,"2011-06-24",8,30,35,39,15,14,1938452,0,0,25,3583.82,1381,61.78,"SIM",2556881.98,21,15,7,38,43,39,0,0,33,2715.02,1640,52.02,2800000]
[null,980,"2011-06-28",44,17,28,1,12,4,2811441,1,2816772.1,57,2279.7399999999998,2592,47.74,"NÃO",173260.09,42,11,2,39,37,8,0,0,45,2887.67,2633,47,300000]
[null,981,"2011-07-01",19,44,10,15,47,12,2085963,0,0,37,2605.77,2399,38.270000000000003,"SIM",366086.89,19,26,4,21,24,35,1,128551.2,26,3708.21,1627,56.43,500000]
[null,982,"2011-07-05",25,10,33,5,23,38,2067049,1,557165.28,41,2330.23,2145,42.41,"NÃO",0,48,16,34,21,39,49,1,127385.60000000001,22,4342.6899999999996,1454,62.57,150000]
[null,983,"2011-07-08",48,11,12,50,36,7,1929755,0,0,37,2410.64,1987,42.75,"SIM",297311.51,37,33,24,26,36,43,0,0,13,6861.03,1277,66.52,500000]
[null,984,"2011-07-12",14,22,11,50,1,41,2001154,0,0,29,3189.44,1850,47.61,"SIM",605623.24,16,14,21,5,18,26,0,0,40,2312.34,1723,51.12,800000]
[null,985,"2011-07-15",27,10,18,8,36,24,2208335,0,0,28,3645.34,2040,47.65,"SIM",945854.73,14,19,4,48,30,42,0,0,47,2171.69,2158,45.04,1200000]
[null,986,"2011-07-19",41,16,12,7,34,4,2275456,0,0,40,2629.3,2223,45.05,"SIM",1296427.3400000001,21,39,36,47,33,12,0,0,38,2767.68,2340,42.8,1500000]
[null,987,"2011-07-22",23,22,4,38,26,49,2498258,0,0,52,2220.5700000000002,2265,48.55,"SIM",1681326.39,31,48,15,41,4,24,0,0,29,3981.72,1815,60.59,2000000]
[null,988,"2011-07-26",23,6,31,29,12,32,2430528,0,0,17,6608.19,2013,53.14,"SIM",2055790.48,46,34,33,26,10,17,0,0,24,4680.8,1959,54.61,2400000]
[null,989,"2011-07-29",33,47,49,35,5,29,2756251,0,0,84,1516.6,3319,36.549999999999997,"SIM",2480437.73,44,41,45,37,23,15,0,0,47,2710.52,2705,44.85,2800000]
[null,990,"2011-08-02",33,12,50,49,7,36,2933829,0,0,58,2337.96,3911,33.020000000000003,"SIM",2932443.88,29,48,22,43,4,5,0,0,62,2187.13,2975,43.4,3200000]
[null,991,"2011-08-05",6,34,43,3,47,24,3144224,1,3223096.53,61,2382.4,3454,40.07,"NÃO",193768.44,33,32,41,19,3,13,0,0,59,2463.16,3009,45.99,400000]
[null,992,"2011-08-09",22,14,25,39,11,36,1886763,0,0,24,3633.6,1622,51.2,"SIM",484456.3,14,18,26,15,46,28,0,0,33,2642.62,1761,47.16,700000]
[null,993,"2011-08-12",49,16,26,38,2,3,2090955,0,0,27,3579.41,1830,50.29,"SIM",806603.4,30,20,33,50,4,45,0,0,19,5086.53,1833,50.21,1000000]
[null,994,"2011-08-16",1,39,44,28,4,20,2112796,0,0,17,5744.33,1535,60.58,"SIM",1001910.66,15,49,18,43,2,35,1,130204.83,58,1683.69,2111,44.05,1200000]
[null,995,"2011-08-19",5,43,3,21,50,46,2300322,1,1214552.8500000001,44,2416.39,2083,48.61,"NÃO",141761.46,47,2,16,22,24,39,0,0,42,2531.46,2228,45.44,360000]
[null,996,"2011-08-23",31,21,33,30,36,14,1832964,0,0,19,4458.93,1179,68.430000000000007,"SIM",424160.66,34,20,28,31,9,41,0,0,22,3850.9,1016,79.41,600000]
[null,997,"2011-08-26",39,47,20,14,48,8,1917771,0,0,15,5909.31,1365,61.84,"SIM",719625.83,8,49,7,30,34,10,0,0,21,4220.93,1409,59.91,900000]
[null,998,"2011-08-30",11,40,5,18,13,2,2041951,0,0,45,2097.3200000000002,2175,41.32,"SIM",1034223.04,3,4,35,40,1,8,0,0,27,3495.52,1629,55.17,1200000]
[null,999,"2011-09-02",23,30,36,27,20,4,2460702,0,0,24,4738.91,1696,63.86,"SIM",1413335.96,19,37,14,43,1,26,0,0,50,2274.6799999999998,2088,51.87,1600000]
[null,1000,"2011-09-06",42,46,45,7,18,9,2647190,0,0,55,2224.6,2368,49.2,"SIM",1658042.68,31,3,13,32,39,36,1,163137.82999999999,77,1589,2560,45.51,1950000]
[null,1001,"2011-09-09",26,23,29,46,39,34,2500256,0,0,50,2311.2399999999998,2396,45.93,"SIM",2043249.56,12,2,21,35,42,43,0,0,33,3501.88,2085,52.78,2300000]
[null,1002,"2011-09-13",35,19,43,29,12,40,2554676,0,0,37,3191.28,2062,54.53,"SIM",2279404.2799999998,5,17,12,4,31,1,1,157436.49,41,2879.94,2521,44.6,2600000]
[null,1003,"2011-09-16",6,30,18,19,48,37,2810300,1,2539188.9300000002,35,3711.21,2035,60.78,"NÃO",173189.77,19,33,27,35,18,43,0,0,44,2952.1,2600,47.57,400000]
[null,1004,"2011-09-20",37,45,46,5,19,31,1870982,0,0,29,2981.96,1799,45.78,"SIM",461446.29,10,46,41,47,5,42,0,0,18,4804.28,1484,55.49,700000]
[null,1005,"2011-09-23",23,12,49,29,33,40,2231592,0,0,25,4125.78,1654,59.39,"SIM",667735.06999999995,4,45,19,32,35,41,1,137525.85,25,4125.78,1909,51.45,900000]
[null,1006,"2011-09-27",36,19,32,24,48,49,2249992,0,0,48,2166.56,2607,37.99,"SIM",1014384.52,34,48,31,45,30,4,0,0,35,2971.28,1798,55.08,1300000]
[null,1007,"2011-09-30",43,28,26,24,32,29,2393474,1,1235637.7,45,2458.37,1940,54.3,"NÃO",147502.12,11,33,43,5,19,25,0,0,69,1603.28,3006,35.04,300000]
[null,1008,"2011-10-04",28,27,50,32,48,46,1921807,0,0,35,2537.89,1671,50.62,"SIM",443589.11,14,17,25,24,21,10,0,0,34,2612.5300000000002,1642,51.52,600000]
[null,1009,"2011-10-07",28,35,19,7,36,16,2109762,0,0,32,3047.29,1795,51.73,"SIM",768633.76,43,35,7,22,13,11,0,0,42,2321.75,2505,37.07,1000000]
[null,1010,"2011-10-11",38,23,4,42,37,7,2192701,0,0,40,2533.6799999999998,2075,46.51,"SIM",971327.44,11,41,18,42,40,34,1,135129.12,26,3897.95,1589,60.74,1250000]
[null,1011,"2011-10-14",10,9,32,47,39,18,2099132,0,0,29,3345.59,1693,54.57,"SIM",1294734.3500000001,8,6,5,47,3,41,0,0,36,2695.06,1918,48.17,1500000]
[null,1012,"2011-10-18",8,47,38,24,31,42,2438691,0,0,45,2504.81,1963,54.68,"SIM",1670456.1,35,28,5,19,47,27,0,0,65,1734.1,3378,31.77,1900000]
[null,1013,"2011-10-21",45,42,28,36,18,7,2728794,1,1922706.32,65,1940.39,2904,41.36,"NÃO",168166.81,15,21,25,45,39,38,0,0,30,4204.17,2001,60.02,300000]
[null,1014,"2011-10-25",37,6,7,50,21,44,1896514,0,0,27,3246.56,1514,55.14,"SIM",460356.98,31,24,9,14,22,8,0,0,28,3130.61,1376,60.67,700000]
[null,1015,"2011-10-28",31,6,7,33,25,14,2136549,0,0,26,3798.13,1858,50.61,"SIM",789528.6,2,1,38,4,46,36,0,0,25,3950.06,1379,68.2,1000000]
[null,1016,"2011-11-01",4,46,15,10,12,1,2244347,0,0,42,2469.86,2305,42.86,"SIM",1135308.3500000001,12,46,25,7,47,24,0,0,51,2034,2784,35.479999999999997,1400000]
[null,1017,"2011-11-04",34,25,5,45,14,47,2317661,1,1349553.36,60,1785.38,2536,40.22,"NÃO",142830.01,32,17,14,33,46,44,0,0,35,3060.64,1996,51.11,300000]
[null,1018,"2011-11-08",41,1,10,12,35,40,1941872,0,0,29,3094.95,1783,47.94,"SIM",442008.35,20,12,48,18,6,35,0,0,40,2243.84,2022,42.27,600000]
[null,1019,"2011-11-11",38,9,39,27,46,10,2254470,0,0,29,3593.17,1602,61.94,"SIM",650411.97,42,46,19,34,33,40,1,138935.75,24,4341.74,1597,62.14,800000]
[null,1020,"2011-11-16",31,38,19,29,16,27,1394808,0,0,19,3393.06,931,65.94,"SIM",865305.81,38,2,43,3,27,44,0,0,10,6446.82,996,61.64,1000000]
[null,1021,"2011-11-18",44,10,50,1,3,18,1968676,0,0,49,1856.99,2311,37.49,"SIM",1168613.76,21,11,37,42,35,10,0,0,22,4136.0200000000004,1470,58.95,1400000]
[null,1022,"2011-11-22",32,11,25,4,33,35,2391120,0,0,26,4250.68,1998,52.68,"SIM",1537006.38,21,39,9,46,2,48,0,0,22,5023.53,1800,58.47,1800000]
[null,1023,"2011-11-25",44,15,39,14,49,18,2491782,0,0,34,3387.37,1823,60.16,"SIM",1767347.17,39,16,40,47,50,27,1,153560.53,19,6061.6,1633,67.16,2000000]
[null,1024,"2011-11-29",31,12,50,39,20,14,2339268,0,0,11,9829.2000000000007,1499,68.69,"SIM",2127751.11,11,7,13,2,18,41,0,0,67,1613.75,2602,39.57,2300000]
[null,1025,"2011-12-02",30,42,39,8,28,12,2771131,0,0,35,3659.49,1958,62.29,"SIM",2554690.88,45,21,29,31,38,2,0,0,20,6404.09,1660,73.48,2800000]
[null,1026,"2011-12-06",29,31,12,43,34,4,2871143,1,2820099.87,59,2249.23,2860,44.19,"NÃO",176939.33,15,39,8,49,48,12,0,0,54,2457.4899999999998,2463,51.31,350000]
[null,1027,"2011-12-09",13,11,16,1,43,8,2081900,0,0,28,3436.63,1986,46.14,"SIM",497691.36,30,35,4,27,39,19,0,0,23,4183.72,1797,50.99,700000]
[null,1028,"2011-12-13",13,47,25,9,17,7,2053710,0,0,84,1130.04,3647,24.78,"SIM",814100.25,34,3,20,11,40,23,0,0,27,3515.66,1450,62.34,1000000]
[null,1029,"2011-12-16",22,19,16,30,45,25,2137415,0,0,36,2744.21,1772,53.09,"SIM",1011683.29,39,28,3,42,26,4,1,131722.03,36,2744.21,1768,53.21,1200000]
[null,1030,"2011-12-20",7,16,15,38,25,32,2009972,0,0,21,4423.8599999999997,1599,55.33,"SIM",1321353.58,20,38,31,37,28,17,0,0,14,6635.79,913,96.9,1500000]
[null,1031,"2011-12-23",43,26,2,3,42,35,2362708,0,0,34,3211.9,1988,52.31,"SIM",1685368.84,30,9,4,26,28,44,0,0,59,1850.92,2368,43.92,1800000]
[null,1032,"2011-12-27",48,6,8,45,21,11,2319818,0,0,37,2897.9,2058,49.61,"SIM",2042776.17,39,37,33,16,40,47,0,0,28,3829.37,2024,50.45,2300000]
[null,1033,"2011-12-30",22,19,20,24,45,28,2346588,0,0,32,3389.36,2026,50.98,"SIM",2404307.88,44,42,12,13,21,17,0,0,46,2357.81,2077,49.73,2700000]
[null,1034,"2012-01-03",20,35,25,16,10,4,2554841,0,0,33,3578.33,1921,58.54,"SIM",2797924.49,38,33,6,22,26,45,0,0,46,2567.0700000000002,2360,47.65,3000000]
[null,1035,"2012-01-06",31,45,29,20,15,9,2973091,0,0,46,2987.32,2300,56.9,"SIM",3255979.63,24,23,44,39,31,40,0,0,27,5089.5,1848,70.81,3600000]
[null,1036,"2012-01-10",27,24,20,4,32,31,3427278,0,0,44,3600.21,2287,65.959999999999994,"SIM",3784010,18,41,26,36,11,21,0,0,38,4168.66,2358,63.98,4000000]
[null,1037,"2012-01-13",18,48,26,6,21,27,4029919,0,0,54,3449.32,3319,53.44,"SIM",4404887.4400000004,20,26,31,22,15,5,0,0,46,4049.2,3136,56.56,4800000]
[null,1038,"2012-01-17",15,48,22,10,18,38,4386854,0,0,57,3557.21,3596,53.7,"SIM",4810409.05,21,34,20,44,50,10,1,270347.74,54,3754.83,3251,59.39,5300000]
[null,1039,"2012-01-20",3,7,10,23,13,8,4638056,0,0,98,2187.46,5495,37.15,"SIM",5524980.3200000003,2,41,14,19,45,16,0,0,84,2552.04,4343,47,6000000]
[null,1040,"2012-01-24",12,8,22,14,2,1,4708013,0,0,79,2754.49,4673,44.34,"SIM",6250329.6600000001,42,22,18,40,16,20,0,0,74,2940.61,3273,63.31,6500000]
[null,1041,"2012-01-27",12,28,5,14,36,9,4959301,0,0,143,1602.93,5980,36.5,"SIM",6708768.3799999999,32,31,27,37,16,33,2,152812.91,44,5209.53,3171,68.84,7000000]
[null,1042,"2012-01-31",45,41,14,21,4,32,5139208,0,0,91,2610.27,4327,52.28,"SIM",7500550.6299999999,33,11,10,26,49,35,0,0,76,3125.46,4806,47.07,8000000]
[null,1043,"2012-02-03",25,46,23,15,20,4,5683604,0,0,95,2765.23,4836,51.73,"SIM",8376206.3300000001,19,9,44,6,45,41,0,0,89,2951.65,4737,52.81,9000000]
[null,1044,"2012-02-07",10,18,1,35,12,45,6590894,0,0,187,1629.04,6778,42.8,"SIM",8985469.8200000003,40,2,46,4,49,15,1,406175.66,64,4759.87,5015,57.85,9500000]
[null,1045,"2012-02-10",47,13,19,1,38,8,7232542,0,0,114,2932.36,6975,45.64,"SIM",10099765.74,49,45,21,7,40,28,0,0,119,2809.15,6045,52.66,11000000]
[null,1046,"2012-02-14",9,37,15,18,42,17,8554371,0,0,112,3530.22,7704,48.87,"SIM",11417711.859999999,38,17,24,21,48,35,0,0,96,4118.58,6845,55.01,12000000]
[null,1047,"2012-02-17",28,49,42,37,3,31,9729175,1,12317078.65,175,2569.62,8288,51.67,"NÃO",599577.86,47,30,8,18,17,36,0,0,109,4125.54,7198,59.49,800000]
[null,1048,"2012-02-22",21,11,22,43,40,30,1320268,0,0,12,5085.25,678,85.71,"SIM",802987.53,41,14,13,33,30,31,0,0,25,2440.92,1160,50.1,1000000]
[null,1049,"2012-02-24",14,49,2,44,33,46,2369083,0,0,44,2488.62,2379,43.83,"SIM",1167984.98,8,22,29,33,38,41,0,0,21,5214.25,1604,65.010000000000005,1400000]
[null,1050,"2012-02-28",15,32,46,1,30,6,2948405,0,0,35,3893.59,1955,66.38,"SIM",1622236.82,1,36,47,42,20,43,0,0,36,3785.44,1739,74.63,1900000]
[null,1051,"2012-03-02",1,29,50,3,36,15,2980729,0,0,62,2222.09,3060,42.87,"SIM",1897775.95,42,26,20,23,3,9,2,91846.38,41,3360.24,2636,49.77,2100000]
[null,1052,"2012-03-06",14,36,13,24,47,39,3382795,0,0,54,2895.43,3327,44.75,"SIM",2418952.9500000002,32,45,3,24,48,2,0,0,62,2521.8200000000002,3804,39.14,2800000]
[null,1053,"2012-03-09",25,10,22,5,40,12,3396938,0,0,62,2532.37,3501,42.71,"SIM",2942308.93,10,42,19,9,11,4,0,0,92,1706.6,4242,35.24,3300000]
[null,1054,"2012-03-13",33,22,20,4,9,42,3478925,0,0,41,3921.86,3005,50.96,"SIM",3478296.39,5,15,7,22,1,13,0,0,99,1624.21,4426,34.590000000000003,3800000]
[null,1055,"2012-03-16",34,1,15,45,40,23,3903384,0,0,39,4626.0200000000004,3337,51.49,"SIM",4079678.97,47,6,46,3,11,32,0,0,36,5011.5200000000004,3777,45.49,4500000]
[null,1056,"2012-03-20",22,26,43,30,9,8,4236369,0,0,49,3996.03,3451,54.03,"SIM",4732363.54,24,26,42,50,14,32,0,0,51,3839.32,3202,58.23,5200000]
[null,1057,"2012-03-23",8,2,25,4,7,5,4759756,2,2586178.14,199,1579.29,6701,31.26,"NÃO",293328.49,13,34,26,41,5,27,0,0,93,2365.56,4875,42.97,450000]
[null,1058,"2012-03-27",44,9,25,37,38,36,2294815,1,505461.62,25,4242.66,1920,52.61,"NÃO",141422.07999999999,23,47,14,22,46,5,0,0,32,3314.58,2091,48.3,300000]
[null,1059,"2012-03-30",37,49,7,45,27,40,2129429,0,0,23,4279.24,1830,51.22,"SIM",469496.75,14,26,42,29,34,43,0,0,38,2590.0700000000002,1951,48.04,700000]
[null,1060,"2012-04-03",37,7,34,47,35,32,2580733,0,0,29,4113.16,2308,49.22,"SIM",867102.48,4,44,3,32,38,9,0,0,39,3058.51,2400,47.33,1000000]
[null,1061,"2012-04-05",37,8,24,17,18,2,1714644,1,1025604.48,28,2830.39,1606,46.99,"NÃO",0,27,9,35,49,4,18,1,105668.01,59,1343.24,2206,34.21,150000]
[null,1062,"2012-04-10",5,2,25,38,26,24,2112389,1,195269.63,37,2638.78,2342,39.700000000000003,"NÃO",130179.75,1,21,11,43,34,35,0,0,20,4881.74,1259,73.849999999999994,260000]
[null,1063,"2012-04-13",8,38,11,15,16,43,2063038,0,0,16,5959.62,1697,53.51,"SIM",448025.76,21,4,26,6,44,28,0,0,37,2577.13,2158,42.08,700000]
[null,1064,"2012-04-17",21,7,32,6,44,16,2230372,0,0,22,4685.82,1552,63.25,"SIM",791652.43,34,8,14,2,27,18,0,0,42,2454.48,2168,45.28,1000000]
[null,1065,"2012-04-20",35,3,47,27,14,36,2174932,0,0,48,2094.29,2472,38.72,"SIM",1126737.6200000001,46,14,8,18,5,21,0,0,55,1827.74,2140,44.73,1300000]
[null,1066,"2012-04-24",29,50,31,5,35,25,2156673,1,1326100.8600000001,83,1200.99,2376,39.950000000000003,"NÃO",132908.84,33,44,27,28,49,37,0,0,34,2931.81,1892,50.17,300000]
[null,1067,"2012-04-27",37,4,8,15,36,50,1943508,1,312567.07,23,3905.61,1725,49.59,"NÃO",119772.16,22,18,31,21,49,36,0,0,17,5284.07,1295,66.06,300000]
[null,1068,"2012-04-30",6,2,43,18,11,46,1073980,0,0,19,2612.6,953,49.6,"SIM",285236.99,19,17,9,32,18,29,0,0,18,2757.75,893,52.94,400000]
[null,1069,"2012-05-04",9,18,49,17,37,28,2049907,1,474730.76,33,2871.12,2124,42.48,"NÃO",0,17,13,34,48,30,3,1,126329.19,44,2153.34,2251,40.08,150000]
[null,1070,"2012-05-08",20,39,28,12,1,7,1908083,0,0,25,3527.67,1715,48.97,"SIM",293972.56,21,17,47,38,7,19,0,0,31,2844.9,1893,44.36,500000]
[null,1071,"2012-05-11",14,21,6,12,31,44,2035048,0,0,17,5532.95,1641,54.58,"SIM",607506.24,20,37,15,10,38,22,0,0,18,5225.5600000000004,1442,62.12,800000]
[null,1072,"2012-05-15",14,20,21,31,17,32,2265081,0,0,20,5234.6099999999997,1477,67.5,"SIM",956480.41,34,11,18,46,40,20,0,0,21,4985.3500000000004,1549,64.36,1200000]
[null,1073,"2012-05-18",32,48,29,21,18,3,2406981,0,0,45,2472.2399999999998,2134,49.65,"SIM",1327316.69,49,43,4,22,29,46,0,0,43,2587.23,2512,42.17,1500000]
[null,1074,"2012-05-22",16,37,7,40,23,38,2601921,0,0,31,3879.39,1942,58.97,"SIM",1728186.77,37,47,42,21,1,38,0,0,25,4810.4399999999996,1490,76.86,2000000]
[null,1075,"2012-05-25",23,35,15,14,4,5,2749200,0,0,53,2397.52,2890,41.87,"SIM",2151747.69,30,13,48,4,33,11,0,0,57,2229.27,2635,45.92,2500000]
[null,1076,"2012-05-29",1,45,41,10,28,18,2967740,0,0,53,2588.1,3137,41.64,"SIM",2608978.42,46,38,28,19,42,31,0,0,42,3265.93,2584,50.55,3000000]
[null,1077,"2012-06-01",25,31,14,21,19,3,3286996,0,0,41,3705.5,3000,48.23,"SIM",3115395.96,30,9,39,8,10,13,0,0,41,3705.5,2778,52.08,3500000]
[null,1078,"2012-06-05",15,41,19,28,18,39,3508685,0,0,45,3603.81,2623,58.88,"SIM",3655968.46,24,25,50,49,33,35,0,0,34,4769.76,3108,49.69,4000000]
[null,1079,"2012-06-08",9,12,15,10,17,39,3216961,0,0,41,3626.54,3093,45.78,"SIM",4151595.91,13,43,30,5,6,47,0,0,48,3097.67,3106,45.59,4600000]
[null,1080,"2012-06-12",37,47,26,48,40,27,4061182,0,0,43,4365.3100000000004,2870,62.28,"SIM",4777289.96,39,30,10,5,13,29,0,0,81,2317.39,4642,38.51,5200000]
[null,1081,"2012-06-15",48,26,7,6,37,11,4185526,0,0,50,3869.11,3126,58.93,"SIM",5422141.2999999998,24,19,10,2,21,4,0,0,109,1774.82,4713,39.090000000000003,5800000]
[null,1082,"2012-06-19",18,23,49,15,39,31,4662765,0,0,81,2660.66,4451,46.11,"SIM",6140519.4199999999,45,30,28,27,37,35,0,0,53,4066.29,3154,65.069999999999993,6600000]
[null,1083,"2012-06-22",5,9,38,37,32,13,4543982,0,0,66,3182.17,4692,42.63,"SIM",6560565.9699999997,39,10,21,9,11,19,1,280031.03999999998,108,1944.66,5114,39.11,7000000]
[null,1084,"2012-06-26",50,32,26,39,49,16,4986208,0,0,56,4115.41,3505,62.62,"SIM",7328775.9800000004,36,12,38,29,20,2,0,0,78,2954.66,4188,52.4,7800000]
[null,1085,"2012-06-29",19,32,16,39,38,34,6501090,2,3964868.98,135,2225.79,5898,48.52,"NÃO",400641.33,2,45,32,19,33,5,0,0,93,3230.98,6514,43.93,600000]
[null,1086,"2012-07-03",24,33,5,15,47,27,2609304,0,0,66,1827.31,3353,34.25,"SIM",802648.9,33,37,36,44,8,2,0,0,41,2941.52,2280,50.37,1000000]
[null,1087,"2012-07-06",42,25,1,16,4,36,2849769,0,0,45,2927.03,2315,54.18,"SIM",1241704.2,43,3,9,15,14,8,0,0,51,2582.6799999999998,2726,46.01,1500000]
[null,1088,"2012-07-10",42,41,13,12,28,47,2892240,1,1509063.4,25,5347.19,2273,56.01,"NÃO",178239.47,18,50,42,12,16,9,0,0,34,3931.76,2278,55.88,300000]
[null,1089,"2012-07-13",42,30,27,28,23,41,2444476,0,0,42,2690.1,1678,64.12,"SIM",554852.49,38,42,45,31,33,6,0,0,26,4345.53,1796,59.91,800000]
[null,1090,"2012-07-17",3,15,9,38,29,28,2649961,0,0,43,2848.41,2457,47.47,"SIM",963123.96,31,10,27,29,9,17,0,0,36,3402.26,2277,51.22,1200000]
[null,1091,"2012-07-20",40,27,35,48,7,1,2719958,0,0,40,3142.92,1982,60.4,"SIM",1382179.66,7,9,21,38,17,18,0,0,47,2674.82,2773,43.17,1700000]
[null,1092,"2012-07-24",23,4,33,40,10,22,2945508,0,0,40,3403.54,2046,63.37,"SIM",1835985.17,12,40,2,50,41,25,0,0,34,4004.17,2226,58.24,2200000]
[null,1093,"2012-07-27",32,44,37,50,40,25,3117852,0,0,42,3431.13,2378,57.71,"SIM",2316343.19,5,24,23,15,38,41,0,0,44,3275.17,2706,50.71,2600000]
[null,1094,"2012-07-31",5,15,50,26,43,21,3318545,0,0,56,2738.99,2948,49.55,"SIM",2827621.39,27,8,4,50,43,26,0,0,55,2788.79,3076,47.49,3200000]
[null,1095,"2012-08-03",9,50,49,22,43,23,3764656,0,0,60,2900.05,3222,51.43,"SIM",3407630.56,17,34,20,10,11,28,0,0,41,4243.97,2979,55.62,3800000]
[null,1096,"2012-08-07",44,31,48,35,5,39,3992975,0,0,61,3025.5,3103,56.64,"SIM",4022816.14,6,50,8,17,37,33,0,0,54,3417.7,3443,51.05,4400000]
[null,1097,"2012-08-10",43,7,14,42,41,18,4185989,0,0,52,3720.71,3624,50.84,"SIM",4667738.83,48,42,10,35,26,11,0,0,64,3023.07,3451,53.39,5100000]
[null,1098,"2012-08-14",32,10,26,8,43,29,4523488,0,0,68,3074.65,3992,49.87,"SIM",5085890.91,47,32,23,2,39,31,1,278768.05,81,2581.1799999999998,3782,52.64,5500000]
[null,1099,"2012-08-17",25,40,46,20,15,48,4809739,0,0,58,3832.88,3358,63.04,"SIM",5826912.8700000001,31,46,4,30,7,41,0,0,45,4940.1499999999996,3200,66.16,6300000]
[null,1100,"2012-08-21",10,40,15,39,21,23,5374425,0,0,58,4282.87,4222,56.03,"SIM",6654934.2999999998,22,30,37,36,41,23,0,0,38,6537.01,3173,74.55,7000000]
[null,1101,"2012-08-24",30,36,12,45,31,17,5655941,0,0,71,3681.95,4510,55.2,"SIM",7526328.0599999996,23,46,25,13,6,31,0,0,87,3004.81,5210,47.78,8000000]
[null,1102,"2012-08-28",37,33,34,1,30,17,5697319,0,0,74,3558.52,3916,64.040000000000006,"SIM",8052989.2999999998,11,36,34,39,27,17,1,351107.5,77,3419.88,4963,50.53,8600000]
[null,1103,"2012-08-31",42,20,35,2,28,18,5756439,0,0,93,2860.9,4953,51.15,"SIM",8939866.4800000004,40,43,44,41,13,2,0,0,60,4434.3900000000003,4161,60.89,9600000]
[null,1104,"2012-09-04",13,31,25,45,36,10,6153471,1,9508694.5,131,2171.1,6162,43.95,"NÃO",0,34,17,8,36,48,14,1,379218.68,161,1766.55,6772,39.99,150000]
[null,1105,"2012-09-06",26,46,24,5,34,17,1271459,1,117533.9,20,2938.35,1369,40.880000000000003,"NÃO",78355.929999999993,39,22,49,18,31,47,0,0,24,2448.63,1034,54.12,200000]
[null,1106,"2012-09-11",9,37,45,42,4,8,2277105,0,0,44,2392,2277,44.02,"SIM",288851.94,30,50,7,19,40,27,1,140330.67000000001,35,3007.09,1994,50.26,500000]
[null,1107,"2012-09-14",16,6,31,43,45,2,2301540,1,501606.72,20,5318.87,1513,66.959999999999994,"NÃO",141836.51999999999,50,15,16,19,31,47,0,0,32,3324.3,1919,52.79,300000]
[null,1108,"2012-09-18",46,40,20,35,33,22,2133438,0,0,18,5478.2,1211,77.540000000000006,"SIM",470528.85,9,37,45,18,25,30,0,0,47,2098.04,2028,46.3,650000]
[null,1109,"2012-09-21",13,19,31,15,27,18,2229227,1,676599,52,1981.45,2527,38.83,"NÃO",137380.10999999999,19,7,34,36,13,24,0,0,55,1873.37,2859,34.32,400000]
[null,1110,"2012-09-25",10,46,7,48,13,3,2044158,0,0,46,2053.94,2420,37.18,"SIM",452317.34,5,16,39,24,49,23,0,0,28,3374.33,1687,53.33,700000]
[null,1111,"2012-09-28",18,3,1,42,26,46,2332030,0,0,33,3266.26,1944,52.8,"SIM",811606.14,16,44,49,14,35,6,0,0,24,4491.1099999999997,1885,54.45,1000000]
[null,1112,"2012-10-02",40,10,16,45,49,22,2499956,0,0,26,4444.16,1897,58.01,"SIM",1196766.79,11,32,39,42,26,7,0,0,37,3122.93,1981,55.55,1400000]
[null,1113,"2012-10-05",1,22,34,24,31,39,2836821,0,0,22,5959.92,1531,81.56,"SIM",1633827.23,48,47,29,8,18,6,0,0,40,3277.96,2323,53.75,2000000]
[null,1114,"2012-10-09",48,24,35,45,9,30,2911235,0,0,33,4077.5,2399,53.41,"SIM",1902942.33,2,14,37,21,36,33,1,179410.07,56,2402.8200000000002,2752,46.56,2200000]
[null,1115,"2012-10-11",17,6,18,50,11,39,2053016,0,0,28,3388.95,1692,53.41,"SIM",2219244.2999999998,22,21,7,35,40,14,0,0,23,4125.68,2037,44.36,2400000]
[null,1116,"2012-10-16",2,35,48,27,14,37,3265824,0,0,71,2126.0100000000002,3397,42.31,"SIM",2722399.93,33,18,42,12,23,8,0,0,45,3354.37,2756,52.16,3100000]
[null,1117,"2012-10-19",45,20,7,46,43,34,3767570,0,0,35,4975.3599999999997,2500,66.33,"SIM",3302858.06,41,31,49,17,22,30,0,0,53,3285.62,2545,65.16,3700000]
[null,1118,"2012-10-23",1,27,21,25,38,20,3653774,0,0,40,4221.9399999999996,2160,74.459999999999994,"SIM",3865783.98,35,21,8,24,11,32,0,0,46,3671.26,2954,54.44,4200000]
[null,1119,"2012-10-26",3,9,13,19,2,7,3980435,0,0,154,1194.6500000000001,5938,29.5,"SIM",4233736.13,31,30,35,8,11,13,1,245301.44,68,2705.53,4224,41.48,4600000]
[null,1120,"2012-10-30",39,47,28,31,14,16,4231360,2,2312441.92,82,2385.0500000000002,4157,44.8,"NÃO",260765.15,16,28,43,34,12,26,0,0,84,2328.2600000000002,4203,44.31,400000]
[null,1121,"2012-11-01",38,17,19,34,3,24,1541902,0,0,33,2159.6,1729,39.25,"SIM",498321.31,13,28,20,50,4,5,0,0,12,5938.9,1441,47.1,700000]
[null,1122,"2012-11-06",22,34,26,6,13,41,2637536,0,0,68,1792.75,2402,48.33,"SIM",904678.5,20,48,26,42,21,13,0,0,49,2487.9,2252,51.55,1400000]
[null,1123,"2012-11-09",34,40,6,20,5,45,2924404,0,0,31,4360.2,2091,61.56,"SIM",1355232.58,16,18,34,26,33,37,0,0,31,4360.2,2312,55.67,1700000]
[null,1124,"2012-11-13",8,44,18,29,49,28,3326991,0,0,64,2402.7199999999998,2831,51.73,"SIM",1867812.02,18,23,5,12,19,40,0,0,41,3750.58,3090,47.39,2100000]
[null,1125,"2012-11-16",35,9,22,31,47,17,2915267,0,0,64,2105.37,2935,43.72,"SIM",2316958.39,35,13,7,40,22,33,0,0,65,2072.98,3332,38.51,2600000]
[null,1126,"2012-11-20",16,50,29,27,11,47,3041668,0,0,38,3699.64,2591,51.67,"SIM",2598130.7400000002,39,24,50,19,46,34,1,187448.24,42,3347.29,2475,54.09,2900000]
[null,1127,"2012-11-23",12,48,22,8,17,37,3371224,1,2909767.32,32,4869.32,2899,51.18,"NÃO",207757.72,30,13,46,19,10,17,0,0,50,3116.37,3308,44.86,350000]
[null,1128,"2012-11-27",31,43,10,42,6,9,2337747,0,0,33,3274.27,1608,63.99,"SIM",567927.31999999995,8,45,36,1,30,46,0,0,14,7717.92,1337,76.959999999999994,800000]
[null,1129,"2012-11-30",39,23,6,47,18,15,2496900,2,399370.61,76,1518.51,2899,37.909999999999997,"NÃO",153875.94,25,10,1,26,36,12,0,0,35,3297.34,2429,45.24,300000]
[null,1130,"2012-12-04",38,15,26,37,47,10,2253383,0,0,22,4734.16,1730,57.33,"SIM",501047.83,12,6,24,19,43,9,0,0,54,1928.74,2925,33.909999999999997,750000]
[null,1131,"2012-12-07",19,22,1,5,24,35,2325092,0,0,33,3256.54,2205,46.41,"SIM",859267.72,11,36,39,8,3,22,0,0,47,2286.5100000000002,2311,44.28,1100000]
[null,1132,"2012-12-11",31,27,46,36,49,38,2775194,0,0,21,6108.09,1939,63,"SIM",1286833.46,42,1,14,44,35,22,0,0,26,4933.45,2221,55,1600000]
[null,1133,"2012-12-14",35,8,50,42,44,28,2886669,0,0,32,4169.4399999999996,2356,53.93,"SIM",1731573.83,41,32,49,10,34,48,0,0,23,5800.96,2001,63.5,2000000]
[null,1134,"2012-12-18",49,13,7,36,4,41,2762884,0,0,61,2093.46,2929,41.52,"SIM",2157243.0099999998,28,1,5,3,33,12,0,0,57,2240.37,3219,37.78,2400000]
[null,1135,"2012-12-21",23,40,8,17,9,12,2903430,0,0,62,2164.4699999999998,3073,41.59,"SIM",2604565.69,32,3,26,21,37,25,0,0,36,3727.69,2389,53.49,2900000]
[null,1136,"2012-12-24",43,20,21,27,33,24,1483693,0,0,16,4286.03,1076,60.69,"SIM",2833153.77,12,15,5,43,38,46,0,0,26,2637.56,1372,47.6,3000000]
[null,1137,"2012-12-28",43,14,34,49,24,6,3216752,0,0,43,3457.64,2463,57.49,"SIM",3328749.02,14,34,24,12,40,31,0,0,46,3232.14,2375,59.62,3700000]
[null,1138,"2012-12-31",4,5,32,14,23,41,1381277,3,1152144.8400000001,164,556.12,1255,48.44,"NÃO",85123.67,37,21,17,20,4,6,0,0,8,7980.35,897,67.78,200000]
[null,1139,"2013-01-04",33,26,22,20,21,50,2272357,0,0,21,5001.3599999999997,1479,67.63,"SIM",295180.76,16,30,11,10,5,8,1,140038.07,45,2333.9699999999998,2238,44.69,500000]
[null,1140,"2013-01-08",10,37,5,38,20,16,2397693,1,516823.95,21,5277.22,1652,63.88,"NÃO",147762.12,3,2,27,32,20,17,0,0,27,4104.5,1768,59.69,300000]
[null,1141,"2013-01-11",15,37,22,19,28,25,2249672,0,0,32,3249.38,2136,46.36,"SIM",494362.28,31,44,27,11,34,39,0,0,36,2888.34,1775,55.79,750000]
[null,1142,"2013-01-15",33,49,24,14,45,26,2491021,0,0,52,2214.14,2683,40.86,"SIM",724632.72,25,8,20,50,19,32,1,153513.63,30,3837.84,2139,51.26,1000000]
[null,1143,"2013-01-18",45,47,32,49,46,23,2457978,1,951848.66,31,3664.78,2223,48.67,"NÃO",151477.29999999999,37,5,19,27,8,22,0,0,56,2028.72,2899,37.32,400000]
[null,1144,"2013-01-22",5,46,21,47,1,35,2043775,0,0,19,4971.76,1464,61.45,"SIM",466355.52,49,34,11,27,47,40,0,0,29,3257.36,1630,55.19,800000]
[null,1145,"2013-01-25",39,35,16,24,4,12,2234492,0,0,59,1750.48,2439,40.32,"SIM",810616.94,8,39,10,11,2,30,0,0,40,2581.96,2416,40.71,1400000]
[null,1146,"2013-01-29",18,40,10,2,35,25,2556677,1,1046956.63,44,2685.68,1918,58.67,"NÃO",157559.79999999999,5,2,11,36,48,49,0,0,49,2411.63,2486,45.27,300000]
[null,1147,"2013-02-01",42,7,20,39,29,22,2056968,0,0,25,3802.93,1351,67.02,"SIM",474470.62,1,21,12,35,19,39,0,0,32,2971.04,1722,52.58,750000]
[null,1148,"2013-02-05",18,3,33,11,23,35,2342787,0,0,34,3184.82,2250,45.83,"SIM",835416.73,39,25,10,22,12,15,0,0,41,2641.07,2270,45.43,1100000]
[null,1149,"2013-02-08",5,13,30,33,45,17,2604527,1,1076179.69,115,1495.42,3805,30.13,"NÃO",0,18,1,3,37,23,48,1,160508.64000000001,97,1241.05,2702,42.43,200000]
[null,1150,"2013-02-13",2,3,24,10,37,30,968357,0,0,9,4973.0600000000004,795,53.61,"SIM",149191.82,1,7,32,36,3,10,0,0,23,1945.98,1086,39.25,300000]
[null,1151,"2013-02-15",9,21,10,18,13,44,1763604,0,0,28,2911.21,1648,47.1,"SIM",312219.7,41,4,47,35,28,22,1,108685.25,55,1482.07,1798,43.17,500000]
[null,1152,"2013-02-19",13,1,32,21,33,11,2044591,0,0,49,1928.6,1858,48.43,"SIM",627223.64,49,38,2,13,3,28,0,0,22,4295.51,1592,56.53,880000]
[null,1153,"2013-02-22",25,43,28,36,8,34,2287074,0,0,47,2249.13,2347,42.89,"SIM",979586.21,19,49,48,28,25,32,0,0,42,2516.88,2117,47.55,1200000]
[null,1154,"2013-02-26",10,28,47,41,11,31,2403457,0,0,29,3830.62,1687,62.71,"SIM",1349879.56,37,24,1,49,22,9,0,0,42,2644.95,2106,50.23,1600000]
[null,1155,"2013-03-01",19,15,9,26,44,47,2575419,0,0,44,2705.36,2355,48.13,"SIM",1746666.56,9,37,33,15,20,18,0,0,44,2705.36,2598,43.63,2000000]
[null,1156,"2013-03-05",10,33,23,11,28,25,2977657,1,2021921.73,76,1810.89,3234,40.520000000000003,"NÃO",183503.45,29,2,35,25,10,32,0,0,55,2502.3200000000002,3150,41.61,350000]
[null,1157,"2013-03-08",22,17,50,44,49,24,2126162,0,0,42,2339.8000000000002,2265,41.32,"SIM",511074.79,37,19,49,43,40,23,0,0,45,2183.81,1888,49.57,750000]
[null,1158,"2013-03-12",45,50,48,4,17,46,2394078,0,0,30,3688.49,2269,46.44,"SIM",732383.8,7,21,46,45,36,19,1,147539.35,26,4255.9399999999996,1975,53.35,1000000]
[null,1159,"2013-03-15",4,28,42,18,19,40,2422612,0,0,18,6220.74,1657,64.349999999999994,"SIM",1105628.3,50,29,28,30,45,9,0,0,28,3999.05,1819,58.62,1400000]
[null,1160,"2013-03-19",13,8,49,5,41,14,2640123,0,0,39,3128.89,2487,46.72,"SIM",1512384.07,38,18,48,11,42,37,0,0,25,4881.07,1897,61.26,1800000]
[null,1161,"2013-03-22",32,16,14,27,44,11,2663341,0,0,53,2322.64,2619,44.76,"SIM",1922716.95,49,13,25,30,35,16,0,0,40,3077.5,2195,53.41,2200000]
[null,1162,"2013-03-26",15,17,25,4,44,42,2832157,1,2184522.06,67,1953.77,2449,50.9,"NÃO",174536.75,14,21,45,36,27,6,0,0,77,1700.03,2862,43.56,500000]
[null,1163,"2013-03-30",43,37,49,20,19,24,1416010,0,0,34,1924.95,1613,38.64,"SIM",305432.96999999997,5,46,48,8,33,16,1,87264.15,31,2111.23,1454,42.86,500000]
[null,1164,"2013-04-02",7,8,32,6,10,11,1817542,0,0,45,1866.82,2022,39.56,"SIM",473446.89,39,35,28,4,20,8,1,112009.28,24,3500.29,1500,53.33,700000]
[null,1165,"2013-04-05",30,13,41,38,4,3,2192640,0,0,12,8445.34,1601,60.28,"SIM",811260.29,11,23,28,36,14,15,0,0,33,3071.03,2211,43.65,1100000]
[null,1166,"2013-04-09",38,35,3,41,9,44,2336038,0,0,39,2768.51,1892,54.35,"SIM",1171166.6000000001,41,48,9,5,35,3,0,0,53,2037.21,2423,42.43,1400000]
[null,1167,"2013-04-12",16,5,43,25,26,19,2512736,0,0,28,4147.82,2249,49.18,"SIM",1558296.23,30,22,34,27,28,31,0,0,34,3415.85,1800,61.44,1800000]
[null,1168,"2013-04-16",41,31,27,4,37,26,2612451,0,0,19,6355.14,1621,70.94,"SIM",1799791.69,18,10,20,47,33,34,1,160996.97,45,2683.29,2205,52.15,2000000]
[null,1169,"2013-04-19",20,50,37,18,28,26,2910547,0,0,28,4804.49,1759,72.83,"SIM",2068843.19,4,45,14,13,42,41,1,179367.67999999999,50,2690.52,2716,47.17,2300000]
[null,1170,"2013-04-23",43,19,3,14,39,29,2742040,0,0,31,4088.31,2045,59.02,"SIM",2491301,26,22,4,39,16,40,0,0,35,3621.07,2234,54.02,2800000]
[null,1171,"2013-04-26",19,44,26,22,32,43,3103438,0,0,47,3051.94,2809,48.63,"SIM",2969438.29,2,5,20,47,44,22,0,0,59,2431.21,2912,46.91,3300000]
[null,1172,"2013-04-30",16,40,41,25,46,13,3323610,0,0,56,2743.17,2500,58.52,"SIM",3481496.83,22,7,49,14,5,3,0,0,47,3268.46,3570,40.98,3800000]
[null,1173,"2013-05-03",35,26,44,21,11,1,3134033,0,0,38,3811.98,2362,58.4,"SIM",3964347.83,24,4,36,44,49,10,0,0,69,2099.35,3256,42.37,4300000]
[null,1174,"2013-05-07",47,42,26,10,4,9,3788136,0,0,81,2161.58,3910,42.64,"SIM",4314523.83,3,39,10,28,9,45,1,233450.67,70,2501.2600000000002,3491,47.76,4700000]

{"sheet":"Total de Saída de Cada Dezena","index":1,"n_rows":57,"n_cols":3,"rows_kept":57,"cut":false,"hidden":false,"merged":[[5,1,5,9],[1,1,1,19],[2,1,2,19],[3,1,3,19]]}
[]
[null,"Atenção!"]
[null,"Esta planilha é de uso pessoal, é restritamente proibida a distribuição da mesma a terceiros, sujeito a punições de acordo com as leis de direitos autorais"]
[null,"Todos os direitos reservados ao site www.ApostaEsperta.com "]
[]
[null,"Planilha de Análise Estatística Dupla Sena"]
[null,"Dezena","Total de Saída"]
[null,1,{"$f":"COUNTIF('Resultados Gerais'!D8:I1048576,B8)","v":147}]
[null,2,{"$f":"COUNTIF('Resultados Gerais'!D8:I1048576,B9)","v":124}]
[null,3,{"$f":"COUNTIF('Resultados Gerais'!D8:I1048576,B10)","v":139}]
[null,4,{"$f":"COUNTIF('Resultados Gerais'!D8:I1048576,B11)","v":153}]
[null,5,{"$f":"COUNTIF('Resultados Gerais'!D8:I1048576,B12)","v":134}]
[null,6,{"$f":"COUNTIF('Resultados Gerais'!D8:I1048576,B13)","v":149}]
[null,7,{"$f":"COUNTIF('Resultados Gerais'!D8:I1048576,B14)","v":141}]
[null,8,{"$f":"COUNTIF('Resultados Gerais'!D8:I1048576,B15)","v":148}]
[null,9,{"$f":"COUNTIF('Resultados Gerais'!D8:I1048576,B16)","v":147}]
[null,10,{"$f":"COUNTIF('Resultados Gerais'!D8:I1048576,B17)","v":146}]
[null,11,{"$f":"COUNTIF('Resultados Gerais'!D8:I1048576,B18)","v":158}]
[null,12,{"$f":"COUNTIF('Resultados Gerais'!D8:I1048576,B19)","v":144}]
[null,13,{"$f":"COUNTIF('Resultados Gerais'!D8:I1048576,B20)","v":124}]
[null,14,{"$f":"COUNTIF('Resultados Gerais'!D8:I1048576,B21)","v":151}]
[null,15,{"$f":"COUNTIF('Resultados Gerais'!D8:I1048576,B22)","v":140}]
[null,16,{"$f":"COUNTIF('Resultados Gerais'!D8:I1048576,B23)","v":132}]
[null,17,{"$f":"COUNTIF('Resultados Gerais'!D8:I1048576,B24)","v":130}]
[null,18,{"$f":"COUNTIF('Resultados Gerais'!D8:I1048576,B25)","v":140}]
[null,19,{"$f":"COUNTIF('Resultados Gerais'!D8:I1048576,B26)","v":153}]
[null,20,{"$f":"COUNTIF('Resultados Gerais'!D8:I1048576,B27)","v":147}]
[null,21,{"$f":"COUNTIF('Resultados Gerais'!D8:I1048576,B28)","v":151}]
[null,22,{"$f":"COUNTIF('Resultados Gerais'!D8:I1048576,B29)","v":117}]
[null,23,{"$f":"COUNTIF('Resultados Gerais'!D8:I1048576,B30)","v":132}]
[null,24,{"$f":"COUNTIF('Resultados Gerais'!D8:I1048576,B31)","v":122}]
[null,25,{"$f":"COUNTIF('Resultados Gerais'!D8:I1048576,B32)","v":143}]
[null,26,{"$f":"COUNTIF('Resultados Gerais'!D8:I1048576,B33)","v":134}]
[null,27,{"$f":"COUNTIF('Resultados Gerais'!D8:I1048576,B34)","v":121}]
[null,28,{"$f":"COUNTIF('Resultados Gerais'!D8:I1048576,B35)","v":146}]
[null,29,{"$f":"COUNTIF('Resultados Gerais'!D8:I1048576,B36)","v":146}]
[null,30,{"$f":"COUNTIF('Resultados Gerais'!D8:I1048576,B37)","v":140}]
[null,31,{"$f":"COUNTIF('Resultados Gerais'!D8:I1048576,B38)","v":147}]
[null,32,{"$f":"COUNTIF('Resultados Gerais'!D8:I1048576,B39)","v":148}]
[null,33,{"$f":"COUNTIF('Resultados Gerais'!D8:I1048576,B40)","v":160}]
[null,34,{"$f":"COUNTIF('Resultados Gerais'!D8:I1048576,B41)","v":145}]
[null,35,{"$f":"COUNTIF('Resultados Gerais'!D8:I1048576,B42)","v":138}]
[null,36,{"$f":"COUNTIF('Resultados Gerais'!D8:I1048576,B43)","v":139}]
[null,37,{"$f":"COUNTIF('Resultados Gerais'!D8:I1048576,B44)","v":136}]
[null,38,{"$f":"COUNTIF('Resultados Gerais'!D8:I1048576,B45)","v":142}]
[null,39,{"$f":"COUNTIF('Resultados Gerais'!D8:I1048576,B46)","v":153}]
[null,40,{"$f":"COUNTIF('Resultados Gerais'!D8:I1048576,B47)","v":143}]
[null,41,{"$f":"COUNTIF('Resultados Gerais'!D8:I1048576,B48)","v":122}]
[null,42,{"$f":"COUNTIF('Resultados Gerais'!D8:I1048576,B49)","v":149}]
[null,43,{"$f":"COUNTIF('Resultados Gerais'!D8:I1048576,B50)","v":131}]
[null,44,{"$f":"COUNTIF('Resultados Gerais'!D8:I1048576,B51)","v":144}]
[null,45,{"$f":"COUNTIF('Resultados Gerais'!D8:I1048576,B52)","v":152}]
[null,46,{"$f":"COUNTIF('Resultados Gerais'!D8:I1048576,B53)","v":137}]
[null,47,{"$f":"COUNTIF('Resultados Gerais'!D8:I1048576,B54)","v":167}]
[null,48,{"$f":"COUNTIF('Resultados Gerais'!D8:I1048576,B55)","v":117}]
[null,49,{"$f":"COUNTIF('Resultados Gerais'!D8:I1048576,B56)","v":139}]
[null,50,{"$f":"COUNTIF('Resultados Gerais'!D8:I1048576,B57)","v":136}]

{"sheet":"10 Últimos Sorteios","index":2,"n_rows":61,"n_cols":17,"rows_kept":61,"cut":false,"hidden":false,"merged":[[8,14,9,15],[8,3,9,10],[5,1,5,18],[1,1,1,18],[2,1,2,18],[3,1,3,18]]}
[]
[null,"Atenção!"]
[null,"Esta planilha é de uso pessoal, é restritamente proibida a distribuição da mesma a terceiros, sujeito a punições de acordo com as leis de direitos autorais"]
[null,"Todos os direitos reservados ao site www.ApostaEsperta.com "]
[]
[null,"Planilha de Análise Estatística Dupla Sena"]
[]
[]
[null,null,null,"Resultados dos Últimos 10 Sorteios",null,null,null,null,null,null,null,null,null,null,"Números Quentes\nÚtimos 10 Sorteios"]
[]
[null,null,null,"Sorteio","Data do Sorteio","1ª Dezena","2ª Dezena","3ª Dezena","4ª Dezena","5ª Dezena","6ª Dezena",null,null,null,"Dezena","Qtd de Saída"]
[null,null,null,{"$f":"COUNT('Resultados Gerais'!B8:B1048576)-C12","v":1174},{"$f":"VLOOKUP(D12,'Resultados Gerais'!B$8:C$1048576,2,0)","v":"2013-05-07"},{"$f":"VLOOKUP(D12,'Resultados Gerais'!$B$8:$I$1048576,3,0)","v":47},{"$f":"VLOOKUP(D12,'Resultados Gerais'!$B$8:$I$1048576,4,0)","v":42},{"$f":"VLOOKUP(D12,'Resultados Gerais'!$B$8:$I$1048576,5,0)","v":26},{"$f":"VLOOKUP(D12,'Resultados Gerais'!$B$8:$I$1048576,6,0)","v":10},{"$f":"VLOOKUP(D12,'Resultados Gerais'!$B$8:$I$1048576,7,0)","v":4},{"$f":"VLOOKUP(D12,'Resultados Gerais'!$B$8:$I$1048576,8,0)","v":9},null,null,null,26,{"$f":"COUNTIF($F$12:$K$22,O12)","v":6},{"$f":"P12","v":6}]
[null,null,1,{"$f":"COUNT('Resultados Gerais'!B8:B1048576)-C13","v":1173},{"$f":"VLOOKUP(D13,'Resultados Gerais'!B$8:C$1048576,2,0)","v":"2013-05-03"},{"$f":"VLOOKUP(D13,'Resultados Gerais'!$B$8:$I$1048576,3,0)","v":35},{"$f":"VLOOKUP(D13,'Resultados Gerais'!$B$8:$I$1048576,4,0)","v":26},{"$f":"VLOOKUP(D13,'Resultados Gerais'!$B$8:$I$1048576,5,0)","v":44},{"$f":"VLOOKUP(D13,'Resultados Gerais'!$B$8:$I$1048576,6,0)","v":21},{"$f":"VLOOKUP(D13,'Resultados Gerais'!$B$8:$I$1048576,7,0)","v":11},{"$f":"VLOOKUP(D13,'Resultados Gerais'!$B$8:$I$1048576,8,0)","v":1},null,null,null,41,4,{"$f":"P13","v":4}]
[null,null,2,{"$f":"COUNT('Resultados Gerais'!B8:B1048576)-C14","v":1172},{"$f":"VLOOKUP(D14,'Resultados Gerais'!B$8:C$1048576,2,0)","v":"2013-04-30"},{"$f":"VLOOKUP(D14,'Resultados Gerais'!$B$8:$I$1048576,3,0)","v":16},{"$f":"VLOOKUP(D14,'Resultados Gerais'!$B$8:$I$1048576,4,0)","v":40},{"$f":"VLOOKUP(D14,'Resultados Gerais'!$B$8:$I$1048576,5,0)","v":41},{"$f":"VLOOKUP(D14,'Resultados Gerais'!$B$8:$I$1048576,6,0)","v":25},{"$f":"VLOOKUP(D14,'Resultados Gerais'!$B$8:$I$1048576,7,0)","v":46},{"$f":"VLOOKUP(D14,'Resultados Gerais'!$B$8:$I$1048576,8,0)","v":13},null,null,null,3,3,3]
[null,null,3,{"$f":"COUNT('Resultados Gerais'!B8:B1048576)-C15","v":1171},{"$f":"VLOOKUP(D15,'Resultados Gerais'!B$8:C$1048576,2,0)","v":"2013-04-26"},{"$f":"VLOOKUP(D15,'Resultados Gerais'!$B$8:$I$1048576,3,0)","v":19},{"$f":"VLOOKUP(D15,'Resultados Gerais'!$B$8:$I$1048576,4,0)","v":44},{"$f":"VLOOKUP(D15,'Resultados Gerais'!$B$8:$I$1048576,5,0)","v":26},{"$f":"VLOOKUP(D15,'Resultados Gerais'!$B$8:$I$1048576,6,0)","v":22},{"$f":"VLOOKUP(D15,'Resultados Gerais'!$B$8:$I$1048576,7,0)","v":32},{"$f":"VLOOKUP(D15,'Resultados Gerais'!$B$8:$I$1048576,8,0)","v":43},null,null,null,4,3,3]
[null,null,4,{"$f":"COUNT('Resultados Gerais'!B8:B1048576)-C16","v":1170},{"$f":"VLOOKUP(D16,'Resultados Gerais'!B$8:C$1048576,2,0)","v":"2013-04-23"},{"$f":"VLOOKUP(D16,'Resultados Gerais'!$B$8:$I$1048576,3,0)","v":43},{"$f":"VLOOKUP(D16,'Resultados Gerais'!$B$8:$I$1048576,4,0)","v":19},{"$f":"VLOOKUP(D16,'Resultados Gerais'!$B$8:$I$1048576,5,0)","v":3},{"$f":"VLOOKUP(D16,'Resultados Gerais'!$B$8:$I$1048576,6,0)","v":14},{"$f":"VLOOKUP(D16,'Resultados Gerais'!$B$8:$I$1048576,7,0)","v":39},{"$f":"VLOOKUP(D16,'Resultados Gerais'!$B$8:$I$1048576,8,0)","v":29},null,null,null,19,3,3]
[null,null,5,{"$f":"COUNT('Resultados Gerais'!B8:B1048576)-C17","v":1169},{"$f":"VLOOKUP(D17,'Resultados Gerais'!B$8:C$1048576,2,0)","v":"2013-04-19"},{"$f":"VLOOKUP(D17,'Resultados Gerais'!$B$8:$I$1048576,3,0)","v":20},{"$f":"VLOOKUP(D17,'Resultados Gerais'!$B$8:$I$1048576,4,0)","v":50},{"$f":"VLOOKUP(D17,'Resultados Gerais'!$B$8:$I$1048576,5,0)","v":37},{"$f":"VLOOKUP(D17,'Resultados Gerais'!$B$8:$I$1048576,6,0)","v":18},{"$f":"VLOOKUP(D17,'Resultados Gerais'!$B$8:$I$1048576,7,0)","v":28},26,null,null,null,43,3,3]
[null,null,6,{"$f":"COUNT('Resultados Gerais'!B8:B1048576)-C18","v":1168},{"$f":"VLOOKUP(D18,'Resultados Gerais'!B$8:C$1048576,2,0)","v":"2013-04-16"},{"$f":"VLOOKUP(D18,'Resultados Gerais'!$B$8:$I$1048576,3,0)","v":41},{"$f":"VLOOKUP(D18,'Resultados Gerais'!$B$8:$I$1048576,4,0)","v":31},{"$f":"VLOOKUP(D18,'Resultados Gerais'!$B$8:$I$1048576,5,0)","v":27},{"$f":"VLOOKUP(D18,'Resultados Gerais'!$B$8:$I$1048576,6,0)","v":4},{"$f":"VLOOKUP(D18,'Resultados Gerais'!$B$8:$I$1048576,7,0)","v":37},26,null,null,null,44,3,3]
[null,null,7,{"$f":"COUNT('Resultados Gerais'!B8:B1048576)-C19","v":1167},{"$f":"VLOOKUP(D19,'Resultados Gerais'!B$8:C$1048576,2,0)","v":"2013-04-12"},{"$f":"VLOOKUP(D19,'Resultados Gerais'!$B$8:$I$1048576,3,0)","v":16},{"$f":"VLOOKUP(D19,'Resultados Gerais'!$B$8:$I$1048576,4,0)","v":5},{"$f":"VLOOKUP(D19,'Resultados Gerais'!$B$8:$I$1048576,5,0)","v":43},{"$f":"VLOOKUP(D19,'Resultados Gerais'!$B$8:$I$1048576,6,0)","v":25},26,{"$f":"VLOOKUP(D19,'Resultados Gerais'!$B$8:$I$1048576,8,0)","v":19},null,null,null,9,2,2]
[null,null,8,{"$f":"COUNT('Resultados Gerais'!B8:B1048576)-C20","v":1166},{"$f":"VLOOKUP(D20,'Resultados Gerais'!B$8:C$1048576,2,0)","v":"2013-04-09"},{"$f":"VLOOKUP(D20,'Resultados Gerais'!$B$8:$I$1048576,3,0)","v":38},{"$f":"VLOOKUP(D20,'Resultados Gerais'!$B$8:$I$1048576,4,0)","v":35},{"$f":"VLOOKUP(D20,'Resultados Gerais'!$B$8:$I$1048576,5,0)","v":3},{"$f":"VLOOKUP(D20,'Resultados Gerais'!$B$8:$I$1048576,6,0)","v":41},{"$f":"VLOOKUP(D20,'Resultados Gerais'!$B$8:$I$1048576,7,0)","v":9},{"$f":"VLOOKUP(D20,'Resultados Gerais'!$B$8:$I$1048576,8,0)","v":44},null,null,null,13,2,2]
[null,null,9,{"$f":"COUNT('Resultados Gerais'!B8:B1048576)-C21","v":1165},{"$f":"VLOOKUP(D21,'Resultados Gerais'!B$8:C$1048576,2,0)","v":"2013-04-05"},{"$f":"VLOOKUP(D21,'Resultados Gerais'!$B$8:$I$1048576,3,0)","v":30},{"$f":"VLOOKUP(D21,'Resultados Gerais'!$B$8:$I$1048576,4,0)","v":13},{"$f":"VLOOKUP(D21,'Resultados Gerais'!$B$8:$I$1048576,5,0)","v":41},{"$f":"VLOOKUP(D21,'Resultados Gerais'!$B$8:$I$1048576,6,0)","v":38},{"$f":"VLOOKUP(D21,'Resultados Gerais'!$B$8:$I$1048576,7,0)","v":4},{"$f":"VLOOKUP(D21,'Resultados Gerais'!$B$8:$I$1048576,8,0)","v":3},null,null,null,16,2,2]
[null,null,10,null,null,null,null,null,null,null,null,null,null,null,25,2,2]
[null,null,null,null,null,null,null,null,null,null,null,null,null,null,35,2,2]
[null,null,null,null,null,null,null,null,null,null,null,null,null,null,37,2,2]
[null,null,null,null,null,null,null,null,null,null,null,null,null,null,38,2,2]
[null,null,null,null,null,null,null,null,null,null,null,null,null,null,10,1,1]
[null,null,null,null,null,null,null,null,null,null,null,null,null,null,11,1,1]
[null,null,null,null,null,null,null,null,null,null,null,null,null,null,32,1,1]
[null,null,null,null,null,null,null,null,null,null,null,null,null,null,1,1,1]
[null,null,null,null,null,null,null,null,null,null,null,null,null,null,5,1,1]
[null,null,null,null,null,null,null,null,null,null,null,null,null,null,14,1,1]
[null,null,null,null,null,null,null,null,null,null,null,null,null,null,18,1,1]
[null,null,null,null,null,null,null,null,null,null,null,null,null,null,20,1,1]
[null,null,null,null,null,null,null,null,null,null,null,null,null,null,21,1,1]
[null,null,null,null,null,null,null,null,null,null,null,null,null,null,22,1,1]
[null,null,null,null,null,null,null,null,null,null,null,null,null,null,27,1,1]
[null,null,null,null,null,null,null,null,null,null,null,null,null,null,28,1,1]
[null,null,null,null,null,null,null,null,null,null,null,null,null,null,29,1,1]
[null,null,null,null,null,null,null,null,null,null,null,null,null,null,30,1,1]
[null,null,null,null,null,null,null,null,null,null,null,null,null,null,31,1,1]
[null,null,null,null,null,null,null,null,null,null,null,null,null,null,39,1,1]
[null,null,null,null,null,null,null,null,null,null,null,null,null,null,40,1,1]
[null,null,null,null,null,null,null,null,null,null,null,null,null,null,42,1,1]
[null,null,null,null,null,null,null,null,null,null,null,null,null,null,46,{"$f":"COUNTIF($F$12:$K$22,O44)","v":1},1]
[null,null,null,null,null,null,null,null,null,null,null,null,null,null,47,1,1]
[null,null,null,null,null,null,null,null,null,null,null,null,null,null,50,1,1]
[null,null,null,null,null,null,null,null,null,null,null,null,null,null,6,0,0]
[null,null,null,null,null,null,null,null,null,null,null,null,null,null,7,0,0]
[null,null,null,null,null,null,null,null,null,null,null,null,null,null,8,0,0]
[null,null,null,null,null,null,null,null,null,null,null,null,null,null,2,0,0]
[null,null,null,null,null,null,null,null,null,null,null,null,null,null,12,0,0]
[null,null,null,null,null,null,null,null,null,null,null,null,null,null,15,0,0]
[null,null,null,null,null,null,null,null,null,null,null,null,null,null,17,0,0]
[null,null,null,null,null,null,null,null,null,null,null,null,null,null,23,0,0]
[null,null,null,null,null,null,null,null,null,null,null,null,null,null,24,0,0]
[null,null,null,null,null,null,null,null,null,null,null,null,null,null,33,0,0]
[null,null,null,null,null,null,null,null,null,null,null,null,null,null,34,0,0]
[null,null,null,null,null,null,null,null,null,null,null,null,null,null,36,0,0]
[null,null,null,null,null,null,null,null,null,null,null,null,null,null,45,0,0]
[null,null,null,null,null,null,null,null,null,null,null,null,null,null,48,0,0]
[null,null,null,null,null,null,null,null,null,null,null,null,null,null,49,0,0]

{"sheet":"20 Últimos Sorteios","index":3,"n_rows":61,"n_cols":17,"rows_kept":61,"cut":false,"hidden":false,"merged":[[8,14,9,15],[8,3,9,10],[5,1,5,18],[1,1,1,18],[2,1,2,18],[3,1,3,18]]}
[]
[null,"Atenção!"]
[null,"Esta planilha é de uso pessoal, é restritamente proibida a distribuição da mesma a terceiros, sujeito a punições de acordo com as leis de direitos autorais"]
[null,"Todos os direitos reservados ao site www.ApostaEsperta.com "]
[]
[null,"Planilha de Análise Estatística Dupla Sena"]
[]
[]
[null,null,null,"Resultados dos Últimos 20 Sorteios",null,null,null,null,null,null,null,null,null,null,"Números Quentes\nÚtimos 20 Sorteios"]
[]
[null,null,null,"Sorteio","Data do Sorteio","1ª Dezena","2ª Dezena","3ª Dezena","4ª Dezena","5ª Dezena","6ª Dezena",null,null,null,"Dezena","Qtd de Saída"]
[null,null,null,{"$f":"COUNT('Resultados Gerais'!B8:B1048576)-C12","v":1174},{"$f":"VLOOKUP(D12,'Resultados Gerais'!B$8:C$1048576,2,0)","v":"2013-05-07"},{"$f":"VLOOKUP(D12,'Resultados Gerais'!$B$8:$I$1048576,3,0)","v":47},{"$f":"VLOOKUP(D12,'Resultados Gerais'!$B$8:$I$1048576,4,0)","v":42},{"$f":"VLOOKUP(D12,'Resultados Gerais'!$B$8:$I$1048576,5,0)","v":26},{"$f":"VLOOKUP(D12,'Resultados Gerais'!$B$8:$I$1048576,6,0)","v":10},{"$f":"VLOOKUP(D12,'Resultados Gerais'!$B$8:$I$1048576,7,0)","v":4},{"$f":"VLOOKUP(D12,'Resultados Gerais'!$B$8:$I$1048576,8,0)","v":9},null,null,null,44,{"$f":"COUNTIF($F$12:$K$32,O12)","v":7},{"$f":"P12","v":7}]
[null,null,1,{"$f":"COUNT('Resultados Gerais'!B8:B1048576)-C13","v":1173},{"$f":"VLOOKUP(D13,'Resultados Gerais'!B$8:C$1048576,2,0)","v":"2013-05-03"},{"$f":"VLOOKUP(D13,'Resultados Gerais'!$B$8:$I$1048576,3,0)","v":35},{"$f":"VLOOKUP(D13,'Resultados Gerais'!$B$8:$I$1048576,4,0)","v":26},{"$f":"VLOOKUP(D13,'Resultados Gerais'!$B$8:$I$1048576,5,0)","v":44},{"$f":"VLOOKUP(D13,'Resultados Gerais'!$B$8:$I$1048576,6,0)","v":21},{"$f":"VLOOKUP(D13,'Resultados Gerais'!$B$8:$I$1048576,7,0)","v":11},{"$f":"VLOOKUP(D13,'Resultados Gerais'!$B$8:$I$1048576,8,0)","v":1},null,null,null,19,7,{"$f":"P13","v":7}]
[null,null,2,{"$f":"COUNT('Resultados Gerais'!B8:B1048576)-C14","v":1172},{"$f":"VLOOKUP(D14,'Resultados Gerais'!B$8:C$1048576,2,0)","v":"2013-04-30"},{"$f":"VLOOKUP(D14,'Resultados Gerais'!$B$8:$I$1048576,3,0)","v":16},{"$f":"VLOOKUP(D14,'Resultados Gerais'!$B$8:$I$1048576,4,0)","v":40},{"$f":"VLOOKUP(D14,'Resultados Gerais'!$B$8:$I$1048576,5,0)","v":41},{"$f":"VLOOKUP(D14,'Resultados Gerais'!$B$8:$I$1048576,6,0)","v":25},{"$f":"VLOOKUP(D14,'Resultados Gerais'!$B$8:$I$1048576,7,0)","v":46},{"$f":"VLOOKUP(D14,'Resultados Gerais'!$B$8:$I$1048576,8,0)","v":13},null,null,null,26,6,6]
[null,null,3,{"$f":"COUNT('Resultados Gerais'!B8:B1048576)-C15","v":1171},{"$f":"VLOOKUP(D15,'Resultados Gerais'!B$8:C$1048576,2,0)","v":"2013-04-26"},{"$f":"VLOOKUP(D15,'Resultados Gerais'!$B$8:$I$1048576,3,0)","v":19},{"$f":"VLOOKUP(D15,'Resultados Gerais'!$B$8:$I$1048576,4,0)","v":44},{"$f":"VLOOKUP(D15,'Resultados Gerais'!$B$8:$I$1048576,5,0)","v":26},{"$f":"VLOOKUP(D15,'Resultados Gerais'!$B$8:$I$1048576,6,0)","v":22},{"$f":"VLOOKUP(D15,'Resultados Gerais'!$B$8:$I$1048576,7,0)","v":32},{"$f":"VLOOKUP(D15,'Resultados Gerais'!$B$8:$I$1048576,8,0)","v":43},null,null,null,4,6,6]
[null,null,4,{"$f":"COUNT('Resultados Gerais'!B8:B1048576)-C16","v":1170},{"$f":"VLOOKUP(D16,'Resultados Gerais'!B$8:C$1048576,2,0)","v":"2013-04-23"},{"$f":"VLOOKUP(D16,'Resultados Gerais'!$B$8:$I$1048576,3,0)","v":43},{"$f":"VLOOKUP(D16,'Resultados Gerais'!$B$8:$I$1048576,4,0)","v":19},{"$f":"VLOOKUP(D16,'Resultados Gerais'!$B$8:$I$1048576,5,0)","v":3},{"$f":"VLOOKUP(D16,'Resultados Gerais'!$B$8:$I$1048576,6,0)","v":14},{"$f":"VLOOKUP(D16,'Resultados Gerais'!$B$8:$I$1048576,7,0)","v":39},{"$f":"VLOOKUP(D16,'Resultados Gerais'!$B$8:$I$1048576,8,0)","v":29},null,null,null,41,5,5]
[null,null,5,{"$f":"COUNT('Resultados Gerais'!B8:B1048576)-C17","v":1169},{"$f":"VLOOKUP(D17,'Resultados Gerais'!B$8:C$1048576,2,0)","v":"2013-04-19"},{"$f":"VLOOKUP(D17,'Resultados Gerais'!$B$8:$I$1048576,3,0)","v":20},{"$f":"VLOOKUP(D17,'Resultados Gerais'!$B$8:$I$1048576,4,0)","v":50},{"$f":"VLOOKUP(D17,'Resultados Gerais'!$B$8:$I$1048576,5,0)","v":37},{"$f":"VLOOKUP(D17,'Resultados Gerais'!$B$8:$I$1048576,6,0)","v":18},{"$f":"VLOOKUP(D17,'Resultados Gerais'!$B$8:$I$1048576,7,0)","v":28},{"$f":"VLOOKUP(D17,'Resultados Gerais'!$B$8:$I$1048576,8,0)","v":26},null,null,null,11,4,4]
[null,null,6,{"$f":"COUNT('Resultados Gerais'!B8:B1048576)-C18","v":1168},{"$f":"VLOOKUP(D18,'Resultados Gerais'!B$8:C$1048576,2,0)","v":"2013-04-16"},{"$f":"VLOOKUP(D18,'Resultados Gerais'!$B$8:$I$1048576,3,0)","v":41},{"$f":"VLOOKUP(D18,'Resultados Gerais'!$B$8:$I$1048576,4,0)","v":31},{"$f":"VLOOKUP(D18,'Resultados Gerais'!$B$8:$I$1048576,5,0)","v":27},{"$f":"VLOOKUP(D18,'Resultados Gerais'!$B$8:$I$1048576,6,0)","v":4},{"$f":"VLOOKUP(D18,'Resultados Gerais'!$B$8:$I$1048576,7,0)","v":37},{"$f":"VLOOKUP(D18,'Resultados Gerais'!$B$8:$I$1048576,8,0)","v":26},null,null,null,43,4,4]
[null,null,7,{"$f":"COUNT('Resultados Gerais'!B8:B1048576)-C19","v":1167},{"$f":"VLOOKUP(D19,'Resultados Gerais'!B$8:C$1048576,2,0)","v":"2013-04-12"},{"$f":"VLOOKUP(D19,'Resultados Gerais'!$B$8:$I$1048576,3,0)","v":16},{"$f":"VLOOKUP(D19,'Resultados Gerais'!$B$8:$I$1048576,4,0)","v":5},{"$f":"VLOOKUP(D19,'Resultados Gerais'!$B$8:$I$1048576,5,0)","v":43},{"$f":"VLOOKUP(D19,'Resultados Gerais'!$B$8:$I$1048576,6,0)","v":25},{"$f":"VLOOKUP(D19,'Resultados Gerais'!$B$8:$I$1048576,7,0)","v":26},{"$f":"VLOOKUP(D19,'Resultados Gerais'!$B$8:$I$1048576,8,0)","v":19},null,null,null,25,4,4]
[null,null,8,{"$f":"COUNT('Resultados Gerais'!B8:B1048576)-C20","v":1166},{"$f":"VLOOKUP(D20,'Resultados Gerais'!B$8:C$1048576,2,0)","v":"2013-04-09"},{"$f":"VLOOKUP(D20,'Resultados Gerais'!$B$8:$I$1048576,3,0)","v":38},{"$f":"VLOOKUP(D20,'Resultados Gerais'!$B$8:$I$1048576,4,0)","v":35},{"$f":"VLOOKUP(D20,'Resultados Gerais'!$B$8:$I$1048576,5,0)","v":3},{"$f":"VLOOKUP(D20,'Resultados Gerais'!$B$8:$I$1048576,6,0)","v":41},{"$f":"VLOOKUP(D20,'Resultados Gerais'!$B$8:$I$1048576,7,0)","v":9},{"$f":"VLOOKUP(D20,'Resultados Gerais'!$B$8:$I$1048576,8,0)","v":44},null,null,null,10,3,3]
[null,null,9,{"$f":"COUNT('Resultados Gerais'!B8:B1048576)-C21","v":1165},{"$f":"VLOOKUP(D21,'Resultados Gerais'!B$8:C$1048576,2,0)","v":"2013-04-05"},{"$f":"VLOOKUP(D21,'Resultados Gerais'!$B$8:$I$1048576,3,0)","v":30},{"$f":"VLOOKUP(D21,'Resultados Gerais'!$B$8:$I$1048576,4,0)","v":13},{"$f":"VLOOKUP(D21,'Resultados Gerais'!$B$8:$I$1048576,5,0)","v":41},{"$f":"VLOOKUP(D21,'Resultados Gerais'!$B$8:$I$1048576,6,0)","v":38},{"$f":"VLOOKUP(D21,'Resultados Gerais'!$B$8:$I$1048576,7,0)","v":4},{"$f":"VLOOKUP(D21,'Resultados Gerais'!$B$8:$I$1048576,8,0)","v":3},null,null,null,28,3,3]
[null,null,10,{"$f":"COUNT('Resultados Gerais'!B8:B1048576)-C22","v":1164},{"$f":"VLOOKUP(D22,'Resultados Gerais'!B$8:C$1048576,2,0)","v":"2013-04-02"},{"$f":"VLOOKUP(D22,'Resultados Gerais'!$B$8:$I$1048576,3,0)","v":7},{"$f":"VLOOKUP(D22,'Resultados Gerais'!$B$8:$I$1048576,4,0)","v":8},{"$f":"VLOOKUP(D22,'Resultados Gerais'!$B$8:$I$1048576,5,0)","v":32},{"$f":"VLOOKUP(D22,'Resultados Gerais'!$B$8:$I$1048576,6,0)","v":6},{"$f":"VLOOKUP(D22,'Resultados Gerais'!$B$8:$I$1048576,7,0)","v":10},{"$f":"VLOOKUP(D22,'Resultados Gerais'!$B$8:$I$1048576,8,0)","v":11},null,null,null,3,3,3]
[null,null,11,{"$f":"COUNT('Resultados Gerais'!B8:B1048576)-C23","v":1163},{"$f":"VLOOKUP(D23,'Resultados Gerais'!B$8:C$1048576,2,0)","v":"2013-03-30"},{"$f":"VLOOKUP(D23,'Resultados Gerais'!$B$8:$I$1048576,3,0)","v":43},{"$f":"VLOOKUP(D23,'Resultados Gerais'!$B$8:$I$1048576,4,0)","v":37},{"$f":"VLOOKUP(D23,'Resultados Gerais'!$B$8:$I$1048576,5,0)","v":49},{"$f":"VLOOKUP(D23,'Resultados Gerais'!$B$8:$I$1048576,6,0)","v":20},{"$f":"VLOOKUP(D23,'Resultados Gerais'!$B$8:$I$1048576,7,0)","v":19},{"$f":"VLOOKUP(D23,'Resultados Gerais'!$B$8:$I$1048576,8,0)","v":24},null,null,null,9,3,3]
[null,null,12,{"$f":"COUNT('Resultados Gerais'!B8:B1048576)-C24","v":1162},{"$f":"VLOOKUP(D24,'Resultados Gerais'!B$8:C$1048576,2,0)","v":"2013-03-26"},{"$f":"VLOOKUP(D24,'Resultados Gerais'!$B$8:$I$1048576,3,0)","v":15},{"$f":"VLOOKUP(D24,'Resultados Gerais'!$B$8:$I$1048576,4,0)","v":17},{"$f":"VLOOKUP(D24,'Resultados Gerais'!$B$8:$I$1048576,5,0)","v":25},{"$f":"VLOOKUP(D24,'Resultados Gerais'!$B$8:$I$1048576,6,0)","v":4},{"$f":"VLOOKUP(D24,'Resultados Gerais'!$B$8:$I$1048576,7,0)","v":44},{"$f":"VLOOKUP(D24,'Resultados Gerais'!$B$8:$I$1048576,8,0)","v":42},null,null,null,13,3,3]
[null,null,13,{"$f":"COUNT('Resultados Gerais'!B8:B1048576)-C25","v":1161},{"$f":"VLOOKUP(D25,'Resultados Gerais'!B$8:C$1048576,2,0)","v":"2013-03-22"},{"$f":"VLOOKUP(D25,'Resultados Gerais'!$B$8:$I$1048576,3,0)","v":32},{"$f":"VLOOKUP(D25,'Resultados Gerais'!$B$8:$I$1048576,4,0)","v":16},{"$f":"VLOOKUP(D25,'Resultados Gerais'!$B$8:$I$1048576,5,0)","v":14},{"$f":"VLOOKUP(D25,'Resultados Gerais'!$B$8:$I$1048576,6,0)","v":27},{"$f":"VLOOKUP(D25,'Resultados Gerais'!$B$8:$I$1048576,7,0)","v":44},{"$f":"VLOOKUP(D25,'Resultados Gerais'!$B$8:$I$1048576,8,0)","v":11},null,null,null,16,3,3]
[null,null,14,{"$f":"COUNT('Resultados Gerais'!B8:B1048576)-C26","v":1160},{"$f":"VLOOKUP(D26,'Resultados Gerais'!B$8:C$1048576,2,0)","v":"2013-03-19"},{"$f":"VLOOKUP(D26,'Resultados Gerais'!$B$8:$I$1048576,3,0)","v":13},{"$f":"VLOOKUP(D26,'Resultados Gerais'!$B$8:$I$1048576,4,0)","v":8},{"$f":"VLOOKUP(D26,'Resultados Gerais'!$B$8:$I$1048576,5,0)","v":49},{"$f":"VLOOKUP(D26,'Resultados Gerais'!$B$8:$I$1048576,6,0)","v":5},{"$f":"VLOOKUP(D26,'Resultados Gerais'!$B$8:$I$1048576,7,0)","v":41},{"$f":"VLOOKUP(D26,'Resultados Gerais'!$B$8:$I$1048576,8,0)","v":14},null,null,null,32,3,3]
[null,null,15,{"$f":"COUNT('Resultados Gerais'!B8:B1048576)-C27","v":1159},{"$f":"VLOOKUP(D27,'Resultados Gerais'!B$8:C$1048576,2,0)","v":"2013-03-15"},{"$f":"VLOOKUP(D27,'Resultados Gerais'!$B$8:$I$1048576,3,0)","v":4},{"$f":"VLOOKUP(D27,'Resultados Gerais'!$B$8:$I$1048576,4,0)","v":28},{"$f":"VLOOKUP(D27,'Resultados Gerais'!$B$8:$I$1048576,5,0)","v":42},{"$f":"VLOOKUP(D27,'Resultados Gerais'!$B$8:$I$1048576,6,0)","v":18},{"$f":"VLOOKUP(D27,'Resultados Gerais'!$B$8:$I$1048576,7,0)","v":19},{"$f":"VLOOKUP(D27,'Resultados Gerais'!$B$8:$I$1048576,8,0)","v":40},null,null,null,37,3,3]
[null,null,16,{"$f":"COUNT('Resultados Gerais'!B8:B1048576)-C28","v":1158},{"$f":"VLOOKUP(D28,'Resultados Gerais'!B$8:C$1048576,2,0)","v":"2013-03-12"},{"$f":"VLOOKUP(D28,'Resultados Gerais'!$B$8:$I$1048576,3,0)","v":45},{"$f":"VLOOKUP(D28,'Resultados Gerais'!$B$8:$I$1048576,4,0)","v":50},{"$f":"VLOOKUP(D28,'Resultados Gerais'!$B$8:$I$1048576,5,0)","v":48},{"$f":"VLOOKUP(D28,'Resultados Gerais'!$B$8:$I$1048576,6,0)","v":4},{"$f":"VLOOKUP(D28,'Resultados Gerais'!$B$8:$I$1048576,7,0)","v":17},{"$f":"VLOOKUP(D28,'Resultados Gerais'!$B$8:$I$1048576,8,0)","v":46},null,null,null,14,3,3]
[null,null,17,{"$f":"COUNT('Resultados Gerais'!B8:B1048576)-C29","v":1157},{"$f":"VLOOKUP(D29,'Resultados Gerais'!B$8:C$1048576,2,0)","v":"2013-03-08"},{"$f":"VLOOKUP(D29,'Resultados Gerais'!$B$8:$I$1048576,3,0)","v":22},{"$f":"VLOOKUP(D29,'Resultados Gerais'!$B$8:$I$1048576,4,0)","v":17},{"$f":"VLOOKUP(D29,'Resultados Gerais'!$B$8:$I$1048576,5,0)","v":50},{"$f":"VLOOKUP(D29,'Resultados Gerais'!$B$8:$I$1048576,6,0)","v":44},{"$f":"VLOOKUP(D29,'Resultados Gerais'!$B$8:$I$1048576,7,0)","v":49},{"$f":"VLOOKUP(D29,'Resultados Gerais'!$B$8:$I$1048576,8,0)","v":24},null,null,null,42,3,3]
[null,null,18,{"$f":"COUNT('Resultados Gerais'!B8:B1048576)-C30","v":1156},{"$f":"VLOOKUP(D30,'Resultados Gerais'!B$8:C$1048576,2,0)","v":"2013-03-05"},{"$f":"VLOOKUP(D30,'Resultados Gerais'!$B$8:$I$1048576,3,0)","v":10},{"$f":"VLOOKUP(D30,'Resultados Gerais'!$B$8:$I$1048576,4,0)","v":33},{"$f":"VLOOKUP(D30,'Resultados Gerais'!$B$8:$I$1048576,5,0)","v":23},{"$f":"VLOOKUP(D30,'Resultados Gerais'!$B$8:$I$1048576,6,0)","v":11},{"$f":"VLOOKUP(D30,'Resultados Gerais'!$B$8:$I$1048576,7,0)","v":28},{"$f":"VLOOKUP(D30,'Resultados Gerais'!$B$8:$I$1048576,8,0)","v":25},null,null,null,50,3,3]
[null,null,19,{"$f":"COUNT('Resultados Gerais'!B8:B1048576)-C31","v":1155},{"$f":"VLOOKUP(D31,'Resultados Gerais'!B$8:C$1048576,2,0)","v":"2013-03-01"},{"$f":"VLOOKUP(D31,'Resultados Gerais'!$B$8:$I$1048576,3,0)","v":19},{"$f":"VLOOKUP(D31,'Resultados Gerais'!$B$8:$I$1048576,4,0)","v":15},{"$f":"VLOOKUP(D31,'Resultados Gerais'!$B$8:$I$1048576,5,0)","v":9},19,{"$f":"VLOOKUP(D31,'Resultados Gerais'!$B$8:$I$1048576,7,0)","v":44},{"$f":"VLOOKUP(D31,'Resultados Gerais'!$B$8:$I$1048576,8,0)","v":47},null,null,null,17,3,3]
[null,null,20,null,null,null,null,null,null,null,null,null,null,null,49,3,3]
[null,null,null,null,null,null,null,null,null,null,null,null,null,null,47,2,2]
[null,null,null,null,null,null,null,null,null,null,null,null,null,null,35,2,2]
[null,null,null,null,null,null,null,null,null,null,null,null,null,null,38,2,2]
[null,null,null,null,null,null,null,null,null,null,null,null,null,null,5,2,2]
[null,null,null,null,null,null,null,null,null,null,null,null,null,null,8,2,2]
[null,null,null,null,null,null,null,null,null,null,null,null,null,null,18,2,2]
[null,null,null,null,null,null,null,null,null,null,null,null,null,null,20,2,2]
[null,null,null,null,null,null,null,null,null,null,null,null,null,null,22,2,2]
[null,null,null,null,null,null,null,null,null,null,null,null,null,null,27,2,2]
[null,null,null,null,null,null,null,null,null,null,null,null,null,null,40,2,2]
[null,null,null,null,null,null,null,null,null,null,null,null,null,null,46,2,2]
[null,null,null,null,null,null,null,null,null,null,null,null,null,null,15,{"$f":"COUNTIF($F$12:$K$32,O44)","v":2},2]
[null,null,null,null,null,null,null,null,null,null,null,null,null,null,24,2,2]
[null,null,null,null,null,null,null,null,null,null,null,null,null,null,31,1,1]
[null,null,null,null,null,null,null,null,null,null,null,null,null,null,1,1,1]
[null,null,null,null,null,null,null,null,null,null,null,null,null,null,6,1,1]
[null,null,null,null,null,null,null,null,null,null,null,null,null,null,7,1,1]
[null,null,null,null,null,null,null,null,null,null,null,null,null,null,21,1,1]
[null,null,null,null,null,null,null,null,null,null,null,null,null,null,29,1,1]
[null,null,null,null,null,null,null,null,null,null,null,null,null,null,30,1,1]
[null,null,null,null,null,null,null,null,null,null,null,null,null,null,39,1,1]
[null,null,null,null,null,null,null,null,null,null,null,null,null,null,23,1,1]
[null,null,null,null,null,null,null,null,null,null,null,null,null,null,33,1,1]
[null,null,null,null,null,null,null,null,null,null,null,null,null,null,45,1,1]
[null,null,null,null,null,null,null,null,null,null,null,null,null,null,48,1,1]
[null,null,null,null,null,null,null,null,null,null,null,null,null,null,2,0,0]
[null,null,null,null,null,null,null,null,null,null,null,null,null,null,12,0,0]
[null,null,null,null,null,null,null,null,null,null,null,null,null,null,34,0,0]
[null,null,null,null,null,null,null,null,null,null,null,null,null,null,36,0,0]

{"sheet":"50 Últimos Sorteios","index":4,"n_rows":62,"n_cols":17,"rows_kept":62,"cut":false,"hidden":false,"merged":[[8,14,9,15],[8,3,9,10],[5,1,5,18],[1,1,1,18],[2,1,2,18],[3,1,3,18]]}
[]
[null,"Atenção!"]
[null,"Esta planilha é de uso pessoal, é restritamente proibida a distribuição da mesma a terceiros, sujeito a punições de acordo com as leis de direitos autorais"]
[null,"Todos os direitos reservados ao site www.ApostaEsperta.com "]
[]
[null,"Planilha de Análise Estatística Dupla Sena"]
[]
[]
[null,null,null,"Resultados dos Últimos 50 Sorteios",null,null,null,null,null,null,null,null,null,null,"Números Quentes\nÚtimos 50 Sorteios"]
[]
[null,null,null,"Sorteio","Data do Sorteio","1ª Dezena","2ª Dezena","3ª Dezena","4ª Dezena","5ª Dezena","6ª Dezena",null,null,null,"Dezena","Qtd de Saída"]
[null,null,null,{"$f":"COUNT('Resultados Gerais'!B8:B1048576)-C12","v":1174},{"$f":"VLOOKUP(D12,'Resultados Gerais'!B$8:C$1048576,2,0)","v":"2013-05-07"},{"$f":"VLOOKUP(D12,'Resultados Gerais'!$B$8:$I$1048576,3,0)","v":47},{"$f":"VLOOKUP(D12,'Resultados Gerais'!$B$8:$I$1048576,4,0)","v":42},{"$f":"VLOOKUP(D12,'Resultados Gerais'!$B$8:$I$1048576,5,0)","v":26},{"$f":"VLOOKUP(D12,'Resultados Gerais'!$B$8:$I$1048576,6,0)","v":10},{"$f":"VLOOKUP(D12,'Resultados Gerais'!$B$8:$I$1048576,7,0)","v":4},{"$f":"VLOOKUP(D12,'Resultados Gerais'!$B$8:$I$1048576,8,0)","v":9},null,null,null,26,{"$f":"COUNTIF($F$12:$K$62,O12)","v":10},{"$f":"P12","v":10}]
[null,null,1,{"$f":"COUNT('Resultados Gerais'!B8:B1048576)-C13","v":1173},{"$f":"VLOOKUP(D13,'Resultados Gerais'!B$8:C$1048576,2,0)","v":"2013-05-03"},{"$f":"VLOOKUP(D13,'Resultados Gerais'!$B$8:$I$1048576,3,0)","v":35},{"$f":"VLOOKUP(D13,'Resultados Gerais'!$B$8:$I$1048576,4,0)","v":26},{"$f":"VLOOKUP(D13,'Resultados Gerais'!$B$8:$I$1048576,5,0)","v":44},{"$f":"VLOOKUP(D13,'Resultados Gerais'!$B$8:$I$1048576,6,0)","v":21},{"$f":"VLOOKUP(D13,'Resultados Gerais'!$B$8:$I$1048576,7,0)","v":11},{"$f":"VLOOKUP(D13,'Resultados Gerais'!$B$8:$I$1048576,8,0)","v":1},null,null,null,10,10,{"$f":"P13","v":10}]
[null,null,2,{"$f":"COUNT('Resultados Gerais'!B8:B1048576)-C14","v":1172},{"$f":"VLOOKUP(D14,'Resultados Gerais'!B$8:C$1048576,2,0)","v":"2013-04-30"},{"$f":"VLOOKUP(D14,'Resultados Gerais'!$B$8:$I$1048576,3,0)","v":16},{"$f":"VLOOKUP(D14,'Resultados Gerais'!$B$8:$I$1048576,4,0)","v":40},{"$f":"VLOOKUP(D14,'Resultados Gerais'!$B$8:$I$1048576,5,0)","v":41},{"$f":"VLOOKUP(D14,'Resultados Gerais'!$B$8:$I$1048576,6,0)","v":25},{"$f":"VLOOKUP(D14,'Resultados Gerais'!$B$8:$I$1048576,7,0)","v":46},{"$f":"VLOOKUP(D14,'Resultados Gerais'!$B$8:$I$1048576,8,0)","v":13},null,null,null,44,9,9]
[null,null,3,{"$f":"COUNT('Resultados Gerais'!B8:B1048576)-C15","v":1171},{"$f":"VLOOKUP(D15,'Resultados Gerais'!B$8:C$1048576,2,0)","v":"2013-04-26"},{"$f":"VLOOKUP(D15,'Resultados Gerais'!$B$8:$I$1048576,3,0)","v":19},{"$f":"VLOOKUP(D15,'Resultados Gerais'!$B$8:$I$1048576,4,0)","v":44},{"$f":"VLOOKUP(D15,'Resultados Gerais'!$B$8:$I$1048576,5,0)","v":26},{"$f":"VLOOKUP(D15,'Resultados Gerais'!$B$8:$I$1048576,6,0)","v":22},{"$f":"VLOOKUP(D15,'Resultados Gerais'!$B$8:$I$1048576,7,0)","v":32},{"$f":"VLOOKUP(D15,'Resultados Gerais'!$B$8:$I$1048576,8,0)","v":43},null,null,null,4,9,9]
[null,null,4,{"$f":"COUNT('Resultados Gerais'!B8:B1048576)-C16","v":1170},{"$f":"VLOOKUP(D16,'Resultados Gerais'!B$8:C$1048576,2,0)","v":"2013-04-23"},{"$f":"VLOOKUP(D16,'Resultados Gerais'!$B$8:$I$1048576,3,0)","v":43},{"$f":"VLOOKUP(D16,'Resultados Gerais'!$B$8:$I$1048576,4,0)","v":19},{"$f":"VLOOKUP(D16,'Resultados Gerais'!$B$8:$I$1048576,5,0)","v":3},{"$f":"VLOOKUP(D16,'Resultados Gerais'!$B$8:$I$1048576,6,0)","v":14},{"$f":"VLOOKUP(D16,'Resultados Gerais'!$B$8:$I$1048576,7,0)","v":39},{"$f":"VLOOKUP(D16,'Resultados Gerais'!$B$8:$I$1048576,8,0)","v":29},null,null,null,47,9,9]
[null,null,5,{"$f":"COUNT('Resultados Gerais'!B8:B1048576)-C17","v":1169},{"$f":"VLOOKUP(D17,'Resultados Gerais'!B$8:C$1048576,2,0)","v":"2013-04-19"},{"$f":"VLOOKUP(D17,'Resultados Gerais'!$B$8:$I$1048576,3,0)","v":20},{"$f":"VLOOKUP(D17,'Resultados Gerais'!$B$8:$I$1048576,4,0)","v":50},{"$f":"VLOOKUP(D17,'Resultados Gerais'!$B$8:$I$1048576,5,0)","v":37},{"$f":"VLOOKUP(D17,'Resultados Gerais'!$B$8:$I$1048576,6,0)","v":18},{"$f":"VLOOKUP(D17,'Resultados Gerais'!$B$8:$I$1048576,7,0)","v":28},{"$f":"VLOOKUP(D17,'Resultados Gerais'!$B$8:$I$1048576,8,0)","v":26},null,null,null,35,9,9]
[null,null,6,{"$f":"COUNT('Resultados Gerais'!B8:B1048576)-C18","v":1168},{"$f":"VLOOKUP(D18,'Resultados Gerais'!B$8:C$1048576,2,0)","v":"2013-04-16"},{"$f":"VLOOKUP(D18,'Resultados Gerais'!$B$8:$I$1048576,3,0)","v":41},{"$f":"VLOOKUP(D18,'Resultados Gerais'!$B$8:$I$1048576,4,0)","v":31},{"$f":"VLOOKUP(D18,'Resultados Gerais'!$B$8:$I$1048576,5,0)","v":27},{"$f":"VLOOKUP(D18,'Resultados Gerais'!$B$8:$I$1048576,6,0)","v":4},{"$f":"VLOOKUP(D18,'Resultados Gerais'!$B$8:$I$1048576,7,0)","v":37},{"$f":"VLOOKUP(D18,'Resultados Gerais'!$B$8:$I$1048576,8,0)","v":26},null,null,null,49,8,8]
[null,null,7,{"$f":"COUNT('Resultados Gerais'!B8:B1048576)-C19","v":1167},{"$f":"VLOOKUP(D19,'Resultados Gerais'!B$8:C$1048576,2,0)","v":"2013-04-12"},{"$f":"VLOOKUP(D19,'Resultados Gerais'!$B$8:$I$1048576,3,0)","v":16},{"$f":"VLOOKUP(D19,'Resultados Gerais'!$B$8:$I$1048576,4,0)","v":5},{"$f":"VLOOKUP(D19,'Resultados Gerais'!$B$8:$I$1048576,5,0)","v":43},{"$f":"VLOOKUP(D19,'Resultados Gerais'!$B$8:$I$1048576,6,0)","v":25},{"$f":"VLOOKUP(D19,'Resultados Gerais'!$B$8:$I$1048576,7,0)","v":26},{"$f":"VLOOKUP(D19,'Resultados Gerais'!$B$8:$I$1048576,8,0)","v":19},null,null,null,41,8,8]
[null,null,8,{"$f":"COUNT('Resultados Gerais'!B8:B1048576)-C20","v":1166},{"$f":"VLOOKUP(D20,'Resultados Gerais'!B$8:C$1048576,2,0)","v":"2013-04-09"},{"$f":"VLOOKUP(D20,'Resultados Gerais'!$B$8:$I$1048576,3,0)","v":38},{"$f":"VLOOKUP(D20,'Resultados Gerais'!$B$8:$I$1048576,4,0)","v":35},{"$f":"VLOOKUP(D20,'Resultados Gerais'!$B$8:$I$1048576,5,0)","v":3},{"$f":"VLOOKUP(D20,'Resultados Gerais'!$B$8:$I$1048576,6,0)","v":41},{"$f":"VLOOKUP(D20,'Resultados Gerais'!$B$8:$I$1048576,7,0)","v":9},{"$f":"VLOOKUP(D20,'Resultados Gerais'!$B$8:$I$1048576,8,0)","v":44},null,null,null,19,8,8]
[null,null,9,{"$f":"COUNT('Resultados Gerais'!B8:B1048576)-C21","v":1165},{"$f":"VLOOKUP(D21,'Resultados Gerais'!B$8:C$1048576,2,0)","v":"2013-04-05"},{"$f":"VLOOKUP(D21,'Resultados Gerais'!$B$8:$I$1048576,3,0)","v":30},{"$f":"VLOOKUP(D21,'Resultados Gerais'!$B$8:$I$1048576,4,0)","v":13},{"$f":"VLOOKUP(D21,'Resultados Gerais'!$B$8:$I$1048576,5,0)","v":41},{"$f":"VLOOKUP(D21,'Resultados Gerais'!$B$8:$I$1048576,6,0)","v":38},{"$f":"VLOOKUP(D21,'Resultados Gerais'!$B$8:$I$1048576,7,0)","v":4},{"$f":"VLOOKUP(D21,'Resultados Gerais'!$B$8:$I$1048576,8,0)","v":3},null,null,null,11,8,8]
[null,null,10,{"$f":"COUNT('Resultados Gerais'!B8:B1048576)-C22","v":1164},{"$f":"VLOOKUP(D22,'Resultados Gerais'!B$8:C$1048576,2,0)","v":"2013-04-02"},{"$f":"VLOOKUP(D22,'Resultados Gerais'!$B$8:$I$1048576,3,0)","v":7},{"$f":"VLOOKUP(D22,'Resultados Gerais'!$B$8:$I$1048576,4,0)","v":8},{"$f":"VLOOKUP(D22,'Resultados Gerais'!$B$8:$I$1048576,5,0)","v":32},{"$f":"VLOOKUP(D22,'Resultados Gerais'!$B$8:$I$1048576,6,0)","v":6},{"$f":"VLOOKUP(D22,'Resultados Gerais'!$B$8:$I$1048576,7,0)","v":10},{"$f":"VLOOKUP(D22,'Resultados Gerais'!$B$8:$I$1048576,8,0)","v":11},null,null,null,43,8,8]
[null,null,11,{"$f":"COUNT('Resultados Gerais'!B8:B1048576)-C23","v":1163},{"$f":"VLOOKUP(D23,'Resultados Gerais'!B$8:C$1048576,2,0)","v":"2013-03-30"},{"$f":"VLOOKUP(D23,'Resultados Gerais'!$B$8:$I$1048576,3,0)","v":43},{"$f":"VLOOKUP(D23,'Resultados Gerais'!$B$8:$I$1048576,4,0)","v":37},{"$f":"VLOOKUP(D23,'Resultados Gerais'!$B$8:$I$1048576,5,0)","v":49},{"$f":"VLOOKUP(D23,'Resultados Gerais'!$B$8:$I$1048576,6,0)","v":20},{"$f":"VLOOKUP(D23,'Resultados Gerais'!$B$8:$I$1048576,7,0)","v":19},{"$f":"VLOOKUP(D23,'Resultados Gerais'!$B$8:$I$1048576,8,0)","v":24},null,null,null,37,8,8]
[null,null,12,{"$f":"COUNT('Resultados Gerais'!B8:B1048576)-C24","v":1162},{"$f":"VLOOKUP(D24,'Resultados Gerais'!B$8:C$1048576,2,0)","v":"2013-03-26"},{"$f":"VLOOKUP(D24,'Resultados Gerais'!$B$8:$I$1048576,3,0)","v":15},{"$f":"VLOOKUP(D24,'Resultados Gerais'!$B$8:$I$1048576,4,0)","v":17},{"$f":"VLOOKUP(D24,'Resultados Gerais'!$B$8:$I$1048576,5,0)","v":25},{"$f":"VLOOKUP(D24,'Resultados Gerais'!$B$8:$I$1048576,6,0)","v":4},{"$f":"VLOOKUP(D24,'Resultados Gerais'!$B$8:$I$1048576,7,0)","v":44},{"$f":"VLOOKUP(D24,'Resultados Gerais'!$B$8:$I$1048576,8,0)","v":42},null,null,null,22,8,8]
[null,null,13,{"$f":"COUNT('Resultados Gerais'!B8:B1048576)-C25","v":1161},{"$f":"VLOOKUP(D25,'Resultados Gerais'!B$8:C$1048576,2,0)","v":"2013-03-22"},{"$f":"VLOOKUP(D25,'Resultados Gerais'!$B$8:$I$1048576,3,0)","v":32},{"$f":"VLOOKUP(D25,'Resultados Gerais'!$B$8:$I$1048576,4,0)","v":16},{"$f":"VLOOKUP(D25,'Resultados Gerais'!$B$8:$I$1048576,5,0)","v":14},{"$f":"VLOOKUP(D25,'Resultados Gerais'!$B$8:$I$1048576,6,0)","v":27},{"$f":"VLOOKUP(D25,'Resultados Gerais'!$B$8:$I$1048576,7,0)","v":44},{"$f":"VLOOKUP(D25,'Resultados Gerais'!$B$8:$I$1048576,8,0)","v":11},null,null,null,24,8,8]
[null,null,14,{"$f":"COUNT('Resultados Gerais'!B8:B1048576)-C26","v":1160},{"$f":"VLOOKUP(D26,'Resultados Gerais'!B$8:C$1048576,2,0)","v":"2013-03-19"},{"$f":"VLOOKUP(D26,'Resultados Gerais'!$B$8:$I$1048576,3,0)","v":13},{"$f":"VLOOKUP(D26,'Resultados Gerais'!$B$8:$I$1048576,4,0)","v":8},{"$f":"VLOOKUP(D26,'Resultados Gerais'!$B$8:$I$1048576,5,0)","v":49},{"$f":"VLOOKUP(D26,'Resultados Gerais'!$B$8:$I$1048576,6,0)","v":5},{"$f":"VLOOKUP(D26,'Resultados Gerais'!$B$8:$I$1048576,7,0)","v":41},{"$f":"VLOOKUP(D26,'Resultados Gerais'!$B$8:$I$1048576,8,0)","v":14},null,null,null,28,7,7]
[null,null,15,{"$f":"COUNT('Resultados Gerais'!B8:B1048576)-C27","v":1159},{"$f":"VLOOKUP(D27,'Resultados Gerais'!B$8:C$1048576,2,0)","v":"2013-03-15"},{"$f":"VLOOKUP(D27,'Resultados Gerais'!$B$8:$I$1048576,3,0)","v":4},{"$f":"VLOOKUP(D27,'Resultados Gerais'!$B$8:$I$1048576,4,0)","v":28},{"$f":"VLOOKUP(D27,'Resultados Gerais'!$B$8:$I$1048576,5,0)","v":42},{"$f":"VLOOKUP(D27,'Resultados Gerais'!$B$8:$I$1048576,6,0)","v":18},{"$f":"VLOOKUP(D27,'Resultados Gerais'!$B$8:$I$1048576,7,0)","v":19},{"$f":"VLOOKUP(D27,'Resultados Gerais'!$B$8:$I$1048576,8,0)","v":40},null,null,null,25,7,7]
[null,null,16,{"$f":"COUNT('Resultados Gerais'!B8:B1048576)-C28","v":1158},{"$f":"VLOOKUP(D28,'Resultados Gerais'!B$8:C$1048576,2,0)","v":"2013-03-12"},{"$f":"VLOOKUP(D28,'Resultados Gerais'!$B$8:$I$1048576,3,0)","v":45},{"$f":"VLOOKUP(D28,'Resultados Gerais'!$B$8:$I$1048576,4,0)","v":50},{"$f":"VLOOKUP(D28,'Resultados Gerais'!$B$8:$I$1048576,5,0)","v":48},{"$f":"VLOOKUP(D28,'Resultados Gerais'!$B$8:$I$1048576,6,0)","v":4},{"$f":"VLOOKUP(D28,'Resultados Gerais'!$B$8:$I$1048576,7,0)","v":17},{"$f":"VLOOKUP(D28,'Resultados Gerais'!$B$8:$I$1048576,8,0)","v":46},null,null,null,9,7,7]
[null,null,17,{"$f":"COUNT('Resultados Gerais'!B8:B1048576)-C29","v":1157},{"$f":"VLOOKUP(D29,'Resultados Gerais'!B$8:C$1048576,2,0)","v":"2013-03-08"},{"$f":"VLOOKUP(D29,'Resultados Gerais'!$B$8:$I$1048576,3,0)","v":22},{"$f":"VLOOKUP(D29,'Resultados Gerais'!$B$8:$I$1048576,4,0)","v":17},{"$f":"VLOOKUP(D29,'Resultados Gerais'!$B$8:$I$1048576,5,0)","v":50},{"$f":"VLOOKUP(D29,'Resultados Gerais'!$B$8:$I$1048576,6,0)","v":44},{"$f":"VLOOKUP(D29,'Resultados Gerais'!$B$8:$I$1048576,7,0)","v":49},{"$f":"VLOOKUP(D29,'Resultados Gerais'!$B$8:$I$1048576,8,0)","v":24},null,null,null,13,7,7]
[null,null,18,{"$f":"COUNT('Resultados Gerais'!B8:B1048576)-C30","v":1156},{"$f":"VLOOKUP(D30,'Resultados Gerais'!B$8:C$1048576,2,0)","v":"2013-03-05"},{"$f":"VLOOKUP(D30,'Resultados Gerais'!$B$8:$I$1048576,3,0)","v":10},{"$f":"VLOOKUP(D30,'Resultados Gerais'!$B$8:$I$1048576,4,0)","v":33},{"$f":"VLOOKUP(D30,'Resultados Gerais'!$B$8:$I$1048576,5,0)","v":23},{"$f":"VLOOKUP(D30,'Resultados Gerais'!$B$8:$I$1048576,6,0)","v":11},{"$f":"VLOOKUP(D30,'Resultados Gerais'!$B$8:$I$1048576,7,0)","v":28},{"$f":"VLOOKUP(D30,'Resultados Gerais'!$B$8:$I$1048576,8,0)","v":25},null,null,null,17,7,7]
[null,null,19,{"$f":"COUNT('Resultados Gerais'!B8:B1048576)-C31","v":1155},{"$f":"VLOOKUP(D31,'Resultados Gerais'!B$8:C$1048576,2,0)","v":"2013-03-01"},{"$f":"VLOOKUP(D31,'Resultados Gerais'!$B$8:$I$1048576,3,0)","v":19},{"$f":"VLOOKUP(D31,'Resultados Gerais'!$B$8:$I$1048576,4,0)","v":15},{"$f":"VLOOKUP(D31,'Resultados Gerais'!$B$8:$I$1048576,5,0)","v":9},{"$f":"VLOOKUP(D31,'Resultados Gerais'!$B$8:$I$1048576,6,0)","v":26},{"$f":"VLOOKUP(D31,'Resultados Gerais'!$B$8:$I$1048576,7,0)","v":44},{"$f":"VLOOKUP(D31,'Resultados Gerais'!$B$8:$I$1048576,8,0)","v":47},null,null,null,5,7,7]
[null,null,20,{"$f":"COUNT('Resultados Gerais'!B$8:B$1048576)-C32","v":1154},{"$f":"VLOOKUP(D32,'Resultados Gerais'!B$8:C$1048576,2,0)","v":"2013-02-26"},{"$f":"VLOOKUP(D32,'Resultados Gerais'!$B$8:$I$1048576,3,0)","v":10},{"$f":"VLOOKUP(D32,'Resultados Gerais'!$B$8:$I$1048576,4,0)","v":28},{"$f":"VLOOKUP(D32,'Resultados Gerais'!$B$8:$I$1048576,5,0)","v":47},{"$f":"VLOOKUP(D32,'Resultados Gerais'!$B$8:$I$1048576,6,0)","v":41},{"$f":"VLOOKUP(D32,'Resultados Gerais'!$B$8:$I$1048576,7,0)","v":11},{"$f":"VLOOKUP(D32,'Resultados Gerais'!$B$8:$I$1048576,8,0)","v":31},null,null,null,33,7,7]
[null,null,21,{"$f":"COUNT('Resultados Gerais'!B$8:B$1048576)-C33","v":1153},{"$f":"VLOOKUP(D33,'Resultados Gerais'!B$8:C$1048576,2,0)","v":"2013-02-22"},{"$f":"VLOOKUP(D33,'Resultados Gerais'!$B$8:$I$1048576,3,0)","v":25},{"$f":"VLOOKUP(D33,'Resultados Gerais'!$B$8:$I$1048576,4,0)","v":43},{"$f":"VLOOKUP(D33,'Resultados Gerais'!$B$8:$I$1048576,5,0)","v":28},{"$f":"VLOOKUP(D33,'Resultados Gerais'!$B$8:$I$1048576,6,0)","v":36},{"$f":"VLOOKUP(D33,'Resultados Gerais'!$B$8:$I$1048576,7,0)","v":8},{"$f":"VLOOKUP(D33,'Resultados Gerais'!$B$8:$I$1048576,8,0)","v":34},null,null,null,8,6,6]
[null,null,22,{"$f":"COUNT('Resultados Gerais'!B$8:B$1048576)-C34","v":1152},{"$f":"VLOOKUP(D34,'Resultados Gerais'!B$8:C$1048576,2,0)","v":"2013-02-19"},{"$f":"VLOOKUP(D34,'Resultados Gerais'!$B$8:$I$1048576,3,0)","v":13},{"$f":"VLOOKUP(D34,'Resultados Gerais'!$B$8:$I$1048576,4,0)","v":1},{"$f":"VLOOKUP(D34,'Resultados Gerais'!$B$8:$I$1048576,5,0)","v":32},{"$f":"VLOOKUP(D34,'Resultados Gerais'!$B$8:$I$1048576,6,0)","v":21},{"$f":"VLOOKUP(D34,'Resultados Gerais'!$B$8:$I$1048576,7,0)","v":33},{"$f":"VLOOKUP(D34,'Resultados Gerais'!$B$8:$I$1048576,8,0)","v":11},null,null,null,18,6,6]
[null,null,23,{"$f":"COUNT('Resultados Gerais'!B$8:B$1048576)-C35","v":1151},{"$f":"VLOOKUP(D35,'Resultados Gerais'!B$8:C$1048576,2,0)","v":"2013-02-15"},{"$f":"VLOOKUP(D35,'Resultados Gerais'!$B$8:$I$1048576,3,0)","v":9},{"$f":"VLOOKUP(D35,'Resultados Gerais'!$B$8:$I$1048576,4,0)","v":21},{"$f":"VLOOKUP(D35,'Resultados Gerais'!$B$8:$I$1048576,5,0)","v":10},{"$f":"VLOOKUP(D35,'Resultados Gerais'!$B$8:$I$1048576,6,0)","v":18},{"$f":"VLOOKUP(D35,'Resultados Gerais'!$B$8:$I$1048576,7,0)","v":13},{"$f":"VLOOKUP(D35,'Resultados Gerais'!$B$8:$I$1048576,8,0)","v":44},null,null,null,16,6,6]
[null,null,24,{"$f":"COUNT('Resultados Gerais'!B$8:B$1048576)-C36","v":1150},{"$f":"VLOOKUP(D36,'Resultados Gerais'!B$8:C$1048576,2,0)","v":"2013-02-13"},{"$f":"VLOOKUP(D36,'Resultados Gerais'!$B$8:$I$1048576,3,0)","v":2},{"$f":"VLOOKUP(D36,'Resultados Gerais'!$B$8:$I$1048576,4,0)","v":3},{"$f":"VLOOKUP(D36,'Resultados Gerais'!$B$8:$I$1048576,5,0)","v":24},{"$f":"VLOOKUP(D36,'Resultados Gerais'!$B$8:$I$1048576,6,0)","v":10},{"$f":"VLOOKUP(D36,'Resultados Gerais'!$B$8:$I$1048576,7,0)","v":37},{"$f":"VLOOKUP(D36,'Resultados Gerais'!$B$8:$I$1048576,8,0)","v":30},null,null,null,32,6,6]
[null,null,25,{"$f":"COUNT('Resultados Gerais'!B$8:B$1048576)-C37","v":1149},{"$f":"VLOOKUP(D37,'Resultados Gerais'!B$8:C$1048576,2,0)","v":"2013-02-08"},{"$f":"VLOOKUP(D37,'Resultados Gerais'!$B$8:$I$1048576,3,0)","v":5},{"$f":"VLOOKUP(D37,'Resultados Gerais'!$B$8:$I$1048576,4,0)","v":13},{"$f":"VLOOKUP(D37,'Resultados Gerais'!$B$8:$I$1048576,5,0)","v":30},{"$f":"VLOOKUP(D37,'Resultados Gerais'!$B$8:$I$1048576,6,0)","v":33},{"$f":"VLOOKUP(D37,'Resultados Gerais'!$B$8:$I$1048576,7,0)","v":45},{"$f":"VLOOKUP(D37,'Resultados Gerais'!$B$8:$I$1048576,8,0)","v":17},null,null,null,14,6,6]
[null,null,26,{"$f":"COUNT('Resultados Gerais'!B$8:B$1048576)-C38","v":1148},{"$f":"VLOOKUP(D38,'Resultados Gerais'!B$8:C$1048576,2,0)","v":"2013-02-05"},{"$f":"VLOOKUP(D38,'Resultados Gerais'!$B$8:$I$1048576,3,0)","v":18},{"$f":"VLOOKUP(D38,'Resultados Gerais'!$B$8:$I$1048576,4,0)","v":3},{"$f":"VLOOKUP(D38,'Resultados Gerais'!$B$8:$I$1048576,5,0)","v":33},{"$f":"VLOOKUP(D38,'Resultados Gerais'!$B$8:$I$1048576,6,0)","v":11},{"$f":"VLOOKUP(D38,'Resultados Gerais'!$B$8:$I$1048576,7,0)","v":23},{"$f":"VLOOKUP(D38,'Resultados Gerais'!$B$8:$I$1048576,8,0)","v":35},null,null,null,42,6,6]
[null,null,27,{"$f":"COUNT('Resultados Gerais'!B$8:B$1048576)-C39","v":1147},{"$f":"VLOOKUP(D39,'Resultados Gerais'!B$8:C$1048576,2,0)","v":"2013-02-01"},{"$f":"VLOOKUP(D39,'Resultados Gerais'!$B$8:$I$1048576,3,0)","v":42},{"$f":"VLOOKUP(D39,'Resultados Gerais'!$B$8:$I$1048576,4,0)","v":7},{"$f":"VLOOKUP(D39,'Resultados Gerais'!$B$8:$I$1048576,5,0)","v":20},{"$f":"VLOOKUP(D39,'Resultados Gerais'!$B$8:$I$1048576,6,0)","v":39},{"$f":"VLOOKUP(D39,'Resultados Gerais'!$B$8:$I$1048576,7,0)","v":29},{"$f":"VLOOKUP(D39,'Resultados Gerais'!$B$8:$I$1048576,8,0)","v":22},null,null,null,50,6,6]
[null,null,28,{"$f":"COUNT('Resultados Gerais'!B$8:B$1048576)-C40","v":1146},{"$f":"VLOOKUP(D40,'Resultados Gerais'!B$8:C$1048576,2,0)","v":"2013-01-29"},{"$f":"VLOOKUP(D40,'Resultados Gerais'!$B$8:$I$1048576,3,0)","v":18},{"$f":"VLOOKUP(D40,'Resultados Gerais'!$B$8:$I$1048576,4,0)","v":40},{"$f":"VLOOKUP(D40,'Resultados Gerais'!$B$8:$I$1048576,5,0)","v":10},{"$f":"VLOOKUP(D40,'Resultados Gerais'!$B$8:$I$1048576,6,0)","v":2},{"$f":"VLOOKUP(D40,'Resultados Gerais'!$B$8:$I$1048576,7,0)","v":35},{"$f":"VLOOKUP(D40,'Resultados Gerais'!$B$8:$I$1048576,8,0)","v":25},null,null,null,20,6,6]
[null,null,29,{"$f":"COUNT('Resultados Gerais'!B$8:B$1048576)-C41","v":1145},{"$f":"VLOOKUP(D41,'Resultados Gerais'!B$8:C$1048576,2,0)","v":"2013-01-25"},{"$f":"VLOOKUP(D41,'Resultados Gerais'!$B$8:$I$1048576,3,0)","v":39},{"$f":"VLOOKUP(D41,'Resultados Gerais'!$B$8:$I$1048576,4,0)","v":35},{"$f":"VLOOKUP(D41,'Resultados Gerais'!$B$8:$I$1048576,5,0)","v":16},{"$f":"VLOOKUP(D41,'Resultados Gerais'!$B$8:$I$1048576,6,0)","v":24},{"$f":"VLOOKUP(D41,'Resultados Gerais'!$B$8:$I$1048576,7,0)","v":4},{"$f":"VLOOKUP(D41,'Resultados Gerais'!$B$8:$I$1048576,8,0)","v":12},null,null,null,21,6,6]
[null,null,30,{"$f":"COUNT('Resultados Gerais'!B$8:B$1048576)-C42","v":1144},{"$f":"VLOOKUP(D42,'Resultados Gerais'!B$8:C$1048576,2,0)","v":"2013-01-22"},{"$f":"VLOOKUP(D42,'Resultados Gerais'!$B$8:$I$1048576,3,0)","v":5},{"$f":"VLOOKUP(D42,'Resultados Gerais'!$B$8:$I$1048576,4,0)","v":46},{"$f":"VLOOKUP(D42,'Resultados Gerais'!$B$8:$I$1048576,5,0)","v":21},{"$f":"VLOOKUP(D42,'Resultados Gerais'!$B$8:$I$1048576,6,0)","v":47},{"$f":"VLOOKUP(D42,'Resultados Gerais'!$B$8:$I$1048576,7,0)","v":1},{"$f":"VLOOKUP(D42,'Resultados Gerais'!$B$8:$I$1048576,8,0)","v":35},null,null,null,23,6,6]
[null,null,31,{"$f":"COUNT('Resultados Gerais'!B$8:B$1048576)-C43","v":1143},{"$f":"VLOOKUP(D43,'Resultados Gerais'!B$8:C$1048576,2,0)","v":"2013-01-18"},{"$f":"VLOOKUP(D43,'Resultados Gerais'!$B$8:$I$1048576,3,0)","v":45},{"$f":"VLOOKUP(D43,'Resultados Gerais'!$B$8:$I$1048576,4,0)","v":47},{"$f":"VLOOKUP(D43,'Resultados Gerais'!$B$8:$I$1048576,5,0)","v":32},{"$f":"VLOOKUP(D43,'Resultados Gerais'!$B$8:$I$1048576,6,0)","v":49},{"$f":"VLOOKUP(D43,'Resultados Gerais'!$B$8:$I$1048576,7,0)","v":46},{"$f":"VLOOKUP(D43,'Resultados Gerais'!$B$8:$I$1048576,8,0)","v":23},null,null,null,3,5,5]
[null,null,32,{"$f":"COUNT('Resultados Gerais'!B$8:B$1048576)-C44","v":1142},{"$f":"VLOOKUP(D44,'Resultados Gerais'!B$8:C$1048576,2,0)","v":"2013-01-15"},{"$f":"VLOOKUP(D44,'Resultados Gerais'!$B$8:$I$1048576,3,0)","v":33},{"$f":"VLOOKUP(D44,'Resultados Gerais'!$B$8:$I$1048576,4,0)","v":49},{"$f":"VLOOKUP(D44,'Resultados Gerais'!$B$8:$I$1048576,5,0)","v":24},{"$f":"VLOOKUP(D44,'Resultados Gerais'!$B$8:$I$1048576,6,0)","v":14},{"$f":"VLOOKUP(D44,'Resultados Gerais'!$B$8:$I$1048576,7,0)","v":45},{"$f":"VLOOKUP(D44,'Resultados Gerais'!$B$8:$I$1048576,8,0)","v":26},null,null,null,38,{"$f":"COUNTIF($F$12:$K$62,O44)","v":5},5]
[null,null,33,{"$f":"COUNT('Resultados Gerais'!B$8:B$1048576)-C45","v":1141},{"$f":"VLOOKUP(D45,'Resultados Gerais'!B$8:C$1048576,2,0)","v":"2013-01-11"},{"$f":"VLOOKUP(D45,'Resultados Gerais'!$B$8:$I$1048576,3,0)","v":15},{"$f":"VLOOKUP(D45,'Resultados Gerais'!$B$8:$I$1048576,4,0)","v":37},{"$f":"VLOOKUP(D45,'Resultados Gerais'!$B$8:$I$1048576,5,0)","v":22},{"$f":"VLOOKUP(D45,'Resultados Gerais'!$B$8:$I$1048576,6,0)","v":19},{"$f":"VLOOKUP(D45,'Resultados Gerais'!$B$8:$I$1048576,7,0)","v":28},{"$f":"VLOOKUP(D45,'Resultados Gerais'!$B$8:$I$1048576,8,0)","v":25},null,null,null,27,5,5]
[null,null,34,{"$f":"COUNT('Resultados Gerais'!B$8:B$1048576)-C46","v":1140},{"$f":"VLOOKUP(D46,'Resultados Gerais'!B$8:C$1048576,2,0)","v":"2013-01-08"},{"$f":"VLOOKUP(D46,'Resultados Gerais'!$B$8:$I$1048576,3,0)","v":10},{"$f":"VLOOKUP(D46,'Resultados Gerais'!$B$8:$I$1048576,4,0)","v":37},{"$f":"VLOOKUP(D46,'Resultados Gerais'!$B$8:$I$1048576,5,0)","v":5},{"$f":"VLOOKUP(D46,'Resultados Gerais'!$B$8:$I$1048576,6,0)","v":38},{"$f":"VLOOKUP(D46,'Resultados Gerais'!$B$8:$I$1048576,7,0)","v":20},{"$f":"VLOOKUP(D46,'Resultados Gerais'!$B$8:$I$1048576,8,0)","v":16},null,null,null,31,5,5]
[null,null,35,{"$f":"COUNT('Resultados Gerais'!B$8:B$1048576)-C47","v":1139},{"$f":"VLOOKUP(D47,'Resultados Gerais'!B$8:C$1048576,2,0)","v":"2013-01-04"},{"$f":"VLOOKUP(D47,'Resultados Gerais'!$B$8:$I$1048576,3,0)","v":33},{"$f":"VLOOKUP(D47,'Resultados Gerais'!$B$8:$I$1048576,4,0)","v":26},{"$f":"VLOOKUP(D47,'Resultados Gerais'!$B$8:$I$1048576,5,0)","v":22},{"$f":"VLOOKUP(D47,'Resultados Gerais'!$B$8:$I$1048576,6,0)","v":20},{"$f":"VLOOKUP(D47,'Resultados Gerais'!$B$8:$I$1048576,7,0)","v":21},{"$f":"VLOOKUP(D47,'Resultados Gerais'!$B$8:$I$1048576,8,0)","v":50},null,null,null,46,5,5]
[null,null,36,{"$f":"COUNT('Resultados Gerais'!B$8:B$1048576)-C48","v":1138},{"$f":"VLOOKUP(D48,'Resultados Gerais'!B$8:C$1048576,2,0)","v":"2012-12-31"},{"$f":"VLOOKUP(D48,'Resultados Gerais'!$B$8:$I$1048576,3,0)","v":4},{"$f":"VLOOKUP(D48,'Resultados Gerais'!$B$8:$I$1048576,4,0)","v":5},{"$f":"VLOOKUP(D48,'Resultados Gerais'!$B$8:$I$1048576,5,0)","v":32},{"$f":"VLOOKUP(D48,'Resultados Gerais'!$B$8:$I$1048576,6,0)","v":14},{"$f":"VLOOKUP(D48,'Resultados Gerais'!$B$8:$I$1048576,7,0)","v":23},{"$f":"VLOOKUP(D48,'Resultados Gerais'!$B$8:$I$1048576,8,0)","v":41},null,null,null,15,5,5]
[null,null,37,{"$f":"COUNT('Resultados Gerais'!B$8:B$1048576)-C49","v":1137},{"$f":"VLOOKUP(D49,'Resultados Gerais'!B$8:C$1048576,2,0)","v":"2012-12-28"},{"$f":"VLOOKUP(D49,'Resultados Gerais'!$B$8:$I$1048576,3,0)","v":43},{"$f":"VLOOKUP(D49,'Resultados Gerais'!$B$8:$I$1048576,4,0)","v":14},{"$f":"VLOOKUP(D49,'Resultados Gerais'!$B$8:$I$1048576,5,0)","v":34},{"$f":"VLOOKUP(D49,'Resultados Gerais'!$B$8:$I$1048576,6,0)","v":49},{"$f":"VLOOKUP(D49,'Resultados Gerais'!$B$8:$I$1048576,7,0)","v":24},{"$f":"VLOOKUP(D49,'Resultados Gerais'!$B$8:$I$1048576,8,0)","v":6},null,null,null,40,4,4]
[null,null,38,{"$f":"COUNT('Resultados Gerais'!B$8:B$1048576)-C50","v":1136},{"$f":"VLOOKUP(D50,'Resultados Gerais'!B$8:C$1048576,2,0)","v":"2012-12-24"},{"$f":"VLOOKUP(D50,'Resultados Gerais'!$B$8:$I$1048576,3,0)","v":43},{"$f":"VLOOKUP(D50,'Resultados Gerais'!$B$8:$I$1048576,4,0)","v":20},{"$f":"VLOOKUP(D50,'Resultados Gerais'!$B$8:$I$1048576,5,0)","v":21},{"$f":"VLOOKUP(D50,'Resultados Gerais'!$B$8:$I$1048576,6,0)","v":27},{"$f":"VLOOKUP(D50,'Resultados Gerais'!$B$8:$I$1048576,7,0)","v":33},{"$f":"VLOOKUP(D50,'Resultados Gerais'!$B$8:$I$1048576,8,0)","v":24},null,null,null,1,4,4]
[null,null,39,{"$f":"COUNT('Resultados Gerais'!B$8:B$1048576)-C51","v":1135},{"$f":"VLOOKUP(D51,'Resultados Gerais'!B$8:C$1048576,2,0)","v":"2012-12-21"},{"$f":"VLOOKUP(D51,'Resultados Gerais'!$B$8:$I$1048576,3,0)","v":23},{"$f":"VLOOKUP(D51,'Resultados Gerais'!$B$8:$I$1048576,4,0)","v":40},{"$f":"VLOOKUP(D51,'Resultados Gerais'!$B$8:$I$1048576,5,0)","v":8},{"$f":"VLOOKUP(D51,'Resultados Gerais'!$B$8:$I$1048576,6,0)","v":17},{"$f":"VLOOKUP(D51,'Resultados Gerais'!$B$8:$I$1048576,7,0)","v":9},{"$f":"VLOOKUP(D51,'Resultados Gerais'!$B$8:$I$1048576,8,0)","v":12},null,null,null,6,4,4]
[null,null,40,{"$f":"COUNT('Resultados Gerais'!B$8:B$1048576)-C52","v":1134},{"$f":"VLOOKUP(D52,'Resultados Gerais'!B$8:C$1048576,2,0)","v":"2012-12-18"},{"$f":"VLOOKUP(D52,'Resultados Gerais'!$B$8:$I$1048576,3,0)","v":49},{"$f":"VLOOKUP(D52,'Resultados Gerais'!$B$8:$I$1048576,4,0)","v":13},{"$f":"VLOOKUP(D52,'Resultados Gerais'!$B$8:$I$1048576,5,0)","v":7},{"$f":"VLOOKUP(D52,'Resultados Gerais'!$B$8:$I$1048576,6,0)","v":36},{"$f":"VLOOKUP(D52,'Resultados Gerais'!$B$8:$I$1048576,7,0)","v":4},{"$f":"VLOOKUP(D52,'Resultados Gerais'!$B$8:$I$1048576,8,0)","v":41},null,null,null,39,4,4]
[null,null,41,{"$f":"COUNT('Resultados Gerais'!B$8:B$1048576)-C53","v":1133},{"$f":"VLOOKUP(D53,'Resultados Gerais'!B$8:C$1048576,2,0)","v":"2012-12-14"},{"$f":"VLOOKUP(D53,'Resultados Gerais'!$B$8:$I$1048576,3,0)","v":35},{"$f":"VLOOKUP(D53,'Resultados Gerais'!$B$8:$I$1048576,4,0)","v":8},{"$f":"VLOOKUP(D53,'Resultados Gerais'!$B$8:$I$1048576,5,0)","v":50},{"$f":"VLOOKUP(D53,'Resultados Gerais'!$B$8:$I$1048576,6,0)","v":42},{"$f":"VLOOKUP(D53,'Resultados Gerais'!$B$8:$I$1048576,7,0)","v":44},{"$f":"VLOOKUP(D53,'Resultados Gerais'!$B$8:$I$1048576,8,0)","v":28},null,null,null,45,4,4]
[null,null,42,{"$f":"COUNT('Resultados Gerais'!B$8:B$1048576)-C54","v":1132},{"$f":"VLOOKUP(D54,'Resultados Gerais'!B$8:C$1048576,2,0)","v":"2012-12-11"},{"$f":"VLOOKUP(D54,'Resultados Gerais'!$B$8:$I$1048576,3,0)","v":31},{"$f":"VLOOKUP(D54,'Resultados Gerais'!$B$8:$I$1048576,4,0)","v":27},{"$f":"VLOOKUP(D54,'Resultados Gerais'!$B$8:$I$1048576,5,0)","v":46},{"$f":"VLOOKUP(D54,'Resultados Gerais'!$B$8:$I$1048576,6,0)","v":36},{"$f":"VLOOKUP(D54,'Resultados Gerais'!$B$8:$I$1048576,7,0)","v":49},{"$f":"VLOOKUP(D54,'Resultados Gerais'!$B$8:$I$1048576,8,0)","v":38},null,null,null,29,3,3]
[null,null,43,{"$f":"COUNT('Resultados Gerais'!B$8:B$1048576)-C55","v":1131},{"$f":"VLOOKUP(D55,'Resultados Gerais'!B$8:C$1048576,2,0)","v":"2012-12-07"},{"$f":"VLOOKUP(D55,'Resultados Gerais'!$B$8:$I$1048576,3,0)","v":19},{"$f":"VLOOKUP(D55,'Resultados Gerais'!$B$8:$I$1048576,4,0)","v":22},{"$f":"VLOOKUP(D55,'Resultados Gerais'!$B$8:$I$1048576,5,0)","v":1},{"$f":"VLOOKUP(D55,'Resultados Gerais'!$B$8:$I$1048576,6,0)","v":5},{"$f":"VLOOKUP(D55,'Resultados Gerais'!$B$8:$I$1048576,7,0)","v":24},{"$f":"VLOOKUP(D55,'Resultados Gerais'!$B$8:$I$1048576,8,0)","v":35},null,null,null,7,3,3]
[null,null,44,{"$f":"COUNT('Resultados Gerais'!B$8:B$1048576)-C56","v":1130},{"$f":"VLOOKUP(D56,'Resultados Gerais'!B$8:C$1048576,2,0)","v":"2012-12-04"},{"$f":"VLOOKUP(D56,'Resultados Gerais'!$B$8:$I$1048576,3,0)","v":38},{"$f":"VLOOKUP(D56,'Resultados Gerais'!$B$8:$I$1048576,4,0)","v":15},{"$f":"VLOOKUP(D56,'Resultados Gerais'!$B$8:$I$1048576,5,0)","v":26},{"$f":"VLOOKUP(D56,'Resultados Gerais'!$B$8:$I$1048576,6,0)","v":37},{"$f":"VLOOKUP(D56,'Resultados Gerais'!$B$8:$I$1048576,7,0)","v":47},{"$f":"VLOOKUP(D56,'Resultados Gerais'!$B$8:$I$1048576,8,0)","v":10},null,null,null,30,3,3]
[null,null,45,{"$f":"COUNT('Resultados Gerais'!B$8:B$1048576)-C57","v":1129},{"$f":"VLOOKUP(D57,'Resultados Gerais'!B$8:C$1048576,2,0)","v":"2012-11-30"},{"$f":"VLOOKUP(D57,'Resultados Gerais'!$B$8:$I$1048576,3,0)","v":39},{"$f":"VLOOKUP(D57,'Resultados Gerais'!$B$8:$I$1048576,4,0)","v":23},{"$f":"VLOOKUP(D57,'Resultados Gerais'!$B$8:$I$1048576,5,0)","v":6},{"$f":"VLOOKUP(D57,'Resultados Gerais'!$B$8:$I$1048576,6,0)","v":47},{"$f":"VLOOKUP(D57,'Resultados Gerais'!$B$8:$I$1048576,7,0)","v":18},{"$f":"VLOOKUP(D57,'Resultados Gerais'!$B$8:$I$1048576,8,0)","v":15},null,null,null,12,3,3]
[null,null,46,{"$f":"COUNT('Resultados Gerais'!B$8:B$1048576)-C58","v":1128},{"$f":"VLOOKUP(D58,'Resultados Gerais'!B$8:C$1048576,2,0)","v":"2012-11-27"},{"$f":"VLOOKUP(D58,'Resultados Gerais'!$B$8:$I$1048576,3,0)","v":31},{"$f":"VLOOKUP(D58,'Resultados Gerais'!$B$8:$I$1048576,4,0)","v":43},{"$f":"VLOOKUP(D58,'Resultados Gerais'!$B$8:$I$1048576,5,0)","v":10},{"$f":"VLOOKUP(D58,'Resultados Gerais'!$B$8:$I$1048576,6,0)","v":42},{"$f":"VLOOKUP(D58,'Resultados Gerais'!$B$8:$I$1048576,7,0)","v":6},{"$f":"VLOOKUP(D58,'Resultados Gerais'!$B$8:$I$1048576,8,0)","v":9},null,null,null,36,3,3]
[null,null,47,{"$f":"COUNT('Resultados Gerais'!B$8:B$1048576)-C59","v":1127},{"$f":"VLOOKUP(D59,'Resultados Gerais'!B$8:C$1048576,2,0)","v":"2012-11-23"},{"$f":"VLOOKUP(D59,'Resultados Gerais'!$B$8:$I$1048576,3,0)","v":12},{"$f":"VLOOKUP(D59,'Resultados Gerais'!$B$8:$I$1048576,4,0)","v":48},{"$f":"VLOOKUP(D59,'Resultados Gerais'!$B$8:$I$1048576,5,0)","v":22},{"$f":"VLOOKUP(D59,'Resultados Gerais'!$B$8:$I$1048576,6,0)","v":8},{"$f":"VLOOKUP(D59,'Resultados Gerais'!$B$8:$I$1048576,7,0)","v":17},{"$f":"VLOOKUP(D59,'Resultados Gerais'!$B$8:$I$1048576,8,0)","v":37},null,null,null,48,2,2]
[null,null,48,{"$f":"COUNT('Resultados Gerais'!B$8:B$1048576)-C60","v":1126},{"$f":"VLOOKUP(D60,'Resultados Gerais'!B$8:C$1048576,2,0)","v":"2012-11-20"},{"$f":"VLOOKUP(D60,'Resultados Gerais'!$B$8:$I$1048576,3,0)","v":16},{"$f":"VLOOKUP(D60,'Resultados Gerais'!$B$8:$I$1048576,4,0)","v":50},{"$f":"VLOOKUP(D60,'Resultados Gerais'!$B$8:$I$1048576,5,0)","v":29},{"$f":"VLOOKUP(D60,'Resultados Gerais'!$B$8:$I$1048576,6,0)","v":27},{"$f":"VLOOKUP(D60,'Resultados Gerais'!$B$8:$I$1048576,7,0)","v":11},{"$f":"VLOOKUP(D60,'Resultados Gerais'!$B$8:$I$1048576,8,0)","v":47},null,null,null,2,2,2]
[null,null,49,{"$f":"COUNT('Resultados Gerais'!B$8:B$1048576)-C61","v":1125},{"$f":"VLOOKUP(D61,'Resultados Gerais'!B$8:C$1048576,2,0)","v":"2012-11-16"},{"$f":"VLOOKUP(D61,'Resultados Gerais'!$B$8:$I$1048576,3,0)","v":35},{"$f":"VLOOKUP(D61,'Resultados Gerais'!$B$8:$I$1048576,4,0)","v":9},{"$f":"VLOOKUP(D61,'Resultados Gerais'!$B$8:$I$1048576,5,0)","v":22},{"$f":"VLOOKUP(D61,'Resultados Gerais'!$B$8:$I$1048576,6,0)","v":31},{"$f":"VLOOKUP(D61,'Resultados Gerais'!$B$8:$I$1048576,7,0)","v":47},{"$f":"VLOOKUP(D61,'Resultados Gerais'!$B$8:$I$1048576,8,0)","v":17},null,null,null,34,2,2]
[null,null,50]

{"sheet":"100 Últimos Sorteios","index":5,"n_rows":111,"n_cols":17,"rows_kept":111,"cut":false,"hidden":false,"merged":[[8,14,9,15],[8,3,9,10],[5,1,5,18],[1,1,1,18],[2,1,2,18],[3,1,3,18]]}
[]
[null,"Atenção!"]
[null,"Esta planilha é de uso pessoal, é restritamente proibida a distribuição da mesma a terceiros, sujeito a punições de acordo com as leis de direitos autorais"]
[null,"Todos os direitos reservados ao site www.ApostaEsperta.com "]
[]
[null,"Planilha de Análise Estatística Dupla Sena"]
[]
[]
[null,null,null,"Resultados dos Últimos 100 Sorteios",null,null,null,null,null,null,null,null,null,null,"Números Quentes\nÚtimos 100 Sorteios"]
[]
[null,null,null,"Sorteio","Data do Sorteio","1ª Dezena","2ª Dezena","3ª Dezena","4ª Dezena","5ª Dezena","6ª Dezena",null,null,null,"Dezena","Qtd de Saída"]
[null,null,null,{"$f":"COUNT('Resultados Gerais'!B8:B1048576)-C12","v":1174},{"$f":"VLOOKUP(D12,'Resultados Gerais'!B$8:C$1048576,2,0)","v":"2013-05-07"},{"$f":"VLOOKUP(D12,'Resultados Gerais'!$B$8:$I$1048576,3,0)","v":47},{"$f":"VLOOKUP(D12,'Resultados Gerais'!$B$8:$I$1048576,4,0)","v":42},{"$f":"VLOOKUP(D12,'Resultados Gerais'!$B$8:$I$1048576,5,0)","v":26},{"$f":"VLOOKUP(D12,'Resultados Gerais'!$B$8:$I$1048576,6,0)","v":10},{"$f":"VLOOKUP(D12,'Resultados Gerais'!$B$8:$I$1048576,7,0)","v":4},{"$f":"VLOOKUP(D12,'Resultados Gerais'!$B$8:$I$1048576,8,0)","v":9},null,null,null,26,{"$f":"COUNTIF($F$12:$K$112,O12)","v":18},{"$f":"P12","v":18}]
[null,null,1,{"$f":"COUNT('Resultados Gerais'!B8:B1048576)-C13","v":1173},{"$f":"VLOOKUP(D13,'Resultados Gerais'!B$8:C$1048576,2,0)","v":"2013-05-03"},{"$f":"VLOOKUP(D13,'Resultados Gerais'!$B$8:$I$1048576,3,0)","v":35},{"$f":"VLOOKUP(D13,'Resultados Gerais'!$B$8:$I$1048576,4,0)","v":26},{"$f":"VLOOKUP(D13,'Resultados Gerais'!$B$8:$I$1048576,5,0)","v":44},{"$f":"VLOOKUP(D13,'Resultados Gerais'!$B$8:$I$1048576,6,0)","v":21},{"$f":"VLOOKUP(D13,'Resultados Gerais'!$B$8:$I$1048576,7,0)","v":11},{"$f":"VLOOKUP(D13,'Resultados Gerais'!$B$8:$I$1048576,8,0)","v":1},null,null,null,10,18,{"$f":"P13","v":18}]
[null,null,2,{"$f":"COUNT('Resultados Gerais'!B8:B1048576)-C14","v":1172},{"$f":"VLOOKUP(D14,'Resultados Gerais'!B$8:C$1048576,2,0)","v":"2013-04-30"},{"$f":"VLOOKUP(D14,'Resultados Gerais'!$B$8:$I$1048576,3,0)","v":16},{"$f":"VLOOKUP(D14,'Resultados Gerais'!$B$8:$I$1048576,4,0)","v":40},{"$f":"VLOOKUP(D14,'Resultados Gerais'!$B$8:$I$1048576,5,0)","v":41},{"$f":"VLOOKUP(D14,'Resultados Gerais'!$B$8:$I$1048576,6,0)","v":25},{"$f":"VLOOKUP(D14,'Resultados Gerais'!$B$8:$I$1048576,7,0)","v":46},{"$f":"VLOOKUP(D14,'Resultados Gerais'!$B$8:$I$1048576,8,0)","v":13},null,null,null,35,16,16]
[null,null,3,{"$f":"COUNT('Resultados Gerais'!B8:B1048576)-C15","v":1171},{"$f":"VLOOKUP(D15,'Resultados Gerais'!B$8:C$1048576,2,0)","v":"2013-04-26"},{"$f":"VLOOKUP(D15,'Resultados Gerais'!$B$8:$I$1048576,3,0)","v":19},{"$f":"VLOOKUP(D15,'Resultados Gerais'!$B$8:$I$1048576,4,0)","v":44},{"$f":"VLOOKUP(D15,'Resultados Gerais'!$B$8:$I$1048576,5,0)","v":26},{"$f":"VLOOKUP(D15,'Resultados Gerais'!$B$8:$I$1048576,6,0)","v":22},{"$f":"VLOOKUP(D15,'Resultados Gerais'!$B$8:$I$1048576,7,0)","v":32},{"$f":"VLOOKUP(D15,'Resultados Gerais'!$B$8:$I$1048576,8,0)","v":43},null,null,null,37,15,15]
[null,null,4,{"$f":"COUNT('Resultados Gerais'!B8:B1048576)-C16","v":1170},{"$f":"VLOOKUP(D16,'Resultados Gerais'!B$8:C$1048576,2,0)","v":"2013-04-23"},{"$f":"VLOOKUP(D16,'Resultados Gerais'!$B$8:$I$1048576,3,0)","v":43},{"$f":"VLOOKUP(D16,'Resultados Gerais'!$B$8:$I$1048576,4,0)","v":19},{"$f":"VLOOKUP(D16,'Resultados Gerais'!$B$8:$I$1048576,5,0)","v":3},{"$f":"VLOOKUP(D16,'Resultados Gerais'!$B$8:$I$1048576,6,0)","v":14},{"$f":"VLOOKUP(D16,'Resultados Gerais'!$B$8:$I$1048576,7,0)","v":39},{"$f":"VLOOKUP(D16,'Resultados Gerais'!$B$8:$I$1048576,8,0)","v":29},null,null,null,28,15,15]
[null,null,5,{"$f":"COUNT('Resultados Gerais'!B8:B1048576)-C17","v":1169},{"$f":"VLOOKUP(D17,'Resultados Gerais'!B$8:C$1048576,2,0)","v":"2013-04-19"},{"$f":"VLOOKUP(D17,'Resultados Gerais'!$B$8:$I$1048576,3,0)","v":20},{"$f":"VLOOKUP(D17,'Resultados Gerais'!$B$8:$I$1048576,4,0)","v":50},{"$f":"VLOOKUP(D17,'Resultados Gerais'!$B$8:$I$1048576,5,0)","v":37},{"$f":"VLOOKUP(D17,'Resultados Gerais'!$B$8:$I$1048576,6,0)","v":18},{"$f":"VLOOKUP(D17,'Resultados Gerais'!$B$8:$I$1048576,7,0)","v":28},{"$f":"VLOOKUP(D17,'Resultados Gerais'!$B$8:$I$1048576,8,0)","v":26},null,null,null,18,15,15]
[null,null,6,{"$f":"COUNT('Resultados Gerais'!B8:B1048576)-C18","v":1168},{"$f":"VLOOKUP(D18,'Resultados Gerais'!B$8:C$1048576,2,0)","v":"2013-04-16"},{"$f":"VLOOKUP(D18,'Resultados Gerais'!$B$8:$I$1048576,3,0)","v":41},{"$f":"VLOOKUP(D18,'Resultados Gerais'!$B$8:$I$1048576,4,0)","v":31},{"$f":"VLOOKUP(D18,'Resultados Gerais'!$B$8:$I$1048576,5,0)","v":27},{"$f":"VLOOKUP(D18,'Resultados Gerais'!$B$8:$I$1048576,6,0)","v":4},{"$f":"VLOOKUP(D18,'Resultados Gerais'!$B$8:$I$1048576,7,0)","v":37},{"$f":"VLOOKUP(D18,'Resultados Gerais'!$B$8:$I$1048576,8,0)","v":26},null,null,null,15,15,15]
[null,null,7,{"$f":"COUNT('Resultados Gerais'!B8:B1048576)-C19","v":1167},{"$f":"VLOOKUP(D19,'Resultados Gerais'!B$8:C$1048576,2,0)","v":"2013-04-12"},{"$f":"VLOOKUP(D19,'Resultados Gerais'!$B$8:$I$1048576,3,0)","v":16},{"$f":"VLOOKUP(D19,'Resultados Gerais'!$B$8:$I$1048576,4,0)","v":5},{"$f":"VLOOKUP(D19,'Resultados Gerais'!$B$8:$I$1048576,5,0)","v":43},{"$f":"VLOOKUP(D19,'Resultados Gerais'!$B$8:$I$1048576,6,0)","v":25},{"$f":"VLOOKUP(D19,'Resultados Gerais'!$B$8:$I$1048576,7,0)","v":26},{"$f":"VLOOKUP(D19,'Resultados Gerais'!$B$8:$I$1048576,8,0)","v":19},null,null,null,41,14,14]
[null,null,8,{"$f":"COUNT('Resultados Gerais'!B8:B1048576)-C20","v":1166},{"$f":"VLOOKUP(D20,'Resultados Gerais'!B$8:C$1048576,2,0)","v":"2013-04-09"},{"$f":"VLOOKUP(D20,'Resultados Gerais'!$B$8:$I$1048576,3,0)","v":38},{"$f":"VLOOKUP(D20,'Resultados Gerais'!$B$8:$I$1048576,4,0)","v":35},{"$f":"VLOOKUP(D20,'Resultados Gerais'!$B$8:$I$1048576,5,0)","v":3},{"$f":"VLOOKUP(D20,'Resultados Gerais'!$B$8:$I$1048576,6,0)","v":41},{"$f":"VLOOKUP(D20,'Resultados Gerais'!$B$8:$I$1048576,7,0)","v":9},{"$f":"VLOOKUP(D20,'Resultados Gerais'!$B$8:$I$1048576,8,0)","v":44},null,null,null,19,14,14]
[null,null,9,{"$f":"COUNT('Resultados Gerais'!B8:B1048576)-C21","v":1165},{"$f":"VLOOKUP(D21,'Resultados Gerais'!B$8:C$1048576,2,0)","v":"2013-04-05"},{"$f":"VLOOKUP(D21,'Resultados Gerais'!$B$8:$I$1048576,3,0)","v":30},{"$f":"VLOOKUP(D21,'Resultados Gerais'!$B$8:$I$1048576,4,0)","v":13},{"$f":"VLOOKUP(D21,'Resultados Gerais'!$B$8:$I$1048576,5,0)","v":41},{"$f":"VLOOKUP(D21,'Resultados Gerais'!$B$8:$I$1048576,6,0)","v":38},{"$f":"VLOOKUP(D21,'Resultados Gerais'!$B$8:$I$1048576,7,0)","v":4},{"$f":"VLOOKUP(D21,'Resultados Gerais'!$B$8:$I$1048576,8,0)","v":3},null,null,null,43,14,14]
[null,null,10,{"$f":"COUNT('Resultados Gerais'!B8:B1048576)-C22","v":1164},{"$f":"VLOOKUP(D22,'Resultados Gerais'!B$8:C$1048576,2,0)","v":"2013-04-02"},{"$f":"VLOOKUP(D22,'Resultados Gerais'!$B$8:$I$1048576,3,0)","v":7},{"$f":"VLOOKUP(D22,'Resultados Gerais'!$B$8:$I$1048576,4,0)","v":8},{"$f":"VLOOKUP(D22,'Resultados Gerais'!$B$8:$I$1048576,5,0)","v":32},{"$f":"VLOOKUP(D22,'Resultados Gerais'!$B$8:$I$1048576,6,0)","v":6},{"$f":"VLOOKUP(D22,'Resultados Gerais'!$B$8:$I$1048576,7,0)","v":10},{"$f":"VLOOKUP(D22,'Resultados Gerais'!$B$8:$I$1048576,8,0)","v":11},null,null,null,22,14,14]
[null,null,11,{"$f":"COUNT('Resultados Gerais'!B8:B1048576)-C23","v":1163},{"$f":"VLOOKUP(D23,'Resultados Gerais'!B$8:C$1048576,2,0)","v":"2013-03-30"},{"$f":"VLOOKUP(D23,'Resultados Gerais'!$B$8:$I$1048576,3,0)","v":43},{"$f":"VLOOKUP(D23,'Resultados Gerais'!$B$8:$I$1048576,4,0)","v":37},{"$f":"VLOOKUP(D23,'Resultados Gerais'!$B$8:$I$1048576,5,0)","v":49},{"$f":"VLOOKUP(D23,'Resultados Gerais'!$B$8:$I$1048576,6,0)","v":20},{"$f":"VLOOKUP(D23,'Resultados Gerais'!$B$8:$I$1048576,7,0)","v":19},{"$f":"VLOOKUP(D23,'Resultados Gerais'!$B$8:$I$1048576,8,0)","v":24},null,null,null,9,14,14]
[null,null,12,{"$f":"COUNT('Resultados Gerais'!B8:B1048576)-C24","v":1162},{"$f":"VLOOKUP(D24,'Resultados Gerais'!B$8:C$1048576,2,0)","v":"2013-03-26"},{"$f":"VLOOKUP(D24,'Resultados Gerais'!$B$8:$I$1048576,3,0)","v":15},{"$f":"VLOOKUP(D24,'Resultados Gerais'!$B$8:$I$1048576,4,0)","v":17},{"$f":"VLOOKUP(D24,'Resultados Gerais'!$B$8:$I$1048576,5,0)","v":25},{"$f":"VLOOKUP(D24,'Resultados Gerais'!$B$8:$I$1048576,6,0)","v":4},{"$f":"VLOOKUP(D24,'Resultados Gerais'!$B$8:$I$1048576,7,0)","v":44},{"$f":"VLOOKUP(D24,'Resultados Gerais'!$B$8:$I$1048576,8,0)","v":42},null,null,null,13,14,14]
[null,null,13,{"$f":"COUNT('Resultados Gerais'!B8:B1048576)-C25","v":1161},{"$f":"VLOOKUP(D25,'Resultados Gerais'!B$8:C$1048576,2,0)","v":"2013-03-22"},{"$f":"VLOOKUP(D25,'Resultados Gerais'!$B$8:$I$1048576,3,0)","v":32},{"$f":"VLOOKUP(D25,'Resultados Gerais'!$B$8:$I$1048576,4,0)","v":16},{"$f":"VLOOKUP(D25,'Resultados Gerais'!$B$8:$I$1048576,5,0)","v":14},{"$f":"VLOOKUP(D25,'Resultados Gerais'!$B$8:$I$1048576,6,0)","v":27},{"$f":"VLOOKUP(D25,'Resultados Gerais'!$B$8:$I$1048576,7,0)","v":44},{"$f":"VLOOKUP(D25,'Resultados Gerais'!$B$8:$I$1048576,8,0)","v":11},null,null,null,5,14,14]
[null,null,14,{"$f":"COUNT('Resultados Gerais'!B8:B1048576)-C26","v":1160},{"$f":"VLOOKUP(D26,'Resultados Gerais'!B$8:C$1048576,2,0)","v":"2013-03-19"},{"$f":"VLOOKUP(D26,'Resultados Gerais'!$B$8:$I$1048576,3,0)","v":13},{"$f":"VLOOKUP(D26,'Resultados Gerais'!$B$8:$I$1048576,4,0)","v":8},{"$f":"VLOOKUP(D26,'Resultados Gerais'!$B$8:$I$1048576,5,0)","v":49},{"$f":"VLOOKUP(D26,'Resultados Gerais'!$B$8:$I$1048576,6,0)","v":5},{"$f":"VLOOKUP(D26,'Resultados Gerais'!$B$8:$I$1048576,7,0)","v":41},{"$f":"VLOOKUP(D26,'Resultados Gerais'!$B$8:$I$1048576,8,0)","v":14},null,null,null,31,14,14]
[null,null,15,{"$f":"COUNT('Resultados Gerais'!B8:B1048576)-C27","v":1159},{"$f":"VLOOKUP(D27,'Resultados Gerais'!B$8:C$1048576,2,0)","v":"2013-03-15"},{"$f":"VLOOKUP(D27,'Resultados Gerais'!$B$8:$I$1048576,3,0)","v":4},{"$f":"VLOOKUP(D27,'Resultados Gerais'!$B$8:$I$1048576,4,0)","v":28},{"$f":"VLOOKUP(D27,'Resultados Gerais'!$B$8:$I$1048576,5,0)","v":42},{"$f":"VLOOKUP(D27,'Resultados Gerais'!$B$8:$I$1048576,6,0)","v":18},{"$f":"VLOOKUP(D27,'Resultados Gerais'!$B$8:$I$1048576,7,0)","v":19},{"$f":"VLOOKUP(D27,'Resultados Gerais'!$B$8:$I$1048576,8,0)","v":40},null,null,null,39,14,14]
[null,null,16,{"$f":"COUNT('Resultados Gerais'!B8:B1048576)-C28","v":1158},{"$f":"VLOOKUP(D28,'Resultados Gerais'!B$8:C$1048576,2,0)","v":"2013-03-12"},{"$f":"VLOOKUP(D28,'Resultados Gerais'!$B$8:$I$1048576,3,0)","v":45},{"$f":"VLOOKUP(D28,'Resultados Gerais'!$B$8:$I$1048576,4,0)","v":50},{"$f":"VLOOKUP(D28,'Resultados Gerais'!$B$8:$I$1048576,5,0)","v":48},{"$f":"VLOOKUP(D28,'Resultados Gerais'!$B$8:$I$1048576,6,0)","v":4},{"$f":"VLOOKUP(D28,'Resultados Gerais'!$B$8:$I$1048576,7,0)","v":17},{"$f":"VLOOKUP(D28,'Resultados Gerais'!$B$8:$I$1048576,8,0)","v":46},null,null,null,40,13,13]
[null,null,17,{"$f":"COUNT('Resultados Gerais'!B8:B1048576)-C29","v":1157},{"$f":"VLOOKUP(D29,'Resultados Gerais'!B$8:C$1048576,2,0)","v":"2013-03-08"},{"$f":"VLOOKUP(D29,'Resultados Gerais'!$B$8:$I$1048576,3,0)","v":22},{"$f":"VLOOKUP(D29,'Resultados Gerais'!$B$8:$I$1048576,4,0)","v":17},{"$f":"VLOOKUP(D29,'Resultados Gerais'!$B$8:$I$1048576,5,0)","v":50},{"$f":"VLOOKUP(D29,'Resultados Gerais'!$B$8:$I$1048576,6,0)","v":44},{"$f":"VLOOKUP(D29,'Resultados Gerais'!$B$8:$I$1048576,7,0)","v":49},{"$f":"VLOOKUP(D29,'Resultados Gerais'!$B$8:$I$1048576,8,0)","v":24},null,null,null,4,13,13]
[null,null,18,{"$f":"COUNT('Resultados Gerais'!B8:B1048576)-C30","v":1156},{"$f":"VLOOKUP(D30,'Resultados Gerais'!B$8:C$1048576,2,0)","v":"2013-03-05"},{"$f":"VLOOKUP(D30,'Resultados Gerais'!$B$8:$I$1048576,3,0)","v":10},{"$f":"VLOOKUP(D30,'Resultados Gerais'!$B$8:$I$1048576,4,0)","v":33},{"$f":"VLOOKUP(D30,'Resultados Gerais'!$B$8:$I$1048576,5,0)","v":23},{"$f":"VLOOKUP(D30,'Resultados Gerais'!$B$8:$I$1048576,6,0)","v":11},{"$f":"VLOOKUP(D30,'Resultados Gerais'!$B$8:$I$1048576,7,0)","v":28},{"$f":"VLOOKUP(D30,'Resultados Gerais'!$B$8:$I$1048576,8,0)","v":25},null,null,null,47,13,13]
[null,null,19,{"$f":"COUNT('Resultados Gerais'!B8:B1048576)-C31","v":1155},{"$f":"VLOOKUP(D31,'Resultados Gerais'!B$8:C$1048576,2,0)","v":"2013-03-01"},{"$f":"VLOOKUP(D31,'Resultados Gerais'!$B$8:$I$1048576,3,0)","v":19},{"$f":"VLOOKUP(D31,'Resultados Gerais'!$B$8:$I$1048576,4,0)","v":15},{"$f":"VLOOKUP(D31,'Resultados Gerais'!$B$8:$I$1048576,5,0)","v":9},{"$f":"VLOOKUP(D31,'Resultados Gerais'!$B$8:$I$1048576,6,0)","v":26},{"$f":"VLOOKUP(D31,'Resultados Gerais'!$B$8:$I$1048576,7,0)","v":44},{"$f":"VLOOKUP(D31,'Resultados Gerais'!$B$8:$I$1048576,8,0)","v":47},null,null,null,49,13,13]
[null,null,20,{"$f":"COUNT('Resultados Gerais'!B$8:B$1048576)-C32","v":1154},{"$f":"VLOOKUP(D32,'Resultados Gerais'!B$8:C$1048576,2,0)","v":"2013-02-26"},{"$f":"VLOOKUP(D32,'Resultados Gerais'!$B$8:$I$1048576,3,0)","v":10},{"$f":"VLOOKUP(D32,'Resultados Gerais'!$B$8:$I$1048576,4,0)","v":28},{"$f":"VLOOKUP(D32,'Resultados Gerais'!$B$8:$I$1048576,5,0)","v":47},{"$f":"VLOOKUP(D32,'Resultados Gerais'!$B$8:$I$1048576,6,0)","v":41},{"$f":"VLOOKUP(D32,'Resultados Gerais'!$B$8:$I$1048576,7,0)","v":11},{"$f":"VLOOKUP(D32,'Resultados Gerais'!$B$8:$I$1048576,8,0)","v":31},null,null,null,24,13,13]
[null,null,21,{"$f":"COUNT('Resultados Gerais'!B$8:B$1048576)-C33","v":1153},{"$f":"VLOOKUP(D33,'Resultados Gerais'!B$8:C$1048576,2,0)","v":"2013-02-22"},{"$f":"VLOOKUP(D33,'Resultados Gerais'!$B$8:$I$1048576,3,0)","v":25},{"$f":"VLOOKUP(D33,'Resultados Gerais'!$B$8:$I$1048576,4,0)","v":43},{"$f":"VLOOKUP(D33,'Resultados Gerais'!$B$8:$I$1048576,5,0)","v":28},{"$f":"VLOOKUP(D33,'Resultados Gerais'!$B$8:$I$1048576,6,0)","v":36},{"$f":"VLOOKUP(D33,'Resultados Gerais'!$B$8:$I$1048576,7,0)","v":8},{"$f":"VLOOKUP(D33,'Resultados Gerais'!$B$8:$I$1048576,8,0)","v":34},null,null,null,25,13,13]
[null,null,22,{"$f":"COUNT('Resultados Gerais'!B$8:B$1048576)-C34","v":1152},{"$f":"VLOOKUP(D34,'Resultados Gerais'!B$8:C$1048576,2,0)","v":"2013-02-19"},{"$f":"VLOOKUP(D34,'Resultados Gerais'!$B$8:$I$1048576,3,0)","v":13},{"$f":"VLOOKUP(D34,'Resultados Gerais'!$B$8:$I$1048576,4,0)","v":1},{"$f":"VLOOKUP(D34,'Resultados Gerais'!$B$8:$I$1048576,5,0)","v":32},{"$f":"VLOOKUP(D34,'Resultados Gerais'!$B$8:$I$1048576,6,0)","v":21},{"$f":"VLOOKUP(D34,'Resultados Gerais'!$B$8:$I$1048576,7,0)","v":33},{"$f":"VLOOKUP(D34,'Resultados Gerais'!$B$8:$I$1048576,8,0)","v":11},null,null,null,17,13,13]
[null,null,23,{"$f":"COUNT('Resultados Gerais'!B$8:B$1048576)-C35","v":1151},{"$f":"VLOOKUP(D35,'Resultados Gerais'!B$8:C$1048576,2,0)","v":"2013-02-15"},{"$f":"VLOOKUP(D35,'Resultados Gerais'!$B$8:$I$1048576,3,0)","v":9},{"$f":"VLOOKUP(D35,'Resultados Gerais'!$B$8:$I$1048576,4,0)","v":21},{"$f":"VLOOKUP(D35,'Resultados Gerais'!$B$8:$I$1048576,5,0)","v":10},{"$f":"VLOOKUP(D35,'Resultados Gerais'!$B$8:$I$1048576,6,0)","v":18},{"$f":"VLOOKUP(D35,'Resultados Gerais'!$B$8:$I$1048576,7,0)","v":13},{"$f":"VLOOKUP(D35,'Resultados Gerais'!$B$8:$I$1048576,8,0)","v":44},null,null,null,42,13,13]
[null,null,24,{"$f":"COUNT('Resultados Gerais'!B$8:B$1048576)-C36","v":1150},{"$f":"VLOOKUP(D36,'Resultados Gerais'!B$8:C$1048576,2,0)","v":"2013-02-13"},{"$f":"VLOOKUP(D36,'Resultados Gerais'!$B$8:$I$1048576,3,0)","v":2},{"$f":"VLOOKUP(D36,'Resultados Gerais'!$B$8:$I$1048576,4,0)","v":3},{"$f":"VLOOKUP(D36,'Resultados Gerais'!$B$8:$I$1048576,5,0)","v":24},{"$f":"VLOOKUP(D36,'Resultados Gerais'!$B$8:$I$1048576,6,0)","v":10},{"$f":"VLOOKUP(D36,'Resultados Gerais'!$B$8:$I$1048576,7,0)","v":37},{"$f":"VLOOKUP(D36,'Resultados Gerais'!$B$8:$I$1048576,8,0)","v":30},null,null,null,45,13,13]
[null,null,25,{"$f":"COUNT('Resultados Gerais'!B$8:B$1048576)-C37","v":1149},{"$f":"VLOOKUP(D37,'Resultados Gerais'!B$8:C$1048576,2,0)","v":"2013-02-08"},{"$f":"VLOOKUP(D37,'Resultados Gerais'!$B$8:$I$1048576,3,0)","v":5},{"$f":"VLOOKUP(D37,'Resultados Gerais'!$B$8:$I$1048576,4,0)","v":13},{"$f":"VLOOKUP(D37,'Resultados Gerais'!$B$8:$I$1048576,5,0)","v":30},{"$f":"VLOOKUP(D37,'Resultados Gerais'!$B$8:$I$1048576,6,0)","v":33},{"$f":"VLOOKUP(D37,'Resultados Gerais'!$B$8:$I$1048576,7,0)","v":45},{"$f":"VLOOKUP(D37,'Resultados Gerais'!$B$8:$I$1048576,8,0)","v":17},null,null,null,16,12,12]
[null,null,26,{"$f":"COUNT('Resultados Gerais'!B$8:B$1048576)-C38","v":1148},{"$f":"VLOOKUP(D38,'Resultados Gerais'!B$8:C$1048576,2,0)","v":"2013-02-05"},{"$f":"VLOOKUP(D38,'Resultados Gerais'!$B$8:$I$1048576,3,0)","v":18},{"$f":"VLOOKUP(D38,'Resultados Gerais'!$B$8:$I$1048576,4,0)","v":3},{"$f":"VLOOKUP(D38,'Resultados Gerais'!$B$8:$I$1048576,5,0)","v":33},{"$f":"VLOOKUP(D38,'Resultados Gerais'!$B$8:$I$1048576,6,0)","v":11},{"$f":"VLOOKUP(D38,'Resultados Gerais'!$B$8:$I$1048576,7,0)","v":23},{"$f":"VLOOKUP(D38,'Resultados Gerais'!$B$8:$I$1048576,8,0)","v":35},null,null,null,23,12,12]
[null,null,27,{"$f":"COUNT('Resultados Gerais'!B$8:B$1048576)-C39","v":1147},{"$f":"VLOOKUP(D39,'Resultados Gerais'!B$8:C$1048576,2,0)","v":"2013-02-01"},{"$f":"VLOOKUP(D39,'Resultados Gerais'!$B$8:$I$1048576,3,0)","v":42},{"$f":"VLOOKUP(D39,'Resultados Gerais'!$B$8:$I$1048576,4,0)","v":7},{"$f":"VLOOKUP(D39,'Resultados Gerais'!$B$8:$I$1048576,5,0)","v":20},{"$f":"VLOOKUP(D39,'Resultados Gerais'!$B$8:$I$1048576,6,0)","v":39},{"$f":"VLOOKUP(D39,'Resultados Gerais'!$B$8:$I$1048576,7,0)","v":29},{"$f":"VLOOKUP(D39,'Resultados Gerais'!$B$8:$I$1048576,8,0)","v":22},null,null,null,44,12,12]
[null,null,28,{"$f":"COUNT('Resultados Gerais'!B$8:B$1048576)-C40","v":1146},{"$f":"VLOOKUP(D40,'Resultados Gerais'!B$8:C$1048576,2,0)","v":"2013-01-29"},{"$f":"VLOOKUP(D40,'Resultados Gerais'!$B$8:$I$1048576,3,0)","v":18},{"$f":"VLOOKUP(D40,'Resultados Gerais'!$B$8:$I$1048576,4,0)","v":40},{"$f":"VLOOKUP(D40,'Resultados Gerais'!$B$8:$I$1048576,5,0)","v":10},{"$f":"VLOOKUP(D40,'Resultados Gerais'!$B$8:$I$1048576,6,0)","v":2},{"$f":"VLOOKUP(D40,'Resultados Gerais'!$B$8:$I$1048576,7,0)","v":35},{"$f":"VLOOKUP(D40,'Resultados Gerais'!$B$8:$I$1048576,8,0)","v":25},null,null,null,20,12,12]
[null,null,29,{"$f":"COUNT('Resultados Gerais'!B$8:B$1048576)-C41","v":1145},{"$f":"VLOOKUP(D41,'Resultados Gerais'!B$8:C$1048576,2,0)","v":"2013-01-25"},{"$f":"VLOOKUP(D41,'Resultados Gerais'!$B$8:$I$1048576,3,0)","v":39},{"$f":"VLOOKUP(D41,'Resultados Gerais'!$B$8:$I$1048576,4,0)","v":35},{"$f":"VLOOKUP(D41,'Resultados Gerais'!$B$8:$I$1048576,5,0)","v":16},{"$f":"VLOOKUP(D41,'Resultados Gerais'!$B$8:$I$1048576,6,0)","v":24},{"$f":"VLOOKUP(D41,'Resultados Gerais'!$B$8:$I$1048576,7,0)","v":4},{"$f":"VLOOKUP(D41,'Resultados Gerais'!$B$8:$I$1048576,8,0)","v":12},null,null,null,27,12,12]
[null,null,30,{"$f":"COUNT('Resultados Gerais'!B$8:B$1048576)-C42","v":1144},{"$f":"VLOOKUP(D42,'Resultados Gerais'!B$8:C$1048576,2,0)","v":"2013-01-22"},{"$f":"VLOOKUP(D42,'Resultados Gerais'!$B$8:$I$1048576,3,0)","v":5},{"$f":"VLOOKUP(D42,'Resultados Gerais'!$B$8:$I$1048576,4,0)","v":46},{"$f":"VLOOKUP(D42,'Resultados Gerais'!$B$8:$I$1048576,5,0)","v":21},{"$f":"VLOOKUP(D42,'Resultados Gerais'!$B$8:$I$1048576,6,0)","v":47},{"$f":"VLOOKUP(D42,'Resultados Gerais'!$B$8:$I$1048576,7,0)","v":1},{"$f":"VLOOKUP(D42,'Resultados Gerais'!$B$8:$I$1048576,8,0)","v":35},null,null,null,33,11,11]
[null,null,31,{"$f":"COUNT('Resultados Gerais'!B$8:B$1048576)-C43","v":1143},{"$f":"VLOOKUP(D43,'Resultados Gerais'!B$8:C$1048576,2,0)","v":"2013-01-18"},{"$f":"VLOOKUP(D43,'Resultados Gerais'!$B$8:$I$1048576,3,0)","v":45},{"$f":"VLOOKUP(D43,'Resultados Gerais'!$B$8:$I$1048576,4,0)","v":47},{"$f":"VLOOKUP(D43,'Resultados Gerais'!$B$8:$I$1048576,5,0)","v":32},{"$f":"VLOOKUP(D43,'Resultados Gerais'!$B$8:$I$1048576,6,0)","v":49},{"$f":"VLOOKUP(D43,'Resultados Gerais'!$B$8:$I$1048576,7,0)","v":46},{"$f":"VLOOKUP(D43,'Resultados Gerais'!$B$8:$I$1048576,8,0)","v":23},null,null,null,32,11,11]
[null,null,32,{"$f":"COUNT('Resultados Gerais'!B$8:B$1048576)-C44","v":1142},{"$f":"VLOOKUP(D44,'Resultados Gerais'!B$8:C$1048576,2,0)","v":"2013-01-15"},{"$f":"VLOOKUP(D44,'Resultados Gerais'!$B$8:$I$1048576,3,0)","v":33},{"$f":"VLOOKUP(D44,'Resultados Gerais'!$B$8:$I$1048576,4,0)","v":49},{"$f":"VLOOKUP(D44,'Resultados Gerais'!$B$8:$I$1048576,5,0)","v":24},{"$f":"VLOOKUP(D44,'Resultados Gerais'!$B$8:$I$1048576,6,0)","v":14},{"$f":"VLOOKUP(D44,'Resultados Gerais'!$B$8:$I$1048576,7,0)","v":45},{"$f":"VLOOKUP(D44,'Resultados Gerais'!$B$8:$I$1048576,8,0)","v":26},null,null,null,14,{"$f":"COUNTIF($F$12:$K$112,O44)","v":11},11]
[null,null,33,{"$f":"COUNT('Resultados Gerais'!B$8:B$1048576)-C45","v":1141},{"$f":"VLOOKUP(D45,'Resultados Gerais'!B$8:C$1048576,2,0)","v":"2013-01-11"},{"$f":"VLOOKUP(D45,'Resultados Gerais'!$B$8:$I$1048576,3,0)","v":15},{"$f":"VLOOKUP(D45,'Resultados Gerais'!$B$8:$I$1048576,4,0)","v":37},{"$f":"VLOOKUP(D45,'Resultados Gerais'!$B$8:$I$1048576,5,0)","v":22},{"$f":"VLOOKUP(D45,'Resultados Gerais'!$B$8:$I$1048576,6,0)","v":19},{"$f":"VLOOKUP(D45,'Resultados Gerais'!$B$8:$I$1048576,7,0)","v":28},{"$f":"VLOOKUP(D45,'Resultados Gerais'!$B$8:$I$1048576,8,0)","v":25},null,null,null,50,11,11]
[null,null,34,{"$f":"COUNT('Resultados Gerais'!B$8:B$1048576)-C46","v":1140},{"$f":"VLOOKUP(D46,'Resultados Gerais'!B$8:C$1048576,2,0)","v":"2013-01-08"},{"$f":"VLOOKUP(D46,'Resultados Gerais'!$B$8:$I$1048576,3,0)","v":10},{"$f":"VLOOKUP(D46,'Resultados Gerais'!$B$8:$I$1048576,4,0)","v":37},{"$f":"VLOOKUP(D46,'Resultados Gerais'!$B$8:$I$1048576,5,0)","v":5},{"$f":"VLOOKUP(D46,'Resultados Gerais'!$B$8:$I$1048576,6,0)","v":38},{"$f":"VLOOKUP(D46,'Resultados Gerais'!$B$8:$I$1048576,7,0)","v":20},{"$f":"VLOOKUP(D46,'Resultados Gerais'!$B$8:$I$1048576,8,0)","v":16},null,null,null,3,11,11]
[null,null,35,{"$f":"COUNT('Resultados Gerais'!B$8:B$1048576)-C47","v":1139},{"$f":"VLOOKUP(D47,'Resultados Gerais'!B$8:C$1048576,2,0)","v":"2013-01-04"},{"$f":"VLOOKUP(D47,'Resultados Gerais'!$B$8:$I$1048576,3,0)","v":33},{"$f":"VLOOKUP(D47,'Resultados Gerais'!$B$8:$I$1048576,4,0)","v":26},{"$f":"VLOOKUP(D47,'Resultados Gerais'!$B$8:$I$1048576,5,0)","v":22},{"$f":"VLOOKUP(D47,'Resultados Gerais'!$B$8:$I$1048576,6,0)","v":20},{"$f":"VLOOKUP(D47,'Resultados Gerais'!$B$8:$I$1048576,7,0)","v":21},{"$f":"VLOOKUP(D47,'Resultados Gerais'!$B$8:$I$1048576,8,0)","v":50},null,null,null,46,11,11]
[null,null,36,{"$f":"COUNT('Resultados Gerais'!B$8:B$1048576)-C48","v":1138},{"$f":"VLOOKUP(D48,'Resultados Gerais'!B$8:C$1048576,2,0)","v":"2012-12-31"},{"$f":"VLOOKUP(D48,'Resultados Gerais'!$B$8:$I$1048576,3,0)","v":4},{"$f":"VLOOKUP(D48,'Resultados Gerais'!$B$8:$I$1048576,4,0)","v":5},{"$f":"VLOOKUP(D48,'Resultados Gerais'!$B$8:$I$1048576,5,0)","v":32},{"$f":"VLOOKUP(D48,'Resultados Gerais'!$B$8:$I$1048576,6,0)","v":14},{"$f":"VLOOKUP(D48,'Resultados Gerais'!$B$8:$I$1048576,7,0)","v":23},{"$f":"VLOOKUP(D48,'Resultados Gerais'!$B$8:$I$1048576,8,0)","v":41},null,null,null,1,11,11]
[null,null,37,{"$f":"COUNT('Resultados Gerais'!B$8:B$1048576)-C49","v":1137},{"$f":"VLOOKUP(D49,'Resultados Gerais'!B$8:C$1048576,2,0)","v":"2012-12-28"},{"$f":"VLOOKUP(D49,'Resultados Gerais'!$B$8:$I$1048576,3,0)","v":43},{"$f":"VLOOKUP(D49,'Resultados Gerais'!$B$8:$I$1048576,4,0)","v":14},{"$f":"VLOOKUP(D49,'Resultados Gerais'!$B$8:$I$1048576,5,0)","v":34},{"$f":"VLOOKUP(D49,'Resultados Gerais'!$B$8:$I$1048576,6,0)","v":49},{"$f":"VLOOKUP(D49,'Resultados Gerais'!$B$8:$I$1048576,7,0)","v":24},{"$f":"VLOOKUP(D49,'Resultados Gerais'!$B$8:$I$1048576,8,0)","v":6},null,null,null,38,10,10]
[null,null,38,{"$f":"COUNT('Resultados Gerais'!B$8:B$1048576)-C50","v":1136},{"$f":"VLOOKUP(D50,'Resultados Gerais'!B$8:C$1048576,2,0)","v":"2012-12-24"},{"$f":"VLOOKUP(D50,'Resultados Gerais'!$B$8:$I$1048576,3,0)","v":43},{"$f":"VLOOKUP(D50,'Resultados Gerais'!$B$8:$I$1048576,4,0)","v":20},{"$f":"VLOOKUP(D50,'Resultados Gerais'!$B$8:$I$1048576,5,0)","v":21},{"$f":"VLOOKUP(D50,'Resultados Gerais'!$B$8:$I$1048576,6,0)","v":27},{"$f":"VLOOKUP(D50,'Resultados Gerais'!$B$8:$I$1048576,7,0)","v":33},{"$f":"VLOOKUP(D50,'Resultados Gerais'!$B$8:$I$1048576,8,0)","v":24},null,null,null,11,10,10]
[null,null,39,{"$f":"COUNT('Resultados Gerais'!B$8:B$1048576)-C51","v":1135},{"$f":"VLOOKUP(D51,'Resultados Gerais'!B$8:C$1048576,2,0)","v":"2012-12-21"},{"$f":"VLOOKUP(D51,'Resultados Gerais'!$B$8:$I$1048576,3,0)","v":23},{"$f":"VLOOKUP(D51,'Resultados Gerais'!$B$8:$I$1048576,4,0)","v":40},{"$f":"VLOOKUP(D51,'Resultados Gerais'!$B$8:$I$1048576,5,0)","v":8},{"$f":"VLOOKUP(D51,'Resultados Gerais'!$B$8:$I$1048576,6,0)","v":17},{"$f":"VLOOKUP(D51,'Resultados Gerais'!$B$8:$I$1048576,7,0)","v":9},{"$f":"VLOOKUP(D51,'Resultados Gerais'!$B$8:$I$1048576,8,0)","v":12},null,null,null,21,10,10]
[null,null,40,{"$f":"COUNT('Resultados Gerais'!B$8:B$1048576)-C52","v":1134},{"$f":"VLOOKUP(D52,'Resultados Gerais'!B$8:C$1048576,2,0)","v":"2012-12-18"},{"$f":"VLOOKUP(D52,'Resultados Gerais'!$B$8:$I$1048576,3,0)","v":49},{"$f":"VLOOKUP(D52,'Resultados Gerais'!$B$8:$I$1048576,4,0)","v":13},{"$f":"VLOOKUP(D52,'Resultados Gerais'!$B$8:$I$1048576,5,0)","v":7},{"$f":"VLOOKUP(D52,'Resultados Gerais'!$B$8:$I$1048576,6,0)","v":36},{"$f":"VLOOKUP(D52,'Resultados Gerais'!$B$8:$I$1048576,7,0)","v":4},{"$f":"VLOOKUP(D52,'Resultados Gerais'!$B$8:$I$1048576,8,0)","v":41},null,null,null,48,10,10]
[null,null,41,{"$f":"COUNT('Resultados Gerais'!B$8:B$1048576)-C53","v":1133},{"$f":"VLOOKUP(D53,'Resultados Gerais'!B$8:C$1048576,2,0)","v":"2012-12-14"},{"$f":"VLOOKUP(D53,'Resultados Gerais'!$B$8:$I$1048576,3,0)","v":35},{"$f":"VLOOKUP(D53,'Resultados Gerais'!$B$8:$I$1048576,4,0)","v":8},{"$f":"VLOOKUP(D53,'Resultados Gerais'!$B$8:$I$1048576,5,0)","v":50},{"$f":"VLOOKUP(D53,'Resultados Gerais'!$B$8:$I$1048576,6,0)","v":42},{"$f":"VLOOKUP(D53,'Resultados Gerais'!$B$8:$I$1048576,7,0)","v":44},{"$f":"VLOOKUP(D53,'Resultados Gerais'!$B$8:$I$1048576,8,0)","v":28},null,null,null,34,10,10]
[null,null,42,{"$f":"COUNT('Resultados Gerais'!B$8:B$1048576)-C54","v":1132},{"$f":"VLOOKUP(D54,'Resultados Gerais'!B$8:C$1048576,2,0)","v":"2012-12-11"},{"$f":"VLOOKUP(D54,'Resultados Gerais'!$B$8:$I$1048576,3,0)","v":31},{"$f":"VLOOKUP(D54,'Resultados Gerais'!$B$8:$I$1048576,4,0)","v":27},{"$f":"VLOOKUP(D54,'Resultados Gerais'!$B$8:$I$1048576,5,0)","v":46},{"$f":"VLOOKUP(D54,'Resultados Gerais'!$B$8:$I$1048576,6,0)","v":36},{"$f":"VLOOKUP(D54,'Resultados Gerais'!$B$8:$I$1048576,7,0)","v":49},{"$f":"VLOOKUP(D54,'Resultados Gerais'!$B$8:$I$1048576,8,0)","v":38},null,null,null,7,9,9]
[null,null,43,{"$f":"COUNT('Resultados Gerais'!B$8:B$1048576)-C55","v":1131},{"$f":"VLOOKUP(D55,'Resultados Gerais'!B$8:C$1048576,2,0)","v":"2012-12-07"},{"$f":"VLOOKUP(D55,'Resultados Gerais'!$B$8:$I$1048576,3,0)","v":19},{"$f":"VLOOKUP(D55,'Resultados Gerais'!$B$8:$I$1048576,4,0)","v":22},{"$f":"VLOOKUP(D55,'Resultados Gerais'!$B$8:$I$1048576,5,0)","v":1},{"$f":"VLOOKUP(D55,'Resultados Gerais'!$B$8:$I$1048576,6,0)","v":5},{"$f":"VLOOKUP(D55,'Resultados Gerais'!$B$8:$I$1048576,7,0)","v":24},{"$f":"VLOOKUP(D55,'Resultados Gerais'!$B$8:$I$1048576,8,0)","v":35},null,null,null,8,9,9]
[null,null,44,{"$f":"COUNT('Resultados Gerais'!B$8:B$1048576)-C56","v":1130},{"$f":"VLOOKUP(D56,'Resultados Gerais'!B$8:C$1048576,2,0)","v":"2012-12-04"},{"$f":"VLOOKUP(D56,'Resultados Gerais'!$B$8:$I$1048576,3,0)","v":38},{"$f":"VLOOKUP(D56,'Resultados Gerais'!$B$8:$I$1048576,4,0)","v":15},{"$f":"VLOOKUP(D56,'Resultados Gerais'!$B$8:$I$1048576,5,0)","v":26},{"$f":"VLOOKUP(D56,'Resultados Gerais'!$B$8:$I$1048576,6,0)","v":37},{"$f":"VLOOKUP(D56,'Resultados Gerais'!$B$8:$I$1048576,7,0)","v":47},{"$f":"VLOOKUP(D56,'Resultados Gerais'!$B$8:$I$1048576,8,0)","v":10},null,null,null,6,9,9]
[null,null,45,{"$f":"COUNT('Resultados Gerais'!B$8:B$1048576)-C57","v":1129},{"$f":"VLOOKUP(D57,'Resultados Gerais'!B$8:C$1048576,2,0)","v":"2012-11-30"},{"$f":"VLOOKUP(D57,'Resultados Gerais'!$B$8:$I$1048576,3,0)","v":39},{"$f":"VLOOKUP(D57,'Resultados Gerais'!$B$8:$I$1048576,4,0)","v":23},{"$f":"VLOOKUP(D57,'Resultados Gerais'!$B$8:$I$1048576,5,0)","v":6},{"$f":"VLOOKUP(D57,'Resultados Gerais'!$B$8:$I$1048576,6,0)","v":47},{"$f":"VLOOKUP(D57,'Resultados Gerais'!$B$8:$I$1048576,7,0)","v":18},{"$f":"VLOOKUP(D57,'Resultados Gerais'!$B$8:$I$1048576,8,0)","v":15},null,null,null,30,7,7]
[null,null,46,{"$f":"COUNT('Resultados Gerais'!B$8:B$1048576)-C58","v":1128},{"$f":"VLOOKUP(D58,'Resultados Gerais'!B$8:C$1048576,2,0)","v":"2012-11-27"},{"$f":"VLOOKUP(D58,'Resultados Gerais'!$B$8:$I$1048576,3,0)","v":31},{"$f":"VLOOKUP(D58,'Resultados Gerais'!$B$8:$I$1048576,4,0)","v":43},{"$f":"VLOOKUP(D58,'Resultados Gerais'!$B$8:$I$1048576,5,0)","v":10},{"$f":"VLOOKUP(D58,'Resultados Gerais'!$B$8:$I$1048576,6,0)","v":42},{"$f":"VLOOKUP(D58,'Resultados Gerais'!$B$8:$I$1048576,7,0)","v":6},{"$f":"VLOOKUP(D58,'Resultados Gerais'!$B$8:$I$1048576,8,0)","v":9},null,null,null,29,6,6]
[null,null,47,{"$f":"COUNT('Resultados Gerais'!B$8:B$1048576)-C59","v":1127},{"$f":"VLOOKUP(D59,'Resultados Gerais'!B$8:C$1048576,2,0)","v":"2012-11-23"},{"$f":"VLOOKUP(D59,'Resultados Gerais'!$B$8:$I$1048576,3,0)","v":12},{"$f":"VLOOKUP(D59,'Resultados Gerais'!$B$8:$I$1048576,4,0)","v":48},{"$f":"VLOOKUP(D59,'Resultados Gerais'!$B$8:$I$1048576,5,0)","v":22},{"$f":"VLOOKUP(D59,'Resultados Gerais'!$B$8:$I$1048576,6,0)","v":8},{"$f":"VLOOKUP(D59,'Resultados Gerais'!$B$8:$I$1048576,7,0)","v":17},{"$f":"VLOOKUP(D59,'Resultados Gerais'!$B$8:$I$1048576,8,0)","v":37},null,null,null,12,6,6]
[null,null,48,{"$f":"COUNT('Resultados Gerais'!B$8:B$1048576)-C60","v":1126},{"$f":"VLOOKUP(D60,'Resultados Gerais'!B$8:C$1048576,2,0)","v":"2012-11-20"},{"$f":"VLOOKUP(D60,'Resultados Gerais'!$B$8:$I$1048576,3,0)","v":16},{"$f":"VLOOKUP(D60,'Resultados Gerais'!$B$8:$I$1048576,4,0)","v":50},{"$f":"VLOOKUP(D60,'Resultados Gerais'!$B$8:$I$1048576,5,0)","v":29},{"$f":"VLOOKUP(D60,'Resultados Gerais'!$B$8:$I$1048576,6,0)","v":27},{"$f":"VLOOKUP(D60,'Resultados Gerais'!$B$8:$I$1048576,7,0)","v":11},{"$f":"VLOOKUP(D60,'Resultados Gerais'!$B$8:$I$1048576,8,0)","v":47},null,null,null,36,6,6]
[null,null,49,{"$f":"COUNT('Resultados Gerais'!B$8:B$1048576)-C61","v":1125},{"$f":"VLOOKUP(D61,'Resultados Gerais'!B$8:C$1048576,2,0)","v":"2012-11-16"},{"$f":"VLOOKUP(D61,'Resultados Gerais'!$B$8:$I$1048576,3,0)","v":35},{"$f":"VLOOKUP(D61,'Resultados Gerais'!$B$8:$I$1048576,4,0)","v":9},{"$f":"VLOOKUP(D61,'Resultados Gerais'!$B$8:$I$1048576,5,0)","v":22},{"$f":"VLOOKUP(D61,'Resultados Gerais'!$B$8:$I$1048576,6,0)","v":31},{"$f":"VLOOKUP(D61,'Resultados Gerais'!$B$8:$I$1048576,7,0)","v":47},{"$f":"VLOOKUP(D61,'Resultados Gerais'!$B$8:$I$1048576,8,0)","v":17},null,null,null,2,6,6]
[null,null,50,{"$f":"COUNT('Resultados Gerais'!B$8:B$1048576)-C62","v":1124},{"$f":"VLOOKUP(D62,'Resultados Gerais'!B$8:C$1048576,2,0)","v":"2012-11-13"},{"$f":"VLOOKUP(D62,'Resultados Gerais'!$B$8:$I$1048576,3,0)","v":8},{"$f":"VLOOKUP(D62,'Resultados Gerais'!$B$8:$I$1048576,4,0)","v":44},{"$f":"VLOOKUP(D62,'Resultados Gerais'!$B$8:$I$1048576,5,0)","v":18},{"$f":"VLOOKUP(D62,'Resultados Gerais'!$B$8:$I$1048576,6,0)","v":29},{"$f":"VLOOKUP(D62,'Resultados Gerais'!$B$8:$I$1048576,7,0)","v":49},{"$f":"VLOOKUP(D62,'Resultados Gerais'!$B$8:$I$1048576,8,0)","v":28}]
[null,null,51,{"$f":"COUNT('Resultados Gerais'!B$8:B$1048576)-C63","v":1123},{"$f":"VLOOKUP(D63,'Resultados Gerais'!B$8:C$1048576,2,0)","v":"2012-11-09"},{"$f":"VLOOKUP(D63,'Resultados Gerais'!$B$8:$I$1048576,3,0)","v":34},{"$f":"VLOOKUP(D63,'Resultados Gerais'!$B$8:$I$1048576,4,0)","v":40},{"$f":"VLOOKUP(D63,'Resultados Gerais'!$B$8:$I$1048576,5,0)","v":6},{"$f":"VLOOKUP(D63,'Resultados Gerais'!$B$8:$I$1048576,6,0)","v":20},{"$f":"VLOOKUP(D63,'Resultados Gerais'!$B$8:$I$1048576,7,0)","v":5},{"$f":"VLOOKUP(D63,'Resultados Gerais'!$B$8:$I$1048576,8,0)","v":45}]
[null,null,52,{"$f":"COUNT('Resultados Gerais'!B$8:B$1048576)-C64","v":1122},{"$f":"VLOOKUP(D64,'Resultados Gerais'!B$8:C$1048576,2,0)","v":"2012-11-06"},{"$f":"VLOOKUP(D64,'Resultados Gerais'!$B$8:$I$1048576,3,0)","v":22},{"$f":"VLOOKUP(D64,'Resultados Gerais'!$B$8:$I$1048576,4,0)","v":34},{"$f":"VLOOKUP(D64,'Resultados Gerais'!$B$8:$I$1048576,5,0)","v":26},{"$f":"VLOOKUP(D64,'Resultados Gerais'!$B$8:$I$1048576,6,0)","v":6},{"$f":"VLOOKUP(D64,'Resultados Gerais'!$B$8:$I$1048576,7,0)","v":13},{"$f":"VLOOKUP(D64,'Resultados Gerais'!$B$8:$I$1048576,8,0)","v":41}]
[null,null,53,{"$f":"COUNT('Resultados Gerais'!B$8:B$1048576)-C65","v":1121},{"$f":"VLOOKUP(D65,'Resultados Gerais'!B$8:C$1048576,2,0)","v":"2012-11-01"},{"$f":"VLOOKUP(D65,'Resultados Gerais'!$B$8:$I$1048576,3,0)","v":38},{"$f":"VLOOKUP(D65,'Resultados Gerais'!$B$8:$I$1048576,4,0)","v":17},{"$f":"VLOOKUP(D65,'Resultados Gerais'!$B$8:$I$1048576,5,0)","v":19},{"$f":"VLOOKUP(D65,'Resultados Gerais'!$B$8:$I$1048576,6,0)","v":34},{"$f":"VLOOKUP(D65,'Resultados Gerais'!$B$8:$I$1048576,7,0)","v":3},{"$f":"VLOOKUP(D65,'Resultados Gerais'!$B$8:$I$1048576,8,0)","v":24}]
[null,null,54,{"$f":"COUNT('Resultados Gerais'!B$8:B$1048576)-C66","v":1120},{"$f":"VLOOKUP(D66,'Resultados Gerais'!B$8:C$1048576,2,0)","v":"2012-10-30"},{"$f":"VLOOKUP(D66,'Resultados Gerais'!$B$8:$I$1048576,3,0)","v":39},{"$f":"VLOOKUP(D66,'Resultados Gerais'!$B$8:$I$1048576,4,0)","v":47},{"$f":"VLOOKUP(D66,'Resultados Gerais'!$B$8:$I$1048576,5,0)","v":28},{"$f":"VLOOKUP(D66,'Resultados Gerais'!$B$8:$I$1048576,6,0)","v":31},{"$f":"VLOOKUP(D66,'Resultados Gerais'!$B$8:$I$1048576,7,0)","v":14},{"$f":"VLOOKUP(D66,'Resultados Gerais'!$B$8:$I$1048576,8,0)","v":16}]
[null,null,55,{"$f":"COUNT('Resultados Gerais'!B$8:B$1048576)-C67","v":1119},{"$f":"VLOOKUP(D67,'Resultados Gerais'!B$8:C$1048576,2,0)","v":"2012-10-26"},{"$f":"VLOOKUP(D67,'Resultados Gerais'!$B$8:$I$1048576,3,0)","v":3},{"$f":"VLOOKUP(D67,'Resultados Gerais'!$B$8:$I$1048576,4,0)","v":9},{"$f":"VLOOKUP(D67,'Resultados Gerais'!$B$8:$I$1048576,5,0)","v":13},{"$f":"VLOOKUP(D67,'Resultados Gerais'!$B$8:$I$1048576,6,0)","v":19},{"$f":"VLOOKUP(D67,'Resultados Gerais'!$B$8:$I$1048576,7,0)","v":2},{"$f":"VLOOKUP(D67,'Resultados Gerais'!$B$8:$I$1048576,8,0)","v":7}]
[null,null,56,{"$f":"COUNT('Resultados Gerais'!B$8:B$1048576)-C68","v":1118},{"$f":"VLOOKUP(D68,'Resultados Gerais'!B$8:C$1048576,2,0)","v":"2012-10-23"},{"$f":"VLOOKUP(D68,'Resultados Gerais'!$B$8:$I$1048576,3,0)","v":1},{"$f":"VLOOKUP(D68,'Resultados Gerais'!$B$8:$I$1048576,4,0)","v":27},{"$f":"VLOOKUP(D68,'Resultados Gerais'!$B$8:$I$1048576,5,0)","v":21},{"$f":"VLOOKUP(D68,'Resultados Gerais'!$B$8:$I$1048576,6,0)","v":25},{"$f":"VLOOKUP(D68,'Resultados Gerais'!$B$8:$I$1048576,7,0)","v":38},{"$f":"VLOOKUP(D68,'Resultados Gerais'!$B$8:$I$1048576,8,0)","v":20}]
[null,null,57,{"$f":"COUNT('Resultados Gerais'!B$8:B$1048576)-C69","v":1117},{"$f":"VLOOKUP(D69,'Resultados Gerais'!B$8:C$1048576,2,0)","v":"2012-10-19"},{"$f":"VLOOKUP(D69,'Resultados Gerais'!$B$8:$I$1048576,3,0)","v":45},{"$f":"VLOOKUP(D69,'Resultados Gerais'!$B$8:$I$1048576,4,0)","v":20},{"$f":"VLOOKUP(D69,'Resultados Gerais'!$B$8:$I$1048576,5,0)","v":7},{"$f":"VLOOKUP(D69,'Resultados Gerais'!$B$8:$I$1048576,6,0)","v":46},{"$f":"VLOOKUP(D69,'Resultados Gerais'!$B$8:$I$1048576,7,0)","v":43},{"$f":"VLOOKUP(D69,'Resultados Gerais'!$B$8:$I$1048576,8,0)","v":34}]
[null,null,58,{"$f":"COUNT('Resultados Gerais'!B$8:B$1048576)-C70","v":1116},{"$f":"VLOOKUP(D70,'Resultados Gerais'!B$8:C$1048576,2,0)","v":"2012-10-16"},{"$f":"VLOOKUP(D70,'Resultados Gerais'!$B$8:$I$1048576,3,0)","v":2},{"$f":"VLOOKUP(D70,'Resultados Gerais'!$B$8:$I$1048576,4,0)","v":35},{"$f":"VLOOKUP(D70,'Resultados Gerais'!$B$8:$I$1048576,5,0)","v":48},{"$f":"VLOOKUP(D70,'Resultados Gerais'!$B$8:$I$1048576,6,0)","v":27},{"$f":"VLOOKUP(D70,'Resultados Gerais'!$B$8:$I$1048576,7,0)","v":14},{"$f":"VLOOKUP(D70,'Resultados Gerais'!$B$8:$I$1048576,8,0)","v":37}]
[null,null,59,{"$f":"COUNT('Resultados Gerais'!B$8:B$1048576)-C71","v":1115},{"$f":"VLOOKUP(D71,'Resultados Gerais'!B$8:C$1048576,2,0)","v":"2012-10-11"},{"$f":"VLOOKUP(D71,'Resultados Gerais'!$B$8:$I$1048576,3,0)","v":17},{"$f":"VLOOKUP(D71,'Resultados Gerais'!$B$8:$I$1048576,4,0)","v":6},{"$f":"VLOOKUP(D71,'Resultados Gerais'!$B$8:$I$1048576,5,0)","v":18},{"$f":"VLOOKUP(D71,'Resultados Gerais'!$B$8:$I$1048576,6,0)","v":50},{"$f":"VLOOKUP(D71,'Resultados Gerais'!$B$8:$I$1048576,7,0)","v":11},{"$f":"VLOOKUP(D71,'Resultados Gerais'!$B$8:$I$1048576,8,0)","v":39}]
[null,null,60,{"$f":"COUNT('Resultados Gerais'!B$8:B$1048576)-C72","v":1114},{"$f":"VLOOKUP(D72,'Resultados Gerais'!B$8:C$1048576,2,0)","v":"2012-10-09"},{"$f":"VLOOKUP(D72,'Resultados Gerais'!$B$8:$I$1048576,3,0)","v":48},{"$f":"VLOOKUP(D72,'Resultados Gerais'!$B$8:$I$1048576,4,0)","v":24},{"$f":"VLOOKUP(D72,'Resultados Gerais'!$B$8:$I$1048576,5,0)","v":35},{"$f":"VLOOKUP(D72,'Resultados Gerais'!$B$8:$I$1048576,6,0)","v":45},{"$f":"VLOOKUP(D72,'Resultados Gerais'!$B$8:$I$1048576,7,0)","v":9},{"$f":"VLOOKUP(D72,'Resultados Gerais'!$B$8:$I$1048576,8,0)","v":30}]
[null,null,61,{"$f":"COUNT('Resultados Gerais'!B$8:B$1048576)-C73","v":1113},{"$f":"VLOOKUP(D73,'Resultados Gerais'!B$8:C$1048576,2,0)","v":"2012-10-05"},{"$f":"VLOOKUP(D73,'Resultados Gerais'!$B$8:$I$1048576,3,0)","v":1},{"$f":"VLOOKUP(D73,'Resultados Gerais'!$B$8:$I$1048576,4,0)","v":22},{"$f":"VLOOKUP(D73,'Resultados Gerais'!$B$8:$I$1048576,5,0)","v":34},{"$f":"VLOOKUP(D73,'Resultados Gerais'!$B$8:$I$1048576,6,0)","v":24},{"$f":"VLOOKUP(D73,'Resultados Gerais'!$B$8:$I$1048576,7,0)","v":31},{"$f":"VLOOKUP(D73,'Resultados Gerais'!$B$8:$I$1048576,8,0)","v":39}]
[null,null,62,{"$f":"COUNT('Resultados Gerais'!B$8:B$1048576)-C74","v":1112},{"$f":"VLOOKUP(D74,'Resultados Gerais'!B$8:C$1048576,2,0)","v":"2012-10-02"},{"$f":"VLOOKUP(D74,'Resultados Gerais'!$B$8:$I$1048576,3,0)","v":40},{"$f":"VLOOKUP(D74,'Resultados Gerais'!$B$8:$I$1048576,4,0)","v":10},{"$f":"VLOOKUP(D74,'Resultados Gerais'!$B$8:$I$1048576,5,0)","v":16},{"$f":"VLOOKUP(D74,'Resultados Gerais'!$B$8:$I$1048576,6,0)","v":45},{"$f":"VLOOKUP(D74,'Resultados Gerais'!$B$8:$I$1048576,7,0)","v":49},{"$f":"VLOOKUP(D74,'Resultados Gerais'!$B$8:$I$1048576,8,0)","v":22}]
[null,null,63,{"$f":"COUNT('Resultados Gerais'!B$8:B$1048576)-C75","v":1111},{"$f":"VLOOKUP(D75,'Resultados Gerais'!B$8:C$1048576,2,0)","v":"2012-09-28"},{"$f":"VLOOKUP(D75,'Resultados Gerais'!$B$8:$I$1048576,3,0)","v":18},{"$f":"VLOOKUP(D75,'Resultados Gerais'!$B$8:$I$1048576,4,0)","v":3},{"$f":"VLOOKUP(D75,'Resultados Gerais'!$B$8:$I$1048576,5,0)","v":1},{"$f":"VLOOKUP(D75,'Resultados Gerais'!$B$8:$I$1048576,6,0)","v":42},{"$f":"VLOOKUP(D75,'Resultados Gerais'!$B$8:$I$1048576,7,0)","v":26},{"$f":"VLOOKUP(D75,'Resultados Gerais'!$B$8:$I$1048576,8,0)","v":46}]
[null,null,64,{"$f":"COUNT('Resultados Gerais'!B$8:B$1048576)-C76","v":1110},{"$f":"VLOOKUP(D76,'Resultados Gerais'!B$8:C$1048576,2,0)","v":"2012-09-25"},{"$f":"VLOOKUP(D76,'Resultados Gerais'!$B$8:$I$1048576,3,0)","v":10},{"$f":"VLOOKUP(D76,'Resultados Gerais'!$B$8:$I$1048576,4,0)","v":46},{"$f":"VLOOKUP(D76,'Resultados Gerais'!$B$8:$I$1048576,5,0)","v":7},{"$f":"VLOOKUP(D76,'Resultados Gerais'!$B$8:$I$1048576,6,0)","v":48},{"$f":"VLOOKUP(D76,'Resultados Gerais'!$B$8:$I$1048576,7,0)","v":13},{"$f":"VLOOKUP(D76,'Resultados Gerais'!$B$8:$I$1048576,8,0)","v":3}]
[null,null,65,{"$f":"COUNT('Resultados Gerais'!B$8:B$1048576)-C77","v":1109},{"$f":"VLOOKUP(D77,'Resultados Gerais'!B$8:C$1048576,2,0)","v":"2012-09-21"},{"$f":"VLOOKUP(D77,'Resultados Gerais'!$B$8:$I$1048576,3,0)","v":13},{"$f":"VLOOKUP(D77,'Resultados Gerais'!$B$8:$I$1048576,4,0)","v":19},{"$f":"VLOOKUP(D77,'Resultados Gerais'!$B$8:$I$1048576,5,0)","v":31},{"$f":"VLOOKUP(D77,'Resultados Gerais'!$B$8:$I$1048576,6,0)","v":15},{"$f":"VLOOKUP(D77,'Resultados Gerais'!$B$8:$I$1048576,7,0)","v":27},{"$f":"VLOOKUP(D77,'Resultados Gerais'!$B$8:$I$1048576,8,0)","v":18}]
[null,null,66,{"$f":"COUNT('Resultados Gerais'!B$8:B$1048576)-C78","v":1108},{"$f":"VLOOKUP(D78,'Resultados Gerais'!B$8:C$1048576,2,0)","v":"2012-09-18"},{"$f":"VLOOKUP(D78,'Resultados Gerais'!$B$8:$I$1048576,3,0)","v":46},{"$f":"VLOOKUP(D78,'Resultados Gerais'!$B$8:$I$1048576,4,0)","v":40},{"$f":"VLOOKUP(D78,'Resultados Gerais'!$B$8:$I$1048576,5,0)","v":20},{"$f":"VLOOKUP(D78,'Resultados Gerais'!$B$8:$I$1048576,6,0)","v":35},{"$f":"VLOOKUP(D78,'Resultados Gerais'!$B$8:$I$1048576,7,0)","v":33},{"$f":"VLOOKUP(D78,'Resultados Gerais'!$B$8:$I$1048576,8,0)","v":22}]
[null,null,67,{"$f":"COUNT('Resultados Gerais'!B$8:B$1048576)-C79","v":1107},{"$f":"VLOOKUP(D79,'Resultados Gerais'!B$8:C$1048576,2,0)","v":"2012-09-14"},{"$f":"VLOOKUP(D79,'Resultados Gerais'!$B$8:$I$1048576,3,0)","v":16},{"$f":"VLOOKUP(D79,'Resultados Gerais'!$B$8:$I$1048576,4,0)","v":6},{"$f":"VLOOKUP(D79,'Resultados Gerais'!$B$8:$I$1048576,5,0)","v":31},{"$f":"VLOOKUP(D79,'Resultados Gerais'!$B$8:$I$1048576,6,0)","v":43},{"$f":"VLOOKUP(D79,'Resultados Gerais'!$B$8:$I$1048576,7,0)","v":45},{"$f":"VLOOKUP(D79,'Resultados Gerais'!$B$8:$I$1048576,8,0)","v":2}]
[null,null,68,{"$f":"COUNT('Resultados Gerais'!B$8:B$1048576)-C80","v":1106},{"$f":"VLOOKUP(D80,'Resultados Gerais'!B$8:C$1048576,2,0)","v":"2012-09-11"},{"$f":"VLOOKUP(D80,'Resultados Gerais'!$B$8:$I$1048576,3,0)","v":9},{"$f":"VLOOKUP(D80,'Resultados Gerais'!$B$8:$I$1048576,4,0)","v":37},{"$f":"VLOOKUP(D80,'Resultados Gerais'!$B$8:$I$1048576,5,0)","v":45},{"$f":"VLOOKUP(D80,'Resultados Gerais'!$B$8:$I$1048576,6,0)","v":42},{"$f":"VLOOKUP(D80,'Resultados Gerais'!$B$8:$I$1048576,7,0)","v":4},{"$f":"VLOOKUP(D80,'Resultados Gerais'!$B$8:$I$1048576,8,0)","v":8}]
[null,null,69,{"$f":"COUNT('Resultados Gerais'!B$8:B$1048576)-C81","v":1105},{"$f":"VLOOKUP(D81,'Resultados Gerais'!B$8:C$1048576,2,0)","v":"2012-09-06"},{"$f":"VLOOKUP(D81,'Resultados Gerais'!$B$8:$I$1048576,3,0)","v":26},{"$f":"VLOOKUP(D81,'Resultados Gerais'!$B$8:$I$1048576,4,0)","v":46},{"$f":"VLOOKUP(D81,'Resultados Gerais'!$B$8:$I$1048576,5,0)","v":24},{"$f":"VLOOKUP(D81,'Resultados Gerais'!$B$8:$I$1048576,6,0)","v":5},{"$f":"VLOOKUP(D81,'Resultados Gerais'!$B$8:$I$1048576,7,0)","v":34},{"$f":"VLOOKUP(D81,'Resultados Gerais'!$B$8:$I$1048576,8,0)","v":17}]
[null,null,70,{"$f":"COUNT('Resultados Gerais'!B$8:B$1048576)-C82","v":1104},{"$f":"VLOOKUP(D82,'Resultados Gerais'!B$8:C$1048576,2,0)","v":"2012-09-04"},{"$f":"VLOOKUP(D82,'Resultados Gerais'!$B$8:$I$1048576,3,0)","v":13},{"$f":"VLOOKUP(D82,'Resultados Gerais'!$B$8:$I$1048576,4,0)","v":31},{"$f":"VLOOKUP(D82,'Resultados Gerais'!$B$8:$I$1048576,5,0)","v":25},{"$f":"VLOOKUP(D82,'Resultados Gerais'!$B$8:$I$1048576,6,0)","v":45},{"$f":"VLOOKUP(D82,'Resultados Gerais'!$B$8:$I$1048576,7,0)","v":36},{"$f":"VLOOKUP(D82,'Resultados Gerais'!$B$8:$I$1048576,8,0)","v":10}]
[null,null,71,{"$f":"COUNT('Resultados Gerais'!B$8:B$1048576)-C83","v":1103},{"$f":"VLOOKUP(D83,'Resultados Gerais'!B$8:C$1048576,2,0)","v":"2012-08-31"},{"$f":"VLOOKUP(D83,'Resultados Gerais'!$B$8:$I$1048576,3,0)","v":42},{"$f":"VLOOKUP(D83,'Resultados Gerais'!$B$8:$I$1048576,4,0)","v":20},{"$f":"VLOOKUP(D83,'Resultados Gerais'!$B$8:$I$1048576,5,0)","v":35},{"$f":"VLOOKUP(D83,'Resultados Gerais'!$B$8:$I$1048576,6,0)","v":2},{"$f":"VLOOKUP(D83,'Resultados Gerais'!$B$8:$I$1048576,7,0)","v":28},{"$f":"VLOOKUP(D83,'Resultados Gerais'!$B$8:$I$1048576,8,0)","v":18}]
[null,null,72,{"$f":"COUNT('Resultados Gerais'!B$8:B$1048576)-C84","v":1102},{"$f":"VLOOKUP(D84,'Resultados Gerais'!B$8:C$1048576,2,0)","v":"2012-08-28"},{"$f":"VLOOKUP(D84,'Resultados Gerais'!$B$8:$I$1048576,3,0)","v":37},{"$f":"VLOOKUP(D84,'Resultados Gerais'!$B$8:$I$1048576,4,0)","v":33},{"$f":"VLOOKUP(D84,'Resultados Gerais'!$B$8:$I$1048576,5,0)","v":34},{"$f":"VLOOKUP(D84,'Resultados Gerais'!$B$8:$I$1048576,6,0)","v":1},{"$f":"VLOOKUP(D84,'Resultados Gerais'!$B$8:$I$1048576,7,0)","v":30},{"$f":"VLOOKUP(D84,'Resultados Gerais'!$B$8:$I$1048576,8,0)","v":17}]
[null,null,73,{"$f":"COUNT('Resultados Gerais'!B$8:B$1048576)-C85","v":1101},{"$f":"VLOOKUP(D85,'Resultados Gerais'!B$8:C$1048576,2,0)","v":"2012-08-24"},{"$f":"VLOOKUP(D85,'Resultados Gerais'!$B$8:$I$1048576,3,0)","v":30},{"$f":"VLOOKUP(D85,'Resultados Gerais'!$B$8:$I$1048576,4,0)","v":36},{"$f":"VLOOKUP(D85,'Resultados Gerais'!$B$8:$I$1048576,5,0)","v":12},{"$f":"VLOOKUP(D85,'Resultados Gerais'!$B$8:$I$1048576,6,0)","v":45},{"$f":"VLOOKUP(D85,'Resultados Gerais'!$B$8:$I$1048576,7,0)","v":31},{"$f":"VLOOKUP(D85,'Resultados Gerais'!$B$8:$I$1048576,8,0)","v":17}]
[null,null,74,{"$f":"COUNT('Resultados Gerais'!B$8:B$1048576)-C86","v":1100},{"$f":"VLOOKUP(D86,'Resultados Gerais'!B$8:C$1048576,2,0)","v":"2012-08-21"},{"$f":"VLOOKUP(D86,'Resultados Gerais'!$B$8:$I$1048576,3,0)","v":10},{"$f":"VLOOKUP(D86,'Resultados Gerais'!$B$8:$I$1048576,4,0)","v":40},{"$f":"VLOOKUP(D86,'Resultados Gerais'!$B$8:$I$1048576,5,0)","v":15},{"$f":"VLOOKUP(D86,'Resultados Gerais'!$B$8:$I$1048576,6,0)","v":39},{"$f":"VLOOKUP(D86,'Resultados Gerais'!$B$8:$I$1048576,7,0)","v":21},{"$f":"VLOOKUP(D86,'Resultados Gerais'!$B$8:$I$1048576,8,0)","v":23}]
[null,null,75,{"$f":"COUNT('Resultados Gerais'!B$8:B$1048576)-C87","v":1099},{"$f":"VLOOKUP(D87,'Resultados Gerais'!B$8:C$1048576,2,0)","v":"2012-08-17"},{"$f":"VLOOKUP(D87,'Resultados Gerais'!$B$8:$I$1048576,3,0)","v":25},{"$f":"VLOOKUP(D87,'Resultados Gerais'!$B$8:$I$1048576,4,0)","v":40},{"$f":"VLOOKUP(D87,'Resultados Gerais'!$B$8:$I$1048576,5,0)","v":46},{"$f":"VLOOKUP(D87,'Resultados Gerais'!$B$8:$I$1048576,6,0)","v":20},{"$f":"VLOOKUP(D87,'Resultados Gerais'!$B$8:$I$1048576,7,0)","v":15},{"$f":"VLOOKUP(D87,'Resultados Gerais'!$B$8:$I$1048576,8,0)","v":48}]
[null,null,76,{"$f":"COUNT('Resultados Gerais'!B$8:B$1048576)-C88","v":1098},{"$f":"VLOOKUP(D88,'Resultados Gerais'!B$8:C$1048576,2,0)","v":"2012-08-14"},{"$f":"VLOOKUP(D88,'Resultados Gerais'!$B$8:$I$1048576,3,0)","v":32},{"$f":"VLOOKUP(D88,'Resultados Gerais'!$B$8:$I$1048576,4,0)","v":10},{"$f":"VLOOKUP(D88,'Resultados Gerais'!$B$8:$I$1048576,5,0)","v":26},{"$f":"VLOOKUP(D88,'Resultados Gerais'!$B$8:$I$1048576,6,0)","v":8},{"$f":"VLOOKUP(D88,'Resultados Gerais'!$B$8:$I$1048576,7,0)","v":43},{"$f":"VLOOKUP(D88,'Resultados Gerais'!$B$8:$I$1048576,8,0)","v":29}]
[null,null,77,{"$f":"COUNT('Resultados Gerais'!B$8:B$1048576)-C89","v":1097},{"$f":"VLOOKUP(D89,'Resultados Gerais'!B$8:C$1048576,2,0)","v":"2012-08-10"},{"$f":"VLOOKUP(D89,'Resultados Gerais'!$B$8:$I$1048576,3,0)","v":43},{"$f":"VLOOKUP(D89,'Resultados Gerais'!$B$8:$I$1048576,4,0)","v":7},{"$f":"VLOOKUP(D89,'Resultados Gerais'!$B$8:$I$1048576,5,0)","v":14},{"$f":"VLOOKUP(D89,'Resultados Gerais'!$B$8:$I$1048576,6,0)","v":42},{"$f":"VLOOKUP(D89,'Resultados Gerais'!$B$8:$I$1048576,7,0)","v":41},{"$f":"VLOOKUP(D89,'Resultados Gerais'!$B$8:$I$1048576,8,0)","v":18}]
[null,null,78,{"$f":"COUNT('Resultados Gerais'!B$8:B$1048576)-C90","v":1096},{"$f":"VLOOKUP(D90,'Resultados Gerais'!B$8:C$1048576,2,0)","v":"2012-08-07"},{"$f":"VLOOKUP(D90,'Resultados Gerais'!$B$8:$I$1048576,3,0)","v":44},{"$f":"VLOOKUP(D90,'Resultados Gerais'!$B$8:$I$1048576,4,0)","v":31},{"$f":"VLOOKUP(D90,'Resultados Gerais'!$B$8:$I$1048576,5,0)","v":48},{"$f":"VLOOKUP(D90,'Resultados Gerais'!$B$8:$I$1048576,6,0)","v":35},{"$f":"VLOOKUP(D90,'Resultados Gerais'!$B$8:$I$1048576,7,0)","v":5},{"$f":"VLOOKUP(D90,'Resultados Gerais'!$B$8:$I$1048576,8,0)","v":39}]
[null,null,79,{"$f":"COUNT('Resultados Gerais'!B$8:B$1048576)-C91","v":1095},{"$f":"VLOOKUP(D91,'Resultados Gerais'!B$8:C$1048576,2,0)","v":"2012-08-03"},{"$f":"VLOOKUP(D91,'Resultados Gerais'!$B$8:$I$1048576,3,0)","v":9},{"$f":"VLOOKUP(D91,'Resultados Gerais'!$B$8:$I$1048576,4,0)","v":50},{"$f":"VLOOKUP(D91,'Resultados Gerais'!$B$8:$I$1048576,5,0)","v":49},{"$f":"VLOOKUP(D91,'Resultados Gerais'!$B$8:$I$1048576,6,0)","v":22},{"$f":"VLOOKUP(D91,'Resultados Gerais'!$B$8:$I$1048576,7,0)","v":43},{"$f":"VLOOKUP(D91,'Resultados Gerais'!$B$8:$I$1048576,8,0)","v":23}]
[null,null,80,{"$f":"COUNT('Resultados Gerais'!B$8:B$1048576)-C92","v":1094},{"$f":"VLOOKUP(D92,'Resultados Gerais'!B$8:C$1048576,2,0)","v":"2012-07-31"},{"$f":"VLOOKUP(D92,'Resultados Gerais'!$B$8:$I$1048576,3,0)","v":5},{"$f":"VLOOKUP(D92,'Resultados Gerais'!$B$8:$I$1048576,4,0)","v":15},{"$f":"VLOOKUP(D92,'Resultados Gerais'!$B$8:$I$1048576,5,0)","v":50},{"$f":"VLOOKUP(D92,'Resultados Gerais'!$B$8:$I$1048576,6,0)","v":26},{"$f":"VLOOKUP(D92,'Resultados Gerais'!$B$8:$I$1048576,7,0)","v":43},{"$f":"VLOOKUP(D92,'Resultados Gerais'!$B$8:$I$1048576,8,0)","v":21}]
[null,null,81,{"$f":"COUNT('Resultados Gerais'!B$8:B$1048576)-C93","v":1093},{"$f":"VLOOKUP(D93,'Resultados Gerais'!B$8:C$1048576,2,0)","v":"2012-07-27"},{"$f":"VLOOKUP(D93,'Resultados Gerais'!$B$8:$I$1048576,3,0)","v":32},{"$f":"VLOOKUP(D93,'Resultados Gerais'!$B$8:$I$1048576,4,0)","v":44},{"$f":"VLOOKUP(D93,'Resultados Gerais'!$B$8:$I$1048576,5,0)","v":37},{"$f":"VLOOKUP(D93,'Resultados Gerais'!$B$8:$I$1048576,6,0)","v":50},{"$f":"VLOOKUP(D93,'Resultados Gerais'!$B$8:$I$1048576,7,0)","v":40},{"$f":"VLOOKUP(D93,'Resultados Gerais'!$B$8:$I$1048576,8,0)","v":25}]
[null,null,82,{"$f":"COUNT('Resultados Gerais'!B$8:B$1048576)-C94","v":1092},{"$f":"VLOOKUP(D94,'Resultados Gerais'!B$8:C$1048576,2,0)","v":"2012-07-24"},{"$f":"VLOOKUP(D94,'Resultados Gerais'!$B$8:$I$1048576,3,0)","v":23},{"$f":"VLOOKUP(D94,'Resultados Gerais'!$B$8:$I$1048576,4,0)","v":4},{"$f":"VLOOKUP(D94,'Resultados Gerais'!$B$8:$I$1048576,5,0)","v":33},{"$f":"VLOOKUP(D94,'Resultados Gerais'!$B$8:$I$1048576,6,0)","v":40},{"$f":"VLOOKUP(D94,'Resultados Gerais'!$B$8:$I$1048576,7,0)","v":10},{"$f":"VLOOKUP(D94,'Resultados Gerais'!$B$8:$I$1048576,8,0)","v":22}]
[null,null,83,{"$f":"COUNT('Resultados Gerais'!B$8:B$1048576)-C95","v":1091},{"$f":"VLOOKUP(D95,'Resultados Gerais'!B$8:C$1048576,2,0)","v":"2012-07-20"},{"$f":"VLOOKUP(D95,'Resultados Gerais'!$B$8:$I$1048576,3,0)","v":40},{"$f":"VLOOKUP(D95,'Resultados Gerais'!$B$8:$I$1048576,4,0)","v":27},{"$f":"VLOOKUP(D95,'Resultados Gerais'!$B$8:$I$1048576,5,0)","v":35},{"$f":"VLOOKUP(D95,'Resultados Gerais'!$B$8:$I$1048576,6,0)","v":48},{"$f":"VLOOKUP(D95,'Resultados Gerais'!$B$8:$I$1048576,7,0)","v":7},{"$f":"VLOOKUP(D95,'Resultados Gerais'!$B$8:$I$1048576,8,0)","v":1}]
[null,null,84,{"$f":"COUNT('Resultados Gerais'!B$8:B$1048576)-C96","v":1090},{"$f":"VLOOKUP(D96,'Resultados Gerais'!B$8:C$1048576,2,0)","v":"2012-07-17"},{"$f":"VLOOKUP(D96,'Resultados Gerais'!$B$8:$I$1048576,3,0)","v":3},{"$f":"VLOOKUP(D96,'Resultados Gerais'!$B$8:$I$1048576,4,0)","v":15},{"$f":"VLOOKUP(D96,'Resultados Gerais'!$B$8:$I$1048576,5,0)","v":9},{"$f":"VLOOKUP(D96,'Resultados Gerais'!$B$8:$I$1048576,6,0)","v":38},{"$f":"VLOOKUP(D96,'Resultados Gerais'!$B$8:$I$1048576,7,0)","v":29},{"$f":"VLOOKUP(D96,'Resultados Gerais'!$B$8:$I$1048576,8,0)","v":28}]
[null,null,85,{"$f":"COUNT('Resultados Gerais'!B$8:B$1048576)-C97","v":1089},{"$f":"VLOOKUP(D97,'Resultados Gerais'!B$8:C$1048576,2,0)","v":"2012-07-13"},{"$f":"VLOOKUP(D97,'Resultados Gerais'!$B$8:$I$1048576,3,0)","v":42},{"$f":"VLOOKUP(D97,'Resultados Gerais'!$B$8:$I$1048576,4,0)","v":30},{"$f":"VLOOKUP(D97,'Resultados Gerais'!$B$8:$I$1048576,5,0)","v":27},{"$f":"VLOOKUP(D97,'Resultados Gerais'!$B$8:$I$1048576,6,0)","v":28},{"$f":"VLOOKUP(D97,'Resultados Gerais'!$B$8:$I$1048576,7,0)","v":23},{"$f":"VLOOKUP(D97,'Resultados Gerais'!$B$8:$I$1048576,8,0)","v":41}]
[null,null,86,{"$f":"COUNT('Resultados Gerais'!B$8:B$1048576)-C98","v":1088},{"$f":"VLOOKUP(D98,'Resultados Gerais'!B$8:C$1048576,2,0)","v":"2012-07-10"},{"$f":"VLOOKUP(D98,'Resultados Gerais'!$B$8:$I$1048576,3,0)","v":42},{"$f":"VLOOKUP(D98,'Resultados Gerais'!$B$8:$I$1048576,4,0)","v":41},{"$f":"VLOOKUP(D98,'Resultados Gerais'!$B$8:$I$1048576,5,0)","v":13},{"$f":"VLOOKUP(D98,'Resultados Gerais'!$B$8:$I$1048576,6,0)","v":12},{"$f":"VLOOKUP(D98,'Resultados Gerais'!$B$8:$I$1048576,7,0)","v":28},{"$f":"VLOOKUP(D98,'Resultados Gerais'!$B$8:$I$1048576,8,0)","v":47}]
[null,null,87,{"$f":"COUNT('Resultados Gerais'!B$8:B$1048576)-C99","v":1087},{"$f":"VLOOKUP(D99,'Resultados Gerais'!B$8:C$1048576,2,0)","v":"2012-07-06"},{"$f":"VLOOKUP(D99,'Resultados Gerais'!$B$8:$I$1048576,3,0)","v":42},{"$f":"VLOOKUP(D99,'Resultados Gerais'!$B$8:$I$1048576,4,0)","v":25},{"$f":"VLOOKUP(D99,'Resultados Gerais'!$B$8:$I$1048576,5,0)","v":1},{"$f":"VLOOKUP(D99,'Resultados Gerais'!$B$8:$I$1048576,6,0)","v":16},{"$f":"VLOOKUP(D99,'Resultados Gerais'!$B$8:$I$1048576,7,0)","v":4},{"$f":"VLOOKUP(D99,'Resultados Gerais'!$B$8:$I$1048576,8,0)","v":36}]
[null,null,88,{"$f":"COUNT('Resultados Gerais'!B$8:B$1048576)-C100","v":1086},{"$f":"VLOOKUP(D100,'Resultados Gerais'!B$8:C$1048576,2,0)","v":"2012-07-03"},{"$f":"VLOOKUP(D100,'Resultados Gerais'!$B$8:$I$1048576,3,0)","v":24},{"$f":"VLOOKUP(D100,'Resultados Gerais'!$B$8:$I$1048576,4,0)","v":33},{"$f":"VLOOKUP(D100,'Resultados Gerais'!$B$8:$I$1048576,5,0)","v":5},{"$f":"VLOOKUP(D100,'Resultados Gerais'!$B$8:$I$1048576,6,0)","v":15},{"$f":"VLOOKUP(D100,'Resultados Gerais'!$B$8:$I$1048576,7,0)","v":47},{"$f":"VLOOKUP(D100,'Resultados Gerais'!$B$8:$I$1048576,8,0)","v":27}]
[null,null,89,{"$f":"COUNT('Resultados Gerais'!B$8:B$1048576)-C101","v":1085},{"$f":"VLOOKUP(D101,'Resultados Gerais'!B$8:C$1048576,2,0)","v":"2012-06-29"},{"$f":"VLOOKUP(D101,'Resultados Gerais'!$B$8:$I$1048576,3,0)","v":19},{"$f":"VLOOKUP(D101,'Resultados Gerais'!$B$8:$I$1048576,4,0)","v":32},{"$f":"VLOOKUP(D101,'Resultados Gerais'!$B$8:$I$1048576,5,0)","v":16},{"$f":"VLOOKUP(D101,'Resultados Gerais'!$B$8:$I$1048576,6,0)","v":39},{"$f":"VLOOKUP(D101,'Resultados Gerais'!$B$8:$I$1048576,7,0)","v":38},{"$f":"VLOOKUP(D101,'Resultados Gerais'!$B$8:$I$1048576,8,0)","v":34}]
[null,null,90,{"$f":"COUNT('Resultados Gerais'!B$8:B$1048576)-C102","v":1084},{"$f":"VLOOKUP(D102,'Resultados Gerais'!B$8:C$1048576,2,0)","v":"2012-06-26"},{"$f":"VLOOKUP(D102,'Resultados Gerais'!$B$8:$I$1048576,3,0)","v":50},{"$f":"VLOOKUP(D102,'Resultados Gerais'!$B$8:$I$1048576,4,0)","v":32},{"$f":"VLOOKUP(D102,'Resultados Gerais'!$B$8:$I$1048576,5,0)","v":26},{"$f":"VLOOKUP(D102,'Resultados Gerais'!$B$8:$I$1048576,6,0)","v":39},{"$f":"VLOOKUP(D102,'Resultados Gerais'!$B$8:$I$1048576,7,0)","v":49},{"$f":"VLOOKUP(D102,'Resultados Gerais'!$B$8:$I$1048576,8,0)","v":16}]
[null,null,91,{"$f":"COUNT('Resultados Gerais'!B$8:B$1048576)-C103","v":1083},{"$f":"VLOOKUP(D103,'Resultados Gerais'!B$8:C$1048576,2,0)","v":"2012-06-22"},{"$f":"VLOOKUP(D103,'Resultados Gerais'!$B$8:$I$1048576,3,0)","v":5},{"$f":"VLOOKUP(D103,'Resultados Gerais'!$B$8:$I$1048576,4,0)","v":9},{"$f":"VLOOKUP(D103,'Resultados Gerais'!$B$8:$I$1048576,5,0)","v":38},{"$f":"VLOOKUP(D103,'Resultados Gerais'!$B$8:$I$1048576,6,0)","v":37},{"$f":"VLOOKUP(D103,'Resultados Gerais'!$B$8:$I$1048576,7,0)","v":32},{"$f":"VLOOKUP(D103,'Resultados Gerais'!$B$8:$I$1048576,8,0)","v":13}]
[null,null,92,{"$f":"COUNT('Resultados Gerais'!B$8:B$1048576)-C104","v":1082},{"$f":"VLOOKUP(D104,'Resultados Gerais'!B$8:C$1048576,2,0)","v":"2012-06-19"},{"$f":"VLOOKUP(D104,'Resultados Gerais'!$B$8:$I$1048576,3,0)","v":18},{"$f":"VLOOKUP(D104,'Resultados Gerais'!$B$8:$I$1048576,4,0)","v":23},{"$f":"VLOOKUP(D104,'Resultados Gerais'!$B$8:$I$1048576,5,0)","v":49},{"$f":"VLOOKUP(D104,'Resultados Gerais'!$B$8:$I$1048576,6,0)","v":15},{"$f":"VLOOKUP(D104,'Resultados Gerais'!$B$8:$I$1048576,7,0)","v":39},{"$f":"VLOOKUP(D104,'Resultados Gerais'!$B$8:$I$1048576,8,0)","v":31}]
[null,null,93,{"$f":"COUNT('Resultados Gerais'!B$8:B$1048576)-C105","v":1081},{"$f":"VLOOKUP(D105,'Resultados Gerais'!B$8:C$1048576,2,0)","v":"2012-06-15"},{"$f":"VLOOKUP(D105,'Resultados Gerais'!$B$8:$I$1048576,3,0)","v":48},{"$f":"VLOOKUP(D105,'Resultados Gerais'!$B$8:$I$1048576,4,0)","v":26},{"$f":"VLOOKUP(D105,'Resultados Gerais'!$B$8:$I$1048576,5,0)","v":7},{"$f":"VLOOKUP(D105,'Resultados Gerais'!$B$8:$I$1048576,6,0)","v":6},{"$f":"VLOOKUP(D105,'Resultados Gerais'!$B$8:$I$1048576,7,0)","v":37},{"$f":"VLOOKUP(D105,'Resultados Gerais'!$B$8:$I$1048576,8,0)","v":11}]
[null,null,94,{"$f":"COUNT('Resultados Gerais'!B$8:B$1048576)-C106","v":1080},{"$f":"VLOOKUP(D106,'Resultados Gerais'!B$8:C$1048576,2,0)","v":"2012-06-12"},{"$f":"VLOOKUP(D106,'Resultados Gerais'!$B$8:$I$1048576,3,0)","v":37},{"$f":"VLOOKUP(D106,'Resultados Gerais'!$B$8:$I$1048576,4,0)","v":47},{"$f":"VLOOKUP(D106,'Resultados Gerais'!$B$8:$I$1048576,5,0)","v":26},{"$f":"VLOOKUP(D106,'Resultados Gerais'!$B$8:$I$1048576,6,0)","v":48},{"$f":"VLOOKUP(D106,'Resultados Gerais'!$B$8:$I$1048576,7,0)","v":40},{"$f":"VLOOKUP(D106,'Resultados Gerais'!$B$8:$I$1048576,8,0)","v":27}]
[null,null,95,{"$f":"COUNT('Resultados Gerais'!B$8:B$1048576)-C107","v":1079},{"$f":"VLOOKUP(D107,'Resultados Gerais'!B$8:C$1048576,2,0)","v":"2012-06-08"},{"$f":"VLOOKUP(D107,'Resultados Gerais'!$B$8:$I$1048576,3,0)","v":9},{"$f":"VLOOKUP(D107,'Resultados Gerais'!$B$8:$I$1048576,4,0)","v":12},{"$f":"VLOOKUP(D107,'Resultados Gerais'!$B$8:$I$1048576,5,0)","v":15},{"$f":"VLOOKUP(D107,'Resultados Gerais'!$B$8:$I$1048576,6,0)","v":10},{"$f":"VLOOKUP(D107,'Resultados Gerais'!$B$8:$I$1048576,7,0)","v":17},{"$f":"VLOOKUP(D107,'Resultados Gerais'!$B$8:$I$1048576,8,0)","v":39}]
[null,null,96,{"$f":"COUNT('Resultados Gerais'!B$8:B$1048576)-C108","v":1078},{"$f":"VLOOKUP(D108,'Resultados Gerais'!B$8:C$1048576,2,0)","v":"2012-06-05"},{"$f":"VLOOKUP(D108,'Resultados Gerais'!$B$8:$I$1048576,3,0)","v":15},{"$f":"VLOOKUP(D108,'Resultados Gerais'!$B$8:$I$1048576,4,0)","v":41},{"$f":"VLOOKUP(D108,'Resultados Gerais'!$B$8:$I$1048576,5,0)","v":19},{"$f":"VLOOKUP(D108,'Resultados Gerais'!$B$8:$I$1048576,6,0)","v":28},{"$f":"VLOOKUP(D108,'Resultados Gerais'!$B$8:$I$1048576,7,0)","v":18},{"$f":"VLOOKUP(D108,'Resultados Gerais'!$B$8:$I$1048576,8,0)","v":39}]
[null,null,97,{"$f":"COUNT('Resultados Gerais'!B$8:B$1048576)-C109","v":1077},{"$f":"VLOOKUP(D109,'Resultados Gerais'!B$8:C$1048576,2,0)","v":"2012-06-01"},{"$f":"VLOOKUP(D109,'Resultados Gerais'!$B$8:$I$1048576,3,0)","v":25},{"$f":"VLOOKUP(D109,'Resultados Gerais'!$B$8:$I$1048576,4,0)","v":31},{"$f":"VLOOKUP(D109,'Resultados Gerais'!$B$8:$I$1048576,5,0)","v":14},{"$f":"VLOOKUP(D109,'Resultados Gerais'!$B$8:$I$1048576,6,0)","v":21},{"$f":"VLOOKUP(D109,'Resultados Gerais'!$B$8:$I$1048576,7,0)","v":19},{"$f":"VLOOKUP(D109,'Resultados Gerais'!$B$8:$I$1048576,8,0)","v":3}]
[null,null,98,{"$f":"COUNT('Resultados Gerais'!B$8:B$1048576)-C110","v":1076},{"$f":"VLOOKUP(D110,'Resultados Gerais'!B$8:C$1048576,2,0)","v":"2012-05-29"},{"$f":"VLOOKUP(D110,'Resultados Gerais'!$B$8:$I$1048576,3,0)","v":1},{"$f":"VLOOKUP(D110,'Resultados Gerais'!$B$8:$I$1048576,4,0)","v":45},{"$f":"VLOOKUP(D110,'Resultados Gerais'!$B$8:$I$1048576,5,0)","v":41},{"$f":"VLOOKUP(D110,'Resultados Gerais'!$B$8:$I$1048576,6,0)","v":10},{"$f":"VLOOKUP(D110,'Resultados Gerais'!$B$8:$I$1048576,7,0)","v":28},{"$f":"VLOOKUP(D110,'Resultados Gerais'!$B$8:$I$1048576,8,0)","v":18}]
[null,null,99,{"$f":"COUNT('Resultados Gerais'!B$8:B$1048576)-C111","v":1075},{"$f":"VLOOKUP(D111,'Resultados Gerais'!B$8:C$1048576,2,0)","v":"2012-05-25"},{"$f":"VLOOKUP(D111,'Resultados Gerais'!$B$8:$I$1048576,3,0)","v":23},{"$f":"VLOOKUP(D111,'Resultados Gerais'!$B$8:$I$1048576,4,0)","v":35},{"$f":"VLOOKUP(D111,'Resultados Gerais'!$B$8:$I$1048576,5,0)","v":15},{"$f":"VLOOKUP(D111,'Resultados Gerais'!$B$8:$I$1048576,6,0)","v":14},{"$f":"VLOOKUP(D111,'Resultados Gerais'!$B$8:$I$1048576,7,0)","v":4},{"$f":"VLOOKUP(D111,'Resultados Gerais'!$B$8:$I$1048576,8,0)","v":5}]